{"text_format":"1","workbook":"xlsx","n_sheets":22,"sheets":["Introduction","Structure","Country Code","Scheme","Instructions","Footnote instruction","Footnote list","Energy products","Table_A","Table_B","Table_B.1","Table_B.2","PEFA bridging items","Table_D","Table_E","PEFA rows","PEFA Columns","Parameters_Tables_SU","Parameter_mapping","Parameters_Tables_E","info_hidden","Sheet1"],"not_rendered":{"charts":0,"images":1,"macros":1,"external_links":0,"defined_names":0,"comments":0,"pivot_tables":0},"unopened":[],"bounds":{"document_bytes":16777216,"sheet_cells":100000,"rows_first":2000,"rows_last":500,"rows_between":2000,"halvings":0,"cell_chars":16384,"cell_head_chars":4096},"cells_cut":0,"cells_raw":0,"read":"whole","date_system":"1900"}

{"sheet":"Introduction","index":0,"n_rows":42,"n_cols":4,"rows_kept":42,"cut":false,"hidden":false,"merged":[[43,1,51,14],[26,2,26,14],[28,2,28,14],[30,2,30,14],[10,1,10,14],[12,3,12,14],[16,3,16,14],[18,1,18,14],[24,2,24,14],[14,3,14,14],[35,2,35,14],[37,2,37,14],[39,2,39,14]]}
[]
[]
[]
[]
[]
[]
[null,null,"Physical Energy Flow Account Questionnaire"]
[]
[null,"Version February 2023"]
[]
[null,"This questionnaire has the objective of collecting a national-level physical energy flow account (PEFA) which is consistent with the System of Environmental-Economic Accounting (SEEA). The questionnaire includes 13 sheets (see also the \"Scheme\" worksheet). It is designed to accommodate data for one year only. Thus, if you have multiple reference years to report, please use a separate workbook for each reference year."]
[null,"Please indicate your country name and reference year. Your country code will be automatically populated."]
[null,"Country name"]
[]
[null,"Country Code",null,{"$f":"VLOOKUP(D13,'Country Code'!C15:D262,2)","v":{"$error":"#N/A"}}]
[]
[null,"Reference year"]
[]
[null,"Please save separate files for each reference year you are reporting (file format: *.xlsm). "]
[null,"Please return this questionnaire by 14 April to seea@un.org"]
[null,"Should you have any questions regarding the questionnaire or data transmission do not hesitate to contact seea@un.org"]
[]
[null,"Please provide details on the primary contact point for the physical energy flow account in your country:"]
[]
[null,"Institution"]
[]
[null,"Unit"]
[]
[null,"Name"]
[]
[null,"email"]
[]
[null,"If you disseminate physical energy flow accounts, please indicate the url(s), release date of the latest account and expected "]
[null,"next release date below:"]
[]
[null,"URL(s):"]
[]
[null,"Release date:"]
[]
[null,"Next release:"]
[]
[null,"If you have any general comments on your filled questionnaire, please write them here:"]

{"sheet":"Structure","index":1,"n_rows":20,"n_cols":3,"rows_kept":20,"cut":false,"hidden":false,"merged":[]}
[]
[]
[]
[]
[null,"Physical Energy Flow Account Questionnaire"]
[]
["Sheet","Content","Type"]
["Introduction","Introduction: General information","To be filled in (country, year and contact person)"]
["Structure","Structure of questionnaire: overview of content","for information"]
["Scheme","Scheme and description of tables, as well as a general description of the different types of energy flows in scope.","for information"]
["Instructions","Instructions for completing the questionnaire and overview of the checking rules","for information"]
["Footnote instructions","Instructions for reporting footnotes","for information"]
["Footnote list","List of footnotes, including user-defined footnotes","To be filled in, as necessary"]
["Energy products","Description of energy product categories and crosswalk to the Standard International Product Classification (SIEC) codes","for information"]
["Table A","Physical supply table for energy flows. This table records the supply of energy flows by supplier.","To be filled in"]
["Table B","Physical use table for energy flows. This table records the use of energy flows by user","Automatically filled in with formulas if Table B.1 and Table B.2 are populated."]
["Table B.1","Transformation use of energy flows. This is a sub-table of Table B which records transformation use of energy flows by user. If detailed data for table B.1 is not available, please fill in directly table B.","To be filled in"]
["Table B.2","End use of energy flows. This is a sub-table of Table B which records end use of energy flows by user. If detailed data for table B.2 is not available, please fill in directly table B.","To be filled in"]
["Table D","Vectors of key energy indicators. This table contains vectors of key energy indicators in a breakdown by production, consumtion and accumulation. It is automatically calculated from tables A and B.","Automatically filled in with formulas"]
["Table E","Bridge table. This table shows the changeover or 'bridge' from the key energy indicator derived from PEFA (residence principle) to the energy statistics key indicator (territory principle). This table reports for the entire national economy.","If this information is readily available, please fill in this table."]

{"sheet":"Country Code","index":2,"n_rows":262,"n_cols":4,"rows_kept":262,"cut":false,"hidden":true,"merged":[]}
[]
[]
[]
[]
[]
[]
[]
[null,"List of Country Code for each country or area"]
[]
[]
[]
[null,"This table shows the list of  ISO alpha-2 codes and the corresponding country and area names."]
[]
[null,"Country Code","Country or Area","Country Code"]
[null,"AF","Afghanistan","AF"]
[null,"AX","Åland Islands","AX"]
[null,"AL","Albania","AL"]
[null,"DZ","Algeria","DZ"]
[null,"AS","American Samoa","AS"]
[null,"AD","Andorra","AD"]
[null,"AO","Angola","AO"]
[null,"AI","Anguilla","AI"]
[null,"AQ","Antarctica","AQ"]
[null,"AG","Antigua and Barbuda","AG"]
[null,"AR","Argentina","AR"]
[null,"AM","Armenia","AM"]
[null,"AW","Aruba","AW"]
[null,"AU","Australia","AU"]
[null,"AT","Austria","AT"]
[null,"AZ","Azerbaijan","AZ"]
[null,"BS","Bahamas","BS"]
[null,"BH","Bahrain","BH"]
[null,"BD","Bangladesh","BD"]
[null,"BB","Barbados","BB"]
[null,"BY","Belarus","BY"]
[null,"BE","Belgium","BE"]
[null,"BZ","Belize","BZ"]
[null,"BJ","Benin","BJ"]
[null,"BM","Bermuda","BM"]
[null,"BT","Bhutan","BT"]
[null,"BO","Bolivia (Plurinational State of)","BO"]
[null,"BQ","Bonaire, Sint Eustatius and Saba","BQ"]
[null,"BA","Bosnia and Herzegovina","BA"]
[null,"BW","Botswana","BW"]
[null,"BV","Bouvet Island","BV"]
[null,"BR","Brazil","BR"]
[null,"IO","British Indian Ocean Territory","IO"]
[null,"VG","British Virgin Islands","VG"]
[null,"BN","Brunei Darussalam","BN"]
[null,"BG","Bulgaria","BG"]
[null,"BF","Burkina Faso","BF"]
[null,"BI","Burundi","BI"]
[null,"CV","Cabo Verde","CV"]
[null,"KH","Cambodia","KH"]
[null,"CM","Cameroon","CM"]
[null,"CA","Canada","CA"]
[null,"KY","Cayman Islands","KY"]
[null,"CF","Central African Republic","CF"]
[null,"TD","Chad","TD"]
[null,"CL","Chile","CL"]
[null,"CN","China","CN"]
[null,"HK","China, Hong Kong Special Administrative Region","HK"]
[null,"MO","China, Macao Special Administrative Region","MO"]
[null,"CX","Christmas Island","CX"]
[null,"CC","Cocos (Keeling) Islands","CC"]
[null,"CO","Colombia","CO"]
[null,"KM","Comoros","KM"]
[null,"CG","Congo","CG"]
[null,"CK","Cook Islands","CK"]
[null,"CR","Costa Rica","CR"]
[null,"CI","Côte d’Ivoire","CI"]
[null,"HR","Croatia","HR"]
[null,"CU","Cuba","CU"]
[null,"CW","Curaçao","CW"]
[null,"CY","Cyprus","CY"]
[null,"CZ","Czechia","CZ"]
[null,"KP","Democratic People's Republic of Korea","KP"]
[null,"CD","Democratic Republic of the Congo","CD"]
[null,"DK","Denmark","DK"]
[null,"DJ","Djibouti","DJ"]
[null,"DM","Dominica","DM"]
[null,"DO","Dominican Republic","DO"]
[null,"EC","Ecuador","EC"]
[null,"EG","Egypt","EG"]
[null,"SV","El Salvador","SV"]
[null,"GQ","Equatorial Guinea","GQ"]
[null,"ER","Eritrea","ER"]
[null,"EE","Estonia","EE"]
[null,"SZ","Eswatini","SZ"]
[null,"ET","Ethiopia","ET"]
[null,"FK","Falkland Islands (Malvinas)","FK"]
[null,"FO","Faroe Islands","FO"]
[null,"FJ","Fiji","FJ"]
[null,"FI","Finland","FI"]
[null,"FR","France","FR"]
[null,"GF","French Guiana","GF"]
[null,"PF","French Polynesia","PF"]
[null,"TF","French Southern Territories","TF"]
[null,"GA","Gabon","GA"]
[null,"GM","Gambia","GM"]
[null,"GE","Georgia","GE"]
[null,"DE","Germany","DE"]
[null,"GH","Ghana","GH"]
[null,"GI","Gibraltar","GI"]
[null,"GR","Greece","GR"]
[null,"GL","Greenland","GL"]
[null,"GD","Grenada","GD"]
[null,"GP","Guadeloupe","GP"]
[null,"GU","Guam","GU"]
[null,"GT","Guatemala","GT"]
[null,"GG","Guernsey","GG"]
[null,"GN","Guinea","GN"]
[null,"GW","Guinea-Bissau","GW"]
[null,"GY","Guyana","GY"]
[null,"HT","Haiti","HT"]
[null,"HM","Heard Island and McDonald Islands","HM"]
[null,"VA","Holy See","VA"]
[null,"HN","Honduras","HN"]
[null,"HU","Hungary","HU"]
[null,"IS","Iceland","IS"]
[null,"IN","India","IN"]
[null,"ID","Indonesia","ID"]
[null,"IR","Iran (Islamic Republic of)","IR"]
[null,"IQ","Iraq","IQ"]
[null,"IE","Ireland","IE"]
[null,"IM","Isle of Man","IM"]
[null,"IL","Israel","IL"]
[null,"IT","Italy","IT"]
[null,"JM","Jamaica","JM"]
[null,"JP","Japan","JP"]
[null,"JE","Jersey","JE"]
[null,"JO","Jordan","JO"]
[null,"KZ","Kazakhstan","KZ"]
[null,"KE","Kenya","KE"]
[null,"KI","Kiribati","KI"]
[null,"KW","Kuwait","KW"]
[null,"KG","Kyrgyzstan","KG"]
[null,"LA","Lao People's Democratic Republic","LA"]
[null,"LV","Latvia","LV"]
[null,"LB","Lebanon","LB"]
[null,"LS","Lesotho","LS"]
[null,"LR","Liberia","LR"]
[null,"LY","Libya","LY"]
[null,"LI","Liechtenstein","LI"]
[null,"LT","Lithuania","LT"]
[null,"LU","Luxembourg","LU"]
[null,"MG","Madagascar","MG"]
[null,"MW","Malawi","MW"]
[null,"MY","Malaysia","MY"]
[null,"MV","Maldives","MV"]
[null,"ML","Mali","ML"]
[null,"MT","Malta","MT"]
[null,"MH","Marshall Islands","MH"]
[null,"MQ","Martinique","MQ"]
[null,"MR","Mauritania","MR"]
[null,"MU","Mauritius","MU"]
[null,"YT","Mayotte","YT"]
[null,"MX","Mexico","MX"]
[null,"FM","Micronesia (Federated States of)","FM"]
[null,"MC","Monaco","MC"]
[null,"MN","Mongolia","MN"]
[null,"ME","Montenegro","ME"]
[null,"MS","Montserrat","MS"]
[null,"MA","Morocco","MA"]
[null,"MZ","Mozambique","MZ"]
[null,"MM","Myanmar","MM"]
[null,"NA","Namibia","NA"]
[null,"NR","Nauru","NR"]
[null,"NP","Nepal","NP"]
[null,"NL","Netherlands","NL"]
[null,"NC","New Caledonia","NC"]
[null,"NZ","New Zealand","NZ"]
[null,"NI","Nicaragua","NI"]
[null,"NE","Niger","NE"]
[null,"NG","Nigeria","NG"]
[null,"NU","Niue","NU"]
[null,"NF","Norfolk Island","NF"]
[null,"MK","North Macedonia","MK"]
[null,"MP","Northern Mariana Islands","MP"]
[null,"NO","Norway","NO"]
[null,"OM","Oman","OM"]
[null,"PK","Pakistan","PK"]
[null,"PW","Palau","PW"]
[null,"PA","Panama","PA"]
[null,"PG","Papua New Guinea","PG"]
[null,"PY","Paraguay","PY"]
[null,"PE","Peru","PE"]
[null,"PH","Philippines","PH"]
[null,"PN","Pitcairn","PN"]
[null,"PL","Poland","PL"]
[null,"PT","Portugal","PT"]
[null,"PR","Puerto Rico","PR"]
[null,"QA","Qatar","QA"]
[null,"KR","Republic of Korea","KR"]
[null,"MD","Republic of Moldova","MD"]
[null,"RE","Réunion","RE"]
[null,"RO","Romania","RO"]
[null,"RU","Russian Federation","RU"]
[null,"RW","Rwanda","RW"]
[null,"BL","Saint Barthélemy","BL"]
[null,"SH","Saint Helena","SH"]
[null,"KN","Saint Kitts and Nevis","KN"]
[null,"LC","Saint Lucia","LC"]
[null,"MF","Saint Martin (French Part)","MF"]
[null,"PM","Saint Pierre and Miquelon","PM"]
[null,"VC","Saint Vincent and the Grenadines","VC"]
[null,"WS","Samoa","WS"]
[null,"SM","San Marino","SM"]
[null,"ST","Sao Tome and Principe","ST"]
[null,"SA","Saudi Arabia","SA"]
[null,"SN","Senegal","SN"]
[null,"RS","Serbia","RS"]
[null,"SC","Seychelles","SC"]
[null,"SL","Sierra Leone","SL"]
[null,"SG","Singapore","SG"]
[null,"SX","Sint Maarten (Dutch part)","SX"]
[null,"SK","Slovakia","SK"]
[null,"SI","Slovenia","SI"]
[null,"SB","Solomon Islands","SB"]
[null,"SO","Somalia","SO"]
[null,"ZA","South Africa","ZA"]
[null,"GS","South Georgia and the South Sandwich Islands","GS"]
[null,"SS","South Sudan","SS"]
[null,"ES","Spain","ES"]
[null,"LK","Sri Lanka","LK"]
[null,"PS","State of Palestine","PS"]
[null,"SD","Sudan","SD"]
[null,"SR","Suriname","SR"]
[null,"SJ","Svalbard and Jan Mayen Islands","SJ"]
[null,"SE","Sweden","SE"]
[null,"CH","Switzerland","CH"]
[null,"SY","Syrian Arab Republic","SY"]
[null,"TJ","Tajikistan","TJ"]
[null,"TH","Thailand","TH"]
[null,"TL","Timor-Leste","TL"]
[null,"TG","Togo","TG"]
[null,"TK","Tokelau","TK"]
[null,"TO","Tonga","TO"]
[null,"TT","Trinidad and Tobago","TT"]
[null,"TN","Tunisia","TN"]
[null,"TR","Turkey","TR"]
[null,"TM","Turkmenistan","TM"]
[null,"TC","Turks and Caicos Islands","TC"]
[null,"TV","Tuvalu","TV"]
[null,"UG","Uganda","UG"]
[null,"UA","Ukraine","UA"]
[null,"AE","United Arab Emirates","AE"]
[null,"GB","United Kingdom of Great Britain and Northern Ireland","GB"]
[null,"TZ","United Republic of Tanzania","TZ"]
[null,"UM","United States Minor Outlying Islands","UM"]
[null,"US","United States of America","US"]
[null,"VI","United States Virgin Islands","VI"]
[null,"UY","Uruguay","UY"]
[null,"UZ","Uzbekistan","UZ"]
[null,"VU","Vanuatu","VU"]
[null,"VE","Venezuela (Bolivarian Republic of)","VE"]
[null,"VN","Viet Nam","VN"]
[null,"WF","Wallis and Futuna Islands","WF"]
[null,"EH","Western Sahara","EH"]
[null,"YE","Yemen","YE"]
[null,"ZM","Zambia","ZM"]
[null,"ZW","Zimbabwe","ZW"]

{"sheet":"Scheme","index":3,"n_rows":82,"n_cols":16,"rows_kept":82,"cut":false,"hidden":false,"merged":[[63,1,63,15],[81,1,81,15],[82,1,82,15],[75,1,75,15],[78,1,78,15],[74,1,74,15],[71,1,71,15],[64,1,64,15],[65,1,65,15],[66,1,66,15],[67,1,67,15],[70,1,70,15],[59,1,59,15],[62,1,62,15],[56,1,56,15],[0,0,0,16],[30,1,30,4],[31,1,31,4],[32,1,32,4],[33,1,33,4],[41,1,41,15],[45,1,45,15],[57,1,57,15],[58,1,58,15]]}
["Scheme and description of the PEFA tables (A to E)"]
["1.","Scheme providing an overview on the set of reporting tables"]
[]
[null,null,null,null,null,null,null,null,null,"Table B.1: Transformation use of energy flows"]
[null,null,null,null,null,null,null,null,null,null,"industries","households","accumulation","rest of world","environment","Total"]
[null,null,null,null,null,null,null,null,null,"natural energy inputs","B.trans",null,null,null,null,"TTUNI"]
[null,null,null,null,null,null,null,null,null,"energy products","E.trans",null,null,null,null,"TTUP"]
[null,null,null,null,null,null,null,null,null,"energy residuals","N.trans",null,null,null,"Q.trans","TTUR"]
[null,null,null,null,null,null,null,null,null,null,null,"+"]
[null,null,null,null,null,null,null,null,null,"Table B.2: End use of energy flows"]
[null,null,null,null,null,null,null,null,null,null,"industries","households","accumulation","rest of world","environment","Total"]
[null,null,null,null,null,null,null,null,null,"natural energy inputs",null,null,null,null,null,"TEUNI"]
[null,null,null,null,null,null,null,null,null,"energy products","E.end","F.end","G.end","H.end",null,"TEUP"]
[null,null,null,null,null,null,null,null,null,"energy residuals","N.end",null,"O.end","P.end","Q.end","TEUR"]
[]
[null,"Table A: Physical supply table for energy flows",null,null,null,null,null,null,null,"Table B: Use table for energy flows"]
[null,null,"industries","households","accumulation","rest of world","environment","Total",null,null,"industries","households","accumulation","rest of world","environment","Total"]
[null,"natural energy inputs",null,null,null,null,"A.","TSNI",null,"natural energy inputs","B.",null,null,null,null,"TUNI"]
[null,"energy products","C.",null,null,"D.",null,"TSP",null,"energy products","E.","F.","G.","H.",null,"TUP"]
[null,"energy residuals","I.","J.","K.","L.","M.","TSR",null,"energy residuals","N.",null,"O.","P.","Q.","TUR"]
[]
[]
[null,"Table D: Key energy indicators"]
[null,null,"industries","households","accumulation"]
[null,"energy key indicator 1"]
[null,"…"]
[null,"energy key indicator 22"]
[]
[]
[null,"Table E: Bridge table",null,null,null,null,null,null,null,"Legend:"]
[null,"energy key indicator (residence principle)",null,null,null,null,null,null,null,null,"grey cells denote logically impossible cases for PEFA"]
[null,"- energy use by resident units abroad",null,null,null,null,null,null,null,null,"white cells: contain numbers or symbol ':' (not available)"]
[null,"+ energy use by non-residents on territory",null,null,null,null,null,null,null,"R.","capital letters denote sub-matrices (cells) in accordance with SEEA-CF (see pg. 41)"]
[null,"= energy key indicator (territory principle)"]
[]
["2.","Scope and brief description of energy flows (i.e. natural energy inputs, energy products and energy residuals)"]
[null,"More information on the scope and definition of energy flows can be found in the SEEA-CF, pg. 60."]
[]
[null,"Energy from natural energy inputs encompass flows of energy from the removal and capture of energy from the enviornment by resident economic units. These flows include energy from mineral and energy resources (e.g., oil, natural gas, coal "]
[null,"and peat, and uranium), natural timber resources and inputs from renewable energy sources (e.g., solar, wind, hydro and geothermal)."]
[]
[null,"Energy products are products that are used (or might be used) as a source of energy. They comprise (a) fuels that are produced/generated by an economic unit (including households) and are used (or might be used) as sources of energy; "]
[null,"(b) electricity that is generated by an economic unit (including households); and (c) heat that is generated and sold to third parties by an economic unit. Energy products include energy from biomass and solid waste that are combusted for the "]
[null,"production of electricity and/or heat. Some energy products may be used for non-energy purposes."]
[]
[null,"Energy residuals comprise a number of components, most of which focus on energy losses. Particular examples of energy losses include losses through flaring and venting of natural gas and losses during transformation in the production of primary "]
[null,"energy products from energy from natural inputs and in the production of secondary energy products. Energy losses during distribution may arise from the evaporation and leakages of liquid fuels, loss of heat during transport of steam, and losses during "]
[null,"gas distribution, electricity transmission and pipeline transport. Energy residuals also include other energy residuals, particularly heat generated when end-users (either households or enterprises) use energy products for energy purposes (e.g., electricity). "]
[]
[null,"To fully balance the account, it is also necessary to record two other residual flows. This include energy incorporated in energy prodcuts used for non-energy purposes, as well as additional residual flows from the generation of energy from the incineration"]
[null,"of solid waste (either renewable or non-renewable). The energy embodied in solid waste is shown as entering the energy system as a residual flow before becoming an energy product. "]
[]
["3.","Brief description of the set of reporting tables"]
[null,"The sub-matrices are further explained in the SEEA-CF, pg. 41."]
[]
["3.1",{"$f":"B16","v":"Table A: Physical supply table for energy flows"}]
[null,"This table records the supply of energy flows (row-wise) by supplier (column-wise)."]
[null,"By definition, natural energy inputs can only be provided (supplied) by the environment (sub-matrix A.)."]
[null,"Energy products (incl. sale of recycled and reused products) are provided by domestic industries (sub-matrix C.), and the rest of the world, i.e. imports (sub-matrix D.)."]
[null,"Energy residuals result from activities by industries (sub-matrix I.) and households (sub-matrix J.). Accumulation also supplies energy residuals in form of storage losses, waste and (end-of-life) products incorporating energy (sub-matrix K.). Energy residuals in form of waste for energetic uses may also be imported from the rest of the world (sub-matrix L.)."]
[]
["3.2",{"$f":"J16","v":"Table B: Use table for energy flows"}]
[null,"This table records the use of energy flows (row-wise) by user (column-wise). It is automatically calculated through the sum of sub-tables B.1 and B.2. If detailed data for B.1 and B.2 is not available, please fill in directly table B by 'overwriting' the existing formulas (the same applies to the memo item 'own use of energy products')."]
[null,"Natural energy inputs are used, i.e. extracted, by industries only (sub-matrix B.). If households should extract, these flows have to be recorded under the respective industry column typically extracting this type of natural energy input."]
[null,"Energy products are used by industries (sub-matrix E.) as intermediate use, households (sub-matrix F.) as final consumption, accumulation (sub-matrix G.) as net inventory changes, and rest of the world (sub-matrix H.) as exports."]
[null,"Energy residuals are used by the environment (sub-matrix Q.), i.e. absorption of energy residuals in form of losses and dissipative heat."]
[null,"The accumulation column (sub-matrix O.) records the 'storage' of energy amounts incorporated in products for non-energy purposes (e.g. plastic products).  "]
[null,"Certain industries use energy residuals (sub-matrix N.), i.e. waste. In seldom cases, households may also use waste as an energy source. Energy residuals in form of waste for energetic purposes may also be exported to the rest of the world (sub-matrix P.). "]
[]
["3.2.1",{"$f":"J4","v":"Table B.1: Transformation use of energy flows"}]
[null,"Table B.1 is a sub-table of Table B and records the transformation use of energy flows (row-wise) by user (column-wise). If detailed data for table B.1 is not available, please fill in directly table B."]
[null,"Transformation use includes all use of natural energy inputs (sub-matrix B.trans) to create energy products. Transformation use further includes the use of energy products by industries (sub-matrix E.trans) to create other so-called secondary energy products. Finally, transformation use includes the use of certain energy residuals, namely waste to produce electricity and heat (sub-matrix N.trans). Sub-matrix Q.trans records the uptake of transformation losses by the environment."]
[]
["3.2.2",{"$f":"J10","v":"Table B.2: End use of energy flows"}]
[null,"Table B.2 is a sub-table of Table B and records the end use of energy flows (row-wise) by user (column-wise). If detailed data for table B.2 is not available, please fill in directly table B."]
[null,"End use includes energy and non-energy use of energy products by industries (sub-matrix E.end), households (sub-matrix F.end), accumulation (sub-matrix G.end), and rest of the world (sub-matrix H.end). Notably, it includes the 'non-transformative' uses of energy products in the so-called energy sector which support the transformation activities. End use further includes the use of energy residuals by industries (sub-matrix N.end), accumulation (sub-matrix O.end), and the environment (sub-matrix Q.end). In seldom cases also households may use waste as a energy source. Sub-matrix Q.end records the uptake of end use losses by the environment."]
[]
["3.3",{"$f":"B23","v":"Table D: Key energy indicators"}]
[null,"This table contains vectors of key energy indicators in a breakdown by production, consumption and accumulation. It is automatically calculated from tables A and B."]
[]
["3.4",{"$f":"B30","v":"Table E: Bridge table"}]
[null,"This table shows the changeover or 'bridge' from the key energy indicator derived from PEFA (residence principle) towards the energy statistics key indicator (territory principle). Note: this table reports for the entire national economy (no column-wise breakdown)."]

{"sheet":"Instructions","index":4,"n_rows":49,"n_cols":3,"rows_kept":49,"cut":false,"hidden":false,"merged":[[33,1,33,2],[31,1,31,2],[8,1,8,2],[21,1,21,2],[22,1,22,2],[23,1,23,2],[24,1,24,2],[30,1,30,2]]}
[]
[]
[]
[]
[]
[null,"Instructions for completing the questionnaire and overview of the checking rules"]
[]
[null,"1. INSTRUCTIONS for completing the questionnaire"]
[null,"The following instructions relate to filling out this EXCEL questionnaire. Further information on concepts, methods and compilation guidelines for energy accounts can be found here:"]
[null,"https://ec.europa.eu/eurostat/documents/1798247/6191537/PEFA-Manual-2014-v20140515.pdf"]
[null,"In addition, the SEEA-Energy manual can be found here:"]
[null,"https://seea.un.org/seea-energy "]
[null,"If you have problems enabling the macros while opening this file, please check your local Excel settings related to macros."]
[]
[null,"2. Getting started"]
[null,"a. Please enter your country name and reference year on the cover sheet."]
[null,"b. Do not forget to provide the primary contact person for physical energy flow accounts (PEFA) in your country."]
[null,"c. Select the template you want to fill."]
[null,"Level of detail:","Detailed"]
[]
[]
[null,"Three templates are available. The templates correspond to different levels of disaggregation of energy flows by industry. The detailed template contains a comprehensive list of industries (at first- and/or second-digit level of ISIC), plus households (transport, heating/cooling, other). The detailed template is aligned with Eurostat PEFA questionnaires, except it does not collect information on emission-relevant use of energy flows. It contains a nested hierarchical classification of columns for industries and households. The medium template contains a comprehensive list of industries at the first-digit level of ISIC. The aggregated template contains an aggregated list of industries at the first-digit level of ISIC. The same information on natural resources, energy products and energy residuals is requested for all template versions, and all template versions request information on bridging items. As a general rule, please report the most detailed template for which data is available. "]
[null,"d. Please complete data sheets for tables A, B.1, B.2 and E. Please do NOT change the format of the questionnaire (i.e. delete/add rows or columns) since automated routines are used for data validation."]
[null,"e. Note that table B is automatically calculated based on the sum of tables B.1 and B.2. In case detailed data for tables B.1 and B.2 are not available, please directly fill out table B by 'overwriting' the existing formulas."]
[null,"f. Table D is automatically derived from tables A and B. Please do not edit Table D."]
[null,"g. If you fill in the \"medium\" or \"aggregated\" template, please fill out the tables by 'overwriting' the existing formulas."]
[null,"h. Use the check buttons to make sure that you are filling out the questionnaire correctly (see section 4) using the built-in checking tool."]
[null,"i. Please use terajoules to fill in the questionnaire."]
[]
[null,"3. How to correctly report figures and symbols"]
[null,"a. Please report exact figures, not rounded values. All figures should be reported in the white cells of the data sheet. Values are shown automatically up to the first place after the decimal point (e.g. if you type \"1\", it is shown as \"1.0\".)"]
[null,"b. Please report positive figures. Negative figures are only accepted in the Table E bridging items for 'energy use by residents abroad' and 'other adjustments and statistical discrepancies'."]
[null,"c. Please report real zero ('0') if there is no supply/use of a certain natural energy input, energy product or energy residual. "]
[null,"d. For 'Not available', please report a colon (':'), i.e. if the supply/use of a certain natural energy input, energy product or energy residual is not known. Note that, in such a case, the superior sub-total or total canot be automatically derived. "]
[null,"e. Please note that grey cells denote 'logically not possible' cells and cannot be filled."]
[null,"f. If you would like to add additional information, please use Excel's comment function."]
[]
[null,"4. What to do in case of confidentiality?"]
[null,"a. If there is a confidential figure, please report a colon (':') in the white cell and add the pre-defined footnote for confidential data — c)."]
[null,"b. If possible, do not use any confidentiality flags at 1 letter ISIC level."]
[null,"c. If the confidentiality flag is used at the detailed level of ISIC or energy products, please still report the sum, as long as it does not allow the indirect deduction of the confidential cells."]
[]
[null,"5. The built-in checking tool"]
[null,"a. There is a built-in checking tool which runs four checks. Please use this checking tool as an aid to filling out the questionnaire correctly. Problematic cells turn blue, red or orange."]
[null,"once the checking tool is run. The coloured cell will indicate an issue in either b), c), d) or e). Once the problem is rectified, you must click on \"Clear check\" for the coloured cell to go away."]
[null,"b. The first check of the tool verifies that the total of each industry is equal to the sum of its sub-categories. "]
[null,"c. The second check ensures that the sum of individual natural resources, products and residuals add up to the the totals."]
[null,"d. The third check verifies that total supply is equal to total demand, both row and column-wise, between tables A and B. "]
[null,"e. The fourth check ensures that all cells are filled (i.e. have a number or colon if not available)."]

{"sheet":"Footnote instruction","index":5,"n_rows":36,"n_cols":6,"rows_kept":36,"cut":false,"hidden":false,"merged":[[35,1,35,12],[36,1,36,12],[34,1,34,12],[28,2,28,4],[28,5,28,12],[30,2,30,4],[30,5,30,12],[32,1,32,12],[33,1,33,12],[29,2,29,4],[29,5,29,12],[25,1,25,12],[26,2,26,4],[26,5,26,12],[27,2,27,4],[27,5,27,12],[21,2,21,12],[22,1,22,12],[23,1,23,12],[24,1,24,12],[17,1,18,12],[9,1,9,12],[11,1,11,12],[12,1,12,12],[13,1,13,12],[15,1,15,12]]}
[]
[]
[]
[]
[]
[]
[]
[null,null,null,null,"Instructions for filling in footnotes"]
[]
[null,"In this questionnaire, reporting of footnotes includes two components: \t"]
[]
[null,"(1) a footnote symbol reported in the data sheet in the yellow cell next to a reported value, and"]
[]
[null,"(2) a footnote content associated with the symbol, displayed in the sheet entitled 'Footnote_list'"]
[]
[null,"Footnotes should be reported at the observation level. Footnote symbols are reported in the so-called footnote-symbol-cell, i.e. yellow cells next to the white value cells. "]
[]
[null,"There are two types of footnote symbols – letters with a closing bracket for pre-defined footnotes (e.g. ‘p)’) and numbers with a closing bracket for 'free text' footnotes (e.g. ‘2)’)."]
[]
[]
[null,"In the case of multiple footnotes, please separate footnotes with a comma."]
[]
[null,"Pre-defined footnotes with standard meanings"]
[null,"So called 'pre-defined footnotes' are footnotes with standard meanings. "]
[null,"The following table shows the letter-symbols, labels and meanings of 'pre-defined footnotes' that users may employ in this questionnaire."]
[]
[null,"Symbol ","Label ",null,null,"Meaning "]
[null,"b)","Break in time series",null,null,"Break occurring when there is a change in the standards for defining and observing a variable over time."]
[null,"c)","Confidential",null,null,"Confidential data are data which are subject to confidentiality clauses."]
[null,"e)","Estimated data",null,null,"Estimated by data provider; the particular value yielded by an estimator in a given set of circumstances"]
[null,"p)","Provisional ",null,null,"The provider considers that the data will be revised."]
[]
[null,"Free text footnotes"]
[null,"A 'free text' footnote is used for any meaning beyond the pre-defined footnotes (i.e. country specific situations)"]
[null,"The symbol for 'free text' footnotes are numbers followed by a closing bracket (e.g. '1)')."]
[null,"The content of 'free text' footnotes must be specified by the user in the sheet 'footnote_list'."]

{"sheet":"Footnote list","index":6,"n_rows":24,"n_cols":5,"rows_kept":24,"cut":false,"hidden":false,"merged":[[11,4,14,5]]}
[]
[]
[]
[]
[]
[]
[]
[null,null,"Footnote list"]
[]
[null,"Footnote symbol","Footnote text associated to symbol"]
[null,"b)","Break in series"]
[null,"c)","Confidential",null,"Please fill in the footnote text for each numerical footnote symbol used"]
[null,"e)","Estimated"]
[null,"p)","Provisional "]
[null,"1)"]
[null,"2)"]
[null,"3)"]
[null,"4)"]
[null,"5)"]
[null,"6)"]
[null,"7)"]
[null,"8)"]
[null,"9)"]
[null,"10)"]

{"sheet":"Energy products","index":7,"n_rows":81,"n_cols":8,"rows_kept":81,"cut":false,"hidden":false,"merged":[[45,1,48,1],[29,1,35,1],[17,1,20,1],[17,2,20,2],[21,2,24,2],[21,1,24,1],[25,2,28,2],[25,1,28,1],[36,1,40,1],[42,1,44,1],[51,2,53,2],[17,3,20,3],[21,3,24,3],[25,3,28,3],[36,3,40,3],[29,3,35,3],[45,2,48,2],[29,2,35,2],[36,2,40,2],[42,2,44,2],[73,3,77,3],[73,2,77,2],[73,1,77,1],[43,3,44,3],[45,3,48,3],[51,3,53,3],[55,3,57,3],[55,2,57,2],[55,1,57,1],[58,2,65,2],[58,1,65,1],[58,3,65,3],[67,3,72,3],[67,2,72,2],[67,1,72,1],[51,1,53,1]]}
[]
[]
[]
[]
[]
[]
[]
[null,"Description of energy product categories and crosswalk to SIEC codes"]
[]
[null,"This table is from the Eurostat Physical Energy Flow Accounts Manual 2014: "]
[null,"https://ec.europa.eu/eurostat/documents/1798247/6191537/PEFA-Manual-2014-v20140515.pdf"]
[null,"The table shows the items and sub-items within each PEFA row class (columns E) and provides definitions for each of these (sub)items "]
[null,"(column F), as explained in the explanatory notes accompnaying the IEA/Eurostat Annual Energy Statistics Questionnaires. In addition, "]
[null,"the corresponding International Recommendations for Energy Statistics (IRES) definition for each of these items and sub-items is "]
[null,"provided in column G.  "]
[]
[null,"Code","Label","Label description","Items and sub-items","IEA/Eurostat defintion","IRES definition","SIEC code"]
[null,"P08","Hard coal","This class is a grouping of coals with gross calorific greater than 24 MJ/kg. It includes three sub-items: anthracite, bituminous coal, and cocking coal.","Hard coal","Hard coal refers to coal of gross calorific value equal to or greater than 24 000 kJ/kg on an ash-free but moist basis and with a mean random reflectance of vitrinite of at least 0.6 percent. Hard coal comprises anthracite, coking coal and bituminous coal.","Coals with a gross calorific value (moist, ash-free basis) which is not less than 24 MJ/kg or which is less than 24 MJ/kg provided that the coal has a vitrinite mean random reflectance greater than or equal to 0.6 per cent. Hard coal comprises anthracite and bituminous coals.","0110, 0121, 0129"]
[null,null,null,null,"Anthracite","High rank coal used for industrial and residential applications. It has generally less than 10% volatile matter and a high carbon content (about 90% fixed carbon). Its gross calorific value is equal to or greater than 24 000 kJ/kg on an ash-free but moist basis.","A high-rank, hard coal with a gross calorific value (moist, ash- free basis) greater than or equal to 24 MJ/kg and a vitrinite mean random reflectance greater than or equal to 2.0 per cent. Remark: It usually has less than 10% volatile matter, a high carbon content (about 86-98% carbon) and is nonagglomerating. Anthracite is mainly used for industrial and household heat raising. ","0110"]
[null,null,null,null,"Coking coal","Bituminous coal with a quality that allows the production of a coke suitable to support a blast furnace charge. Its gross calorific value is equal to or greater than 24 000 kJ/kg on an ash-free but moist basis. ","Bituminous coal that can be used in the production of a coke capable of supporting a blast furnace charge. ","0121 "]
[null,null,null,null,"Bituminous coal","Coal mainly used for steam raising purposes and includes all bituminous coal that is not included under coking coal nor anthracite. It is characterized by higher volatile matter than anthracite (more than 10%) and lower carbon content (less than 90% fixed carbon). Its gross calorific value is equal to or greater than 24 000 kJ/kg on an ash-free but moist basis. If bituminous coal is used in coke ovens it should be reported as coking coal. ","This class includes bituminous coal not included under coking coal. Remark: This is sometimes referred to as “steam coal”","0129"]
[null,"P09","Brown coal & peat","This class is a grouping of coals with gross calorific less than 24 MJ/kg and peat. It includes three sub-items: sub-bituminous coal, lignite, and peat. ","Brown coal",null,"Coals with a gross calorific value (moist, ash- free basis) less than 24 MJ/ kg and a vitrinite mean random reflectance less than 0.6 per cent. Remark: Brown coal comprises subbituminous coal and lignite. ","0210, 0220"]
[null,null,null,null,"Sub-bituminous coal","Non-agglomerating coal with a gross calorific value equal to or greater than 20 000 kJ/kg and less than 24 000 kJ/kg containing more than 31% volatile matter on a dry mineral matter free basis. ","Brown coal with a gross calorific value (moist, ash- free basis) equal to or greater than 20 MJ/kg but less than 24 MJ/kg. ","0210"]
[null,null,null,null,"Lignite","Non-agglomerating coal with a gross calorific value less than 20 000 kJ/kg and greater than 31% volatile matter on a dry mineral matter free basis.","Brown coal with a gross calorific value (moist, ash-free basis) less than 20 MJ/kg.","0220"]
[null,null,null,null,"Peat","A combustible soft, porous or compressed, fossil sedimentary deposit of plant origin with high water content (up to 90 percent in the raw state), easily cut, and of light to dark brown colour. Peat used for non-energy purposes should not be included here. Milled peat is included here.","A solid formed from the partial decomposition of dead vegetation under conditions of high humidity and limited air access (initial stage of coalification). It is available in two forms for use as a fuel, sod peat and milled peat. Remark: Milled peat is also made into briquettes for fuel use. Peat is not considered a renewable resource as its regeneration period is long.",11]
[null,"P10","Dervied gases (= manufactured gases excl. biogas)","This class is a grouping of 'nonnatural' gases. It includes four sub-items: coke oven gas, gasworks gas, blast furnace gas, and basic oxygen steel furnace gas. ","Coke oven gas","Obtained as a by-product from the manufacture of coke oven coke for the production of iron and steel. The quantity of fuel should be reported on a gross calorific value basis. ","A gas produced from coke ovens during the manufacture of coke oven coke. ","0350"]
[null,null,null,null,"Gasworks gas (and other manufactured gases for distribution)","Covers all types of gases produced in public utility or private plants, whose main purpose is manufacture, transport and distribution of gas. It includes gas produced by carbonization (including gas produced by coke ovens and transferred to gas works gas), by total gasification with or without enrichment with oil products (LPG, residual fuel oil, etc.), and by reforming and simple mixing of gases and/or air, reported under the rows, From other sources. Under the transformation sector identify amounts of gas work gas transferred to blended natural gas which will be distributed and consumed through the natural gas grid. The quantity of fuel should be reported on a gross calorific value basis. The production of other coal gases (i.e. coke oven gas, blast furnace gas and other recovered gases) should be reported in the columns concerning such gases, and not as production of gas works gas. The coal gases transferred to gas works plants should then be reported (in their own column) in the transformation sector in the gas works plants row. The total amount of gas works gas resulting from transfers of other coal\ngases should appear in the production line for gas works gas.","This group includes gases obtained from the carbonisation or gasification of carbonaceous material of fossil or biomass origins in Gas Works. The gases comprise: (a) gases obtained from carbonisation or gasification of coals, cokes, biomass or waste;  and (b) substitute natural gas (a methane-rich gas) made from synthesis gas. Remark: Synthesis gas is a mixture of mainly  hydrogen and carbon monoxide obtained by cracking hydrocarbons with high temperature steam. The hydrocarbons  may be taken from fossil fuels, biofuels or wastes.","0360"]
[null,null,null,null,"Blast furnace gas","Produced during the combustion of coke in blast furnaces in the iron and  steel industry. It is recovered and used as a fuel partly within the plant and partly in other steel industry processes or in power stations equipped to burn it. The quantity of recuperated fuel should be reported on a gross calorific value basis. In addition, off-gases from all iron-production reduction processes utilising air as the oxygen source (such as direct reduced iron should be reported here.","The by-product gas of blast furnace operation consisting mainly of nitrogen, carbon dioxide and carbon monoxide. Remark: The gas is recovered as it leaves the furnace. Its calorific value arises mainly from the carbon monoxide produced by the partial combustion  of coke and other carbon bearing products in the blast furnace. It is used to heat blast air and as a fuel in the iron and steel industry. It may also be used by other nearby industrial plants. Note that where carbonised biomass (e.g, charcoal or animal meal) is used in blast furnaces, part of the carbon supply may be considered renewable. ","0371"]
[null,null,null,null,"Basic oxygen steel furnace gas","By-product of the production of steel in an oxygen furnace, recovered on leaving the furnace. The gas is also known as converter gas, LD gas or BOS gas. ","The by-product gas of the production of steel in a basic oxygen  furnace. The gas is recovered as it leaves the furnace. Remark: The  concentration of carbon monoxide in this gas is higher than that  in blast furnace gas. The gas is also known as converter gas, LD gas or BOSF gas.","0372"]
[null,"P11","Secondary coal products (coke, coal tar, patent fuel, BKB and peat products)","This class is a grouping of so-called 'secondary' products derived from coal and peat. It includes six sub-items: coke oven coke, gas coke, coal tar, patent fuel, brown coal briquettes (BKB), and peat products. ","Secondary coal products (coke, coal tar, patent fuel, BKB and peat products)","Secondary coal products includes six sub-items: coke oven coke, gas coke, coal tar, patent fuel, brown coal briquettes (BKB), and peat products. ","This division (six sub-items) includes products derived directly or indirectly from the various classes of coal by carbonisation or pyrolysis processes, or by the aggregation of finely divided coal or by chemical reactions with oxidising agents, including water.","0311, 0312, 0340, 0320, 0330, 12"]
[null,null,null,null,"Coke oven coke","The solid product obtained from carbonization of coal, principally coking coal, at high temperature, it is low in moisture and volatile matter. Coke oven coke is used mainly in the iron and steel industry acting as energy source and chemical agent. Coke breeze and foundry coke are included in this category. Semi-coke (a solid product obtained from carbonization of coal at low temperature) should be included in this category. Semi-coke is used as a domestic fuel or by the transformation plant itself. This heading also includes coke, coke breeze and semi-coke made from lignite/brown coal. ","The solid product obtained from carbonisation of coking coal at high temperature. Remark: Coke oven coke is low in moisture and  volatile matter and has the mechanical strength to support a blast  furnace charge. It is used mainly in the iron and steel industry  acting as heat source and chemical agent. ","0311"]
[null,null,null,null,"Gas coke","By-product of hard coal used for production of town gas in gas works. Gas coke is used for heating purposes. ","A by-product from the carbonization of bituminous coal for the manufacture of “gas works gas”. Remark: Gas coke is used mainly  or heating purposes. ","0312"]
[null,null,null,null,"Coal tar","A result of the destructive distillation of bituminous coal or of the low temperature carbonisation of brown coal. Coal tar from bituminous coal is the liquid by-product of the distillation of coal to make coke in the coke oven process. Coal tar can be further distilled into different organic products (e.g. benzene, toluene, naphthalene), which normally would be reported as a feedstock to the petrochemical industry.","The liquid by-product of the carbonization of coal in coke ovens.  Remark: Coal tar may be separated by distillation into several  liquid products which may be used for pharmaceutical or wood preservative purposes. ","0340"]
[null,null,null,null,"Patent fuel","A composition fuel manufactured from hard coal fines with the addition of a binding agent. The amount of patent fuel produced may, therefore, be slightly higher than the actual amount of coal consumed in the transformation process. ","A composition fuel made by moulding hard coal fines into briquette shapes with the addition of a binding agent. Remark: Sometimes referred to as “hard coal briquettes”. ","0320"]
[null,null,null,null,"Brown coal briquettes (BKB)","BKB is a composition fuel manufactured from lignite or sub-bituminous coal, produced by briquetting under high pressure without the addition of a binding agent. ","A composition fuel made of brown coal produced by briquetting under high pressure with or without the addition of a binding agent. Remark: Either sub-bituminous coal or lignite may be used, including dried lignite fines and dust. ","0330"]
[null,null,null,null,"Peat products","Products such as peat briquettes derived directly or indirectly from sod peat and milled peat. ",null,12]
[null,"P12","Crude oil, NGL, and other hydrocarbons incl. oil shale/sands (excl. bio)","This class is a grouping of so-called 'primary' liquid hydrocarbons and oil shale/sands. It includes four sub-items: crude oil, NGL, other hydrocarbons, and oil shale/sands. ","Crude oil, NGL, and other hydrocarbons incl. oil shale/sands (excl. bio)",null,"Liquid hydrocarbons of fossil origins comprising crude oil,  liquids extracted from natural gas (NGL), fully or partly processed products from the refining of crude oil, and functionally similar liquid hydrocarbons and organic chemicals from vegetal or animal origins.","2000, 4100, 4200, 4500"]
[null,null,null,null,"Conventional crude oil","Crude oil is a mineral oil of natural origin comprising a mixture of hydrocarbons and associated impurities, such as sulphur. It exists in the liquid phase under normal surface temperature and pressure and its physical characteristics (density, viscosity, etc.) are highly variable. This categoryi ncludes field or lease condensate recovered from associated and non-associated gas where it is commingled with the commercial crude oil stream.","A mineral oil of fossil origin extracted by conventional means from underground reservoirs, and comprises liquid or near- liquid hydrocarbons and associated impurities such as sulphur and metals. Remark: Conventional crude oil exists in the liquid phase under  normal surface temperature and pressure, and usually flows to the surface under the pressure of the reservoir. This is termed “conventional” extraction. Crude oil includes condensate from condensate fields, and “field” or “lease” condensate extracted with the crude oil. The various crude oils may be classified according to their sulphur content (“sweet” or “sour”) and API gravity (“heavy” or “light”). There are no rigorous specifications for the classifications but a heavy crude oil may be assumed to have an API gravity of less  than 20º and a sweet crude oil may be assumed to have less than 0.5% sulphur content. ",4100]
[null,null,null,null,"Natural gas liquids (NGL)","NGL are liquid or liquefied hydrocarbons recovered from natural gas in separation facilities or gas processing plants. Natural gas liquids include ethane, propane, butane (normal and iso–), (iso) pentane and pentanes plus (sometimes referred to as natural gasoline or plant condensate).","Natural gas liquids are a mixture of ethane, propane, butane (normal and iso), (iso) pentane and a few higher alkanes collectively referred to as pentanes plus. Remark: NGL are produced in association with oil or natural gas. They are removed in field facilities or gas  separation plants before sale of the gas. All of the components of NGL except ethane are either liquid at the surface or are liquefied for disposal. The definition given above is the most commonly used. However, there is some use of terms based on the vapour  pressure of the components which are liquid at the surface or can be easily liquefied. The three resulting groups are in order of increasing vapour pressure: condensates, natural gasoline and liquefied petroleum gas. NGL may be distilled with crude oil in refineries, blended with refined oil products or used directly. NGL differs from LNG (liquefied natural gas) which is obtained by liquefying natural gas from which the NGL has been removed.",4200]
[null,null,null,null,"Other hydrocarbons (without bio)","This category includes synthetic crude oil from tar sands, shale oil, etc., liquids from coal liquefaction, output of liquids from natural gas conversion into gasoline, hydrogen and emulsified oils (e.g. orimulsion). All imports of emulsified oils (e.g. orimulsion) should be reported as imports of other hydrocarbons. As these oils do not need further processing in a refinery, report these quantities as direct use and primary product receipts in the bitumen category of the supply of oil products report. Any production of emulsified oils should appear as Indigenous production of Other hydrocarbons. Report all quantities in physical weight of the emulsion (i.e. including the water content). ","This division includes nonconventional oils and hydrogen. Nonconventional oils refer to oils obtained by non-conventional production techniques, that is oils which are extracted from reservoirs containing extra heavy oils or oil sands which need heating or treatment (e.g., emulsification) in situ before they can be brought to the surface for refining/processing. They also include the oils extracted from oil sands, extra heavy oils, coal and oil shale which are at, or can be brought to, the surface without treatment and  require processing after mining (ex situ processing). Non-conventional oils may also be produced from natural gas. Remark: The oils may be divided into two groups: (i) oils for transformation (e.g., synthetic crudes extracted from extra heavy oils, oil sands, coal and  oil shale); and (ii) oils for direct use (e.g., emulsified oils such as orimulsion and GTL liquids). Oil sands are also known as tar sands. Extra heavy oils are also known as bitumen. This is not the oil product of the same name which is made from vacuum distillation  residue. Although not a hydrocarbon, hydrogen is included here unless it is a component of another gas. ",4500]
[null,null,null,null,"Oil shale/oil sands","Oil shale production and direct use should be reported in the Annual coal questionnaire under Lignite/brown coal. The production of shale oil (secondary product) is to be reported as Receipts from other sources in the Other hydrocarbons category.","A sedimentary rock which contains organic matter in the form of kerogen. Kerogen is a waxy hydrocarbon-rich material regarded as a precursor of petroleum. Remark: Oil shale may be burned directly or processed by heating to extract shale oil.",2000]
[null,"P13","Natural gas","The PEFA row class of natural gas is a mixture of gaseous hydrocarbons; no sub-items. ","Natural gas","Natural gas comprises gases, occurring in underground deposits, whether liquefied or gaseous, consisting mainly of methane. It includes both \"non-associated\" gas originating from fields producing hydrocarbons only in gaseous form, and \"associated\" gas produced in association with crude oil as well as methane recovered from coal mines (colliery gas) or from coal seams (coal seam gas). Biogases produced by anaerobic digestion of biomass (e.g. municipal or sewage gas) should be reported in the Renewables annual questionnaire, while gas works gas production should be reported in the Coal annual questionnaire. Transfers of such production to the natural gas network will be reported as “Receipts from other sources”. ","Natural gas is a mixture of gaseous hydrocarbons, primarily methane, but generally also including ethane, propane and higher hydrocarbons in much smaller amounts and some noncombustible gases such as nitrogen and carbon dioxide. Remark: The majority of natural gas is separated from both \"non-associated\" gas originating from fields producing hydrocarbons only in gaseous form, and \"associated\" gas produced in association with crude oil. The separation process produces natural gas by removing or reducing the hydrocarbons other than methane to levels which are acceptable in the marketable gas. The natural gas liquids (NGL) removed in the process are distributed separately. Natural gas also includes methane recovered from coal mines (colliery gas) or from coal seams (coal seam gas) and shale gas. When distributed it may also contain methane from anaerobic fermentation or the methanatio n of biomass. Natural gas may be liquefied (LNG) by reducing its temperature in order to simplify storage and transportation when production sites are remote from centres of consumption and pipeline transportation is not economically practicable. ",3000]
[null,"P14 ","Motor spirit (without bio)",null,"Motor spirit (without bio)","Motorspirit (without bio) is a grouping of two types of gasoline: motor gasoline and aviation gasoline. This category does not explicitly include blending components of biomass origin. ","Motorspirit (without bio) is a grouping of two types of gasoline: motor gasoline and aviation gasoline. This category does not explicitly include blending components of biomass origin. ","4652, 4651"]
[null,null,null,"The PEFA row class of motorspirit (without bio) is a grouping of 2 types of gasoline: motor gasoline\nand aviation gasoline. This PEFA row class does explicitly not include blending components of\nbiomass origin. ","Motor gasoline without bio","Motor gasoline consists of a mixture of light hydrocarbons distilling between 35°C and 215°C. It is used as a fuel for land based spark ignition engines. Motor gasoline may include additives, oxygenates and octane enhancers, including lead compounds such as TEL (tetraethyl lead) and TML (tetramethyl lead). This category includes motor gasoline blending components (excluding additives/oxygenates), e.g. alkylates, isomerate, reformate, cracked gasoline destined for use as finished motor gasoline.","A mixture of some aromatics (e.g., benzene and toluene) and aliphatic hydrocarbons in the C5 to C12 range. The distillation range is 25ºC to 220ºC. Remark: Additives are blended to improve octane rating, improve combustion performance, reduce oxidation during storage, maintain cleanliness of the engine and improve capture of pollutants by catalytic converters in the exhaust system. Motor gasoline may also contain biogasoline products. ",4652]
[null,null,null,null,"Aviation gasoline","This is motor spirit prepared especially for aviation piston engines, with an octane number suited to the engine, a freezing point of -60°C and a distillation range usually within the limits of 30°C and 180°C. ","Gasoline prepared especially for aviation piston engines with additives which assure performance under flight conditions. Aviation gasolines are predominantly alkylates (obtained by combining C4 and C5 isoparaffins with C3, C4 and C5 olefins) with the possible addition of more aromatic components including toluene. The distillation range is 25ºC to 170ºC. ",4651]
[null,"P15","Kerosenes & jet fuels (wtihout bio)","This PEFA row class  is a grouping of 2 classes of kerosene and one type of gasoline (i.e. 3 items): kerosene type jet fuel (without bio), other kerosene, and gasoline-type jet fuel. This PEFA row class does explicitly not include blending components of biomass origin. ","Kerosenes",null,"Mixtures of hydrocarbons in the range C9 to C16 and distilling over the temperature interval 145ºC to 300°C, but not usually above 250ºC and with a flash point above 38ºC. Remark: The chemical compositions of kerosenes depend on the nature of the crude oils from which they are derived and the refinery processes that they have undergone. Kerosenes obtained from crude oil by atmospheric distillation are known as straight-run kerosenes. Such streams may be treated by a variety of processes to produce kerosenes that are acceptable for blending as jet fuels. Kerosenes are primarily used as jet fuels. They are also used as domestic heating and cooking fuels, and as solvents. Kerosenes may include components or additives derived from biomass.",466]
[null,null,null,null,"Kerosene type jet fuel (wtihout bio)","This is a distillate used for aviation turbine power units. It has the same distillation characteristics between 150°C and 300°C (generally not above 250°C) and flash point as kerosene. In addition, it has particular specifications (such as freezing point) which are established by the International Air Transport Association (IATA). This category includes kerosene blending components. ","A blend of kerosenes suited to flight conditions with particular specifications, such as freezing point. Remark: The specifications are set down by a small number of national standards committees, most notably ASTM (U.S.), MOD (UK), GOST (Russia). ",4661]
[null,null,null,null,"Other kerosene","Kerosene which comprises refined petroleum distillate and is used for heating, cooking, lighting, solvents and internal combustion engines. It distils between 150°C and 300°C.","Kerosene which is used for heating, cooking, lighting, solvents and internal combustion engines. Remark: Other names for this product are burning oil, vaporizing oil, power kerosene and illuminating oil. ",4669]
[null,null,null,null,"Gasoline-type jet fuel","This includes all light hydrocarbon oils for use in aviation turbine power units, distilling between 100°C and 250°C. They are obtained by blending kerosene and gasoline or naphtha’s in such a way that the aromatic content does not exceed 25% in volume, and the vapour pressure is between 13.7kPa and 20.6kPa. Remark: Gasoline-type jet fuel is also known as “aviation turbine fuel”. ","Light hydrocarbons for use in aviation turbine power units, distilling between 100ºC and 250ºC. They are obtained by blending kerosene and gasoline or naphtha in such a way that the aromatic content does not exceed 25 per cent in volume, and the vapour pressure is between 13.7 kPa and 20.6 kPa. Remark: Gasoline-type jet fuel is also known as “aviation turbine fuel”.",4653]
[null,"P16","Naptha","The PEFA row class of naphtha is a product group with no further sub-items. ","Naptha","Naphtha is a feedstock destined for either the petrochemical industry (e.g. ethylene manufacture or aromatics production) or for gasoline production by reforming or isomerisation within the refinery. Naphtha comprises material in the 30°C and 2l0°C distillation range or part of this range. Naphtha imported for blending is reported as an import of Naphtha, then shown on the Interproduct transfer row, as a negative entry for Naphtha, and a positive entry for the corresponding finished product. ","Light or medium oils distilling between 30ºC and 210ºC which do not meet the specification for motor gasoline. Remark: Different naphthas are distinguished by their density and the content of paraffins, isoparaffins, olefins, naphthenes and aromatics. The main uses for naphthas are as feedstock for high octane gasolines and the manufacture of olefins in the petrochemical industry. ",4640]
[null,"P17","Transport diesel (without bio)"]
[null,"P18","Heating and other gasoil (without bio)","This class belongs to a superior product class called 'gas oil/diesel oil'. Note that the IEA/Eurostat classification (Annual Energy Statistics Questionnaire) further decomposes gas oils/diesel oil according to their purpose: a) transport and b) heating and other. The SIEC classification does not differentiate between these two purposes. Note that these two PEFA row classes do explicitly not include blending components of biomass origin. ","Gas oils/diesel oils",null,"Gas oils are middle distillates, predominantly of carbon number range C11 to C25 and with a distillation range of 160ºC to 420°C. Remark: The principal marketed products are fuels for diesel engines (diesel oil), heating oils and marine fuel. Gas oils are also used as middle distillate feedstock for the petrochemical industry and as solvents. ",4671]
[null,null,null,null,"Transport diesel (without bio)","Gas/diesel oil is primarily a medium distillate distilling between 180°C and 380°C. Several grades are available depending on uses. On–road diesel oil for diesel compression ignition (cars, trucks, etc.), usually of low sulphur content. ",null,467]
[null,null,null,null,"Heating and other gasoil (without bio)","Gas/diesel oil is primarily a medium distillate distilling between 180°C and 380°C. Several grades are available depending on uses. Light heating oil for industrial and commercial uses; Marine diesel and diesel used in rail traffic; Other gas oil including heavy gas oils which distil between 380°C and 540°C and which are used as petrochemical feedstocks. This category includes blending components.",null,467]
[null,"P19","Residual fuel oil","This class covers all residual heavy oils. In the IEA/Eurostat\nclassification it is decomposed into two further sub-items: low-sulphur and high sulphur content. ","Fuel oil","This covers all residual (heavy) G61fuel oils (including those obtained by blending). Kinematic viscosity is above 10 G57cSt at 80°C. The flash point is always above 50°C and density is always more than 0.90 kg/l. - Low sulphur content: Heavy fuel oil with sulphur content lower than 1%. - High sulphur content: Heavy fuel oil with sulphur content of 1% or higher.","Comprises residual fuel oil and heavy fuel oil. Residual fuel oils have a distillation range of 350ºC to 650ºC and a kinematic viscosity in the range 6 to 55 cSt at 100ºC. Their flash point is always above 60ºC and their specific gravity is above 0.95. Heavy fuel oil is a general term describing a blended product based on the residues from various refinery processes. Remark: Other names commonly used to describe fuel oil include: bunker fuel, bunker C, fuel oil No. 6, industrial fuel oil, marine fuel oil and black oil. Residual and heavy fuel oil are used in medium to large industrial plants, marine applications and power stations in combustion equipment such as boilers, furnaces and diesel engines. Residual fuel oil is also used as fuel within the refinery. ",4680]
[null,"P20","Refinery gas, ethane & LPG","This class covers three gaseous hydrocarbon products: refinery gas, ethane, and liquefied petroleum gases (LPG).","Refinery gas","Refinery gas includes a mixture of non–condensed gases mainly consisting of hydrogen, methane, ethane and olefins obtained during distillation of crude oil or treatment of oil products (e.g. cracking) in refineries. This also includes gases which are returned from the petrochemical industry. ","Includes a mixture of non-condensable gases mainly consisting of hydrogen, methane, ethane and olefins obtained during distillation of crude oil or treatment of oil products (e.g., cracking) in refineries or from nearby petrochemical plants. Remark: It is used mainly as a fuel within the refinery. ",4610]
[null,null,null,null,"Ethane","A naturally gaseous straight–chain hydrocarbon, (C2H6) extracted from natural gas and refinery gas streams.","A naturally gaseous straight-chain hydrocarbon (C2H6). Remark: Ethane is obtained at gas separation plants or from the refining of crude oil. It is a valuable feedstock for petrochemical manufacture.",4620]
[null,null,null,null,"LPG","LPG are light paraffinic hydrocarbons derived from the refinery processes, crude oil stabilisation and natural gas processing plants. They consist mainly of propane (C3H8) and butane (C4Hl0) or a combination of the two. They could also include propylene, butylene, isobutene and isobutylene. LPG are normally liquefied under pressure for transportation and storage. ","LPG refers to liquefied propane (C3H8) and butane (C4H10) or mixtures of both. Commercial grades are usually mixtures of the gases with small amounts of propylene, butylene, isobutene and isobutylene stored under pressure in containers. Remark: The mixture of propane and butane used varies according to purpose and season of the year. The gases may be extracted from natural gas at gas separation plants or at plants regasifying imported liquefied natural gas. They are also obtained during the refining of crude oil. LPG may be used for heating and as a vehicle fuel. See also the definition for natural gas liquids. Certain oil field practices also use the term LPG to describe the high vapour pressure components of natural gas liquids. ",4630]
[null,"P21","Other petroleum products incl. additives/oxygenates and refinery feedstocks","This is a grouping of various petroleum products and one non-hydrocarbon product group used for blending. It comprises 8 sub-items: white spirit and special boiling point industrial spirits (SBP), lubricants, paraffin waxes, petroleum coke, bitumen, other oil products, refinery feedstocks, and additives/oxygenates.","White spirit and special boiling point industrial spirits (SBP)","White spirit and SBP are defined as refined distillate intermediates with a distillation in the naphtha/kerosene range. They are sub–divided as: - Industrial spirit (SBP): Light oils distilling between 30°C and 200°C. There are 7 or 8 grades of industrial spirit, depending on the position of the cut in the distillation range. The grades are defined according to the temperature difference between the 5% volume and 90% volume distillation points (which is not more than 60°C). - White spirit: Industrial spirit with a flash point above 30°C. The distillation range of white spirit is 135°C to 200°C.","White spirit and special boiling point industrial spirits (SBP) are refined distillate intermediates with a distillation in the naphtha/kerosene range. They are mainly used for non- fuel purposes and sub-divided as: (a) white spirit - an industrial spirit with a flash point above 30ºC and a distillation range of 135ºC to 200ºC; and (b) industrial spirit (SBP) – light oils distilling between 30ºC and 200ºC. Remark: There are 7 or 8 grades of industrial spirits, depending on the position of the cut in the distillation range. The grades are defined according to the temperature difference between the 5 per cent and 90 per cent volume distillation points (which is not more than 60ºC). White spirit and Industrial spirits are mostly used as thinners and solvents. ",4691]
[null,null,null,null,"Lubricants","Lubricants are hydrocarbons produced from distillate by product; they are mainly used to reduce friction between bearing surfaces. This category includes all finished grades of lubricating oil, from spindle oil to cylinder oil, and those used in greases, including motor oils and all grades of lubricating oil base stocks. ","Oils, produced from crude oil, for which the principal use is toreduce friction between sliding surfaces and during metal cutting operations. Remark: Lubricant base stocks are obtained from vacuum distillates which result from further distillation of the residue from atmospheric distillation of crude oil. The lubricant base stocks are then further processed to produce lubricants with the desired properties. ",4692]
[null,null,null,null,"Paraffin waxes","These are saturated aliphatic hydrocarbons. These waxes are residues extracted when dewaxing lubricant oils. They have a crystalline structure which is more or less fine according to the grade. Their main characteristics are as follows: they are colourless, odourless and translucent, with a melting point above 45°C. ","Residues extracted when dewaxing lubricant oils. The waxes have a crystalline structure which varies in fineness according to the grade, and are colourless, odourless and translucent, with a melting point above 45ºC. Remark: Paraffin waxes are also known as “petroleum waxes”.",4693]
[null,null,null,null,"Petroleum coke","Petroleum coke is a black solid byproduct, obtained mainly by cracking and carbonisingpetroleum derived feedstock, vacuum bottoms, tar and pitches in processes such as delayed coking or fluid coking. It consists mainly of carbon (90 to 95%) and has low ash content. It is used as a feedstock in coke ovens for the steel industry, for heating purposes, for electrode manufacture and for production of chemicals. The two most important qualities are \"green coke\" and \"calcinated coke\". This category also includes \"catalyst coke\" deposited on the catalyst during refining processes; this coke is not recoverable and is usually burned as refinery fuel. ","Petroleum coke is a black solid obtained mainly by cracking and carbonizing heavy hydrocarbon oils, tars and pitches. It consists mainly of carbon (90 to 95 per cent) and has a low ash content. The two most important categories are \"green coke\" and \"calcined coke\". Green coke (raw coke) is the primary solid carbonization product from high boiling hydrocarbon fractions obtained at temperatures below 630ºC. It contains 4-15 per cent by weight of matter that can be released as volatiles during subsequent heat treatment at temperatures up to approximately 1330ºC. Calcined coke is a petroleum coke or coalderived pitch coke obtained by heat treatment of green coke to about 1330ºC. It will normally have a hydrogen content of less than 0.1 per cent by weight. Remark: In many catalytic operations (e.g., catalytic cracking) carbon or catalytic coke is deposited on the catalyst, thus deactivating it. The catalyst is reactivated by burning off the coke which is used as a fuel in the refining process. The coke is not recoverable in a concentrated form. ",4694]
[null,null,null,null,"Bitumen","Bitumen is a solid, semi–solid or viscous hydrocarbon with a colloidal structure, being brown to black in colour, obtained as a residue in the distillation of crude oil, by vacuum distillation of oil residues from atmospheric distillation. Bitumen is often referred to as asphalt and is primarily used for construction of roads and for roofing material. This category includes fluidized and cut back bitumen. ","A solid, semi- solid or viscous hydrocarbon with a colloidal structure, being brown to black in color. Remark: It is obtained as a residue in the distillation of crude oil and by vacuum distillation of oil residues from atmospheric distillation. It should not be confused with the nonconventional primary extra heavy oils which may also be referred to as bitumen. In addition to its major use for road pavements, bitumen is also used as an adhesive, a waterproofing agent for roof coverings and as a binder in the manufacture of patent fuel. It may also be used for electricity generation in specially designed power plants. Bitumen is also known in some countries as asphalt but in others asphalt describes the mixture of bitumen and stone aggregate used for road pavements.",4695]
[null,null,null,null,"Other oil products n.e.c.","All products not specifically mentioned above, for example: tar and sulphur. This category also includes aromatics (e.g. BTX or benzene, toluene and xylene) and olefins (e.g. propylene) produced within refineries. ","Products (including partly refined products) from the refining of crude oil and feedstocks which are not specified above. Remark: These products will include basic chemicals and organic chemicals destined for use within the refinery or for sale to or processing in the chemical industry such as propylene, benzene, toluene and xylene. ",4699]
[null,null,null,null,"Additives/oxygenates","Additives are non-hydrocarbon compounds added to or blended with a product to modify fuel properties (octane, cetane, cold properties, etc.): Oxygenates, such as alcohols (methanol, ethanol), ethers (such as MTBE (methyl tertiary butylether), ETBE (ethyl tertiary butyl ether), TAME (tertiary amyl methyl ether)); Esters (e.g. rapeseed or dimethylester, etc.); Chemical compounds such as TML (tetraethyl lead), TEL (tetramethyl lead) and detergents). Note: Quantities of Additives/oxygenates should relate to the quantities destined for blending with fuels or for fuel use.","Compounds added to or blended with oil products to modify their properties (octane, cetane, cold properties, etc.). Remark: Examples are: (a) oxygenates such as alcohols (methanol, ethanol) and ethers [MTBE (methyl tertiary butyl ether), ETBE (ethyl tertiary butyl ether), TAME (tertiary amyl methyl ether)]; (b) esters (e.g., rapeseed or dimethylester, etc.); and (c) chemical compounds (such as TML, TEL and detergents). Some additives/oxygenates may be derived from biomass while other may be of fossil hydrocarbon origin. ",4400]
[null,null,null,null,"Refinery feedstocks","A refinery feedstock is a processed oil destined for further processing (e.g. straight run fuel oil or vacuum gas oil) excluding blending. With further processing, it will be transformed into one or more components and/or finished products. This definition also covers returns from the petrochemical industry to the refining industry (e.g. pyrolysis gasoline, C4 fractions, gasoil and fuel oil fractions). ","This division includes refinery feedstocks, i.e. oils or gases from crude oil refining or the processing of hydrocarbons in the petrochemical industry which are destined for further processing in the refinery excluding blending. Typical feedstocks include naphthas, middle distillates, pyrolysis gasoline and heavy oils from vacuum distillation and petrochemical plants. ",4300]
[null,"P22","Nuclear fuel","This class relates to the energy released by nuclear fission or nuclear fusion. It represents the fuel which is used as a transformation input to produce electricity (and heat).","Nuclear fuels and other fuels n.e.c.","Energy released by nuclear fission or nuclear fusion. ","9 Nuclear fuels and other fuels n.e.c.: This section includes nuclear fuels including uranium, thorium, plutonium and derived products that can be used in nuclear reactors as a source of electricity and/or heat as well as fuels not elsewhere classified.\n91 Uranium and plutonium: This division includes uranium ores and concentrates; natural uranium, uranium enriched in U 235, plutonium and their compounds; alloys, dispersions (including cermets), ceramic products and mixtures containing natural uranium, uranium enriched in U 235, plutonium or compounds of these products; as well as fuel elements (cartridges) of nuclear reactors (non- irradiated or irradiated).\n92 Other nuclear fuels: This division includes thorium and its compounds; alloys, dispersions (including cermets), ceramic products and mixtures containing thorium or compounds of thereof; other radioactive elements and isotopes and compounds (other than uranium, thorium or plutonium); alloys, dispersions (including cermets), ceramic products and mixtures containing these elements, isotopes or compounds.\n99 Other fuels n.e.c.: This division includes fuels not elsewhere classified.",9]
[null,"P23","Wood, wood waste & other solid biomass, charcoal","This class is a grouping of non-fossil material derived from biomass that is used for energy purposes. It comprises 5 sub-items.","Wood, wood waste & other solid biomass, charcoal","Covers organic, non-fossil material\nof biological origin which may be\nused as fuel for heat production or\nelectricity generation. ","Solid fuels derived from biomass. ","511, 5120, 5140, 5150, 5160"]
[null,null,null,null,"Fuelwood, wood residues and by-products","Fuelwood or firewood (in log, brushwood, pellet or chip form) obtained from natural or managed forests or isolated trees. Also included are wood residues used as fuel and in which the original composition of wood is retained. Charcoal and black liquor are excluded. The quantity of fuel used should be reported on a net calorific value basis. Wood pellets are a cylindrical product which has been agglomerated from wood residues by compression with or without the addition of a small quantity of binder. The pellets have a diameter not exceeding 25 mm and a length not exceeding 45 mm. ","Fuelwood or firewood (in log, brushwood, pellet or chip form) obtained from natural or managed forests or isolated trees. Also included are wood residues used as fuel and in which the original composition of wood is retained. Remark: Charcoal and black liquor are excluded. Wood pellets are a cylindrical product which has been agglomerated from wood residues by compression with or without the addition of a small quantity of binder. The pellets have a diameter not exceeding 25 mm and a length not exceeding 45 mm. ",511]
[null,null,null,null,"Bagasse","Fuel obtained from the fibre which remains after juice extraction in sugar cane processing. ","Fuel obtained from the fibre which remains after juice extraction in sugar cane processing. ",5120]
[null,null,null,null,"Black liquor","The alkaline-spent liquor obtained from the digesters during the production of sulphate or soda pulp required for paper manufacture. Remark: The lignin contained in the liquor burns to release heat when the concentrated liquor is sprayed into a recovery furnace and heated with hot gases at 900ºC. Black liquor is used as a fuel in the pulping process. ","Energy from the alkaline-spent liquor obtained from the digesters during the production of sulphate or soda pulp required for paper manufacture. ",5140]
[null,null,null,null,"Other vegetal material and residues","Biofuels not specified elsewhere and including straw, vegetable husks, ground nut shells, pruning brushwood, olive pomace and other wastes arising from the maintenance, cropping and processing of plants. ","Solid primary biofuels not specified elsewhere, including straw, vegetable husks, ground nut shells, pruning brushwood, olive pomace and other wastes arising from the maintenance, cropping and processing of plants. ",5150]
[null,null,null,null,"Charcoal","Charcoal covers the solid residue of the destructive distillation and pyrolysis of wood and other vegetal material. ","The solid residue from the carbonisation of wood or other vegetal matter through slow pyrolysis.",5160]
[null,"P24","Liquid biofuels","This is a grouping of fuels derived from biomass which contains 4 sub-items.","Liquid biofuels",null,"Liquids derived from biomass and used as fuels. Remark: Liquid biofuels comprise biogasoline, biodiesels, bio jet kerosene and other liquid biofuels. They are used for transport, electricity generation and stationary engines. ","5210, 5220, 5290, 5230"]
[null,null,null,null,"Biogasoline","This category includes bioethanol (ethanol produced from biomass and/or the biodegradable fraction of waste), biomethanol (methanol produced from biomass and/or the biodegradable fraction of waste), bioETBE (ethyl–tertio–butyl–ether produced on the basis of bioethanol: the percentage by volume of bioETBE that is calculated as biofuel is 47%) and bioMTBE (methyl–tertio–butyl– ether produced on the basis of biomethanol: the percentage by volume of bioMTBE that is calculated as biofuel is 36%). ","Liquid fuels derived from biomass and used in spark- ignition internal combustion engines. Remark: Common examples are: bioethanol (including both hydrous and anhydrous ethanol); biomethanol; biobutanol; bio ETBE (ethyl- tertio-butyl-ether); and bio MTBE (methyl- tertio-butyl-ether). Biogasoline may be blended with petroleum gasoline or used directly in engines. The blending may take place in refineries or at or near the point of sale.",5210]
[null,null,null,null,"Biodiesels","This category includes biodiesel (a methyl-ester produced from vegetable or animal oil, of diesel quality), biodimethylether (dimethylether produced from biomass), Fischer Tropsch (Fischer Tropsch produced from biomass), cold pressed biooil (oil produced from oil seed through mechanical processing only). ","Liquid biofuels derived from biomass and used in diesel engines. Remark: Biodiesels obtained by chemical modification are a linear alkyl ester made by transesterification of vegetable oils or animal fats with methanol. The transesterification distinguishes biodiesel from straight vegetable and waste oils. Biodiesel has a flash point of around 150°C and a density of about 0.88 kg/litre. Biological sources of biodiesel include, but are not limited to, vegetable oils made from canola (rapeseed), soybeans, corn, oil palm, peanut or sunflower. Some liquid biofuels (straight vegetable oils) may be used without chemical modification and their use usually requires modification of the engine. A further category of diesel fuels can be produced by a range of thermal processes, including for example gasification followed by Fischer Tropsch synthesis, pyrolysis followed by hydrogenation, or conversion of sugar to hydrocarbons using microorganisms (e.g. yeast). A wide range of biomass feedstocks, including cellulosic materials and algal biomass could be used in such processes. Biodiesels may be blended with petroleum diesel or used directly in diesel engines. ",5220]
[null,null,null,null,"Other liquid biofuels","This category includes liquid biofuels, used directly as fuel, not included in the definitions of biogasoline, biodiesel or bio jet kerosene and liquid biofuels consumption that cannot be reported under the right category because of missing information.","This group includes liquid biofuels not elsewhere specified.",5290]
[null,null,null,null,"Bio jet kerosene","Liquid biofuels derived from biomass and blended with jet kerosene. ","Liquid biofuels derived from biomass and blended with or replacing jet kerosene. Remark: Bio jet kerosene can be produced by a range of thermal processes (including for example gasification followed by FischerTropsch synthesis, pyrolysis followed by hydrogenation, or conversion of sugar to hydrocarbons using microorganisms (e.g. yeast). A wide range of biomass feedstocks, including cellulosic materials and algal biomass could be used in such processes. ",5230]
[null,"P25","Biogas","This is a grouping of gaseous fuels derived from biomass. In the case of IEA/Eurostat, it consists of three sub-items: landfill gas, sewage sludge gas and other biogases.","Biogas","Gases composed principally of methane and carbon dioxide produced by anaerobic fermentation of biomass.\n- Landfill gas: formed by the anaerobic digestion of landfill waste. The quantity of fuel used should be reported on a net calorific value basis.\n- Sewage sludge gas: produced from the anaerobic fermentation of sewage sludge. The quantity of fuel used should be reported on a net calorific value basis.\n- Other biogases from anaerobic digestion: such as biogases produced from the anaerobic fermentation of animal slurries and of waste in abattoirs, breweries and other agro-food industries. The quantity of fuel used should be reported on a net calorific value basis.","The biogases from anaerobic fermentation are composed principally of methane and carbon dioxide and comprise landfill gas, sewage sludge gas and other biogases from anaerobic fermentation. Explanation: The biogases from anaerobic fermentation are composed principally of methane and carbon dioxide and include gas produced from a range of wastes and other biomass materials including energy crops in anaerobic digesters (including sewage sludge gas and landfill gas). The gases may be processed to remove the carbon dioxide and other constituents to produce a methane fuel.\n- Landfill gas: Biogas from the anaerobic fermentation of organic matter in landfills. \n- Sewage sludge gas: Biogas from the anaerobic fermentation of waste matter in sewage plants.\n- Other biogases from anaerobic fermentation: Other biogases from anaerobic fermentation not elsewhere specified. Remark: Two of the largest sources of these biogases are the fermentation of energy crops and the fermentation of manure on farms.","5311, 5312, 5319"]
[null,"P26","Electrical energy","Electricity","Electricity",null,"This section includes electricity, i.e. the transfer of energy through the physical phenomena involving electric charges and their effects when at rest and in motion. Remark: Electricity can be generated through different processes such as: the conversion of energy contained in falling or streaming water, wind or waves; the direct conversion of solar radiation through photovoltaic processes in semiconductor devices (solar cells); or by the combustion of fuels.",7000]
[null,"P27","Derived heat","Heat","Heat","- Geothermal energy is available as heat emitted from within the earth's crust, usually in the form of hot water or steam. It is exploited at suitable sites directly as heat for district heating, agriculture, etc. \n-Solar thermal energy: Solar radiation exploited for heat generation. Solar thermal consists of equipment for the production of heat for sale (hot water or steam).","This section includes heat, i.e. the energy obtained from the translational, rotational and vibrational motion of the constituents of matter, as well as changes in its physical state. Remark: Heat can be produced by different production processes. ",8000]

{"sheet":"Table_A","index":8,"n_rows":50,"n_cols":193,"rows_kept":50,"cut":false,"hidden":false,"merged":[[3,187,3,192],[1,15,1,16],[1,17,1,18],[1,19,1,20],[1,21,1,22],[1,23,1,24],[1,25,1,26],[1,45,1,46],[1,47,1,48],[1,49,1,50],[1,63,1,64],[1,65,1,66],[1,67,1,68],[1,69,1,70],[1,71,1,72],[1,73,1,74],[1,51,1,52],[1,53,1,54],[1,55,1,56],[1,57,1,58],[1,59,1,60],[1,61,1,62],[1,87,1,88],[1,89,1,90],[1,1,1,3],[1,5,1,6],[1,7,1,8],[1,9,1,10],[1,11,1,12],[1,13,1,14],[1,39,1,40],[1,41,1,42],[1,43,1,44],[1,27,1,28],[1,29,1,30],[1,31,1,32],[1,33,1,34],[1,35,1,36],[1,37,1,38],[1,91,1,92],[1,93,1,94],[1,95,1,96],[1,97,1,98],[1,75,1,76],[1,77,1,78],[1,79,1,80],[1,81,1,82],[1,83,1,84],[1,85,1,86],[1,111,1,112],[1,113,1,114],[1,115,1,116],[1,117,1,118],[1,119,1,120],[1,121,1,122],[1,99,1,100],[1,101,1,102],[1,103,1,104],[1,105,1,106],[1,107,1,108],[1,109,1,110],[1,141,1,142],[1,143,1,144],[1,145,1,146],[1,123,1,124],[1,125,1,126],[1,127,1,128],[1,129,1,130],[1,131,1,132],[1,133,1,134],[1,173,1,174],[1,175,1,176],[1,177,1,178],[1,179,1,180],[2,1,2,3],[2,5,2,6],[2,7,2,8],[2,9,2,10],[2,11,2,12],[1,159,1,160],[1,161,1,162],[1,165,1,166],[1,167,1,168],[1,169,1,170],[1,171,1,172],[1,147,1,148],[1,149,1,150],[1,151,1,152],[1,153,1,154],[1,155,1,156],[1,157,1,158],[1,135,1,136],[1,137,1,138],[1,139,1,140],[2,25,2,26],[2,27,2,28],[2,29,2,30],[2,31,2,32],[2,33,2,34],[2,35,2,36],[2,13,2,14],[2,15,2,16],[2,17,2,18],[2,19,2,20],[2,21,2,22],[2,23,2,24],[2,49,2,50],[2,51,2,52],[2,53,2,54],[2,55,2,56],[2,57,2,58],[2,59,2,60],[2,37,2,38],[2,39,2,40],[2,41,2,42],[2,43,2,44],[2,45,2,46],[2,47,2,48],[2,73,2,74],[2,75,2,76],[2,77,2,78],[2,79,2,80],[2,81,2,82],[2,83,2,84],[2,61,2,62],[2,63,2,64],[2,65,2,66],[2,67,2,68],[2,69,2,70],[2,71,2,72],[2,97,2,98],[2,99,2,100],[2,101,2,102],[2,103,2,104],[2,105,2,106],[2,107,2,108],[2,85,2,86],[2,87,2,88],[2,89,2,90],[2,91,2,92],[2,93,2,94],[2,95,2,96],[2,121,2,122],[2,123,2,124],[2,125,2,126],[2,127,2,128],[2,129,2,130],[2,131,2,132],[2,109,2,110],[2,111,2,112],[2,113,2,114],[2,115,2,116],[2,117,2,118],[2,119,2,120],[2,145,2,146],[2,147,2,148],[2,149,2,150],[2,151,2,152],[2,153,2,154],[2,155,2,156],[2,133,2,134],[2,135,2,136],[2,137,2,138],[2,139,2,140],[2,141,2,142],[2,143,2,144],[2,171,2,172],[2,173,2,174],[2,175,2,176],[2,177,2,178],[2,179,2,180],[2,157,2,158],[2,159,2,160],[2,161,2,162],[2,165,2,166],[2,167,2,168],[2,169,2,170],[3,1,3,3],[3,5,3,6],[3,175,3,176],[3,177,3,178],[4,1,4,3],[4,5,4,6],[4,7,4,8],[4,9,4,10],[4,11,4,12],[4,25,4,26],[4,27,4,28],[4,29,4,30],[4,31,4,32],[4,33,4,34],[4,35,4,36],[4,13,4,14],[4,15,4,16],[4,17,4,18],[4,19,4,20],[4,21,4,22],[4,23,4,24],[4,49,4,50],[4,51,4,52],[4,53,4,54],[4,55,4,56],[4,57,4,58],[4,59,4,60],[4,37,4,38],[4,39,4,40],[4,41,4,42],[4,43,4,44],[4,45,4,46],[4,47,4,48],[4,73,4,74],[4,75,4,76],[4,77,4,78],[4,79,4,80],[4,81,4,82],[4,83,4,84],[4,61,4,62],[4,63,4,64],[4,65,4,66],[4,67,4,68],[4,69,4,70],[4,71,4,72],[4,97,4,98],[4,99,4,100],[4,101,4,102],[4,103,4,104],[4,105,4,106],[4,107,4,108],[4,85,4,86],[4,87,4,88],[4,89,4,90],[4,91,4,92],[4,93,4,94],[4,95,4,96],[4,121,4,122],[4,123,4,124],[4,125,4,126],[4,127,4,128],[4,129,4,130],[4,131,4,132],[4,109,4,110],[4,111,4,112],[4,113,4,114],[4,115,4,116],[4,117,4,118],[4,119,4,120],[4,145,4,146],[4,147,4,148],[4,149,4,150],[4,151,4,152],[4,153,4,154],[4,155,4,156],[4,133,4,134],[4,135,4,136],[4,137,4,138],[4,139,4,140],[4,141,4,142],[4,143,4,144],[4,171,4,172],[4,173,4,174],[4,175,4,176],[4,177,4,178],[4,179,4,180],[4,157,4,158],[4,159,4,160],[4,161,4,162],[4,165,4,166],[4,167,4,168],[4,169,4,170],[5,15,6,16],[5,17,6,18],[5,19,6,20],[5,21,6,22],[5,23,6,24],[5,25,6,26],[5,1,5,3],[5,5,6,6],[5,7,6,8],[5,9,6,10],[5,11,6,12],[5,13,6,14],[5,39,6,40],[5,41,6,42],[5,43,6,44],[5,45,6,46],[5,47,6,48],[5,49,6,50],[5,27,6,28],[5,29,6,30],[5,31,6,32],[5,33,6,34],[5,35,6,36],[5,37,6,38],[5,63,6,64],[5,65,6,66],[5,67,6,68],[5,69,6,70],[5,71,6,72],[5,73,6,74],[5,51,6,52],[5,53,6,54],[5,55,6,56],[5,57,6,58],[5,59,6,60],[5,61,6,62],[5,89,6,90],[5,91,6,92],[5,93,6,94],[5,95,6,96],[5,97,6,98],[5,75,6,76],[5,77,6,78],[5,79,6,80],[5,81,6,82],[5,83,6,84],[5,85,6,86],[5,101,6,102],[5,103,6,104],[5,105,6,106],[5,107,6,108],[5,109,6,110],[5,177,6,178],[5,179,6,180],[6,1,6,4],[5,159,6,160],[5,161,6,162],[5,165,6,166],[5,167,6,168],[5,169,6,170],[5,171,6,172],[5,147,6,148],[5,149,6,150],[5,151,6,152],[5,153,6,154],[5,155,6,156],[5,157,6,158],[5,135,6,136],[5,137,6,138],[5,139,6,140],[5,87,6,88],[7,4,7,6],[8,4,8,5],[9,4,9,5],[10,4,10,5],[11,4,11,5],[12,4,12,5],[5,173,6,174],[5,175,6,176],[5,129,6,130],[5,131,6,132],[5,133,6,134],[5,111,6,112],[5,113,6,114],[5,115,6,116],[5,117,6,118],[5,119,6,120],[5,121,6,122],[5,141,6,142],[5,143,6,144],[5,145,6,146],[5,123,6,124],[5,125,6,126],[5,127,6,128],[5,99,6,100],[21,4,21,5],[22,4,22,5],[23,4,23,5],[24,4,24,5],[13,4,13,5],[14,4,14,5],[15,4,15,5],[16,4,16,5],[17,4,17,5],[18,4,18,5],[1,163,1,164],[2,163,2,164],[4,163,4,164],[5,163,6,164],[42,4,42,5],[37,4,37,5],[38,4,38,5],[39,4,39,5],[40,4,40,5],[41,4,41,5],[31,4,31,5],[32,4,32,5],[33,4,33,5],[34,4,34,5],[35,4,35,5],[36,4,36,5],[25,4,25,5],[26,4,26,5],[27,4,27,5],[28,4,28,5],[29,4,29,5],[30,4,30,5],[19,4,19,5],[20,4,20,5]]}
[]
[null,"Country :",null,null,{"$f":"IF(Introduction!D13=0,\"\",Introduction!D13)","v":""},"no",null,1,null,2,null,3,null,4,null,5,null,6,null,7,null,8,null,9,null,10,null,11,null,12,null,13,null,14,null,15,null,16,null,17,null,18,null,19,null,20,null,21,null,22,null,23,null,24,null,25,null,26,null,27,null,28,null,29,null,30,null,31,null,32,null,33,null,34,null,35,null,36,null,37,null,38,null,39,null,40,null,41,null,42,null,43,null,44,null,45,null,46,null,47,null,48,null,49,null,50,null,51,null,52,null,53,null,54,null,55,null,56,null,57,null,58,null,59,null,60,null,61,null,62,null,63,null,64,null,65,null,66,null,67,null,68,null,69,null,70,null,71,null,72,null,73,null,74,null,75,null,76,null,77,null,78,null,79,null,80,null,81,null,82,null,83,null,84,null,85,null,86,null,87]
[null,"Year :",null,null,{"$f":"IF(Introduction!D17=0,\"\",Introduction!D17)","v":""},"Level",null,{"$f":"'PEFA Columns'!D2","v":1},null,{"$f":"'PEFA Columns'!F2","v":2},null,{"$f":"'PEFA Columns'!H2","v":3},null,{"$f":"'PEFA Columns'!J2","v":3},null,{"$f":"'PEFA Columns'!L2","v":3},null,{"$f":"'PEFA Columns'!N2","v":2},null,{"$f":"'PEFA Columns'!P2","v":2},null,{"$f":"'PEFA Columns'!R2","v":3},null,{"$f":"'PEFA Columns'!T2","v":3},null,{"$f":"'PEFA Columns'!V2","v":3},null,{"$f":"'PEFA Columns'!X2","v":3},null,{"$f":"'PEFA Columns'!Z2","v":3},null,{"$f":"'PEFA Columns'!AB2","v":3},null,{"$f":"'PEFA Columns'!AD2","v":3},null,{"$f":"'PEFA Columns'!AF2","v":3},null,{"$f":"'PEFA Columns'!AH2","v":3},null,{"$f":"'PEFA Columns'!AJ2","v":3},null,{"$f":"'PEFA Columns'!AL2","v":3},null,{"$f":"'PEFA Columns'!AN2","v":3},null,{"$f":"'PEFA Columns'!AP2","v":3},null,{"$f":"'PEFA Columns'!AR2","v":3},null,{"$f":"'PEFA Columns'!AT2","v":3},null,{"$f":"'PEFA Columns'!AV2","v":3},null,{"$f":"'PEFA Columns'!AX2","v":3},null,{"$f":"'PEFA Columns'!AZ2","v":3},null,{"$f":"'PEFA Columns'!BB2","v":3},null,{"$f":"'PEFA Columns'!BD2","v":2},null,{"$f":"'PEFA Columns'!BF2","v":2},null,{"$f":"'PEFA Columns'!BH2","v":3},null,{"$f":"'PEFA Columns'!BJ2","v":3},null,{"$f":"'PEFA Columns'!BL2","v":2},null,{"$f":"'PEFA Columns'!BN2","v":2},null,{"$f":"'PEFA Columns'!BP2","v":3},null,{"$f":"'PEFA Columns'!BR2","v":3},null,{"$f":"'PEFA Columns'!BT2","v":3},null,{"$f":"'PEFA Columns'!BV2","v":2},null,{"$f":"'PEFA Columns'!BX2","v":3},null,{"$f":"'PEFA Columns'!BZ2","v":3},null,{"$f":"'PEFA Columns'!CB2","v":3},null,{"$f":"'PEFA Columns'!CD2","v":3},null,{"$f":"'PEFA Columns'!CF2","v":3},null,{"$f":"'PEFA Columns'!CH2","v":2},null,{"$f":"'PEFA Columns'!CJ2","v":2},null,{"$f":"'PEFA Columns'!CL2","v":3},null,{"$f":"'PEFA Columns'!CN2","v":3},null,{"$f":"'PEFA Columns'!CP2","v":3},null,{"$f":"'PEFA Columns'!CR2","v":3},null,{"$f":"'PEFA Columns'!CT2","v":2},null,{"$f":"'PEFA Columns'!CV2","v":3},null,{"$f":"'PEFA Columns'!CX2","v":3},null,{"$f":"'PEFA Columns'!CZ2","v":3},null,{"$f":"'PEFA Columns'!DB2","v":2},null,{"$f":"'PEFA Columns'!DD2","v":3},null,{"$f":"'PEFA Columns'!DF2","v":2},null,{"$f":"'PEFA Columns'!DH2","v":3},null,{"$f":"'PEFA Columns'!DJ2","v":3},null,{"$f":"'PEFA Columns'!DL2","v":3},null,{"$f":"'PEFA Columns'!DN2","v":3},null,{"$f":"'PEFA Columns'!DP2","v":3},null,{"$f":"'PEFA Columns'!DR2","v":2},null,{"$f":"'PEFA Columns'!DT2","v":3},null,{"$f":"'PEFA Columns'!DV2","v":3},null,{"$f":"'PEFA Columns'!DX2","v":3},null,{"$f":"'PEFA Columns'!DZ2","v":3},null,{"$f":"'PEFA Columns'!EB2","v":2},null,{"$f":"'PEFA Columns'!ED2","v":2},null,{"$f":"'PEFA Columns'!EF2","v":2},null,{"$f":"'PEFA Columns'!EH2","v":3},null,{"$f":"'PEFA Columns'!EJ2","v":3},null,{"$f":"'PEFA Columns'!EL2","v":2},null,{"$f":"'PEFA Columns'!EN2","v":3},null,{"$f":"'PEFA Columns'!EP2","v":3},null,{"$f":"'PEFA Columns'!ER2","v":2},null,{"$f":"'PEFA Columns'!ET2","v":3},null,{"$f":"'PEFA Columns'!EV2","v":3},null,{"$f":"'PEFA Columns'!EX2","v":3},null,{"$f":"'PEFA Columns'!EZ2","v":2},null,{"$f":"'PEFA Columns'!FB2","v":2},null,{"$f":"'PEFA Columns'!FD2","v":2},null,{"$f":"'PEFA Columns'!FF2","v":1},null,{"$f":"'PEFA Columns'!FH2","v":2},null,{"$f":"'PEFA Columns'!FJ2","v":2},null,{"$f":"'PEFA Columns'!FL2","v":2},null,{"$f":"'PEFA Columns'!FN2","v":1},null,{"$f":"'PEFA Columns'!FP2","v":1},null,{"$f":"'PEFA Columns'!FR2","v":1},null,{"$f":"'PEFA Columns'!FT2","v":0}]
[null,"Table:",null,null,"Table A - Physical supply table for energy flows",null,null," ",null,null,null,null,null,null,null,null,null,null,null,null,null,"INDUSTRIES (ISIC rev 4)",null,null,null,null,null,null,null,null,null,null,null,null,null,null,null,"INDUSTRIES (ISIC rev 2)",null,null,null,null,null,null,null,null,null,null,null,null,null,null,null,null,null,null,null,null,null,null,null,"INDUSTRIES (ISIC rev 4)",null,null,null,null,null,null,null,null,null,null,null,null,null,null,null,"INDUSTRIES (ISIC rev 4)",null,null,null,null,null,null,null,null,null,null,null,null,null,null,null,null,null,"INDUSTRIES (ISIC rev 4)",null,null,null,null,null,null,null,null,null,null,null,null,null,"INDUSTRIES (ISIC rev 4)",null,null,null,null,null,null,null,null,null,null,null,null,null,null,null,null,null,null,null,null,null,null,null,null,null,null,null,null,null,null,null,"INDUSTRIES (ISIC rev 4)",null,null,null,null,null,null,null,null,null,null,null,null,null,null,null,null,null,null,null,null,null,null,null,"HOUSEHOLDS",null,null,null,null,null,null,null,"ACCUMULATION",null,"REST OF THE WORLD",null,"ENVIRONMENT",null,null,null,null,null,null,null,null,null,"CONSTANTS"]
[null,"Content:",null,null,"Energy Flows","Code",null,{"$f":"'PEFA Columns'!D3","v":"ATU"},null,{"$f":"'PEFA Columns'!F3","v":"A"},null,{"$f":"'PEFA Columns'!H3","v":"A01"},null,{"$f":"'PEFA Columns'!J3","v":"A02"},null,{"$f":"'PEFA Columns'!L3","v":"A03"},null,{"$f":"'PEFA Columns'!N3","v":"B"},null,{"$f":"'PEFA Columns'!P3","v":"C"},null,{"$f":"'PEFA Columns'!R3","v":"C10T12"},null,{"$f":"'PEFA Columns'!T3","v":"C13T15"},null,{"$f":"'PEFA Columns'!V3","v":"C16"},null,{"$f":"'PEFA Columns'!X3","v":"C17"},null,{"$f":"'PEFA Columns'!Z3","v":"C18"},null,{"$f":"'PEFA Columns'!AB3","v":"C19"},null,{"$f":"'PEFA Columns'!AD3","v":"C20"},null,{"$f":"'PEFA Columns'!AF3","v":"C21"},null,{"$f":"'PEFA Columns'!AH3","v":"C22"},null,{"$f":"'PEFA Columns'!AJ3","v":"C23"},null,{"$f":"'PEFA Columns'!AL3","v":"C24"},null,{"$f":"'PEFA Columns'!AN3","v":"C25"},null,{"$f":"'PEFA Columns'!AP3","v":"C26"},null,{"$f":"'PEFA Columns'!AR3","v":"C27"},null,{"$f":"'PEFA Columns'!AT3","v":"C28"},null,{"$f":"'PEFA Columns'!AV3","v":"C29"},null,{"$f":"'PEFA Columns'!AX3","v":"C30"},null,{"$f":"'PEFA Columns'!AZ3","v":"C31_32"},null,{"$f":"'PEFA Columns'!BB3","v":"C33"},null,{"$f":"'PEFA Columns'!BD3","v":"D"},null,{"$f":"'PEFA Columns'!BF3","v":"E"},null,{"$f":"'PEFA Columns'!BH3","v":"E36"},null,{"$f":"'PEFA Columns'!BJ3","v":"E37T39"},null,{"$f":"'PEFA Columns'!BL3","v":"F"},null,{"$f":"'PEFA Columns'!BN3","v":"G"},null,{"$f":"'PEFA Columns'!BP3","v":"G45"},null,{"$f":"'PEFA Columns'!BR3","v":"G46"},null,{"$f":"'PEFA Columns'!BT3","v":"G47"},null,{"$f":"'PEFA Columns'!BV3","v":"H"},null,{"$f":"'PEFA Columns'!BX3","v":"H49"},null,{"$f":"'PEFA Columns'!BZ3","v":"H50"},null,{"$f":"'PEFA Columns'!CB3","v":"H51"},null,{"$f":"'PEFA Columns'!CD3","v":"H52"},null,{"$f":"'PEFA Columns'!CF3","v":"H53"},null,{"$f":"'PEFA Columns'!CH3","v":"I"},null,{"$f":"'PEFA Columns'!CJ3","v":"J"},null,{"$f":"'PEFA Columns'!CL3","v":"J58"},null,{"$f":"'PEFA Columns'!CN3","v":"J59_60"},null,{"$f":"'PEFA Columns'!CP3","v":"J61"},null,{"$f":"'PEFA Columns'!CR3","v":"J62_63"},null,{"$f":"'PEFA Columns'!CT3","v":"K"},null,{"$f":"'PEFA Columns'!CV3","v":"K64"},null,{"$f":"'PEFA Columns'!CX3","v":"K65"},null,{"$f":"'PEFA Columns'!CZ3","v":"K66"},null,{"$f":"'PEFA Columns'!DB3","v":"L"},null,{"$f":"'PEFA Columns'!DD3","v":"L68A"},null,{"$f":"'PEFA Columns'!DF3","v":"M"},null,{"$f":"'PEFA Columns'!DH3","v":"M69_70"},null,{"$f":"'PEFA Columns'!DJ3","v":"M71"},null,{"$f":"'PEFA Columns'!DL3","v":"M72"},null,{"$f":"'PEFA Columns'!DN3","v":"M73"},null,{"$f":"'PEFA Columns'!DP3","v":"M74_75"},null,{"$f":"'PEFA Columns'!DR3","v":"N"},null,{"$f":"'PEFA Columns'!DT3","v":"N77"},null,{"$f":"'PEFA Columns'!DV3","v":"N78"},null,{"$f":"'PEFA Columns'!DX3","v":"N79"},null,{"$f":"'PEFA Columns'!DZ3","v":"N80T82"},null,{"$f":"'PEFA Columns'!EB3","v":"O"},null,{"$f":"'PEFA Columns'!ED3","v":"P"},null,{"$f":"'PEFA Columns'!EF3","v":"Q"},null,{"$f":"'PEFA Columns'!EH3","v":"Q86"},null,{"$f":"'PEFA Columns'!EJ3","v":"Q87_88"},null,{"$f":"'PEFA Columns'!EL3","v":"R"},null,{"$f":"'PEFA Columns'!EN3","v":"R90T92"},null,{"$f":"'PEFA Columns'!EP3","v":"R93"},null,{"$f":"'PEFA Columns'!ER3","v":"S"},null,{"$f":"'PEFA Columns'!ET3","v":"S94"},null,{"$f":"'PEFA Columns'!EV3","v":"S95"},null,{"$f":"'PEFA Columns'!EX3","v":"S96"},null,{"$f":"'PEFA Columns'!EZ3","v":"T"},null,{"$f":"'PEFA Columns'!FB3","v":"U"},null,"_X",null,{"$f":"'PEFA Columns'!FF3","v":"HH"},null,{"$f":"'PEFA Columns'!FH3","v":"HH_HEAT"},null,{"$f":"'PEFA Columns'!FJ3","v":"HH_TR"},null,{"$f":"'PEFA Columns'!FL3","v":"HH_OTH"},null,{"$f":"'PEFA Columns'!FN3","v":"ATU_HH"},null,{"$f":"'PEFA Columns'!FP3","v":"ATU_HH"},null,{"$f":"'PEFA Columns'!FR3","v":"ATU_HH"},null,{"$f":"'PEFA Columns'!FT3","v":"ATU_HH"}]
[null,"Unit :",null,null,"TJ","Label",null,{"$f":"'PEFA Columns'!D4","v":"Total ISIC/NACE industries"},null,{"$f":"'PEFA Columns'!F4","v":"Agriculture, forestry and fishing"},null,{"$f":"'PEFA Columns'!H4","v":"Crop and animal production, hunting and related service activities"},null,{"$f":"'PEFA Columns'!J4","v":"Forestry and logging"},null,{"$f":"'PEFA Columns'!L4","v":"Fishing and aquaculture"},null,{"$f":"'PEFA Columns'!N4","v":"Mining and quarrying"},null,{"$f":"'PEFA Columns'!P4","v":"Manufacturing"},null,{"$f":"'PEFA Columns'!R4","v":"Manufacture of food products, beverages and tobacco\nproducts"},null,{"$f":"'PEFA Columns'!T4","v":"Manufacture of textiles, wearing apparel and leather products"},null,{"$f":"'PEFA Columns'!V4","v":"Manufacture of wood and of products of wood and cork, except furniture; manufacture of articles of straw and plaiting materials"},null,{"$f":"'PEFA Columns'!X4","v":"Manufacture of paper and paper products"},null,{"$f":"'PEFA Columns'!Z4","v":"Printing and reproduction of recorded media"},null,{"$f":"'PEFA Columns'!AB4","v":"Manufacture of coke and refined petroleum products"},null,{"$f":"'PEFA Columns'!AD4","v":"Manufacture of chemicals and chemical products"},null,{"$f":"'PEFA Columns'!AF4","v":"Manufacture of basic pharmaceutical products and pharmaceutical preparations"},null,{"$f":"'PEFA Columns'!AH4","v":"Manufacture of rubber and plastic products"},null,{"$f":"'PEFA Columns'!AJ4","v":"Manufacture of other non-metallic mineral products"},null,{"$f":"'PEFA Columns'!AL4","v":"Manufacture of basic metals"},null,{"$f":"'PEFA Columns'!AN4","v":"Manufacture of fabricated metal products, except machinery and equipment"},null,{"$f":"'PEFA Columns'!AP4","v":"Manufacture of computer, electronic and optical products"},null,{"$f":"'PEFA Columns'!AR4","v":"Manufacture of electrical equipment"},null,{"$f":"'PEFA Columns'!AT4","v":"Manufacture of machinery and equipment n.e.c."},null,{"$f":"'PEFA Columns'!AV4","v":"Manufacture of motor vehicles, trailers and semi-trailers"},null,{"$f":"'PEFA Columns'!AX4","v":"Manufacture of other transport equipment"},null,{"$f":"'PEFA Columns'!AZ4","v":"Manufacture of furniture; other manufacturing"},null,{"$f":"'PEFA Columns'!BB4","v":"Repair and installation of machinery and equipment"},null,{"$f":"'PEFA Columns'!BD4","v":"Electricity, gas, steam and air conditioning supply"},null,{"$f":"'PEFA Columns'!BF4","v":"Water supply; sewerage, waste management and remediation activities"},null,{"$f":"'PEFA Columns'!BH4","v":"Water collection, treatment and supply"},null,{"$f":"'PEFA Columns'!BJ4","v":"Sewerage, waste management, remediation activities"},null,{"$f":"'PEFA Columns'!BL4","v":"Construction"},null,{"$f":"'PEFA Columns'!BN4","v":"Wholesale and retail trade; repair of motor vehicles and motorcycles"},null,{"$f":"'PEFA Columns'!BP4","v":"Wholesale and retail trade and repair of motor vehicles and motorcycles"},null,{"$f":"'PEFA Columns'!BR4","v":"Wholesale trade, except of motor vehicles and motorcycles"},null,{"$f":"'PEFA Columns'!BT4","v":"Retail trade, except of motor vehicles and motorcycles"},null,{"$f":"'PEFA Columns'!BV4","v":"Transportation and storage"},null,{"$f":"'PEFA Columns'!BX4","v":"Land transport and transport via pipelines"},null,{"$f":"'PEFA Columns'!BZ4","v":"Water transport"},null,{"$f":"'PEFA Columns'!CB4","v":"Air transport"},null,{"$f":"'PEFA Columns'!CD4","v":"Warehousing and support activities for transportation"},null,{"$f":"'PEFA Columns'!CF4","v":"Postal and courier activities"},null,{"$f":"'PEFA Columns'!CH4","v":"Accommodation and food service activities"},null,{"$f":"'PEFA Columns'!CJ4","v":"Information and communication"},null,{"$f":"'PEFA Columns'!CL4","v":"Publishing activities"},null,{"$f":"'PEFA Columns'!CN4","v":"Motion picture, video, television programme production; programming and broadcasting activities"},null,{"$f":"'PEFA Columns'!CP4","v":"Telecommunications"},null,{"$f":"'PEFA Columns'!CR4","v":"Computer programming, consultancy, and information service activities"},null,{"$f":"'PEFA Columns'!CT4","v":"Financial and insurance activities"},null,{"$f":"'PEFA Columns'!CV4","v":"Financial service activities, except insurance and pension funding"},null,{"$f":"'PEFA Columns'!CX4","v":"Insurance, reinsurance and pension funding, except compulsory social security"},null,{"$f":"'PEFA Columns'!CZ4","v":"Activities auxiliary to financial services and insurance activities"},null,{"$f":"'PEFA Columns'!DB4","v":"Real estate activities"},null,{"$f":"'PEFA Columns'!DD4","v":"Of which: Imputed rents of owner-occupied dwellings"},null,{"$f":"'PEFA Columns'!DF4","v":"Professional, scientific and technical activities"},null,{"$f":"'PEFA Columns'!DH4","v":"Legal and accounting activities; activities of head offices; management consultancy activities"},null,{"$f":"'PEFA Columns'!DJ4","v":"Architectural and engineering activities; technical testing and analysis"},null,{"$f":"'PEFA Columns'!DL4","v":"Scientific research and development"},null,{"$f":"'PEFA Columns'!DN4","v":"Advertising and market research"},null,{"$f":"'PEFA Columns'!DP4","v":"Other professional, scientific and technical activities; veterinary activities"},null,{"$f":"'PEFA Columns'!DR4","v":"Administrative and support service activities"},null,{"$f":"'PEFA Columns'!DT4","v":"Rental and leasing activities"},null,{"$f":"'PEFA Columns'!DV4","v":"Employment activities"},null,{"$f":"'PEFA Columns'!DX4","v":"Travel agency, tour operator reservation service and related activities"},null,{"$f":"'PEFA Columns'!DZ4","v":"Security and investigation, service and landscape, office administrative and support activities"},null,{"$f":"'PEFA Columns'!EB4","v":"Public administration and defence; compulsory social security"},null,{"$f":"'PEFA Columns'!ED4","v":"Education"},null,{"$f":"'PEFA Columns'!EF4","v":"Human health and social work activities"},null,{"$f":"'PEFA Columns'!EH4","v":"Human health activities"},null,{"$f":"'PEFA Columns'!EJ4","v":"Residential care activities and social work activities without accommodation"},null,{"$f":"'PEFA Columns'!EL4","v":"Arts, entertainment and recreation"},null,{"$f":"'PEFA Columns'!EN4","v":"Creative, arts and entertainment activities; libraries, archives, museums and other cultural activities; gambling and betting activities"},null,{"$f":"'PEFA Columns'!EP4","v":"Sports activities and amusement and recreation activities"},null,{"$f":"'PEFA Columns'!ER4","v":"Other service activities"},null,{"$f":"'PEFA Columns'!ET4","v":"Activities of membership organisations"},null,{"$f":"'PEFA Columns'!EV4","v":"Repair of computers and personal and household goods"},null,{"$f":"'PEFA Columns'!EX4","v":"Other personal service activities"},null,{"$f":"'PEFA Columns'!EZ4","v":"Activities of households as employers; undifferentiated goods- and services-producing activities of households for own use"},null,{"$f":"'PEFA Columns'!FB4","v":"Activities of extraterritorial organisations and bodies"},null,{"$f":"'PEFA Columns'!FD4","v":"All other industries"},null,{"$f":"'PEFA Columns'!FF4","v":"Total activities by households"},null,{"$f":"'PEFA Columns'!FH4","v":"Heating/cooling activities by households"},null,{"$f":"'PEFA Columns'!FJ4","v":"Transport activities by households"},null,{"$f":"'PEFA Columns'!FL4","v":"Other activities by households"},null,{"$f":"'PEFA Columns'!FN4","v":"Changes in inventories and produced assets"},null,{"$f":"'PEFA Columns'!FP4","v":"Rest of the World - economic activities"},null,{"$f":"'PEFA Columns'!FR4","v":"Environment"},null,{"$f":"'PEFA Columns'!FT4","v":"TOTAL SUPPLY OF NATURAL INPUTS, PRODUCTS, AND RESIDUALS"}]
[null,null,null,null,null,null,null,null,null,null,null,null,null,null,null,null,null,null,null,null,null,null,null,null,null,null,null,null,null,null,null,null,null,null,null,null,null,null,null,null,null,null,null,null,null,null,null,null,null,null,null,null,null,null,null,null,null,null,null,null,null,null,null,null,null,null,null,null,null,null,null,null,null,null,null,null,null,null,null,null,null,null,null,null,null,null,null,null,null,null,null,null,null,null,null,null,null,null,null,null,null,null,null,null,null,null,null,null,null,null,null,null,null,null,null,null,null,null,null,null,null,null,null,null,null,null,null,null,null,null,null,null,null,null,null,null,null,null,null,null,null,null,null,null,null,null,null,null,null,null,null,null,null,null,null,null,null,null,null,null,null,null,null,null,null,null,null,null,null,null,null,null,null,null,null,null,null,null,null,null,null,null,null,null,null,null,null,"DEMAND_PROD","BRIDGE_ITEMS","UNIT_MEASURE","UNIT_MULT","PRODUCT","SECTOR"]
[null,"no","Level","Code","Label"]
[null,1,1,{"$f":"'PEFA rows'!C3","v":"N00"},{"$f":"'PEFA rows'!D3","v":"NATURAL ENERGY INPUTS"},null,null,null,null,null,null,null,null,null,null,null,null,null,null,null,null,null,null,null,null,null,null,null,null,null,null,null,null,null,null,null,null,null,null,null,null,null,null,null,null,null,null,null,null,null,null,null,null,null,null,null,null,null,null,null,null,null,null,null,null,null,null,null,null,null,null,null,null,null,null,null,null,null,null,null,null,null,null,null,null,null,null,null,null,null,null,null,null,null,null,null,null,null,null,null,null,null,null,null,null,null,null,null,null,null,null,null,null,null,null,null,null,null,null,null,null,null,null,null,null,null,null,null,null,null,null,null,null,null,null,null,null,null,null,null,null,null,null,null,null,null,null,null,null,null,null,null,null,null,null,null,null,null,null,null,null,null,null,null,null,null,null,null,null,null,null,null,null,null,null,null,null,{"$f":"SUM(FV10:FV16)","v":0},null,{"$f":"SUM(FX10:FX16)","v":0},null,null,"TS",null,null,null,null,"P","RES","TJ",0,"_T","S1"]
[null,2,2,{"$f":"'PEFA rows'!C4","v":"N01"},{"$f":"'PEFA rows'!D4","v":"Fossil non-renewable natural energy inputs"},null,null,null,null,null,null,null,null,null,null,null,null,null,null,null,null,null,null,null,null,null,null,null,null,null,null,null,null,null,null,null,null,null,null,null,null,null,null,null,null,null,null,null,null,null,null,null,null,null,null,null,null,null,null,null,null,null,null,null,null,null,null,null,null,null,null,null,null,null,null,null,null,null,null,null,null,null,null,null,null,null,null,null,null,null,null,null,null,null,null,null,null,null,null,null,null,null,null,null,null,null,null,null,null,null,null,null,null,null,null,null,null,null,null,null,null,null,null,null,null,null,null,null,null,null,null,null,null,null,null,null,null,null,null,null,null,null,null,null,null,null,null,null,null,null,null,null,null,null,null,null,null,null,null,null,null,null,null,null,null,null,null,null,null,null,null,null,null,null,null,null,null,0,null,{"$f":"SUM(H10,FJ10,FR10,FT10,FV10)","v":0},null,null,"TS"]
[null,3,2,{"$f":"'PEFA rows'!C5","v":"N02"},{"$f":"'PEFA rows'!D5","v":"Nuclear non-renewable natural energy inputs"},null,null,null,null,null,null,null,null,null,null,null,null,null,null,null,null,null,null,null,null,null,null,null,null,null,null,null,null,null,null,null,null,null,null,null,null,null,null,null,null,null,null,null,null,null,null,null,null,null,null,null,null,null,null,null,null,null,null,null,null,null,null,null,null,null,null,null,null,null,null,null,null,null,null,null,null,null,null,null,null,null,null,null,null,null,null,null,null,null,null,null,null,null,null,null,null,null,null,null,null,null,null,null,null,null,null,null,null,null,null,null,null,null,null,null,null,null,null,null,null,null,null,null,null,null,null,null,null,null,null,null,null,null,null,null,null,null,null,null,null,null,null,null,null,null,null,null,null,null,null,null,null,null,null,null,null,null,null,null,null,null,null,null,null,null,null,null,null,null,null,null,null,0,null,0,null,null,"TS"]
[null,4,2,{"$f":"'PEFA rows'!C6","v":"N03"},{"$f":"'PEFA rows'!D6","v":"Hydro based renewable natural energy inputs"},null,null,null,null,null,null,null,null,null,null,null,null,null,null,null,null,null,null,null,null,null,null,null,null,null,null,null,null,null,null,null,null,null,null,null,null,null,null,null,null,null,null,null,null,null,null,null,null,null,null,null,null,null,null,null,null,null,null,null,null,null,null,null,null,null,null,null,null,null,null,null,null,null,null,null,null,null,null,null,null,null,null,null,null,null,null,null,null,null,null,null,null,null,null,null,null,null,null,null,null,null,null,null,null,null,null,null,null,null,null,null,null,null,null,null,null,null,null,null,null,null,null,null,null,null,null,null,null,null,null,null,null,null,null,null,null,null,null,null,null,null,null,null,null,null,null,null,null,null,null,null,null,null,null,null,null,null,null,null,null,null,null,null,null,null,null,null,null,null,null,null,null,0,null,0,null,null,"TS"]
[null,5,2,{"$f":"'PEFA rows'!C7","v":"N04"},{"$f":"'PEFA rows'!D7","v":"Wind based renewable natural energy inputs"},null,null,null,null,null,null,null,null,null,null,null,null,null,null,null,null,null,null,null,null,null,null,null,null,null,null,null,null,null,null,null,null,null,null,null,null,null,null,null,null,null,null,null,null,null,null,null,null,null,null,null,null,null,null,null,null,null,null,null,null,null,null,null,null,null,null,null,null,null,null,null,null,null,null,null,null,null,null,null,null,null,null,null,null,null,null,null,null,null,null,null,null,null,null,null,null,null,null,null,null,null,null,null,null,null,null,null,null,null,null,null,null,null,null,null,null,null,null,null,null,null,null,null,null,null,null,null,null,null,null,null,null,null,null,null,null,null,null,null,null,null,null,null,null,null,null,null,null,null,null,null,null,null,null,null,null,null,null,null,null,null,null,null,null,null,null,null,null,null,null,null,null,0,null,0,null,null,"TS"]
[null,6,2,{"$f":"'PEFA rows'!C8","v":"N05"},{"$f":"'PEFA rows'!D8","v":"Solar based renewable natural energy inputs"},null,null,null,null,null,null,null,null,null,null,null,null,null,null,null,null,null,null,null,null,null,null,null,null,null,null,null,null,null,null,null,null,null,null,null,null,null,null,null,null,null,null,null,null,null,null,null,null,null,null,null,null,null,null,null,null,null,null,null,null,null,null,null,null,null,null,null,null,null,null,null,null,null,null,null,null,null,null,null,null,null,null,null,null,null,null,null,null,null,null,null,null,null,null,null,null,null,null,null,null,null,null,null,null,null,null,null,null,null,null,null,null,null,null,null,null,null,null,null,null,null,null,null,null,null,null,null,null,null,null,null,null,null,null,null,null,null,null,null,null,null,null,null,null,null,null,null,null,null,null,null,null,null,null,null,null,null,null,null,null,null,null,null,null,null,null,null,null,null,null,null,null,0,null,0,null,null,"TS"]
[null,7,2,{"$f":"'PEFA rows'!C9","v":"N06"},{"$f":"'PEFA rows'!D9","v":"Biomass based renewable natural energy inputs"},null,null,null,null,null,null,null,null,null,null,null,null,null,null,null,null,null,null,null,null,null,null,null,null,null,null,null,null,null,null,null,null,null,null,null,null,null,null,null,null,null,null,null,null,null,null,null,null,null,null,null,null,null,null,null,null,null,null,null,null,null,null,null,null,null,null,null,null,null,null,null,null,null,null,null,null,null,null,null,null,null,null,null,null,null,null,null,null,null,null,null,null,null,null,null,null,null,null,null,null,null,null,null,null,null,null,null,null,null,null,null,null,null,null,null,null,null,null,null,null,null,null,null,null,null,null,null,null,null,null,null,null,null,null,null,null,null,null,null,null,null,null,null,null,null,null,null,null,null,null,null,null,null,null,null,null,null,null,null,null,null,null,null,null,null,null,null,null,null,null,null,null,0,null,0,null,null,"TS"]
[null,8,2,{"$f":"'PEFA rows'!C10","v":"N07"},{"$f":"'PEFA rows'!D10","v":"Other renewable natural energy inputs"},null,null,null,null,null,null,null,null,null,null,null,null,null,null,null,null,null,null,null,null,null,null,null,null,null,null,null,null,null,null,null,null,null,null,null,null,null,null,null,null,null,null,null,null,null,null,null,null,null,null,null,null,null,null,null,null,null,null,null,null,null,null,null,null,null,null,null,null,null,null,null,null,null,null,null,null,null,null,null,null,null,null,null,null,null,null,null,null,null,null,null,null,null,null,null,null,null,null,null,null,null,null,null,null,null,null,null,null,null,null,null,null,null,null,null,null,null,null,null,null,null,null,null,null,null,null,null,null,null,null,null,null,null,null,null,null,null,null,null,null,null,null,null,null,null,null,null,null,null,null,null,null,null,null,null,null,null,null,null,null,null,null,null,null,null,null,null,null,null,null,null,null,0,null,0,null,null,"TS"]
[null,9,1,{"$f":"'PEFA rows'!C11","v":"P00"},{"$f":"'PEFA rows'!D11","v":"ENERGY PRODUCTS"},null,null,{"$f":"SUM(H18:H37)","v":0},null,{"$f":"SUM(J18:J37)","v":0},null,{"$f":"SUM(L18:L37)","v":0},null,{"$f":"SUM(N18:N37)","v":0},null,{"$f":"SUM(P18:P37)","v":0},null,{"$f":"SUM(R18:R37)","v":0},null,{"$f":"SUM(T18:T37)","v":0},null,{"$f":"SUM(V18:V37)","v":0},null,{"$f":"SUM(X18:X37)","v":0},null,{"$f":"SUM(Z18:Z37)","v":0},null,{"$f":"SUM(AB18:AB37)","v":0},null,{"$f":"SUM(AD18:AD37)","v":0},null,{"$f":"SUM(AF18:AF37)","v":0},null,{"$f":"SUM(AH18:AH37)","v":0},null,{"$f":"SUM(AJ18:AJ37)","v":0},null,{"$f":"SUM(AL18:AL37)","v":0},null,{"$f":"SUM(AN18:AN37)","v":0},null,{"$f":"SUM(AP18:AP37)","v":0},null,{"$f":"SUM(AR18:AR37)","v":0},null,{"$f":"SUM(AT18:AT37)","v":0},null,{"$f":"SUM(AV18:AV37)","v":0},null,{"$f":"SUM(AX18:AX37)","v":0},null,{"$f":"SUM(AZ18:AZ37)","v":0},null,{"$f":"SUM(BB18:BB37)","v":0},null,{"$f":"SUM(BD18:BD37)","v":0},null,{"$f":"SUM(BF18:BF37)","v":0},null,{"$f":"SUM(BH18:BH37)","v":0},null,{"$f":"SUM(BJ18:BJ37)","v":0},null,{"$f":"SUM(BL18:BL37)","v":0},null,{"$f":"SUM(BN18:BN37)","v":0},null,{"$f":"SUM(BP18:BP37)","v":0},null,{"$f":"SUM(BR18:BR37)","v":0},null,{"$f":"SUM(BT18:BT37)","v":0},null,{"$f":"SUM(BV18:BV37)","v":0},null,{"$f":"SUM(BX18:BX37)","v":0},null,0,null,{"$f":"SUM(CB18:CB37)","v":0},null,{"$f":"SUM(CD18:CD37)","v":0},null,{"$f":"SUM(CF18:CF37)","v":0},null,{"$f":"SUM(CH18:CH37)","v":0},null,{"$f":"SUM(CJ18:CJ37)","v":0},null,{"$f":"SUM(CL18:CL37)","v":0},null,{"$f":"SUM(CN18:CN37)","v":0},null,{"$f":"SUM(CP18:CP37)","v":0},null,{"$f":"SUM(CR18:CR37)","v":0},null,{"$f":"SUM(CT18:CT37)","v":0},null,{"$f":"SUM(CV18:CV37)","v":0},null,{"$f":"SUM(CX18:CX37)","v":0},null,{"$f":"SUM(CZ18:CZ37)","v":0},null,{"$f":"SUM(DB18:DB37)","v":0},null,{"$f":"SUM(DD18:DD37)","v":0},null,{"$f":"SUM(DF18:DF37)","v":0},null,{"$f":"SUM(DH18:DH37)","v":0},null,{"$f":"SUM(DJ18:DJ37)","v":0},null,{"$f":"SUM(DL18:DL37)","v":0},null,{"$f":"SUM(DN18:DN37)","v":0},null,{"$f":"SUM(DP18:DP37)","v":0},null,{"$f":"SUM(DR18:DR37)","v":0},null,{"$f":"SUM(DT18:DT37)","v":0},null,{"$f":"SUM(DV18:DV37)","v":0},null,{"$f":"SUM(DX18:DX37)","v":0},null,{"$f":"SUM(DZ18:DZ37)","v":0},null,{"$f":"SUM(EB18:EB37)","v":0},null,{"$f":"SUM(ED18:ED37)","v":0},null,{"$f":"SUM(EF18:EF37)","v":0},null,{"$f":"SUM(EH18:EH37)","v":0},null,{"$f":"SUM(EJ18:EJ37)","v":0},null,{"$f":"SUM(EL18:EL37)","v":0},null,{"$f":"SUM(EN18:EN37)","v":0},null,{"$f":"SUM(EP18:EP37)","v":0},null,{"$f":"SUM(ER18:ER37)","v":0},null,{"$f":"SUM(ET18:ET37)","v":0},null,{"$f":"SUM(EV18:EV37)","v":0},null,{"$f":"SUM(EX18:EX37)","v":0},null,{"$f":"SUM(EZ18:EZ37)","v":0},null,{"$f":"SUM(FB18:FB37)","v":0},null,{"$f":"SUM(FD18:FD37)","v":0},null,{"$f":"SUM(FF18:FF37)","v":0},null,{"$f":"SUM(FH18:FH37)","v":0},null,null,null,null,null,null,null,null,null,null,null,{"$f":"SUM(FT18:FT37)","v":0},null,null,null,{"$f":"SUM(FX18:FX37)","v":0},null,null,"TS"]
[null,10,2,{"$f":"'PEFA rows'!C12","v":"P08"},{"$f":"'PEFA rows'!D12","v":"Hard coal"},null,null,{"$f":"SUM(J18,R18,T18,BH18,BJ18,BP18,BR18,BZ18,CL18,CN18,CX18,DF18,DJ18,DV18,EF18,EH18,EJ18,EP18,EV18,FD18,FF18,FH18)","v":0},null,{"$f":"SUM(L18,N18,P18)","v":0},null,0,null,0,null,0,null,0,null,{"$f":"SUM(V18,X18,Z18,AB18,AD18,AF18,AH18,AJ18,AL18,AN18,AP18,AR18,AT18,AV18,AX18,AZ18,BB18,BD18,BF18)","v":0},null,0,null,0,null,0,null,0,null,0,null,0,null,0,null,0,null,0,null,0,null,0,null,0,null,0,null,0,null,0,null,0,null,0,null,0,null,0,null,0,null,{"$f":"SUM(BL18,BN18)","v":0},null,0,null,0,null,0,null,{"$f":"SUM(BT18,BV18,BX18)","v":0},null,0,null,0,null,0,null,{"$f":"SUM(CB18,CD18,CF18,CH18,CJ18)","v":0},null,0,null,0,null,0,null,0,null,0,null,0,null,{"$f":"SUM(CP18,CR18,CT18,CV18)","v":0},null,0,null,0,null,0,null,0,null,{"$f":"SUM(CZ18,DB18,DD18)","v":0},null,0,null,0,null,0,null,0,null,0,null,{"$f":"SUM(DL18,DN18,DP18,DR18,DT18)","v":0},null,0,null,0,null,0,null,0,null,0,null,{"$f":"SUM(DX18,DZ18,EB18,ED18)","v":0},null,0,null,0,null,0,null,0,null,0,null,0,null,{"$f":"SUM(EL18,EN18)","v":0},null,0,null,0,null,{"$f":"SUM(ER18,ET18)","v":0},null,0,null,0,null,{"$f":"SUM(EX18,EZ18,FB18)","v":0},null,0,null,0,null,0,null,0,null,0,null,0,null,null,null,null,null,null,null,null,null,null,null,0,null,null,null,{"$f":"SUM(H18,FJ18,FR18,FT18,FV18)","v":0},null,null,"TS"]
[null,11,2,{"$f":"'PEFA rows'!C13","v":"P09"},{"$f":"'PEFA rows'!D13","v":"Brown coal and peat"},null,null,0,null,0,null,0,null,0,null,0,null,0,null,0,null,0,null,0,null,0,null,0,null,0,null,0,null,0,null,0,null,0,null,0,null,0,null,0,null,0,null,0,null,0,null,0,null,0,null,0,null,0,null,0,null,0,null,0,null,0,null,0,null,0,null,0,null,0,null,0,null,0,null,0,null,0,null,0,null,0,null,0,null,0,null,0,null,0,null,0,null,0,null,0,null,0,null,0,null,0,null,0,null,0,null,0,null,0,null,0,null,0,null,0,null,0,null,0,null,0,null,0,null,0,null,0,null,0,null,0,null,0,null,0,null,0,null,0,null,0,null,0,null,0,null,0,null,0,null,0,null,0,null,0,null,0,null,0,null,null,null,null,null,null,null,null,null,null,null,0,null,null,null,0,null,null,"TS"]
[null,12,2,{"$f":"'PEFA rows'!C14","v":"P10"},{"$f":"'PEFA rows'!D14","v":"Derived gases (= manufactured gases excl. biogas) "},null,null,0,null,0,null,0,null,0,null,0,null,0,null,0,null,0,null,0,null,0,null,0,null,0,null,0,null,0,null,0,null,0,null,0,null,0,null,0,null,0,null,0,null,0,null,0,null,0,null,0,null,0,null,0,null,0,null,0,null,0,null,0,null,0,null,0,null,0,null,0,null,0,null,0,null,0,null,0,null,0,null,0,null,0,null,0,null,0,null,0,null,0,null,0,null,0,null,0,null,0,null,0,null,0,null,0,null,0,null,0,null,0,null,0,null,0,null,0,null,0,null,0,null,0,null,0,null,0,null,0,null,0,null,0,null,0,null,0,null,0,null,0,null,0,null,0,null,0,null,0,null,0,null,0,null,0,null,0,null,null,null,null,null,null,null,null,null,null,null,0,null,null,null,0,null,null,"TS"]
[null,13,2,{"$f":"'PEFA rows'!C15","v":"P11"},{"$f":"'PEFA rows'!D15","v":"Secondary coal products (coke, coal tar, patent fuel, BKB and peat products)"},null,null,0,null,0,null,0,null,0,null,0,null,0,null,0,null,0,null,0,null,0,null,0,null,0,null,0,null,0,null,0,null,0,null,0,null,0,null,0,null,0,null,0,null,0,null,0,null,0,null,0,null,0,null,0,null,0,null,0,null,0,null,0,null,0,null,0,null,0,null,0,null,0,null,0,null,0,null,0,null,0,null,0,null,0,null,0,null,0,null,0,null,0,null,0,null,0,null,0,null,0,null,0,null,0,null,0,null,0,null,0,null,0,null,0,null,0,null,0,null,0,null,0,null,0,null,0,null,0,null,0,null,0,null,0,null,0,null,0,null,0,null,0,null,0,null,0,null,0,null,0,null,0,null,0,null,0,null,0,null,null,null,null,null,null,null,null,null,null,null,0,null,null,null,0,null,null,"TS"]
[null,14,2,{"$f":"'PEFA rows'!C16","v":"P12"},{"$f":"'PEFA rows'!D16","v":"Crude oil, NGL, and other hydrocarbons (excl. bio)"},null,null,0,null,0,null,0,null,0,null,0,null,0,null,0,null,0,null,0,null,0,null,0,null,0,null,0,null,0,null,0,null,0,null,0,null,0,null,0,null,0,null,0,null,0,null,0,null,0,null,0,null,0,null,0,null,0,null,0,null,0,null,0,null,0,null,0,null,0,null,0,null,0,null,0,null,0,null,0,null,0,null,0,null,0,null,0,null,0,null,0,null,0,null,0,null,0,null,0,null,0,null,0,null,0,null,0,null,0,null,0,null,0,null,0,null,0,null,0,null,0,null,0,null,0,null,0,null,0,null,0,null,0,null,0,null,0,null,0,null,0,null,0,null,0,null,0,null,0,null,0,null,0,null,0,null,0,null,0,null,null,null,null,null,null,null,null,null,null,null,0,null,null,null,0,null,null,"TS"]
[null,15,2,{"$f":"'PEFA rows'!C17","v":"P13"},{"$f":"'PEFA rows'!D17","v":"Natural gas (without bio)"},null,null,0,null,0,null,0,null,0,null,0,null,0,null,0,null,0,null,0,null,0,null,0,null,0,null,0,null,0,null,0,null,0,null,0,null,0,null,0,null,0,null,0,null,0,null,0,null,0,null,0,null,0,null,0,null,0,null,0,null,0,null,0,null,0,null,0,null,0,null,0,null,0,null,0,null,0,null,0,null,0,null,0,null,0,null,0,null,0,null,0,null,0,null,0,null,0,null,0,null,0,null,0,null,0,null,0,null,0,null,0,null,0,null,0,null,0,null,0,null,0,null,0,null,0,null,0,null,0,null,0,null,0,null,0,null,0,null,0,null,0,null,0,null,0,null,0,null,0,null,0,null,0,null,0,null,0,null,0,null,null,null,null,null,null,null,null,null,null,null,0,null,null,null,0,null,null,"TS"]
[null,16,2,{"$f":"'PEFA rows'!C18","v":"P14"},{"$f":"'PEFA rows'!D18","v":"Motor spirit (without bio)"},null,null,0,null,0,null,0,null,0,null,0,null,0,null,0,null,0,null,0,null,0,null,0,null,0,null,0,null,0,null,0,null,0,null,0,null,0,null,0,null,0,null,0,null,0,null,0,null,0,null,0,null,0,null,0,null,0,null,0,null,0,null,0,null,0,null,0,null,0,null,0,null,0,null,0,null,0,null,0,null,0,null,0,null,0,null,0,null,0,null,0,null,0,null,0,null,0,null,0,null,0,null,0,null,0,null,0,null,0,null,0,null,0,null,0,null,0,null,0,null,0,null,0,null,0,null,0,null,0,null,0,null,0,null,0,null,0,null,0,null,0,null,0,null,0,null,0,null,0,null,0,null,0,null,0,null,0,null,0,null,null,null,null,null,null,null,null,null,null,null,0,null,null,null,0,null,null,"TS"]
[null,17,2,{"$f":"'PEFA rows'!C19","v":"P15"},{"$f":"'PEFA rows'!D19","v":"Kerosenes and jet fuels (without bio)"},null,null,0,null,0,null,0,null,0,null,0,null,0,null,0,null,0,null,0,null,0,null,0,null,0,null,0,null,0,null,0,null,0,null,0,null,0,null,0,null,0,null,0,null,0,null,0,null,0,null,0,null,0,null,0,null,0,null,0,null,0,null,0,null,0,null,0,null,0,null,0,null,0,null,0,null,0,null,0,null,0,null,0,null,0,null,0,null,0,null,0,null,0,null,0,null,0,null,0,null,0,null,0,null,0,null,0,null,0,null,0,null,0,null,0,null,0,null,0,null,0,null,0,null,0,null,0,null,0,null,0,null,0,null,0,null,0,null,0,null,0,null,0,null,0,null,0,null,0,null,0,null,0,null,0,null,0,null,0,null,null,null,null,null,null,null,null,null,null,null,0,null,null,null,0,null,null,"TS"]
[null,18,2,{"$f":"'PEFA rows'!C20","v":"P16"},{"$f":"'PEFA rows'!D20","v":"Naphtha"},null,null,0,null,0,null,0,null,0,null,0,null,0,null,0,null,0,null,0,null,0,null,0,null,0,null,0,null,0,null,0,null,0,null,0,null,0,null,0,null,0,null,0,null,0,null,0,null,0,null,0,null,0,null,0,null,0,null,0,null,0,null,0,null,0,null,0,null,0,null,0,null,0,null,0,null,0,null,0,null,0,null,0,null,0,null,0,null,0,null,0,null,0,null,0,null,0,null,0,null,0,null,0,null,0,null,0,null,0,null,0,null,0,null,0,null,0,null,0,null,0,null,0,null,0,null,0,null,0,null,0,null,0,null,0,null,0,null,0,null,0,null,0,null,0,null,0,null,0,null,0,null,0,null,0,null,0,null,0,null,null,null,null,null,null,null,null,null,null,null,0,null,null,null,0,null,null,"TS"]
[null,19,2,{"$f":"'PEFA rows'!C21","v":"P17"},{"$f":"'PEFA rows'!D21","v":"Transport diesel (without bio)"},null,null,0,null,0,null,0,null,0,null,0,null,0,null,0,null,0,null,0,null,0,null,0,null,0,null,0,null,0,null,0,null,0,null,0,null,0,null,0,null,0,null,0,null,0,null,0,null,0,null,0,null,0,null,0,null,0,null,0,null,0,null,0,null,0,null,0,null,0,null,0,null,0,null,0,null,0,null,0,null,0,null,0,null,0,null,0,null,0,null,0,null,0,null,0,null,0,null,0,null,0,null,0,null,0,null,0,null,0,null,0,null,0,null,0,null,0,null,0,null,0,null,0,null,0,null,0,null,0,null,0,null,0,null,0,null,0,null,0,null,0,null,0,null,0,null,0,null,0,null,0,null,0,null,0,null,0,null,0,null,null,null,null,null,null,null,null,null,null,null,0,null,null,null,0,null,null,"TS"]
[null,20,2,{"$f":"'PEFA rows'!C22","v":"P18"},{"$f":"'PEFA rows'!D22","v":"Heating and other gasoil (without bio)"},null,null,0,null,0,null,0,null,0,null,0,null,0,null,0,null,0,null,0,null,0,null,0,null,0,null,0,null,0,null,0,null,0,null,0,null,0,null,0,null,0,null,0,null,0,null,0,null,0,null,0,null,0,null,0,null,0,null,0,null,0,null,0,null,0,null,0,null,0,null,0,null,0,null,0,null,0,null,0,null,0,null,0,null,0,null,0,null,0,null,0,null,0,null,0,null,0,null,0,null,0,null,0,null,0,null,0,null,0,null,0,null,0,null,0,null,0,null,0,null,0,null,0,null,0,null,0,null,0,null,0,null,0,null,0,null,0,null,0,null,0,null,0,null,0,null,0,null,0,null,0,null,0,null,0,null,0,null,0,null,null,null,null,null,null,null,null,null,null,null,0,null,null,null,0,null,null,"TS"]
[null,21,2,{"$f":"'PEFA rows'!C23","v":"P19"},{"$f":"'PEFA rows'!D23","v":"Residual fuel oil"},null,null,0,null,0,null,0,null,0,null,0,null,0,null,0,null,0,null,0,null,0,null,0,null,0,null,0,null,0,null,0,null,0,null,0,null,0,null,0,null,0,null,0,null,0,null,0,null,0,null,0,null,0,null,0,null,0,null,0,null,0,null,0,null,0,null,0,null,0,null,0,null,0,null,0,null,0,null,0,null,0,null,0,null,0,null,0,null,0,null,0,null,0,null,0,null,0,null,0,null,0,null,0,null,0,null,0,null,0,null,0,null,0,null,0,null,0,null,0,null,0,null,0,null,0,null,0,null,0,null,0,null,0,null,0,null,0,null,0,null,0,null,0,null,0,null,0,null,0,null,0,null,0,null,0,null,0,null,0,null,null,null,null,null,null,null,null,null,null,null,0,null,null,null,0,null,null,"TS"]
[null,22,2,{"$f":"'PEFA rows'!C24","v":"P20"},{"$f":"'PEFA rows'!D24","v":"Refinery gas, ethane and LPG"},null,null,0,null,0,null,0,null,0,null,0,null,0,null,0,null,0,null,0,null,0,null,0,null,0,null,0,null,0,null,0,null,0,null,0,null,0,null,0,null,0,null,0,null,0,null,0,null,0,null,0,null,0,null,0,null,0,null,0,null,0,null,0,null,0,null,0,null,0,null,0,null,0,null,0,null,0,null,0,null,0,null,0,null,0,null,0,null,0,null,0,null,0,null,0,null,0,null,0,null,0,null,0,null,0,null,0,null,0,null,0,null,0,null,0,null,0,null,0,null,0,null,0,null,0,null,0,null,0,null,0,null,0,null,0,null,0,null,0,null,0,null,0,null,0,null,0,null,0,null,0,null,0,null,0,null,0,null,0,null,null,null,null,null,null,null,null,null,null,null,0,null,null,null,0,null,null,"TS"]
[null,23,2,{"$f":"'PEFA rows'!C25","v":"P21"},{"$f":"'PEFA rows'!D25","v":"Other petroleum products incl. additives/oxygenates and refinery feedstocks"},null,null,0,null,0,null,0,null,0,null,0,null,0,null,0,null,0,null,0,null,0,null,0,null,0,null,0,null,0,null,0,null,0,null,0,null,0,null,0,null,0,null,0,null,0,null,0,null,0,null,0,null,0,null,0,null,0,null,0,null,0,null,0,null,0,null,0,null,0,null,0,null,0,null,0,null,0,null,0,null,0,null,0,null,0,null,0,null,0,null,0,null,0,null,0,null,0,null,0,null,0,null,0,null,0,null,0,null,0,null,0,null,0,null,0,null,0,null,0,null,0,null,0,null,0,null,0,null,0,null,0,null,0,null,0,null,0,null,0,null,0,null,0,null,0,null,0,null,0,null,0,null,0,null,0,null,0,null,0,null,null,null,null,null,null,null,null,null,null,null,0,null,null,null,0,null,null,"TS"]
[null,24,2,{"$f":"'PEFA rows'!C26","v":"P22"},{"$f":"'PEFA rows'!D26","v":"Nuclear fuel"},null,null,0,null,0,null,0,null,0,null,0,null,0,null,0,null,0,null,0,null,0,null,0,null,0,null,0,null,0,null,0,null,0,null,0,null,0,null,0,null,0,null,0,null,0,null,0,null,0,null,0,null,0,null,0,null,0,null,0,null,0,null,0,null,0,null,0,null,0,null,0,null,0,null,0,null,0,null,0,null,0,null,0,null,0,null,0,null,0,null,0,null,0,null,0,null,0,null,0,null,0,null,0,null,0,null,0,null,0,null,0,null,0,null,0,null,0,null,0,null,0,null,0,null,0,null,0,null,0,null,0,null,0,null,0,null,0,null,0,null,0,null,0,null,0,null,0,null,0,null,0,null,0,null,0,null,0,null,0,null,null,null,null,null,null,null,null,null,null,null,0,null,null,null,0,null,null,"TS"]
[null,25,2,{"$f":"'PEFA rows'!C27","v":"P23"},{"$f":"'PEFA rows'!D27","v":"Wood, wood waste and other solid biomass, charcoal"},null,null,0,null,0,null,0,null,0,null,0,null,0,null,0,null,0,null,0,null,0,null,0,null,0,null,0,null,0,null,0,null,0,null,0,null,0,null,0,null,0,null,0,null,0,null,0,null,0,null,0,null,0,null,0,null,0,null,0,null,0,null,0,null,0,null,0,null,0,null,0,null,0,null,0,null,0,null,0,null,0,null,0,null,0,null,0,null,0,null,0,null,0,null,0,null,0,null,0,null,0,null,0,null,0,null,0,null,0,null,0,null,0,null,0,null,0,null,0,null,0,null,0,null,0,null,0,null,0,null,0,null,0,null,0,null,0,null,0,null,0,null,0,null,0,null,0,null,0,null,0,null,0,null,0,null,0,null,0,null,null,null,null,null,null,null,null,null,null,null,0,null,null,null,0,null,null,"TS"]
[null,26,2,{"$f":"'PEFA rows'!C28","v":"P24"},{"$f":"'PEFA rows'!D28","v":"Liquid biofuels"},null,null,0,null,0,null,0,null,0,null,0,null,0,null,0,null,0,null,0,null,0,null,0,null,0,null,0,null,0,null,0,null,0,null,0,null,0,null,0,null,0,null,0,null,0,null,0,null,0,null,0,null,0,null,0,null,0,null,0,null,0,null,0,null,0,null,0,null,0,null,0,null,0,null,0,null,0,null,0,null,0,null,0,null,0,null,0,null,0,null,0,null,0,null,0,null,0,null,0,null,0,null,0,null,0,null,0,null,0,null,0,null,0,null,0,null,0,null,0,null,0,null,0,null,0,null,0,null,0,null,0,null,0,null,0,null,0,null,0,null,0,null,0,null,0,null,0,null,0,null,0,null,0,null,0,null,0,null,0,null,null,null,null,null,null,null,null,null,null,null,0,null,null,null,0,null,null,"TS"]
[null,27,2,{"$f":"'PEFA rows'!C29","v":"P25"},{"$f":"'PEFA rows'!D29","v":"Biogas"},null,null,0,null,0,null,0,null,0,null,0,null,0,null,0,null,0,null,0,null,0,null,0,null,0,null,0,null,0,null,0,null,0,null,0,null,0,null,0,null,0,null,0,null,0,null,0,null,0,null,0,null,0,null,0,null,0,null,0,null,0,null,0,null,0,null,0,null,0,null,0,null,0,null,0,null,0,null,0,null,0,null,0,null,0,null,0,null,0,null,0,null,0,null,0,null,0,null,0,null,0,null,0,null,0,null,0,null,0,null,0,null,0,null,0,null,0,null,0,null,0,null,0,null,0,null,0,null,0,null,0,null,0,null,0,null,0,null,0,null,0,null,0,null,0,null,0,null,0,null,0,null,0,null,0,null,0,null,0,null,null,null,null,null,null,null,null,null,null,null,0,null,null,null,0,null,null,"TS"]
[null,28,2,{"$f":"'PEFA rows'!C30","v":"P26"},{"$f":"'PEFA rows'!D30","v":"Electrical energy"},null,null,0,null,0,null,0,null,0,null,0,null,0,null,0,null,0,null,0,null,0,null,0,null,0,null,0,null,0,null,0,null,0,null,0,null,0,null,0,null,0,null,0,null,0,null,0,null,0,null,0,null,0,null,0,null,0,null,0,null,0,null,0,null,0,null,0,null,0,null,0,null,0,null,0,null,0,null,0,null,0,null,0,null,0,null,0,null,0,null,0,null,0,null,0,null,0,null,0,null,0,null,0,null,0,null,0,null,0,null,0,null,0,null,0,null,0,null,0,null,0,null,0,null,0,null,0,null,0,null,0,null,0,null,0,null,0,null,0,null,0,null,0,null,0,null,0,null,0,null,0,null,0,null,0,null,0,null,0,null,null,null,null,null,null,null,null,null,null,null,0,null,null,null,0,null,null,"TS"]
[null,29,2,{"$f":"'PEFA rows'!C31","v":"P27"},{"$f":"'PEFA rows'!D31","v":"Heat"},null,null,0,null,0,null,0,null,0,null,0,null,0,null,0,null,0,null,0,null,0,null,0,null,0,null,0,null,0,null,0,null,0,null,0,null,0,null,0,null,0,null,0,null,0,null,0,null,0,null,0,null,0,null,0,null,0,null,0,null,0,null,0,null,0,null,0,null,0,null,0,null,0,null,0,null,0,null,0,null,0,null,0,null,0,null,0,null,0,null,0,null,0,null,0,null,0,null,0,null,0,null,0,null,0,null,0,null,0,null,0,null,0,null,0,null,0,null,0,null,0,null,0,null,0,null,0,null,0,null,0,null,0,null,0,null,0,null,0,null,0,null,0,null,0,null,0,null,0,null,0,null,0,null,0,null,0,null,0,null,null,null,null,null,null,null,null,null,null,null,0,null,null,null,0,null,null,"TS"]
[null,30,{"$f":"'PEFA rows'!B32","v":1},{"$f":"'PEFA rows'!C32","v":"R00"},{"$f":"'PEFA rows'!D32","v":"ENERGY AND OTHER RESIDUALS"},null,null,{"$f":"SUM(H39:H42)","v":0},null,{"$f":"SUM(J39:J42)","v":0},null,{"$f":"SUM(L39:L42)","v":0},null,{"$f":"SUM(N39:N42)","v":0},null,{"$f":"SUM(P39:P42)","v":0},null,{"$f":"SUM(R39:R42)","v":0},null,{"$f":"SUM(T39:T42)","v":0},null,{"$f":"SUM(V39:V42)","v":0},null,{"$f":"SUM(X39:X42)","v":0},null,{"$f":"SUM(Z39:Z42)","v":0},null,{"$f":"SUM(AB39:AB42)","v":0},null,{"$f":"SUM(AD39:AD42)","v":0},null,{"$f":"SUM(AF39:AF42)","v":0},null,{"$f":"SUM(AH39:AH42)","v":0},null,{"$f":"SUM(AJ39:AJ42)","v":0},null,{"$f":"SUM(AL39:AL42)","v":0},null,{"$f":"SUM(AN39:AN42)","v":0},null,{"$f":"SUM(AP39:AP42)","v":0},null,{"$f":"SUM(AR39:AR42)","v":0},null,{"$f":"SUM(AT39:AT42)","v":0},null,{"$f":"SUM(AV39:AV42)","v":0},null,{"$f":"SUM(AX39:AX42)","v":0},null,{"$f":"SUM(AZ39:AZ42)","v":0},null,{"$f":"SUM(BB39:BB42)","v":0},null,{"$f":"SUM(BD39:BD42)","v":0},null,{"$f":"SUM(BF39:BF42)","v":0},null,{"$f":"SUM(BH39:BH42)","v":0},null,{"$f":"SUM(BJ39:BJ42)","v":0},null,{"$f":"SUM(BL39:BL42)","v":0},null,{"$f":"SUM(BN39:BN42)","v":0},null,{"$f":"SUM(BP39:BP42)","v":0},null,{"$f":"SUM(BR39:BR42)","v":0},null,{"$f":"SUM(BT39:BT42)","v":0},null,{"$f":"SUM(BV39:BV42)","v":0},null,{"$f":"SUM(BX39:BX42)","v":0},null,{"$f":"SUM(BZ39:BZ42)","v":0},null,{"$f":"SUM(CB39:CB42)","v":0},null,{"$f":"SUM(CD39:CD42)","v":0},null,{"$f":"SUM(CF39:CF42)","v":0},null,{"$f":"SUM(CH39:CH42)","v":0},null,{"$f":"SUM(CJ39:CJ42)","v":0},null,{"$f":"SUM(CL39:CL42)","v":0},null,{"$f":"SUM(CN39:CN42)","v":0},null,{"$f":"SUM(CP39:CP42)","v":0},null,{"$f":"SUM(CR39:CR42)","v":0},null,{"$f":"SUM(CT39:CT42)","v":0},null,{"$f":"SUM(CV39:CV42)","v":0},null,{"$f":"SUM(CX39:CX42)","v":0},null,{"$f":"SUM(CZ39:CZ42)","v":0},null,{"$f":"SUM(DB39:DB42)","v":0},null,{"$f":"SUM(DD39:DD42)","v":0},null,{"$f":"SUM(DF39:DF42)","v":0},null,{"$f":"SUM(DH39:DH42)","v":0},null,{"$f":"SUM(DJ39:DJ42)","v":0},null,{"$f":"SUM(DL39:DL42)","v":0},null,{"$f":"SUM(DN39:DN42)","v":0},null,{"$f":"SUM(DP39:DP42)","v":0},null,{"$f":"SUM(DR39:DR42)","v":0},null,{"$f":"SUM(DT39:DT42)","v":0},null,{"$f":"SUM(DV39:DV42)","v":0},null,{"$f":"SUM(DX39:DX42)","v":0},null,{"$f":"SUM(DZ39:DZ42)","v":0},null,{"$f":"SUM(EB39:EB42)","v":0},null,{"$f":"SUM(ED39:ED42)","v":0},null,{"$f":"SUM(EF39:EF42)","v":0},null,{"$f":"SUM(EH39:EH42)","v":0},null,{"$f":"SUM(EJ39:EJ42)","v":0},null,{"$f":"SUM(EL39:EL42)","v":0},null,{"$f":"SUM(EN39:EN42)","v":0},null,{"$f":"SUM(EP39:EP42)","v":0},null,{"$f":"SUM(ER39:ER42)","v":0},null,{"$f":"SUM(ET39:ET42)","v":0},null,{"$f":"SUM(EV39:EV42)","v":0},null,{"$f":"SUM(EX39:EX42)","v":0},null,{"$f":"SUM(EZ39:EZ42)","v":0},null,{"$f":"SUM(FB39:FB42)","v":0},null,{"$f":"SUM(FD39:FD42)","v":0},null,{"$f":"SUM(FF39:FF42)","v":0},null,{"$f":"SUM(FH39:FH42)","v":0},null,{"$f":"SUM(FJ39:FJ42)","v":0},null,{"$f":"SUM(FL39:FL42)","v":0},null,{"$f":"SUM(FN39:FN42)","v":0},null,{"$f":"SUM(FP39:FP42)","v":0},null,{"$f":"SUM(FR39:FR42)","v":0},null,{"$f":"SUM(FT39:FT42)","v":0},null,null,null,{"$f":"SUM(FX39:FX42)","v":0},null,null,"TS"]
[null,31,2,{"$f":"'PEFA rows'!C33","v":"R28"},{"$f":"'PEFA rows'!D33","v":"Renewable waste"},null,null,null,null,null,null,null,null,null,null,null,null,null,null,null,null,null,null,null,null,null,null,null,null,null,null,null,null,null,null,null,null,null,null,null,null,null,null,null,null,null,null,null,null,null,null,null,null,null,null,null,null,null,null,null,null,null,null,null,null,null,null,null,null,null,null,null,null,null,null,null,null,null,null,null,null,null,null,null,null,null,null,null,null,null,null,null,null,null,null,null,null,null,null,null,null,null,null,null,null,null,null,null,null,null,null,null,null,null,null,null,null,null,null,null,null,null,null,null,null,null,null,null,null,null,null,null,null,null,null,null,null,null,null,null,null,null,null,null,null,null,null,null,null,null,null,null,null,null,null,null,null,null,null,null,null,null,null,null,null,null,null,null,null,null,null,null,null,0,null,0,null,null,null,{"$f":"SUM(H39,FJ39,FR39,FT39,FV39)","v":0},null,null,"TS"]
[null,32,2,{"$f":"'PEFA rows'!C34","v":"R29"},{"$f":"'PEFA rows'!D34","v":"Non-renewable waste"},null,null,null,null,null,null,null,null,null,null,null,null,null,null,null,null,null,null,null,null,null,null,null,null,null,null,null,null,null,null,null,null,null,null,null,null,null,null,null,null,null,null,null,null,null,null,null,null,null,null,null,null,null,null,null,null,null,null,null,null,null,null,null,null,null,null,null,null,null,null,null,null,null,null,null,null,null,null,null,null,null,null,null,null,null,null,null,null,null,null,null,null,null,null,null,null,null,null,null,null,null,null,null,null,null,null,null,null,null,null,null,null,null,null,null,null,null,null,null,null,null,null,null,null,null,null,null,null,null,null,null,null,null,null,null,null,null,null,null,null,null,null,null,null,null,null,null,null,null,null,null,null,null,null,null,null,null,null,null,null,null,null,null,null,null,null,null,null,0,null,0,null,null,null,{"$f":"SUM(H40,FJ40,FR40,FT40,FV40)","v":0},null,null,"TS"]
[null,33,2,{"$f":"'PEFA rows'!C35","v":"R30"},{"$f":"'PEFA rows'!D35","v":"Energy losses all kinds of (during extraction, distribution, storage and transformation, and dissipative heat from end use)"},null,null,{"$f":"SUM(J41,R41,T41,BH41,BJ41,BP41,BR41,BZ41,CL41,CN41,CX41,DF41,DJ41,DV41,EF41,EH41,EJ41,EP41,EV41,FD41,FF41,FH41)","v":0},null,{"$f":"SUM(L41,N41,P41)","v":0},null,0,null,0,null,0,null,0,null,{"$f":"SUM(V41,X41,Z41,AB41,AD41,AF41,AH41,AJ41,AL41,AN41,AP41,AR41,AT41,AV41,AX41,AZ41,BB41,BD41,BF41)","v":0},null,0,null,0,null,0,null,0,null,0,null,0,null,0,null,0,null,0,null,0,null,0,null,0,null,0,null,0,null,0,null,0,null,0,null,0,null,0,null,0,null,{"$f":"SUM(BL41,BN41)","v":0},null,0,null,0,null,0,null,{"$f":"SUM(BT41,BV41,BX41)","v":0},null,0,null,0,null,0,null,{"$f":"SUM(CB41,CD41,CF41,CH41,CJ41)","v":0},null,0,null,0,null,0,null,0,null,0,null,0,null,{"$f":"SUM(CP41,CR41,CT41,CV41)","v":0},null,0,null,0,null,0,null,0,null,{"$f":"SUM(CZ41,DB41,DD41)","v":0},null,0,null,0,null,0,null,0,null,0,null,{"$f":"SUM(DL41,DN41,DP41,DR41,DT41)","v":0},null,0,null,0,null,0,null,0,null,0,null,{"$f":"SUM(DX41,DZ41,EB41,ED41)","v":0},null,0,null,0,null,0,null,0,null,0,null,0,null,{"$f":"SUM(EL41,EN41)","v":0},null,0,null,0,null,{"$f":"SUM(ER41,ET41)","v":0},null,0,null,0,null,{"$f":"SUM(EX41,EZ41,FB41)","v":0},null,0,null,0,null,0,null,0,null,0,null,0,null,{"$f":"SUM(FL41,FN41,FP41)","v":0},null,0,null,0,null,0,null,0,null,null,null,null,null,{"$f":"SUM(H41,FJ41,FR41,FT41,FV41)","v":0},null,null,"TS"]
[null,34,2,{"$f":"'PEFA rows'!C36","v":"R31"},{"$f":"'PEFA rows'!D36","v":"Energy incorporated in products for non-energy use"},null,null,{"$f":"SUM(J42,R42,T42,BH42,BJ42,BP42,BR42,BZ42,CL42,CN42,CX42,DF42,DJ42,DV42,EF42,EH42,EJ42,EP42,EV42,FD42,FF42,FH42)","v":0},null,{"$f":"SUM(L42,N42,P42)","v":0},null,0,null,0,null,0,null,0,null,{"$f":"SUM(V42,X42,Z42,AB42,AD42,AF42,AH42,AJ42,AL42,AN42,AP42,AR42,AT42,AV42,AX42,AZ42,BB42,BD42,BF42)","v":0},null,0,null,0,null,0,null,0,null,0,null,0,null,0,null,0,null,0,null,0,null,0,null,0,null,0,null,0,null,0,null,0,null,0,null,0,null,0,null,0,null,{"$f":"SUM(BL42,BN42)","v":0},null,0,null,0,null,0,null,{"$f":"SUM(BT42,BV42,BX42)","v":0},null,0,null,0,null,0,null,{"$f":"SUM(CB42,CD42,CF42,CH42,CJ42)","v":0},null,0,null,0,null,0,null,0,null,0,null,0,null,{"$f":"SUM(CP42,CR42,CT42,CV42)","v":0},null,0,null,0,null,0,null,0,null,{"$f":"SUM(CZ42,DB42,DD42)","v":0},null,0,null,0,null,0,null,0,null,0,null,{"$f":"SUM(DL42,DN42,DP42,DR42,DT42)","v":0},null,0,null,0,null,0,null,0,null,0,null,{"$f":"SUM(DX42,DZ42,EB42,ED42)","v":0},null,0,null,0,null,0,null,0,null,0,null,0,null,{"$f":"SUM(EL42,EN42)","v":0},null,0,null,0,null,{"$f":"SUM(ER42,ET42)","v":0},null,0,null,0,null,{"$f":"SUM(EX42,EZ42,FB42)","v":0},null,0,null,0,null,0,null,0,null,0,null,0,null,{"$f":"SUM(FL42,FN42,FP42)","v":0},null,0,null,0,null,0,null,0,null,null,null,null,null,{"$f":"SUM(H42,FJ42,FR42,FT42,FV42)","v":0},null,null,"TS"]
[null,36,{"$f":"'PEFA rows'!B37","v":0},{"$f":"'PEFA rows'!C37","v":"N00_P00_R00"},{"$f":"'PEFA rows'!D37","v":"TOTAL SUPPLY / TOTAL USE"},null,null,{"$f":"SUM(H9,H17,H38)","v":0},null,{"$f":"SUM(J9,J17,J38)","v":0},null,{"$f":"SUM(L9,L17,L38)","v":0},null,{"$f":"SUM(N9,N17,N38)","v":0},null,{"$f":"SUM(P9,P17,P38)","v":0},null,{"$f":"SUM(R9,R17,R38)","v":0},null,{"$f":"SUM(T9,T17,T38)","v":0},null,{"$f":"SUM(V9,V17,V38)","v":0},null,{"$f":"SUM(X9,X17,X38)","v":0},null,{"$f":"SUM(Z9,Z17,Z38)","v":0},null,{"$f":"SUM(AB9,AB17,AB38)","v":0},null,{"$f":"SUM(AD9,AD17,AD38)","v":0},null,{"$f":"SUM(AF9,AF17,AF38)","v":0},null,{"$f":"SUM(AH9,AH17,AH38)","v":0},null,{"$f":"SUM(AJ9,AJ17,AJ38)","v":0},null,{"$f":"SUM(AL9,AL17,AL38)","v":0},null,{"$f":"SUM(AN9,AN17,AN38)","v":0},null,{"$f":"SUM(AP9,AP17,AP38)","v":0},null,{"$f":"SUM(AR9,AR17,AR38)","v":0},null,{"$f":"SUM(AT9,AT17,AT38)","v":0},null,{"$f":"SUM(AV9,AV17,AV38)","v":0},null,{"$f":"SUM(AX9,AX17,AX38)","v":0},null,{"$f":"SUM(AZ9,AZ17,AZ38)","v":0},null,{"$f":"SUM(BB9,BB17,BB38)","v":0},null,{"$f":"SUM(BD9,BD17,BD38)","v":0},null,{"$f":"SUM(BF9,BF17,BF38)","v":0},null,{"$f":"SUM(BH9,BH17,BH38)","v":0},null,{"$f":"SUM(BJ9,BJ17,BJ38)","v":0},null,{"$f":"SUM(BL9,BL17,BL38)","v":0},null,{"$f":"SUM(BN9,BN17,BN38)","v":0},null,{"$f":"SUM(BP9,BP17,BP38)","v":0},null,{"$f":"SUM(BR9,BR17,BR38)","v":0},null,{"$f":"SUM(BT9,BT17,BT38)","v":0},null,{"$f":"SUM(BV9,BV17,BV38)","v":0},null,{"$f":"SUM(BX9,BX17,BX38)","v":0},null,{"$f":"SUM(BZ9,BZ17,BZ38)","v":0},null,{"$f":"SUM(CB9,CB17,CB38)","v":0},null,{"$f":"SUM(CD9,CD17,CD38)","v":0},null,{"$f":"SUM(CF9,CF17,CF38)","v":0},null,{"$f":"SUM(CH9,CH17,CH38)","v":0},null,{"$f":"SUM(CJ9,CJ17,CJ38)","v":0},null,{"$f":"SUM(CL9,CL17,CL38)","v":0},null,{"$f":"SUM(CN9,CN17,CN38)","v":0},null,{"$f":"SUM(CP9,CP17,CP38)","v":0},null,{"$f":"SUM(CR9,CR17,CR38)","v":0},null,{"$f":"SUM(CT9,CT17,CT38)","v":0},null,{"$f":"SUM(CV9,CV17,CV38)","v":0},null,{"$f":"SUM(CX9,CX17,CX38)","v":0},null,{"$f":"SUM(CZ9,CZ17,CZ38)","v":0},null,{"$f":"SUM(DB9,DB17,DB38)","v":0},null,{"$f":"SUM(DD9,DD17,DD38)","v":0},null,{"$f":"SUM(DF9,DF17,DF38)","v":0},null,{"$f":"SUM(DH9,DH17,DH38)","v":0},null,{"$f":"SUM(DJ9,DJ17,DJ38)","v":0},null,{"$f":"SUM(DL9,DL17,DL38)","v":0},null,{"$f":"SUM(DN9,DN17,DN38)","v":0},null,{"$f":"SUM(DP9,DP17,DP38)","v":0},null,{"$f":"SUM(DR9,DR17,DR38)","v":0},null,{"$f":"SUM(DT9,DT17,DT38)","v":0},null,{"$f":"SUM(DV9,DV17,DV38)","v":0},null,{"$f":"SUM(DX9,DX17,DX38)","v":0},null,{"$f":"SUM(DZ9,DZ17,DZ38)","v":0},null,{"$f":"SUM(EB9,EB17,EB38)","v":0},null,{"$f":"SUM(ED9,ED17,ED38)","v":0},null,{"$f":"SUM(EF9,EF17,EF38)","v":0},null,{"$f":"SUM(EH9,EH17,EH38)","v":0},null,{"$f":"SUM(EJ9,EJ17,EJ38)","v":0},null,{"$f":"SUM(EL9,EL17,EL38)","v":0},null,{"$f":"SUM(EN9,EN17,EN38)","v":0},null,{"$f":"SUM(EP9,EP17,EP38)","v":0},null,{"$f":"SUM(ER9,ER17,ER38)","v":0},null,{"$f":"SUM(ET9,ET17,ET38)","v":0},null,{"$f":"SUM(EV9,EV17,EV38)","v":0},null,{"$f":"SUM(EX9,EX17,EX38)","v":0},null,{"$f":"SUM(EZ9,EZ17,EZ38)","v":0},null,{"$f":"SUM(FB9,FB17,FB38)","v":0},null,{"$f":"SUM(FD9,FD17,FD38)","v":0},null,{"$f":"SUM(FF9,FF17,FF38)","v":0},null,{"$f":"SUM(FH9,FH17,FH38)","v":0},null,{"$f":"SUM(FJ9,FJ17,FJ38)","v":0},null,{"$f":"SUM(FL9,FL17,FL38)","v":0},null,{"$f":"SUM(FN9,FN17,FN38)","v":0},null,{"$f":"SUM(FP9,FP17,FP38)","v":0},null,{"$f":"SUM(FR9,FR17,FR38)","v":0},null,{"$f":"SUM(FT9,FT17,FT38)","v":0},null,{"$f":"SUM(FV9,FV17,FV38)","v":0},null,{"$f":"SUM(FX9,FX17,FX38)","v":0},null,null,"P12"]
[null,null,null,null,null,null,null,"",null,"",null,"",null,"",null,"",null,"",null,"",null,"",null,"",null,"",null,"",null,"",null,"",null,"",null,"",null,"",null,"",null,"",null,"",null,"",null,"",null,"",null,"",null,"",null,"",null,"",null,"",null,"",null,"",null,"",null,"",null,"",null,"",null,"",null,"",null,"",null,"",null,"",null,"",null,"",null,"",null,"",null,"",null,"",null,"",null,"",null,"",null,"",null,"",null,"",null,"",null,"",null,"",null,"",null,"",null,"",null,"",null,"",null,"",null,"",null,"",null,"",null,"",null,"",null,"",null,"",null,"",null,"",null,"",null,"",null,"",null,"",null,"",null,"",null,"",null,"",null,"",null,"",null,null,null,"",null,"",null,"",null,"",null,null,null,null,null,null,null,""]
[]
[]
[]
[null,null,null,null,"ACCOUNTING_ENTRY",null,null,"C",null,"C",null,"C",null,"C",null,"C",null,"C",null,"C",null,"C",null,"C",null,"C",null,"C",null,"C",null,"C",null,"C",null,"C",null,"C",null,"C",null,"C",null,"C",null,"C",null,"C",null,"C",null,"C",null,"C",null,"C",null,"C",null,"C",null,"C",null,"C",null,"C",null,"C",null,"C",null,"C",null,"C",null,"C",null,"C",null,"C",null,"C",null,"C",null,"C",null,"C",null,"C",null,"C",null,"C",null,"C",null,"C",null,"C",null,"C",null,"C",null,"C",null,"C",null,"C",null,"C",null,"C",null,"C",null,"C",null,"C",null,"C",null,"C",null,"C",null,"C",null,"C",null,"C",null,"C",null,"C",null,"C",null,"C",null,"C",null,"C",null,"C",null,"C",null,"C",null,"C",null,"C",null,"C",null,"C",null,"C",null,"C",null,"C",null,"C",null,"C",null,"C",null,"C",null,"C",null,"C",null,"EN",null,"C_EN"]
[null,null,null,null,"COUNTERPART_AREA",null,null,"W2",null,"W2",null,"W2",null,"W2",null,"W2",null,"W2",null,"W2",null,"W2",null,"W2",null,"W2",null,"W2",null,"W2",null,"W2",null,"W2",null,"W2",null,"W2",null,"W2",null,"W2",null,"W2",null,"W2",null,"W2",null,"W2",null,"W2",null,"W2",null,"W2",null,"W2",null,"W2",null,"W2",null,"W2",null,"W2",null,"W2",null,"W2",null,"W2",null,"W2",null,"W2",null,"W2",null,"W2",null,"W2",null,"W2",null,"W2",null,"W2",null,"W2",null,"W2",null,"W2",null,"W2",null,"W2",null,"W2",null,"W2",null,"W2",null,"W2",null,"W2",null,"W2",null,"W2",null,"W2",null,"W2",null,"W2",null,"W2",null,"W2",null,"W2",null,"W2",null,"W2",null,"W2",null,"W2",null,"W2",null,"W2",null,"W2",null,"W2",null,"W2",null,"W2",null,"W2",null,"W2",null,"W2",null,"W2",null,"W2",null,"W2",null,"W2",null,"W2",null,"W2",null,"W2",null,"W2",null,"W2",null,"W2",null,"W2",null,"W2",null,"W1",null,"W0",null,"W0"]
[null,null,null,null,"STO",null,null,"TS",null,"TS",null,"TS",null,"TS",null,"TS",null,"TS",null,"TS",null,"TS",null,"TS",null,"TS",null,"TS",null,"TS",null,"TS",null,"TS",null,"TS",null,"TS",null,"TS",null,"TS",null,"TS",null,"TS",null,"TS",null,"TS",null,"TS",null,"TS",null,"TS",null,"TS",null,"TS",null,"TS",null,"TS",null,"TS",null,"TS",null,"TS",null,"TS",null,"TS",null,"TS",null,"TS",null,"TS",null,"TS",null,"TS",null,"TS",null,"TS",null,"TS",null,"TS",null,"TS",null,"TS",null,"TS",null,"TS",null,"TS",null,"TS",null,"TS",null,"TS",null,"TS",null,"TS",null,"TS",null,"TS",null,"TS",null,"TS",null,"TS",null,"TS",null,"TS",null,"TS",null,"TS",null,"TS",null,"TS",null,"TS",null,"TS",null,"TS",null,"TS",null,"TS",null,"TS",null,"TS",null,"TS",null,"TS",null,"TS",null,"TS",null,"TS",null,"TS",null,"TS",null,"TS",null,"TS",null,"TS",null,"TS",null,"TS",null,"P52",null,"P7",null,"TS"]

{"sheet":"Table_B","index":9,"n_rows":50,"n_cols":193,"rows_kept":50,"cut":false,"hidden":false,"merged":[[3,187,3,192],[1,15,1,16],[1,17,1,18],[1,19,1,20],[1,21,1,22],[1,23,1,24],[1,25,1,26],[1,1,1,3],[1,5,1,6],[1,7,1,8],[1,9,1,10],[1,11,1,12],[1,13,1,14],[1,39,1,40],[1,41,1,42],[1,43,1,44],[1,45,1,46],[1,47,1,48],[1,49,1,50],[1,27,1,28],[1,29,1,30],[1,31,1,32],[1,33,1,34],[1,35,1,36],[1,37,1,38],[1,63,1,64],[1,65,1,66],[1,67,1,68],[1,69,1,70],[1,71,1,72],[1,73,1,74],[1,51,1,52],[1,53,1,54],[1,55,1,56],[1,57,1,58],[1,59,1,60],[1,61,1,62],[1,87,1,88],[1,89,1,90],[1,91,1,92],[1,93,1,94],[1,95,1,96],[1,97,1,98],[1,75,1,76],[1,77,1,78],[1,79,1,80],[1,81,1,82],[1,83,1,84],[1,85,1,86],[1,111,1,112],[1,113,1,114],[1,115,1,116],[1,117,1,118],[1,119,1,120],[1,121,1,122],[1,99,1,100],[1,101,1,102],[1,103,1,104],[1,105,1,106],[1,107,1,108],[1,109,1,110],[1,141,1,142],[1,143,1,144],[1,145,1,146],[1,123,1,124],[1,125,1,126],[1,127,1,128],[1,129,1,130],[1,131,1,132],[1,133,1,134],[1,173,1,174],[1,175,1,176],[1,177,1,178],[1,179,1,180],[2,1,2,3],[2,5,2,6],[2,7,2,8],[2,9,2,10],[2,11,2,12],[1,159,1,160],[1,161,1,162],[1,165,1,166],[1,167,1,168],[1,169,1,170],[1,171,1,172],[1,147,1,148],[1,149,1,150],[1,151,1,152],[1,153,1,154],[1,155,1,156],[1,157,1,158],[1,135,1,136],[1,137,1,138],[1,139,1,140],[2,25,2,26],[2,27,2,28],[2,29,2,30],[2,31,2,32],[2,33,2,34],[2,35,2,36],[2,13,2,14],[2,15,2,16],[2,17,2,18],[2,19,2,20],[2,21,2,22],[2,23,2,24],[2,49,2,50],[2,51,2,52],[2,53,2,54],[2,55,2,56],[2,57,2,58],[2,59,2,60],[2,37,2,38],[2,39,2,40],[2,41,2,42],[2,43,2,44],[2,45,2,46],[2,47,2,48],[2,73,2,74],[2,75,2,76],[2,77,2,78],[2,79,2,80],[2,81,2,82],[2,83,2,84],[2,61,2,62],[2,63,2,64],[2,65,2,66],[2,67,2,68],[2,69,2,70],[2,71,2,72],[2,97,2,98],[2,99,2,100],[2,101,2,102],[2,103,2,104],[2,105,2,106],[2,107,2,108],[2,85,2,86],[2,87,2,88],[2,89,2,90],[2,91,2,92],[2,93,2,94],[2,95,2,96],[2,121,2,122],[2,123,2,124],[2,125,2,126],[2,127,2,128],[2,129,2,130],[2,131,2,132],[2,109,2,110],[2,111,2,112],[2,113,2,114],[2,115,2,116],[2,117,2,118],[2,119,2,120],[2,145,2,146],[2,147,2,148],[2,149,2,150],[2,151,2,152],[2,153,2,154],[2,155,2,156],[2,133,2,134],[2,135,2,136],[2,137,2,138],[2,139,2,140],[2,141,2,142],[2,143,2,144],[2,171,2,172],[2,173,2,174],[2,175,2,176],[2,177,2,178],[2,179,2,180],[2,157,2,158],[2,159,2,160],[2,161,2,162],[2,165,2,166],[2,167,2,168],[2,169,2,170],[3,1,3,3],[3,5,3,6],[3,175,3,176],[3,177,3,178],[4,1,4,3],[4,5,4,6],[4,7,4,8],[4,9,4,10],[4,11,4,12],[4,25,4,26],[4,27,4,28],[4,29,4,30],[4,31,4,32],[4,33,4,34],[4,35,4,36],[4,13,4,14],[4,15,4,16],[4,17,4,18],[4,19,4,20],[4,21,4,22],[4,23,4,24],[4,49,4,50],[4,51,4,52],[4,53,4,54],[4,55,4,56],[4,57,4,58],[4,59,4,60],[4,37,4,38],[4,39,4,40],[4,41,4,42],[4,43,4,44],[4,45,4,46],[4,47,4,48],[4,73,4,74],[4,75,4,76],[4,77,4,78],[4,79,4,80],[4,81,4,82],[4,83,4,84],[4,61,4,62],[4,63,4,64],[4,65,4,66],[4,67,4,68],[4,69,4,70],[4,71,4,72],[4,97,4,98],[4,99,4,100],[4,101,4,102],[4,103,4,104],[4,105,4,106],[4,107,4,108],[4,85,4,86],[4,87,4,88],[4,89,4,90],[4,91,4,92],[4,93,4,94],[4,95,4,96],[4,121,4,122],[4,123,4,124],[4,125,4,126],[4,127,4,128],[4,129,4,130],[4,131,4,132],[4,109,4,110],[4,111,4,112],[4,113,4,114],[4,115,4,116],[4,117,4,118],[4,119,4,120],[4,145,4,146],[4,147,4,148],[4,149,4,150],[4,151,4,152],[4,153,4,154],[4,155,4,156],[4,133,4,134],[4,135,4,136],[4,137,4,138],[4,139,4,140],[4,141,4,142],[4,143,4,144],[4,171,4,172],[4,173,4,174],[4,175,4,176],[4,177,4,178],[4,179,4,180],[4,157,4,158],[4,159,4,160],[4,161,4,162],[4,165,4,166],[4,167,4,168],[4,169,4,170],[5,15,6,16],[5,17,6,18],[5,19,6,20],[5,21,6,22],[5,23,6,24],[5,25,6,26],[5,1,5,3],[5,5,6,6],[5,7,6,8],[5,9,6,10],[5,11,6,12],[5,13,6,14],[5,39,6,40],[5,41,6,42],[5,43,6,44],[5,45,6,46],[5,47,6,48],[5,49,6,50],[5,27,6,28],[5,29,6,30],[5,31,6,32],[5,33,6,34],[5,35,6,36],[5,37,6,38],[5,63,6,64],[5,65,6,66],[5,67,6,68],[5,69,6,70],[5,71,6,72],[5,73,6,74],[5,51,6,52],[5,53,6,54],[5,55,6,56],[5,57,6,58],[5,59,6,60],[5,61,6,62],[5,89,6,90],[5,91,6,92],[5,93,6,94],[5,95,6,96],[5,97,6,98],[5,75,6,76],[5,77,6,78],[5,79,6,80],[5,81,6,82],[5,83,6,84],[5,85,6,86],[5,101,6,102],[5,103,6,104],[5,105,6,106],[5,107,6,108],[5,109,6,110],[5,177,6,178],[5,179,6,180],[6,1,6,4],[5,159,6,160],[5,161,6,162],[5,165,6,166],[5,167,6,168],[5,169,6,170],[5,171,6,172],[5,147,6,148],[5,149,6,150],[5,151,6,152],[5,153,6,154],[5,155,6,156],[5,157,6,158],[5,135,6,136],[5,137,6,138],[5,139,6,140],[5,87,6,88],[7,4,7,6],[8,4,8,5],[9,4,9,5],[10,4,10,5],[11,4,11,5],[12,4,12,5],[5,173,6,174],[5,175,6,176],[5,129,6,130],[5,131,6,132],[5,133,6,134],[5,111,6,112],[5,113,6,114],[5,115,6,116],[5,117,6,118],[5,119,6,120],[5,121,6,122],[5,141,6,142],[5,143,6,144],[5,145,6,146],[5,123,6,124],[5,125,6,126],[5,127,6,128],[5,99,6,100],[21,4,21,5],[22,4,22,5],[23,4,23,5],[24,4,24,5],[13,4,13,5],[14,4,14,5],[15,4,15,5],[16,4,16,5],[17,4,17,5],[18,4,18,5],[1,163,1,164],[2,163,2,164],[4,163,4,164],[5,163,6,164],[42,4,42,5],[37,4,37,5],[38,4,38,5],[39,4,39,5],[40,4,40,5],[41,4,41,5],[31,4,31,5],[32,4,32,5],[33,4,33,5],[34,4,34,5],[35,4,35,5],[36,4,36,5],[25,4,25,5],[26,4,26,5],[27,4,27,5],[28,4,28,5],[29,4,29,5],[30,4,30,5],[19,4,19,5],[20,4,20,5]]}
[]
[null,"Country :",null,null,{"$f":"IF(Introduction!D13=0,\"\",Introduction!D13)","v":""},"no",null,1,null,2,null,3,null,4,null,5,null,6,null,7,null,8,null,9,null,10,null,11,null,12,null,13,null,14,null,15,null,16,null,17,null,18,null,19,null,20,null,21,null,22,null,23,null,24,null,25,null,26,null,27,null,28,null,29,null,30,null,31,null,32,null,33,null,34,null,35,null,36,null,37,null,38,null,39,null,40,null,41,null,42,null,43,null,44,null,45,null,46,null,47,null,48,null,49,null,50,null,51,null,52,null,53,null,54,null,55,null,56,null,57,null,58,null,59,null,60,null,61,null,62,null,63,null,64,null,65,null,66,null,67,null,68,null,69,null,70,null,71,null,72,null,73,null,74,null,75,null,76,null,77,null,78,null,79,null,80,null,81,null,82,null,83,null,84,null,85,null,86,null,87]
[null,"Year :",null,null,{"$f":"IF(Introduction!D17=0,\"\",Introduction!D17)","v":""},"Level",null,{"$f":"'PEFA Columns'!D6","v":1},null,{"$f":"'PEFA Columns'!F6","v":2},null,{"$f":"'PEFA Columns'!H6","v":3},null,{"$f":"'PEFA Columns'!J6","v":3},null,{"$f":"'PEFA Columns'!L6","v":3},null,{"$f":"'PEFA Columns'!N6","v":2},null,{"$f":"'PEFA Columns'!P6","v":2},null,{"$f":"'PEFA Columns'!R6","v":3},null,{"$f":"'PEFA Columns'!T6","v":3},null,{"$f":"'PEFA Columns'!V6","v":3},null,{"$f":"'PEFA Columns'!X6","v":3},null,{"$f":"'PEFA Columns'!Z6","v":3},null,{"$f":"'PEFA Columns'!AB6","v":3},null,{"$f":"'PEFA Columns'!AD6","v":3},null,{"$f":"'PEFA Columns'!AF6","v":3},null,{"$f":"'PEFA Columns'!AH6","v":3},null,{"$f":"'PEFA Columns'!AJ6","v":3},null,{"$f":"'PEFA Columns'!AL6","v":3},null,{"$f":"'PEFA Columns'!AN6","v":3},null,{"$f":"'PEFA Columns'!AP6","v":3},null,{"$f":"'PEFA Columns'!AR6","v":3},null,{"$f":"'PEFA Columns'!AT6","v":3},null,{"$f":"'PEFA Columns'!AV6","v":3},null,{"$f":"'PEFA Columns'!AX6","v":3},null,{"$f":"'PEFA Columns'!AZ6","v":3},null,{"$f":"'PEFA Columns'!BB6","v":3},null,{"$f":"'PEFA Columns'!BD6","v":2},null,{"$f":"'PEFA Columns'!BF6","v":2},null,{"$f":"'PEFA Columns'!BH6","v":3},null,{"$f":"'PEFA Columns'!BJ6","v":3},null,{"$f":"'PEFA Columns'!BL6","v":2},null,{"$f":"'PEFA Columns'!BN6","v":2},null,{"$f":"'PEFA Columns'!BP6","v":3},null,{"$f":"'PEFA Columns'!BR6","v":3},null,{"$f":"'PEFA Columns'!BT6","v":3},null,{"$f":"'PEFA Columns'!BV6","v":2},null,{"$f":"'PEFA Columns'!BX6","v":3},null,{"$f":"'PEFA Columns'!BZ6","v":3},null,{"$f":"'PEFA Columns'!CB6","v":3},null,{"$f":"'PEFA Columns'!CD6","v":3},null,{"$f":"'PEFA Columns'!CF6","v":3},null,{"$f":"'PEFA Columns'!CH6","v":2},null,{"$f":"'PEFA Columns'!CJ6","v":2},null,{"$f":"'PEFA Columns'!CL6","v":3},null,{"$f":"'PEFA Columns'!CN6","v":3},null,{"$f":"'PEFA Columns'!CP6","v":3},null,{"$f":"'PEFA Columns'!CR6","v":3},null,{"$f":"'PEFA Columns'!CT6","v":2},null,{"$f":"'PEFA Columns'!CV6","v":3},null,{"$f":"'PEFA Columns'!CX6","v":3},null,{"$f":"'PEFA Columns'!CZ6","v":3},null,{"$f":"'PEFA Columns'!DB6","v":2},null,{"$f":"'PEFA Columns'!DD6","v":3},null,{"$f":"'PEFA Columns'!DF6","v":2},null,{"$f":"'PEFA Columns'!DH6","v":3},null,{"$f":"'PEFA Columns'!DJ6","v":3},null,{"$f":"'PEFA Columns'!DL6","v":3},null,{"$f":"'PEFA Columns'!DN6","v":3},null,{"$f":"'PEFA Columns'!DP6","v":3},null,{"$f":"'PEFA Columns'!DR6","v":2},null,{"$f":"'PEFA Columns'!DT6","v":3},null,{"$f":"'PEFA Columns'!DV6","v":3},null,{"$f":"'PEFA Columns'!DX6","v":3},null,{"$f":"'PEFA Columns'!DZ6","v":3},null,{"$f":"'PEFA Columns'!EB6","v":2},null,{"$f":"'PEFA Columns'!ED6","v":2},null,{"$f":"'PEFA Columns'!EF6","v":2},null,{"$f":"'PEFA Columns'!EH6","v":3},null,{"$f":"'PEFA Columns'!EJ6","v":3},null,{"$f":"'PEFA Columns'!EL6","v":2},null,{"$f":"'PEFA Columns'!EN6","v":3},null,{"$f":"'PEFA Columns'!EP6","v":3},null,{"$f":"'PEFA Columns'!ER6","v":2},null,{"$f":"'PEFA Columns'!ET6","v":3},null,{"$f":"'PEFA Columns'!EV6","v":3},null,{"$f":"'PEFA Columns'!EX6","v":3},null,{"$f":"'PEFA Columns'!EZ6","v":2},null,{"$f":"'PEFA Columns'!FB6","v":2},null,{"$f":"'PEFA Columns'!FD6","v":2},null,{"$f":"'PEFA Columns'!FF6","v":1},null,{"$f":"'PEFA Columns'!FH6","v":2},null,{"$f":"'PEFA Columns'!FJ6","v":2},null,{"$f":"'PEFA Columns'!FL6","v":2},null,{"$f":"'PEFA Columns'!FN6","v":1},null,{"$f":"'PEFA Columns'!FP6","v":1},null,{"$f":"'PEFA Columns'!FR6","v":1},null,{"$f":"'PEFA Columns'!FT6","v":0}]
[null,"Table:",null,null,"Table B - Physical use table for energy flows",null,null," ",null,null,null,null,null,null,null,null,null,null,null,null,null,"INDUSTRIES (ISIC rev 4)",null,null,null,null,null,null,null,null,null,null,null,null,null,null,null,"INDUSTRIES (ISIC rev 4)",null,null,null,null,null,null,null,null,null,null,null,null,null,null,null,null,null,null,null,null,null,null,null,"INDUSTRIES (ISIC rev 4)",null,null,null,null,null,null,null,null,null,null,null,null,null,null,null,"INDUSTRIES (ISIC rev 4)",null,null,null,null,null,null,null,null,null,null,null,null,null,null,null,null,null,"INDUSTRIES (ISIC rev 4)",null,null,null,null,null,null,null,null,null,null,null,null,null,"INDUSTRIES (ISIC rev 4)",null,null,null,null,null,null,null,null,null,null,null,null,null,null,null,null,null,null,null,null,null,null,null,null,null,null,null,null,null,null,null,"INDUSTRIES (ISIC rev 4)",null,null,null,null,null,null,null,null,null,null,null,null,null,null,null,null,null,null,null,null,null,null,null,"HOUSEHOLDS",null,null,null,null,null,null,null,"ACCUMULATION",null,"REST OF THE WORLD",null,"ENVIRONMENT",null,null,null,null,null,null,null,null,null,"CONSTANTS"]
[null,"Content:",null,null,"Energy Flows","Code",null,{"$f":"'PEFA Columns'!D7","v":"ATU"},null,{"$f":"'PEFA Columns'!F7","v":"A"},null,{"$f":"'PEFA Columns'!H7","v":"A01"},null,{"$f":"'PEFA Columns'!J7","v":"A02"},null,{"$f":"'PEFA Columns'!L7","v":"A03"},null,{"$f":"'PEFA Columns'!N7","v":"B"},null,{"$f":"'PEFA Columns'!P7","v":"C"},null,{"$f":"'PEFA Columns'!R7","v":"C10T12"},null,{"$f":"'PEFA Columns'!T7","v":"C13T15"},null,{"$f":"'PEFA Columns'!V7","v":"C16"},null,{"$f":"'PEFA Columns'!X7","v":"C17"},null,{"$f":"'PEFA Columns'!Z7","v":"C18"},null,{"$f":"'PEFA Columns'!AB7","v":"C19"},null,{"$f":"'PEFA Columns'!AD7","v":"C20"},null,{"$f":"'PEFA Columns'!AF7","v":"C21"},null,{"$f":"'PEFA Columns'!AH7","v":"C22"},null,{"$f":"'PEFA Columns'!AJ7","v":"C23"},null,{"$f":"'PEFA Columns'!AL7","v":"C24"},null,{"$f":"'PEFA Columns'!AN7","v":"C25"},null,{"$f":"'PEFA Columns'!AP7","v":"C26"},null,{"$f":"'PEFA Columns'!AR7","v":"C27"},null,{"$f":"'PEFA Columns'!AT7","v":"C28"},null,{"$f":"'PEFA Columns'!AV7","v":"C29"},null,{"$f":"'PEFA Columns'!AX7","v":"C30"},null,{"$f":"'PEFA Columns'!AZ7","v":"C31_32"},null,{"$f":"'PEFA Columns'!BB7","v":"C33"},null,{"$f":"'PEFA Columns'!BD7","v":"D"},null,{"$f":"'PEFA Columns'!BF7","v":"E"},null,{"$f":"'PEFA Columns'!BH7","v":"E36"},null,{"$f":"'PEFA Columns'!BJ7","v":"E37T39"},null,{"$f":"'PEFA Columns'!BL7","v":"F"},null,{"$f":"'PEFA Columns'!BN7","v":"G"},null,{"$f":"'PEFA Columns'!BP7","v":"G45"},null,{"$f":"'PEFA Columns'!BR7","v":"G46"},null,{"$f":"'PEFA Columns'!BT7","v":"G47"},null,{"$f":"'PEFA Columns'!BV7","v":"H"},null,{"$f":"'PEFA Columns'!BX7","v":"H49"},null,{"$f":"'PEFA Columns'!BZ7","v":"H50"},null,{"$f":"'PEFA Columns'!CB7","v":"H51"},null,{"$f":"'PEFA Columns'!CD7","v":"H52"},null,{"$f":"'PEFA Columns'!CF7","v":"H53"},null,{"$f":"'PEFA Columns'!CH7","v":"I"},null,{"$f":"'PEFA Columns'!CJ7","v":"J"},null,{"$f":"'PEFA Columns'!CL7","v":"J58"},null,{"$f":"'PEFA Columns'!CN7","v":"J59_60"},null,{"$f":"'PEFA Columns'!CP7","v":"J61"},null,{"$f":"'PEFA Columns'!CR7","v":"J62_63"},null,{"$f":"'PEFA Columns'!CT7","v":"K"},null,{"$f":"'PEFA Columns'!CV7","v":"K64"},null,{"$f":"'PEFA Columns'!CX7","v":"K65"},null,{"$f":"'PEFA Columns'!CZ7","v":"K66"},null,{"$f":"'PEFA Columns'!DB7","v":"L"},null,{"$f":"'PEFA Columns'!DD7","v":"L68A"},null,{"$f":"'PEFA Columns'!DF7","v":"M"},null,{"$f":"'PEFA Columns'!DH7","v":"M69_70"},null,{"$f":"'PEFA Columns'!DJ7","v":"M71"},null,{"$f":"'PEFA Columns'!DL7","v":"M72"},null,{"$f":"'PEFA Columns'!DN7","v":"M73"},null,{"$f":"'PEFA Columns'!DP7","v":"M74_75"},null,{"$f":"'PEFA Columns'!DR7","v":"N"},null,{"$f":"'PEFA Columns'!DT7","v":"N77"},null,{"$f":"'PEFA Columns'!DV7","v":"N78"},null,{"$f":"'PEFA Columns'!DX7","v":"N79"},null,{"$f":"'PEFA Columns'!DZ7","v":"N80T82"},null,{"$f":"'PEFA Columns'!EB7","v":"O"},null,{"$f":"'PEFA Columns'!ED7","v":"P"},null,{"$f":"'PEFA Columns'!EF7","v":"Q"},null,{"$f":"'PEFA Columns'!EH7","v":"Q86"},null,{"$f":"'PEFA Columns'!EJ7","v":"Q87_88"},null,{"$f":"'PEFA Columns'!EL7","v":"R"},null,{"$f":"'PEFA Columns'!EN7","v":"R90T92"},null,{"$f":"'PEFA Columns'!EP7","v":"R93"},null,{"$f":"'PEFA Columns'!ER7","v":"S"},null,{"$f":"'PEFA Columns'!ET7","v":"S94"},null,{"$f":"'PEFA Columns'!EV7","v":"S95"},null,{"$f":"'PEFA Columns'!EX7","v":"S96"},null,{"$f":"'PEFA Columns'!EZ7","v":"T"},null,{"$f":"'PEFA Columns'!FB7","v":"U"},null,"_X",null,{"$f":"'PEFA Columns'!FF7","v":"HH"},null,{"$f":"'PEFA Columns'!FH7","v":"HH_HEAT"},null,{"$f":"'PEFA Columns'!FJ7","v":"HH_TR"},null,{"$f":"'PEFA Columns'!FL7","v":"HH_OTH"},null,{"$f":"'PEFA Columns'!FN7","v":"ATU_HH"},null,{"$f":"'PEFA Columns'!FP7","v":"ATU_HH"},null,{"$f":"'PEFA Columns'!FR7","v":"ATU_HH"},null,{"$f":"'PEFA Columns'!FT7","v":"ATU_HH"}]
[null,"Unit :",null,null,"TJ","Label",null,{"$f":"'PEFA Columns'!D8","v":"Total ISIC/NACE industries"},null,{"$f":"'PEFA Columns'!F8","v":"Agriculture, forestry and fishing"},null,{"$f":"'PEFA Columns'!H8","v":"Crop and animal production, hunting and related service activities"},null,{"$f":"'PEFA Columns'!J8","v":"Forestry and logging"},null,{"$f":"'PEFA Columns'!L8","v":"Fishing and aquaculture"},null,{"$f":"'PEFA Columns'!N8","v":"Mining and quarrying"},null,{"$f":"'PEFA Columns'!P8","v":"Manufacturing"},null,{"$f":"'PEFA Columns'!R8","v":"Manufacture of food products, beverages and tobacco\nproducts"},null,{"$f":"'PEFA Columns'!T8","v":"Manufacture of textiles, wearing apparel and leather products"},null,{"$f":"'PEFA Columns'!V8","v":"Manufacture of wood and of products of wood and cork, except furniture; manufacture of articles of straw and plaiting materials"},null,{"$f":"'PEFA Columns'!X8","v":"Manufacture of paper and paper products"},null,{"$f":"'PEFA Columns'!Z8","v":"Printing and reproduction of recorded media"},null,{"$f":"'PEFA Columns'!AB8","v":"Manufacture of coke and refined petroleum products"},null,{"$f":"'PEFA Columns'!AD8","v":"Manufacture of chemicals and chemical products"},null,{"$f":"'PEFA Columns'!AF8","v":"Manufacture of basic pharmaceutical products and pharmaceutical preparations"},null,{"$f":"'PEFA Columns'!AH8","v":"Manufacture of rubber and plastic products"},null,{"$f":"'PEFA Columns'!AJ8","v":"Manufacture of other non-metallic mineral products"},null,{"$f":"'PEFA Columns'!AL8","v":"Manufacture of basic metals"},null,{"$f":"'PEFA Columns'!AN8","v":"Manufacture of fabricated metal products, except machinery and equipment"},null,{"$f":"'PEFA Columns'!AP8","v":"Manufacture of computer, electronic and optical products"},null,{"$f":"'PEFA Columns'!AR8","v":"Manufacture of electrical equipment"},null,{"$f":"'PEFA Columns'!AT8","v":"Manufacture of machinery and equipment n.e.c."},null,{"$f":"'PEFA Columns'!AV8","v":"Manufacture of motor vehicles, trailers and semi-trailers"},null,{"$f":"'PEFA Columns'!AX8","v":"Manufacture of other transport equipment"},null,{"$f":"'PEFA Columns'!AZ8","v":"Manufacture of furniture; other manufacturing"},null,{"$f":"'PEFA Columns'!BB8","v":"Repair and installation of machinery and equipment"},null,{"$f":"'PEFA Columns'!BD8","v":"Electricity, gas, steam and air conditioning supply"},null,{"$f":"'PEFA Columns'!BF8","v":"Water supply; sewerage, waste management and remediation activities"},null,{"$f":"'PEFA Columns'!BH8","v":"Water collection, treatment and supply"},null,{"$f":"'PEFA Columns'!BJ8","v":"Sewerage, waste management, remediation activities"},null,{"$f":"'PEFA Columns'!BL8","v":"Construction"},null,{"$f":"'PEFA Columns'!BN8","v":"Wholesale and retail trade; repair of motor vehicles and motorcycles"},null,{"$f":"'PEFA Columns'!BP8","v":"Wholesale and retail trade and repair of motor vehicles and motorcycles"},null,{"$f":"'PEFA Columns'!BR8","v":"Wholesale trade, except of motor vehicles and motorcycles"},null,{"$f":"'PEFA Columns'!BT8","v":"Retail trade, except of motor vehicles and motorcycles"},null,{"$f":"'PEFA Columns'!BV8","v":"Transportation and storage"},null,{"$f":"'PEFA Columns'!BX8","v":"Land transport and transport via pipelines"},null,{"$f":"'PEFA Columns'!BZ8","v":"Water transport"},null,{"$f":"'PEFA Columns'!CB8","v":"Air transport"},null,{"$f":"'PEFA Columns'!CD8","v":"Warehousing and support activities for transportation"},null,{"$f":"'PEFA Columns'!CF8","v":"Postal and courier activities"},null,{"$f":"'PEFA Columns'!CH8","v":"Accommodation and food service activities"},null,{"$f":"'PEFA Columns'!CJ8","v":"Information and communication"},null,{"$f":"'PEFA Columns'!CL8","v":"Publishing activities"},null,{"$f":"'PEFA Columns'!CN8","v":"Motion picture, video, television programme production; programming and broadcasting activities"},null,{"$f":"'PEFA Columns'!CP8","v":"Telecommunications"},null,{"$f":"'PEFA Columns'!CR8","v":"Computer programming, consultancy, and information service activities"},null,{"$f":"'PEFA Columns'!CT8","v":"Financial and insurance activities"},null,{"$f":"'PEFA Columns'!CV8","v":"Financial service activities, except insurance and pension funding"},null,{"$f":"'PEFA Columns'!CX8","v":"Insurance, reinsurance and pension funding, except compulsory social security"},null,{"$f":"'PEFA Columns'!CZ8","v":"Activities auxiliary to financial services and insurance activities"},null,{"$f":"'PEFA Columns'!DB8","v":"Real estate activities"},null,{"$f":"'PEFA Columns'!DD8","v":"Of which: Imputed rents of owner-occupied dwellings"},null,{"$f":"'PEFA Columns'!DF8","v":"Professional, scientific and technical activities"},null,{"$f":"'PEFA Columns'!DH8","v":"Legal and accounting activities; activities of head offices; management consultancy activities"},null,{"$f":"'PEFA Columns'!DJ8","v":"Architectural and engineering activities; technical testing and analysis"},null,{"$f":"'PEFA Columns'!DL8","v":"Scientific research and development"},null,{"$f":"'PEFA Columns'!DN8","v":"Advertising and market research"},null,{"$f":"'PEFA Columns'!DP8","v":"Other professional, scientific and technical activities; veterinary activities"},null,{"$f":"'PEFA Columns'!DR8","v":"Administrative and support service activities"},null,{"$f":"'PEFA Columns'!DT8","v":"Rental and leasing activities"},null,{"$f":"'PEFA Columns'!DV8","v":"Employment activities"},null,{"$f":"'PEFA Columns'!DX8","v":"Travel agency, tour operator reservation service and related activities"},null,{"$f":"'PEFA Columns'!DZ8","v":"Security and investigation, service and landscape, office administrative and support activities"},null,{"$f":"'PEFA Columns'!EB8","v":"Public administration and defence; compulsory social security"},null,{"$f":"'PEFA Columns'!ED8","v":"Education"},null,{"$f":"'PEFA Columns'!EF8","v":"Human health and social work activities"},null,{"$f":"'PEFA Columns'!EH8","v":"Human health activities"},null,{"$f":"'PEFA Columns'!EJ8","v":"Residential care activities and social work activities without accommodation"},null,{"$f":"'PEFA Columns'!EL8","v":"Arts, entertainment and recreation"},null,{"$f":"'PEFA Columns'!EN8","v":"Creative, arts and entertainment activities; libraries, archives, museums and other cultural activities; gambling and betting activities"},null,{"$f":"'PEFA Columns'!EP8","v":"Sports activities and amusement and recreation activities"},null,{"$f":"'PEFA Columns'!ER8","v":"Other service activities"},null,{"$f":"'PEFA Columns'!ET8","v":"Activities of membership organisations"},null,{"$f":"'PEFA Columns'!EV8","v":"Repair of computers and personal and household goods"},null,{"$f":"'PEFA Columns'!EX8","v":"Other personal service activities"},null,{"$f":"'PEFA Columns'!EZ8","v":"Activities of households as employers; undifferentiated goods- and services-producing activities of households for own use"},null,{"$f":"'PEFA Columns'!FB8","v":"Activities of extraterritorial organisations and bodies"},null,{"$f":"'PEFA Columns'!FD8","v":"All other industries"},null,{"$f":"'PEFA Columns'!FF8","v":"Total activities by households"},null,{"$f":"'PEFA Columns'!FH8","v":"Heating/cooling activities by households"},null,{"$f":"'PEFA Columns'!FJ8","v":"Transport activities by households"},null,{"$f":"'PEFA Columns'!FL8","v":"Other activities by households"},null,{"$f":"'PEFA Columns'!FN8","v":"Changes in inventories and produced assets"},null,{"$f":"'PEFA Columns'!FP8","v":"Rest of the World - economic activities"},null,{"$f":"'PEFA Columns'!FR8","v":"Environment"},null,{"$f":"'PEFA Columns'!FT8","v":"TOTAL USE OF NATURAL INPUTS, PRODUCTS, AND RESIDUALS"}]
[null,null,null,null,null,null,null,null,null,null,null,null,null,null,null,null,null,null,null,null,null,null,null,null,null,null,null,null,null,null,null,null,null,null,null,null,null,null,null,null,null,null,null,null,null,null,null,null,null,null,null,null,null,null,null,null,null,null,null,null,null,null,null,null,null,null,null,null,null,null,null,null,null,null,null,null,null,null,null,null,null,null,null,null,null,null,null,null,null,null,null,null,null,null,null,null,null,null,null,null,null,null,null,null,null,null,null,null,null,null,null,null,null,null,null,null,null,null,null,null,null,null,null,null,null,null,null,null,null,null,null,null,null,null,null,null,null,null,null,null,null,null,null,null,null,null,null,null,null,null,null,null,null,null,null,null,null,null,null,null,null,null,null,null,null,null,null,null,null,null,null,null,null,null,null,null,null,null,null,null,null,null,null,null,null,null,null,"DEMAND_PROD","BRIDGE_ITEMS","UNIT_MEASURE","UNIT_MULT","PRODUCT","SECTOR"]
[null,"no","Level","Code","Label"]
[null,1,1,{"$f":"'PEFA rows'!C3","v":"N00"},{"$f":"'PEFA rows'!D3","v":"NATURAL ENERGY INPUTS"},null,null,{"$f":"SUM(H10:H16)","v":0},null,{"$f":"SUM(J10:J16)","v":0},null,{"$f":"SUM(L10:L16)","v":0},null,{"$f":"SUM(N10:N16)","v":0},null,{"$f":"SUM(P10:P16)","v":0},null,{"$f":"SUM(R10:R16)","v":0},null,{"$f":"SUM(T10:T16)","v":0},null,{"$f":"SUM(V10:V16)","v":0},null,{"$f":"SUM(X10:X16)","v":0},null,{"$f":"SUM(Z10:Z16)","v":0},null,{"$f":"SUM(AB10:AB16)","v":0},null,{"$f":"SUM(AD10:AD16)","v":0},null,{"$f":"SUM(AF10:AF16)","v":0},null,{"$f":"SUM(AH10:AH16)","v":0},null,{"$f":"SUM(AJ10:AJ16)","v":0},null,{"$f":"SUM(AL10:AL16)","v":0},null,{"$f":"SUM(AN10:AN16)","v":0},null,{"$f":"SUM(AP10:AP16)","v":0},null,{"$f":"SUM(AR10:AR16)","v":0},null,{"$f":"SUM(AT10:AT16)","v":0},null,{"$f":"SUM(AV10:AV16)","v":0},null,{"$f":"SUM(AX10:AX16)","v":0},null,{"$f":"SUM(AZ10:AZ16)","v":0},null,{"$f":"SUM(BB10:BB16)","v":0},null,{"$f":"SUM(BD10:BD16)","v":0},null,{"$f":"SUM(BF10:BF16)","v":0},null,{"$f":"SUM(BH10:BH16)","v":0},null,{"$f":"SUM(BJ10:BJ16)","v":0},null,{"$f":"SUM(BL10:BL16)","v":0},null,{"$f":"SUM(BN10:BN16)","v":0},null,{"$f":"SUM(BP10:BP16)","v":0},null,{"$f":"SUM(BR10:BR16)","v":0},null,{"$f":"SUM(BT10:BT16)","v":0},null,{"$f":"SUM(BV10:BV16)","v":0},null,{"$f":"SUM(BX10:BX16)","v":0},null,{"$f":"SUM(BZ10:BZ16)","v":0},null,{"$f":"SUM(CB10:CB16)","v":0},null,{"$f":"SUM(CD10:CD16)","v":0},null,{"$f":"SUM(CF10:CF16)","v":0},null,{"$f":"SUM(CH10:CH16)","v":0},null,{"$f":"SUM(CJ10:CJ16)","v":0},null,{"$f":"SUM(CL10:CL16)","v":0},null,{"$f":"SUM(CN10:CN16)","v":0},null,{"$f":"SUM(CP10:CP16)","v":0},null,{"$f":"SUM(CR10:CR16)","v":0},null,{"$f":"SUM(CT10:CT16)","v":0},null,{"$f":"SUM(CV10:CV16)","v":0},null,{"$f":"SUM(CX10:CX16)","v":0},null,{"$f":"SUM(CZ10:CZ16)","v":0},null,{"$f":"SUM(DB10:DB16)","v":0},null,{"$f":"SUM(DD10:DD16)","v":0},null,{"$f":"SUM(DF10:DF16)","v":0},null,{"$f":"SUM(DH10:DH16)","v":0},null,{"$f":"SUM(DJ10:DJ16)","v":0},null,{"$f":"SUM(DL10:DL16)","v":0},null,{"$f":"SUM(DN10:DN16)","v":0},null,{"$f":"SUM(DP10:DP16)","v":0},null,{"$f":"SUM(DR10:DR16)","v":0},null,{"$f":"SUM(DT10:DT16)","v":0},null,{"$f":"SUM(DV10:DV16)","v":0},null,{"$f":"SUM(DX10:DX16)","v":0},null,{"$f":"SUM(DZ10:DZ16)","v":0},null,{"$f":"SUM(EB10:EB16)","v":0},null,{"$f":"SUM(ED10:ED16)","v":0},null,{"$f":"SUM(EF10:EF16)","v":0},null,{"$f":"SUM(EH10:EH16)","v":0},null,{"$f":"SUM(EJ10:EJ16)","v":0},null,{"$f":"SUM(EL10:EL16)","v":0},null,{"$f":"SUM(EN10:EN16)","v":0},null,{"$f":"SUM(EP10:EP16)","v":0},null,{"$f":"SUM(ER10:ER16)","v":0},null,{"$f":"SUM(ET10:ET16)","v":0},null,{"$f":"SUM(EV10:EV16)","v":0},null,{"$f":"SUM(EX10:EX16)","v":0},null,{"$f":"SUM(EZ10:EZ16)","v":0},null,{"$f":"SUM(FB10:FB16)","v":0},null,{"$f":"SUM(FD10:FD16)","v":0},null,{"$f":"SUM(FF10:FF16)","v":0},null,{"$f":"SUM(FH10:FH16)","v":0},null,null,null,null,null,null,null,null,null,null,null,null,null,null,null,{"$f":"SUM(FX10:FX16)","v":0},null,"",null,null,null,null,null,"P","RES","TJ",0,"_T","S1"]
[null,2,2,{"$f":"'PEFA rows'!C4","v":"N01"},{"$f":"'PEFA rows'!D4","v":"Fossil non-renewable natural energy inputs"},null,null,{"$f":"SUM(J10,R10,T10,BH10,BJ10,BP10,BR10,BZ10,CL10,CN10,CX10,DF10,DJ10,DV10,EF10,EH10,EJ10,EP10,EV10,FD10,FF10,FH10)","v":0},null,{"$f":"IF(OR(ISNUMBER(Table_B.1!J10),ISNUMBER(Table_B.2!J10)),SUM(Table_B.1!J10,Table_B.2!J10),\":\")","v":0},null,{"$f":"IF(OR(ISNUMBER(Table_B.1!L10),ISNUMBER(Table_B.2!L10)),SUM(Table_B.1!L10,Table_B.2!L10),\":\")","v":0},null,{"$f":"IF(OR(ISNUMBER(Table_B.1!N10),ISNUMBER(Table_B.2!N10)),SUM(Table_B.1!N10,Table_B.2!N10),\":\")","v":0},null,{"$f":"IF(OR(ISNUMBER(Table_B.1!P10),ISNUMBER(Table_B.2!P10)),SUM(Table_B.1!P10,Table_B.2!P10),\":\")","v":0},null,{"$f":"IF(OR(ISNUMBER(Table_B.1!R10),ISNUMBER(Table_B.2!R10)),SUM(Table_B.1!R10,Table_B.2!R10),\":\")","v":0},null,{"$f":"IF(OR(ISNUMBER(Table_B.1!T10),ISNUMBER(Table_B.2!T10)),SUM(Table_B.1!T10,Table_B.2!T10),\":\")","v":0},null,{"$f":"IF(OR(ISNUMBER(Table_B.1!V10),ISNUMBER(Table_B.2!V10)),SUM(Table_B.1!V10,Table_B.2!V10),\":\")","v":0},null,{"$f":"IF(OR(ISNUMBER(Table_B.1!X10),ISNUMBER(Table_B.2!X10)),SUM(Table_B.1!X10,Table_B.2!X10),\":\")","v":0},null,{"$f":"IF(OR(ISNUMBER(Table_B.1!Z10),ISNUMBER(Table_B.2!Z10)),SUM(Table_B.1!Z10,Table_B.2!Z10),\":\")","v":0},null,{"$f":"IF(OR(ISNUMBER(Table_B.1!AB10),ISNUMBER(Table_B.2!AB10)),SUM(Table_B.1!AB10,Table_B.2!AB10),\":\")","v":0},null,{"$f":"IF(OR(ISNUMBER(Table_B.1!AD10),ISNUMBER(Table_B.2!AD10)),SUM(Table_B.1!AD10,Table_B.2!AD10),\":\")","v":0},null,{"$f":"IF(OR(ISNUMBER(Table_B.1!AF10),ISNUMBER(Table_B.2!AF10)),SUM(Table_B.1!AF10,Table_B.2!AF10),\":\")","v":0},null,{"$f":"IF(OR(ISNUMBER(Table_B.1!AH10),ISNUMBER(Table_B.2!AH10)),SUM(Table_B.1!AH10,Table_B.2!AH10),\":\")","v":0},null,{"$f":"IF(OR(ISNUMBER(Table_B.1!AJ10),ISNUMBER(Table_B.2!AJ10)),SUM(Table_B.1!AJ10,Table_B.2!AJ10),\":\")","v":0},null,{"$f":"IF(OR(ISNUMBER(Table_B.1!AL10),ISNUMBER(Table_B.2!AL10)),SUM(Table_B.1!AL10,Table_B.2!AL10),\":\")","v":0},null,{"$f":"IF(OR(ISNUMBER(Table_B.1!AN10),ISNUMBER(Table_B.2!AN10)),SUM(Table_B.1!AN10,Table_B.2!AN10),\":\")","v":0},null,{"$f":"IF(OR(ISNUMBER(Table_B.1!AP10),ISNUMBER(Table_B.2!AP10)),SUM(Table_B.1!AP10,Table_B.2!AP10),\":\")","v":0},null,{"$f":"IF(OR(ISNUMBER(Table_B.1!AR10),ISNUMBER(Table_B.2!AR10)),SUM(Table_B.1!AR10,Table_B.2!AR10),\":\")","v":0},null,{"$f":"IF(OR(ISNUMBER(Table_B.1!AT10),ISNUMBER(Table_B.2!AT10)),SUM(Table_B.1!AT10,Table_B.2!AT10),\":\")","v":0},null,{"$f":"IF(OR(ISNUMBER(Table_B.1!AV10),ISNUMBER(Table_B.2!AV10)),SUM(Table_B.1!AV10,Table_B.2!AV10),\":\")","v":0},null,{"$f":"IF(OR(ISNUMBER(Table_B.1!AX10),ISNUMBER(Table_B.2!AX10)),SUM(Table_B.1!AX10,Table_B.2!AX10),\":\")","v":0},null,{"$f":"IF(OR(ISNUMBER(Table_B.1!AZ10),ISNUMBER(Table_B.2!AZ10)),SUM(Table_B.1!AZ10,Table_B.2!AZ10),\":\")","v":0},null,{"$f":"IF(OR(ISNUMBER(Table_B.1!BB10),ISNUMBER(Table_B.2!BB10)),SUM(Table_B.1!BB10,Table_B.2!BB10),\":\")","v":0},null,{"$f":"IF(OR(ISNUMBER(Table_B.1!BD10),ISNUMBER(Table_B.2!BD10)),SUM(Table_B.1!BD10,Table_B.2!BD10),\":\")","v":0},null,{"$f":"IF(OR(ISNUMBER(Table_B.1!BF10),ISNUMBER(Table_B.2!BF10)),SUM(Table_B.1!BF10,Table_B.2!BF10),\":\")","v":0},null,{"$f":"IF(OR(ISNUMBER(Table_B.1!BH10),ISNUMBER(Table_B.2!BH10)),SUM(Table_B.1!BH10,Table_B.2!BH10),\":\")","v":0},null,{"$f":"IF(OR(ISNUMBER(Table_B.1!BJ10),ISNUMBER(Table_B.2!BJ10)),SUM(Table_B.1!BJ10,Table_B.2!BJ10),\":\")","v":0},null,{"$f":"IF(OR(ISNUMBER(Table_B.1!BL10),ISNUMBER(Table_B.2!BL10)),SUM(Table_B.1!BL10,Table_B.2!BL10),\":\")","v":0},null,{"$f":"IF(OR(ISNUMBER(Table_B.1!BN10),ISNUMBER(Table_B.2!BN10)),SUM(Table_B.1!BN10,Table_B.2!BN10),\":\")","v":0},null,{"$f":"IF(OR(ISNUMBER(Table_B.1!BP10),ISNUMBER(Table_B.2!BP10)),SUM(Table_B.1!BP10,Table_B.2!BP10),\":\")","v":0},null,{"$f":"IF(OR(ISNUMBER(Table_B.1!BR10),ISNUMBER(Table_B.2!BR10)),SUM(Table_B.1!BR10,Table_B.2!BR10),\":\")","v":0},null,{"$f":"IF(OR(ISNUMBER(Table_B.1!BT10),ISNUMBER(Table_B.2!BT10)),SUM(Table_B.1!BT10,Table_B.2!BT10),\":\")","v":0},null,{"$f":"IF(OR(ISNUMBER(Table_B.1!BV10),ISNUMBER(Table_B.2!BV10)),SUM(Table_B.1!BV10,Table_B.2!BV10),\":\")","v":0},null,{"$f":"IF(OR(ISNUMBER(Table_B.1!BX10),ISNUMBER(Table_B.2!BX10)),SUM(Table_B.1!BX10,Table_B.2!BX10),\":\")","v":0},null,{"$f":"IF(OR(ISNUMBER(Table_B.1!BZ10),ISNUMBER(Table_B.2!BZ10)),SUM(Table_B.1!BZ10,Table_B.2!BZ10),\":\")","v":0},null,{"$f":"IF(OR(ISNUMBER(Table_B.1!CB10),ISNUMBER(Table_B.2!CB10)),SUM(Table_B.1!CB10,Table_B.2!CB10),\":\")","v":0},null,{"$f":"IF(OR(ISNUMBER(Table_B.1!CD10),ISNUMBER(Table_B.2!CD10)),SUM(Table_B.1!CD10,Table_B.2!CD10),\":\")","v":0},null,{"$f":"IF(OR(ISNUMBER(Table_B.1!CF10),ISNUMBER(Table_B.2!CF10)),SUM(Table_B.1!CF10,Table_B.2!CF10),\":\")","v":0},null,{"$f":"IF(OR(ISNUMBER(Table_B.1!CH10),ISNUMBER(Table_B.2!CH10)),SUM(Table_B.1!CH10,Table_B.2!CH10),\":\")","v":0},null,{"$f":"IF(OR(ISNUMBER(Table_B.1!CJ10),ISNUMBER(Table_B.2!CJ10)),SUM(Table_B.1!CJ10,Table_B.2!CJ10),\":\")","v":0},null,{"$f":"IF(OR(ISNUMBER(Table_B.1!CL10),ISNUMBER(Table_B.2!CL10)),SUM(Table_B.1!CL10,Table_B.2!CL10),\":\")","v":0},null,{"$f":"IF(OR(ISNUMBER(Table_B.1!CN10),ISNUMBER(Table_B.2!CN10)),SUM(Table_B.1!CN10,Table_B.2!CN10),\":\")","v":0},null,{"$f":"IF(OR(ISNUMBER(Table_B.1!CP10),ISNUMBER(Table_B.2!CP10)),SUM(Table_B.1!CP10,Table_B.2!CP10),\":\")","v":0},null,{"$f":"IF(OR(ISNUMBER(Table_B.1!CR10),ISNUMBER(Table_B.2!CR10)),SUM(Table_B.1!CR10,Table_B.2!CR10),\":\")","v":0},null,{"$f":"IF(OR(ISNUMBER(Table_B.1!CT10),ISNUMBER(Table_B.2!CT10)),SUM(Table_B.1!CT10,Table_B.2!CT10),\":\")","v":0},null,{"$f":"IF(OR(ISNUMBER(Table_B.1!CV10),ISNUMBER(Table_B.2!CV10)),SUM(Table_B.1!CV10,Table_B.2!CV10),\":\")","v":0},null,{"$f":"IF(OR(ISNUMBER(Table_B.1!CX10),ISNUMBER(Table_B.2!CX10)),SUM(Table_B.1!CX10,Table_B.2!CX10),\":\")","v":0},null,{"$f":"IF(OR(ISNUMBER(Table_B.1!CZ10),ISNUMBER(Table_B.2!CZ10)),SUM(Table_B.1!CZ10,Table_B.2!CZ10),\":\")","v":0},null,{"$f":"IF(OR(ISNUMBER(Table_B.1!DB10),ISNUMBER(Table_B.2!DB10)),SUM(Table_B.1!DB10,Table_B.2!DB10),\":\")","v":0},null,{"$f":"IF(OR(ISNUMBER(Table_B.1!DD10),ISNUMBER(Table_B.2!DD10)),SUM(Table_B.1!DD10,Table_B.2!DD10),\":\")","v":0},null,{"$f":"IF(OR(ISNUMBER(Table_B.1!DF10),ISNUMBER(Table_B.2!DF10)),SUM(Table_B.1!DF10,Table_B.2!DF10),\":\")","v":0},null,{"$f":"IF(OR(ISNUMBER(Table_B.1!DH10),ISNUMBER(Table_B.2!DH10)),SUM(Table_B.1!DH10,Table_B.2!DH10),\":\")","v":0},null,{"$f":"IF(OR(ISNUMBER(Table_B.1!DJ10),ISNUMBER(Table_B.2!DJ10)),SUM(Table_B.1!DJ10,Table_B.2!DJ10),\":\")","v":0},null,{"$f":"IF(OR(ISNUMBER(Table_B.1!DL10),ISNUMBER(Table_B.2!DL10)),SUM(Table_B.1!DL10,Table_B.2!DL10),\":\")","v":0},null,{"$f":"IF(OR(ISNUMBER(Table_B.1!DN10),ISNUMBER(Table_B.2!DN10)),SUM(Table_B.1!DN10,Table_B.2!DN10),\":\")","v":0},null,{"$f":"IF(OR(ISNUMBER(Table_B.1!DP10),ISNUMBER(Table_B.2!DP10)),SUM(Table_B.1!DP10,Table_B.2!DP10),\":\")","v":0},null,{"$f":"IF(OR(ISNUMBER(Table_B.1!DR10),ISNUMBER(Table_B.2!DR10)),SUM(Table_B.1!DR10,Table_B.2!DR10),\":\")","v":0},null,{"$f":"IF(OR(ISNUMBER(Table_B.1!DT10),ISNUMBER(Table_B.2!DT10)),SUM(Table_B.1!DT10,Table_B.2!DT10),\":\")","v":0},null,{"$f":"IF(OR(ISNUMBER(Table_B.1!DV10),ISNUMBER(Table_B.2!DV10)),SUM(Table_B.1!DV10,Table_B.2!DV10),\":\")","v":0},null,{"$f":"IF(OR(ISNUMBER(Table_B.1!DX10),ISNUMBER(Table_B.2!DX10)),SUM(Table_B.1!DX10,Table_B.2!DX10),\":\")","v":0},null,{"$f":"IF(OR(ISNUMBER(Table_B.1!DZ10),ISNUMBER(Table_B.2!DZ10)),SUM(Table_B.1!DZ10,Table_B.2!DZ10),\":\")","v":0},null,{"$f":"IF(OR(ISNUMBER(Table_B.1!EB10),ISNUMBER(Table_B.2!EB10)),SUM(Table_B.1!EB10,Table_B.2!EB10),\":\")","v":0},null,{"$f":"IF(OR(ISNUMBER(Table_B.1!ED10),ISNUMBER(Table_B.2!ED10)),SUM(Table_B.1!ED10,Table_B.2!ED10),\":\")","v":0},null,{"$f":"IF(OR(ISNUMBER(Table_B.1!EF10),ISNUMBER(Table_B.2!EF10)),SUM(Table_B.1!EF10,Table_B.2!EF10),\":\")","v":0},null,{"$f":"IF(OR(ISNUMBER(Table_B.1!EH10),ISNUMBER(Table_B.2!EH10)),SUM(Table_B.1!EH10,Table_B.2!EH10),\":\")","v":0},null,{"$f":"IF(OR(ISNUMBER(Table_B.1!EJ10),ISNUMBER(Table_B.2!EJ10)),SUM(Table_B.1!EJ10,Table_B.2!EJ10),\":\")","v":0},null,{"$f":"IF(OR(ISNUMBER(Table_B.1!EL10),ISNUMBER(Table_B.2!EL10)),SUM(Table_B.1!EL10,Table_B.2!EL10),\":\")","v":0},null,{"$f":"IF(OR(ISNUMBER(Table_B.1!EN10),ISNUMBER(Table_B.2!EN10)),SUM(Table_B.1!EN10,Table_B.2!EN10),\":\")","v":0},null,{"$f":"IF(OR(ISNUMBER(Table_B.1!EP10),ISNUMBER(Table_B.2!EP10)),SUM(Table_B.1!EP10,Table_B.2!EP10),\":\")","v":0},null,{"$f":"IF(OR(ISNUMBER(Table_B.1!ER10),ISNUMBER(Table_B.2!ER10)),SUM(Table_B.1!ER10,Table_B.2!ER10),\":\")","v":0},null,{"$f":"IF(OR(ISNUMBER(Table_B.1!ET10),ISNUMBER(Table_B.2!ET10)),SUM(Table_B.1!ET10,Table_B.2!ET10),\":\")","v":0},null,{"$f":"IF(OR(ISNUMBER(Table_B.1!EV10),ISNUMBER(Table_B.2!EV10)),SUM(Table_B.1!EV10,Table_B.2!EV10),\":\")","v":0},null,{"$f":"IF(OR(ISNUMBER(Table_B.1!EX10),ISNUMBER(Table_B.2!EX10)),SUM(Table_B.1!EX10,Table_B.2!EX10),\":\")","v":0},null,{"$f":"IF(OR(ISNUMBER(Table_B.1!EZ10),ISNUMBER(Table_B.2!EZ10)),SUM(Table_B.1!EZ10,Table_B.2!EZ10),\":\")","v":0},null,{"$f":"IF(OR(ISNUMBER(Table_B.1!FB10),ISNUMBER(Table_B.2!FB10)),SUM(Table_B.1!FB10,Table_B.2!FB10),\":\")","v":0},null,{"$f":"IF(OR(ISNUMBER(Table_B.1!FD10),ISNUMBER(Table_B.2!FD10)),SUM(Table_B.1!FD10,Table_B.2!FD10),\":\")","v":0},null,{"$f":"IF(OR(ISNUMBER(Table_B.1!FF10),ISNUMBER(Table_B.2!FF10)),SUM(Table_B.1!FF10,Table_B.2!FF10),\":\")","v":0},null,{"$f":"SUM(Table_B.1!FH10,Table_B.2!FH10)","v":0},null,null,null,null,null,null,null,null,null,null,null,null,null,null,null,{"$f":"SUM(H10,FJ10,FR10,FT10,FV10)","v":0},null,""]
[null,3,2,{"$f":"'PEFA rows'!C5","v":"N02"},{"$f":"'PEFA rows'!D5","v":"Nuclear non-renewable natural energy inputs"},null,null,0,null,{"$f":"IF(OR(ISNUMBER(Table_B.1!J11),ISNUMBER(Table_B.2!J11)),SUM(Table_B.1!J11,Table_B.2!J11),\":\")","v":0},null,{"$f":"IF(OR(ISNUMBER(Table_B.1!L11),ISNUMBER(Table_B.2!L11)),SUM(Table_B.1!L11,Table_B.2!L11),\":\")","v":0},null,{"$f":"IF(OR(ISNUMBER(Table_B.1!N11),ISNUMBER(Table_B.2!N11)),SUM(Table_B.1!N11,Table_B.2!N11),\":\")","v":0},null,{"$f":"IF(OR(ISNUMBER(Table_B.1!P11),ISNUMBER(Table_B.2!P11)),SUM(Table_B.1!P11,Table_B.2!P11),\":\")","v":0},null,{"$f":"IF(OR(ISNUMBER(Table_B.1!R11),ISNUMBER(Table_B.2!R11)),SUM(Table_B.1!R11,Table_B.2!R11),\":\")","v":0},null,{"$f":"IF(OR(ISNUMBER(Table_B.1!T11),ISNUMBER(Table_B.2!T11)),SUM(Table_B.1!T11,Table_B.2!T11),\":\")","v":0},null,{"$f":"IF(OR(ISNUMBER(Table_B.1!V11),ISNUMBER(Table_B.2!V11)),SUM(Table_B.1!V11,Table_B.2!V11),\":\")","v":0},null,{"$f":"IF(OR(ISNUMBER(Table_B.1!X11),ISNUMBER(Table_B.2!X11)),SUM(Table_B.1!X11,Table_B.2!X11),\":\")","v":0},null,{"$f":"IF(OR(ISNUMBER(Table_B.1!Z11),ISNUMBER(Table_B.2!Z11)),SUM(Table_B.1!Z11,Table_B.2!Z11),\":\")","v":0},null,{"$f":"IF(OR(ISNUMBER(Table_B.1!AB11),ISNUMBER(Table_B.2!AB11)),SUM(Table_B.1!AB11,Table_B.2!AB11),\":\")","v":0},null,{"$f":"IF(OR(ISNUMBER(Table_B.1!AD11),ISNUMBER(Table_B.2!AD11)),SUM(Table_B.1!AD11,Table_B.2!AD11),\":\")","v":0},null,{"$f":"IF(OR(ISNUMBER(Table_B.1!AF11),ISNUMBER(Table_B.2!AF11)),SUM(Table_B.1!AF11,Table_B.2!AF11),\":\")","v":0},null,{"$f":"IF(OR(ISNUMBER(Table_B.1!AH11),ISNUMBER(Table_B.2!AH11)),SUM(Table_B.1!AH11,Table_B.2!AH11),\":\")","v":0},null,{"$f":"IF(OR(ISNUMBER(Table_B.1!AJ11),ISNUMBER(Table_B.2!AJ11)),SUM(Table_B.1!AJ11,Table_B.2!AJ11),\":\")","v":0},null,{"$f":"IF(OR(ISNUMBER(Table_B.1!AL11),ISNUMBER(Table_B.2!AL11)),SUM(Table_B.1!AL11,Table_B.2!AL11),\":\")","v":0},null,{"$f":"IF(OR(ISNUMBER(Table_B.1!AN11),ISNUMBER(Table_B.2!AN11)),SUM(Table_B.1!AN11,Table_B.2!AN11),\":\")","v":0},null,{"$f":"IF(OR(ISNUMBER(Table_B.1!AP11),ISNUMBER(Table_B.2!AP11)),SUM(Table_B.1!AP11,Table_B.2!AP11),\":\")","v":0},null,{"$f":"IF(OR(ISNUMBER(Table_B.1!AR11),ISNUMBER(Table_B.2!AR11)),SUM(Table_B.1!AR11,Table_B.2!AR11),\":\")","v":0},null,{"$f":"IF(OR(ISNUMBER(Table_B.1!AT11),ISNUMBER(Table_B.2!AT11)),SUM(Table_B.1!AT11,Table_B.2!AT11),\":\")","v":0},null,{"$f":"IF(OR(ISNUMBER(Table_B.1!AV11),ISNUMBER(Table_B.2!AV11)),SUM(Table_B.1!AV11,Table_B.2!AV11),\":\")","v":0},null,{"$f":"IF(OR(ISNUMBER(Table_B.1!AX11),ISNUMBER(Table_B.2!AX11)),SUM(Table_B.1!AX11,Table_B.2!AX11),\":\")","v":0},null,{"$f":"IF(OR(ISNUMBER(Table_B.1!AZ11),ISNUMBER(Table_B.2!AZ11)),SUM(Table_B.1!AZ11,Table_B.2!AZ11),\":\")","v":0},null,{"$f":"IF(OR(ISNUMBER(Table_B.1!BB11),ISNUMBER(Table_B.2!BB11)),SUM(Table_B.1!BB11,Table_B.2!BB11),\":\")","v":0},null,{"$f":"IF(OR(ISNUMBER(Table_B.1!BD11),ISNUMBER(Table_B.2!BD11)),SUM(Table_B.1!BD11,Table_B.2!BD11),\":\")","v":0},null,{"$f":"IF(OR(ISNUMBER(Table_B.1!BF11),ISNUMBER(Table_B.2!BF11)),SUM(Table_B.1!BF11,Table_B.2!BF11),\":\")","v":0},null,{"$f":"IF(OR(ISNUMBER(Table_B.1!BH11),ISNUMBER(Table_B.2!BH11)),SUM(Table_B.1!BH11,Table_B.2!BH11),\":\")","v":0},null,{"$f":"IF(OR(ISNUMBER(Table_B.1!BJ11),ISNUMBER(Table_B.2!BJ11)),SUM(Table_B.1!BJ11,Table_B.2!BJ11),\":\")","v":0},null,{"$f":"IF(OR(ISNUMBER(Table_B.1!BL11),ISNUMBER(Table_B.2!BL11)),SUM(Table_B.1!BL11,Table_B.2!BL11),\":\")","v":0},null,{"$f":"IF(OR(ISNUMBER(Table_B.1!BN11),ISNUMBER(Table_B.2!BN11)),SUM(Table_B.1!BN11,Table_B.2!BN11),\":\")","v":0},null,{"$f":"IF(OR(ISNUMBER(Table_B.1!BP11),ISNUMBER(Table_B.2!BP11)),SUM(Table_B.1!BP11,Table_B.2!BP11),\":\")","v":0},null,{"$f":"IF(OR(ISNUMBER(Table_B.1!BR11),ISNUMBER(Table_B.2!BR11)),SUM(Table_B.1!BR11,Table_B.2!BR11),\":\")","v":0},null,{"$f":"IF(OR(ISNUMBER(Table_B.1!BT11),ISNUMBER(Table_B.2!BT11)),SUM(Table_B.1!BT11,Table_B.2!BT11),\":\")","v":0},null,{"$f":"IF(OR(ISNUMBER(Table_B.1!BV11),ISNUMBER(Table_B.2!BV11)),SUM(Table_B.1!BV11,Table_B.2!BV11),\":\")","v":0},null,{"$f":"IF(OR(ISNUMBER(Table_B.1!BX11),ISNUMBER(Table_B.2!BX11)),SUM(Table_B.1!BX11,Table_B.2!BX11),\":\")","v":0},null,{"$f":"IF(OR(ISNUMBER(Table_B.1!BZ11),ISNUMBER(Table_B.2!BZ11)),SUM(Table_B.1!BZ11,Table_B.2!BZ11),\":\")","v":0},null,{"$f":"IF(OR(ISNUMBER(Table_B.1!CB11),ISNUMBER(Table_B.2!CB11)),SUM(Table_B.1!CB11,Table_B.2!CB11),\":\")","v":0},null,{"$f":"IF(OR(ISNUMBER(Table_B.1!CD11),ISNUMBER(Table_B.2!CD11)),SUM(Table_B.1!CD11,Table_B.2!CD11),\":\")","v":0},null,{"$f":"IF(OR(ISNUMBER(Table_B.1!CF11),ISNUMBER(Table_B.2!CF11)),SUM(Table_B.1!CF11,Table_B.2!CF11),\":\")","v":0},null,{"$f":"IF(OR(ISNUMBER(Table_B.1!CH11),ISNUMBER(Table_B.2!CH11)),SUM(Table_B.1!CH11,Table_B.2!CH11),\":\")","v":0},null,{"$f":"IF(OR(ISNUMBER(Table_B.1!CJ11),ISNUMBER(Table_B.2!CJ11)),SUM(Table_B.1!CJ11,Table_B.2!CJ11),\":\")","v":0},null,{"$f":"IF(OR(ISNUMBER(Table_B.1!CL11),ISNUMBER(Table_B.2!CL11)),SUM(Table_B.1!CL11,Table_B.2!CL11),\":\")","v":0},null,{"$f":"IF(OR(ISNUMBER(Table_B.1!CN11),ISNUMBER(Table_B.2!CN11)),SUM(Table_B.1!CN11,Table_B.2!CN11),\":\")","v":0},null,{"$f":"IF(OR(ISNUMBER(Table_B.1!CP11),ISNUMBER(Table_B.2!CP11)),SUM(Table_B.1!CP11,Table_B.2!CP11),\":\")","v":0},null,{"$f":"IF(OR(ISNUMBER(Table_B.1!CR11),ISNUMBER(Table_B.2!CR11)),SUM(Table_B.1!CR11,Table_B.2!CR11),\":\")","v":0},null,{"$f":"IF(OR(ISNUMBER(Table_B.1!CT11),ISNUMBER(Table_B.2!CT11)),SUM(Table_B.1!CT11,Table_B.2!CT11),\":\")","v":0},null,{"$f":"IF(OR(ISNUMBER(Table_B.1!CV11),ISNUMBER(Table_B.2!CV11)),SUM(Table_B.1!CV11,Table_B.2!CV11),\":\")","v":0},null,{"$f":"IF(OR(ISNUMBER(Table_B.1!CX11),ISNUMBER(Table_B.2!CX11)),SUM(Table_B.1!CX11,Table_B.2!CX11),\":\")","v":0},null,{"$f":"IF(OR(ISNUMBER(Table_B.1!CZ11),ISNUMBER(Table_B.2!CZ11)),SUM(Table_B.1!CZ11,Table_B.2!CZ11),\":\")","v":0},null,{"$f":"IF(OR(ISNUMBER(Table_B.1!DB11),ISNUMBER(Table_B.2!DB11)),SUM(Table_B.1!DB11,Table_B.2!DB11),\":\")","v":0},null,{"$f":"IF(OR(ISNUMBER(Table_B.1!DD11),ISNUMBER(Table_B.2!DD11)),SUM(Table_B.1!DD11,Table_B.2!DD11),\":\")","v":0},null,{"$f":"IF(OR(ISNUMBER(Table_B.1!DF11),ISNUMBER(Table_B.2!DF11)),SUM(Table_B.1!DF11,Table_B.2!DF11),\":\")","v":0},null,{"$f":"IF(OR(ISNUMBER(Table_B.1!DH11),ISNUMBER(Table_B.2!DH11)),SUM(Table_B.1!DH11,Table_B.2!DH11),\":\")","v":0},null,{"$f":"IF(OR(ISNUMBER(Table_B.1!DJ11),ISNUMBER(Table_B.2!DJ11)),SUM(Table_B.1!DJ11,Table_B.2!DJ11),\":\")","v":0},null,{"$f":"IF(OR(ISNUMBER(Table_B.1!DL11),ISNUMBER(Table_B.2!DL11)),SUM(Table_B.1!DL11,Table_B.2!DL11),\":\")","v":0},null,{"$f":"IF(OR(ISNUMBER(Table_B.1!DN11),ISNUMBER(Table_B.2!DN11)),SUM(Table_B.1!DN11,Table_B.2!DN11),\":\")","v":0},null,{"$f":"IF(OR(ISNUMBER(Table_B.1!DP11),ISNUMBER(Table_B.2!DP11)),SUM(Table_B.1!DP11,Table_B.2!DP11),\":\")","v":0},null,{"$f":"IF(OR(ISNUMBER(Table_B.1!DR11),ISNUMBER(Table_B.2!DR11)),SUM(Table_B.1!DR11,Table_B.2!DR11),\":\")","v":0},null,{"$f":"IF(OR(ISNUMBER(Table_B.1!DT11),ISNUMBER(Table_B.2!DT11)),SUM(Table_B.1!DT11,Table_B.2!DT11),\":\")","v":0},null,{"$f":"IF(OR(ISNUMBER(Table_B.1!DV11),ISNUMBER(Table_B.2!DV11)),SUM(Table_B.1!DV11,Table_B.2!DV11),\":\")","v":0},null,{"$f":"IF(OR(ISNUMBER(Table_B.1!DX11),ISNUMBER(Table_B.2!DX11)),SUM(Table_B.1!DX11,Table_B.2!DX11),\":\")","v":0},null,{"$f":"IF(OR(ISNUMBER(Table_B.1!DZ11),ISNUMBER(Table_B.2!DZ11)),SUM(Table_B.1!DZ11,Table_B.2!DZ11),\":\")","v":0},null,{"$f":"IF(OR(ISNUMBER(Table_B.1!EB11),ISNUMBER(Table_B.2!EB11)),SUM(Table_B.1!EB11,Table_B.2!EB11),\":\")","v":0},null,{"$f":"IF(OR(ISNUMBER(Table_B.1!ED11),ISNUMBER(Table_B.2!ED11)),SUM(Table_B.1!ED11,Table_B.2!ED11),\":\")","v":0},null,{"$f":"IF(OR(ISNUMBER(Table_B.1!EF11),ISNUMBER(Table_B.2!EF11)),SUM(Table_B.1!EF11,Table_B.2!EF11),\":\")","v":0},null,{"$f":"IF(OR(ISNUMBER(Table_B.1!EH11),ISNUMBER(Table_B.2!EH11)),SUM(Table_B.1!EH11,Table_B.2!EH11),\":\")","v":0},null,{"$f":"IF(OR(ISNUMBER(Table_B.1!EJ11),ISNUMBER(Table_B.2!EJ11)),SUM(Table_B.1!EJ11,Table_B.2!EJ11),\":\")","v":0},null,{"$f":"IF(OR(ISNUMBER(Table_B.1!EL11),ISNUMBER(Table_B.2!EL11)),SUM(Table_B.1!EL11,Table_B.2!EL11),\":\")","v":0},null,{"$f":"IF(OR(ISNUMBER(Table_B.1!EN11),ISNUMBER(Table_B.2!EN11)),SUM(Table_B.1!EN11,Table_B.2!EN11),\":\")","v":0},null,{"$f":"IF(OR(ISNUMBER(Table_B.1!EP11),ISNUMBER(Table_B.2!EP11)),SUM(Table_B.1!EP11,Table_B.2!EP11),\":\")","v":0},null,{"$f":"IF(OR(ISNUMBER(Table_B.1!ER11),ISNUMBER(Table_B.2!ER11)),SUM(Table_B.1!ER11,Table_B.2!ER11),\":\")","v":0},null,{"$f":"IF(OR(ISNUMBER(Table_B.1!ET11),ISNUMBER(Table_B.2!ET11)),SUM(Table_B.1!ET11,Table_B.2!ET11),\":\")","v":0},null,{"$f":"IF(OR(ISNUMBER(Table_B.1!EV11),ISNUMBER(Table_B.2!EV11)),SUM(Table_B.1!EV11,Table_B.2!EV11),\":\")","v":0},null,{"$f":"IF(OR(ISNUMBER(Table_B.1!EX11),ISNUMBER(Table_B.2!EX11)),SUM(Table_B.1!EX11,Table_B.2!EX11),\":\")","v":0},null,{"$f":"IF(OR(ISNUMBER(Table_B.1!EZ11),ISNUMBER(Table_B.2!EZ11)),SUM(Table_B.1!EZ11,Table_B.2!EZ11),\":\")","v":0},null,{"$f":"IF(OR(ISNUMBER(Table_B.1!FB11),ISNUMBER(Table_B.2!FB11)),SUM(Table_B.1!FB11,Table_B.2!FB11),\":\")","v":0},null,{"$f":"IF(OR(ISNUMBER(Table_B.1!FD11),ISNUMBER(Table_B.2!FD11)),SUM(Table_B.1!FD11,Table_B.2!FD11),\":\")","v":0},null,{"$f":"IF(OR(ISNUMBER(Table_B.1!FF11),ISNUMBER(Table_B.2!FF11)),SUM(Table_B.1!FF11,Table_B.2!FF11),\":\")","v":0},null,{"$f":"SUM(Table_B.1!FH11,Table_B.2!FH11)","v":0},null,null,null,null,null,null,null,null,null,null,null,null,null,null,null,0,null,""]
[null,4,2,{"$f":"'PEFA rows'!C6","v":"N03"},{"$f":"'PEFA rows'!D6","v":"Hydro based renewable natural energy inputs"},null,null,0,null,{"$f":"IF(OR(ISNUMBER(Table_B.1!J12),ISNUMBER(Table_B.2!J12)),SUM(Table_B.1!J12,Table_B.2!J12),\":\")","v":0},null,{"$f":"IF(OR(ISNUMBER(Table_B.1!L12),ISNUMBER(Table_B.2!L12)),SUM(Table_B.1!L12,Table_B.2!L12),\":\")","v":0},null,{"$f":"IF(OR(ISNUMBER(Table_B.1!N12),ISNUMBER(Table_B.2!N12)),SUM(Table_B.1!N12,Table_B.2!N12),\":\")","v":0},null,{"$f":"IF(OR(ISNUMBER(Table_B.1!P12),ISNUMBER(Table_B.2!P12)),SUM(Table_B.1!P12,Table_B.2!P12),\":\")","v":0},null,{"$f":"IF(OR(ISNUMBER(Table_B.1!R12),ISNUMBER(Table_B.2!R12)),SUM(Table_B.1!R12,Table_B.2!R12),\":\")","v":0},null,{"$f":"IF(OR(ISNUMBER(Table_B.1!T12),ISNUMBER(Table_B.2!T12)),SUM(Table_B.1!T12,Table_B.2!T12),\":\")","v":0},null,{"$f":"IF(OR(ISNUMBER(Table_B.1!V12),ISNUMBER(Table_B.2!V12)),SUM(Table_B.1!V12,Table_B.2!V12),\":\")","v":0},null,{"$f":"IF(OR(ISNUMBER(Table_B.1!X12),ISNUMBER(Table_B.2!X12)),SUM(Table_B.1!X12,Table_B.2!X12),\":\")","v":0},null,{"$f":"IF(OR(ISNUMBER(Table_B.1!Z12),ISNUMBER(Table_B.2!Z12)),SUM(Table_B.1!Z12,Table_B.2!Z12),\":\")","v":0},null,{"$f":"IF(OR(ISNUMBER(Table_B.1!AB12),ISNUMBER(Table_B.2!AB12)),SUM(Table_B.1!AB12,Table_B.2!AB12),\":\")","v":0},null,{"$f":"IF(OR(ISNUMBER(Table_B.1!AD12),ISNUMBER(Table_B.2!AD12)),SUM(Table_B.1!AD12,Table_B.2!AD12),\":\")","v":0},null,{"$f":"IF(OR(ISNUMBER(Table_B.1!AF12),ISNUMBER(Table_B.2!AF12)),SUM(Table_B.1!AF12,Table_B.2!AF12),\":\")","v":0},null,{"$f":"IF(OR(ISNUMBER(Table_B.1!AH12),ISNUMBER(Table_B.2!AH12)),SUM(Table_B.1!AH12,Table_B.2!AH12),\":\")","v":0},null,{"$f":"IF(OR(ISNUMBER(Table_B.1!AJ12),ISNUMBER(Table_B.2!AJ12)),SUM(Table_B.1!AJ12,Table_B.2!AJ12),\":\")","v":0},null,{"$f":"IF(OR(ISNUMBER(Table_B.1!AL12),ISNUMBER(Table_B.2!AL12)),SUM(Table_B.1!AL12,Table_B.2!AL12),\":\")","v":0},null,{"$f":"IF(OR(ISNUMBER(Table_B.1!AN12),ISNUMBER(Table_B.2!AN12)),SUM(Table_B.1!AN12,Table_B.2!AN12),\":\")","v":0},null,{"$f":"IF(OR(ISNUMBER(Table_B.1!AP12),ISNUMBER(Table_B.2!AP12)),SUM(Table_B.1!AP12,Table_B.2!AP12),\":\")","v":0},null,{"$f":"IF(OR(ISNUMBER(Table_B.1!AR12),ISNUMBER(Table_B.2!AR12)),SUM(Table_B.1!AR12,Table_B.2!AR12),\":\")","v":0},null,{"$f":"IF(OR(ISNUMBER(Table_B.1!AT12),ISNUMBER(Table_B.2!AT12)),SUM(Table_B.1!AT12,Table_B.2!AT12),\":\")","v":0},null,{"$f":"IF(OR(ISNUMBER(Table_B.1!AV12),ISNUMBER(Table_B.2!AV12)),SUM(Table_B.1!AV12,Table_B.2!AV12),\":\")","v":0},null,{"$f":"IF(OR(ISNUMBER(Table_B.1!AX12),ISNUMBER(Table_B.2!AX12)),SUM(Table_B.1!AX12,Table_B.2!AX12),\":\")","v":0},null,{"$f":"IF(OR(ISNUMBER(Table_B.1!AZ12),ISNUMBER(Table_B.2!AZ12)),SUM(Table_B.1!AZ12,Table_B.2!AZ12),\":\")","v":0},null,{"$f":"IF(OR(ISNUMBER(Table_B.1!BB12),ISNUMBER(Table_B.2!BB12)),SUM(Table_B.1!BB12,Table_B.2!BB12),\":\")","v":0},null,{"$f":"IF(OR(ISNUMBER(Table_B.1!BD12),ISNUMBER(Table_B.2!BD12)),SUM(Table_B.1!BD12,Table_B.2!BD12),\":\")","v":0},null,{"$f":"IF(OR(ISNUMBER(Table_B.1!BF12),ISNUMBER(Table_B.2!BF12)),SUM(Table_B.1!BF12,Table_B.2!BF12),\":\")","v":0},null,{"$f":"IF(OR(ISNUMBER(Table_B.1!BH12),ISNUMBER(Table_B.2!BH12)),SUM(Table_B.1!BH12,Table_B.2!BH12),\":\")","v":0},null,{"$f":"IF(OR(ISNUMBER(Table_B.1!BJ12),ISNUMBER(Table_B.2!BJ12)),SUM(Table_B.1!BJ12,Table_B.2!BJ12),\":\")","v":0},null,{"$f":"IF(OR(ISNUMBER(Table_B.1!BL12),ISNUMBER(Table_B.2!BL12)),SUM(Table_B.1!BL12,Table_B.2!BL12),\":\")","v":0},null,{"$f":"IF(OR(ISNUMBER(Table_B.1!BN12),ISNUMBER(Table_B.2!BN12)),SUM(Table_B.1!BN12,Table_B.2!BN12),\":\")","v":0},null,{"$f":"IF(OR(ISNUMBER(Table_B.1!BP12),ISNUMBER(Table_B.2!BP12)),SUM(Table_B.1!BP12,Table_B.2!BP12),\":\")","v":0},null,{"$f":"IF(OR(ISNUMBER(Table_B.1!BR12),ISNUMBER(Table_B.2!BR12)),SUM(Table_B.1!BR12,Table_B.2!BR12),\":\")","v":0},null,{"$f":"IF(OR(ISNUMBER(Table_B.1!BT12),ISNUMBER(Table_B.2!BT12)),SUM(Table_B.1!BT12,Table_B.2!BT12),\":\")","v":0},null,{"$f":"IF(OR(ISNUMBER(Table_B.1!BV12),ISNUMBER(Table_B.2!BV12)),SUM(Table_B.1!BV12,Table_B.2!BV12),\":\")","v":0},null,{"$f":"IF(OR(ISNUMBER(Table_B.1!BX12),ISNUMBER(Table_B.2!BX12)),SUM(Table_B.1!BX12,Table_B.2!BX12),\":\")","v":0},null,{"$f":"IF(OR(ISNUMBER(Table_B.1!BZ12),ISNUMBER(Table_B.2!BZ12)),SUM(Table_B.1!BZ12,Table_B.2!BZ12),\":\")","v":0},null,{"$f":"IF(OR(ISNUMBER(Table_B.1!CB12),ISNUMBER(Table_B.2!CB12)),SUM(Table_B.1!CB12,Table_B.2!CB12),\":\")","v":0},null,{"$f":"IF(OR(ISNUMBER(Table_B.1!CD12),ISNUMBER(Table_B.2!CD12)),SUM(Table_B.1!CD12,Table_B.2!CD12),\":\")","v":0},null,{"$f":"IF(OR(ISNUMBER(Table_B.1!CF12),ISNUMBER(Table_B.2!CF12)),SUM(Table_B.1!CF12,Table_B.2!CF12),\":\")","v":0},null,{"$f":"IF(OR(ISNUMBER(Table_B.1!CH12),ISNUMBER(Table_B.2!CH12)),SUM(Table_B.1!CH12,Table_B.2!CH12),\":\")","v":0},null,{"$f":"IF(OR(ISNUMBER(Table_B.1!CJ12),ISNUMBER(Table_B.2!CJ12)),SUM(Table_B.1!CJ12,Table_B.2!CJ12),\":\")","v":0},null,{"$f":"IF(OR(ISNUMBER(Table_B.1!CL12),ISNUMBER(Table_B.2!CL12)),SUM(Table_B.1!CL12,Table_B.2!CL12),\":\")","v":0},null,{"$f":"IF(OR(ISNUMBER(Table_B.1!CN12),ISNUMBER(Table_B.2!CN12)),SUM(Table_B.1!CN12,Table_B.2!CN12),\":\")","v":0},null,{"$f":"IF(OR(ISNUMBER(Table_B.1!CP12),ISNUMBER(Table_B.2!CP12)),SUM(Table_B.1!CP12,Table_B.2!CP12),\":\")","v":0},null,{"$f":"IF(OR(ISNUMBER(Table_B.1!CR12),ISNUMBER(Table_B.2!CR12)),SUM(Table_B.1!CR12,Table_B.2!CR12),\":\")","v":0},null,{"$f":"IF(OR(ISNUMBER(Table_B.1!CT12),ISNUMBER(Table_B.2!CT12)),SUM(Table_B.1!CT12,Table_B.2!CT12),\":\")","v":0},null,{"$f":"IF(OR(ISNUMBER(Table_B.1!CV12),ISNUMBER(Table_B.2!CV12)),SUM(Table_B.1!CV12,Table_B.2!CV12),\":\")","v":0},null,{"$f":"IF(OR(ISNUMBER(Table_B.1!CX12),ISNUMBER(Table_B.2!CX12)),SUM(Table_B.1!CX12,Table_B.2!CX12),\":\")","v":0},null,{"$f":"IF(OR(ISNUMBER(Table_B.1!CZ12),ISNUMBER(Table_B.2!CZ12)),SUM(Table_B.1!CZ12,Table_B.2!CZ12),\":\")","v":0},null,{"$f":"IF(OR(ISNUMBER(Table_B.1!DB12),ISNUMBER(Table_B.2!DB12)),SUM(Table_B.1!DB12,Table_B.2!DB12),\":\")","v":0},null,{"$f":"IF(OR(ISNUMBER(Table_B.1!DD12),ISNUMBER(Table_B.2!DD12)),SUM(Table_B.1!DD12,Table_B.2!DD12),\":\")","v":0},null,{"$f":"IF(OR(ISNUMBER(Table_B.1!DF12),ISNUMBER(Table_B.2!DF12)),SUM(Table_B.1!DF12,Table_B.2!DF12),\":\")","v":0},null,{"$f":"IF(OR(ISNUMBER(Table_B.1!DH12),ISNUMBER(Table_B.2!DH12)),SUM(Table_B.1!DH12,Table_B.2!DH12),\":\")","v":0},null,{"$f":"IF(OR(ISNUMBER(Table_B.1!DJ12),ISNUMBER(Table_B.2!DJ12)),SUM(Table_B.1!DJ12,Table_B.2!DJ12),\":\")","v":0},null,{"$f":"IF(OR(ISNUMBER(Table_B.1!DL12),ISNUMBER(Table_B.2!DL12)),SUM(Table_B.1!DL12,Table_B.2!DL12),\":\")","v":0},null,{"$f":"IF(OR(ISNUMBER(Table_B.1!DN12),ISNUMBER(Table_B.2!DN12)),SUM(Table_B.1!DN12,Table_B.2!DN12),\":\")","v":0},null,{"$f":"IF(OR(ISNUMBER(Table_B.1!DP12),ISNUMBER(Table_B.2!DP12)),SUM(Table_B.1!DP12,Table_B.2!DP12),\":\")","v":0},null,{"$f":"IF(OR(ISNUMBER(Table_B.1!DR12),ISNUMBER(Table_B.2!DR12)),SUM(Table_B.1!DR12,Table_B.2!DR12),\":\")","v":0},null,{"$f":"IF(OR(ISNUMBER(Table_B.1!DT12),ISNUMBER(Table_B.2!DT12)),SUM(Table_B.1!DT12,Table_B.2!DT12),\":\")","v":0},null,{"$f":"IF(OR(ISNUMBER(Table_B.1!DV12),ISNUMBER(Table_B.2!DV12)),SUM(Table_B.1!DV12,Table_B.2!DV12),\":\")","v":0},null,{"$f":"IF(OR(ISNUMBER(Table_B.1!DX12),ISNUMBER(Table_B.2!DX12)),SUM(Table_B.1!DX12,Table_B.2!DX12),\":\")","v":0},null,{"$f":"IF(OR(ISNUMBER(Table_B.1!DZ12),ISNUMBER(Table_B.2!DZ12)),SUM(Table_B.1!DZ12,Table_B.2!DZ12),\":\")","v":0},null,{"$f":"IF(OR(ISNUMBER(Table_B.1!EB12),ISNUMBER(Table_B.2!EB12)),SUM(Table_B.1!EB12,Table_B.2!EB12),\":\")","v":0},null,{"$f":"IF(OR(ISNUMBER(Table_B.1!ED12),ISNUMBER(Table_B.2!ED12)),SUM(Table_B.1!ED12,Table_B.2!ED12),\":\")","v":0},null,{"$f":"IF(OR(ISNUMBER(Table_B.1!EF12),ISNUMBER(Table_B.2!EF12)),SUM(Table_B.1!EF12,Table_B.2!EF12),\":\")","v":0},null,{"$f":"IF(OR(ISNUMBER(Table_B.1!EH12),ISNUMBER(Table_B.2!EH12)),SUM(Table_B.1!EH12,Table_B.2!EH12),\":\")","v":0},null,{"$f":"IF(OR(ISNUMBER(Table_B.1!EJ12),ISNUMBER(Table_B.2!EJ12)),SUM(Table_B.1!EJ12,Table_B.2!EJ12),\":\")","v":0},null,{"$f":"IF(OR(ISNUMBER(Table_B.1!EL12),ISNUMBER(Table_B.2!EL12)),SUM(Table_B.1!EL12,Table_B.2!EL12),\":\")","v":0},null,{"$f":"IF(OR(ISNUMBER(Table_B.1!EN12),ISNUMBER(Table_B.2!EN12)),SUM(Table_B.1!EN12,Table_B.2!EN12),\":\")","v":0},null,{"$f":"IF(OR(ISNUMBER(Table_B.1!EP12),ISNUMBER(Table_B.2!EP12)),SUM(Table_B.1!EP12,Table_B.2!EP12),\":\")","v":0},null,{"$f":"IF(OR(ISNUMBER(Table_B.1!ER12),ISNUMBER(Table_B.2!ER12)),SUM(Table_B.1!ER12,Table_B.2!ER12),\":\")","v":0},null,{"$f":"IF(OR(ISNUMBER(Table_B.1!ET12),ISNUMBER(Table_B.2!ET12)),SUM(Table_B.1!ET12,Table_B.2!ET12),\":\")","v":0},null,{"$f":"IF(OR(ISNUMBER(Table_B.1!EV12),ISNUMBER(Table_B.2!EV12)),SUM(Table_B.1!EV12,Table_B.2!EV12),\":\")","v":0},null,{"$f":"IF(OR(ISNUMBER(Table_B.1!EX12),ISNUMBER(Table_B.2!EX12)),SUM(Table_B.1!EX12,Table_B.2!EX12),\":\")","v":0},null,{"$f":"IF(OR(ISNUMBER(Table_B.1!EZ12),ISNUMBER(Table_B.2!EZ12)),SUM(Table_B.1!EZ12,Table_B.2!EZ12),\":\")","v":0},null,{"$f":"IF(OR(ISNUMBER(Table_B.1!FB12),ISNUMBER(Table_B.2!FB12)),SUM(Table_B.1!FB12,Table_B.2!FB12),\":\")","v":0},null,{"$f":"IF(OR(ISNUMBER(Table_B.1!FD12),ISNUMBER(Table_B.2!FD12)),SUM(Table_B.1!FD12,Table_B.2!FD12),\":\")","v":0},null,{"$f":"IF(OR(ISNUMBER(Table_B.1!FF12),ISNUMBER(Table_B.2!FF12)),SUM(Table_B.1!FF12,Table_B.2!FF12),\":\")","v":0},null,{"$f":"SUM(Table_B.1!FH12,Table_B.2!FH12)","v":0},null,null,null,null,null,null,null,null,null,null,null,null,null,null,null,0,null,""]
[null,5,2,{"$f":"'PEFA rows'!C7","v":"N04"},{"$f":"'PEFA rows'!D7","v":"Wind based renewable natural energy inputs"},null,null,0,null,{"$f":"IF(OR(ISNUMBER(Table_B.1!J13),ISNUMBER(Table_B.2!J13)),SUM(Table_B.1!J13,Table_B.2!J13),\":\")","v":0},null,{"$f":"IF(OR(ISNUMBER(Table_B.1!L13),ISNUMBER(Table_B.2!L13)),SUM(Table_B.1!L13,Table_B.2!L13),\":\")","v":0},null,{"$f":"IF(OR(ISNUMBER(Table_B.1!N13),ISNUMBER(Table_B.2!N13)),SUM(Table_B.1!N13,Table_B.2!N13),\":\")","v":0},null,{"$f":"IF(OR(ISNUMBER(Table_B.1!P13),ISNUMBER(Table_B.2!P13)),SUM(Table_B.1!P13,Table_B.2!P13),\":\")","v":0},null,{"$f":"IF(OR(ISNUMBER(Table_B.1!R13),ISNUMBER(Table_B.2!R13)),SUM(Table_B.1!R13,Table_B.2!R13),\":\")","v":0},null,{"$f":"IF(OR(ISNUMBER(Table_B.1!T13),ISNUMBER(Table_B.2!T13)),SUM(Table_B.1!T13,Table_B.2!T13),\":\")","v":0},null,{"$f":"IF(OR(ISNUMBER(Table_B.1!V13),ISNUMBER(Table_B.2!V13)),SUM(Table_B.1!V13,Table_B.2!V13),\":\")","v":0},null,{"$f":"IF(OR(ISNUMBER(Table_B.1!X13),ISNUMBER(Table_B.2!X13)),SUM(Table_B.1!X13,Table_B.2!X13),\":\")","v":0},null,{"$f":"IF(OR(ISNUMBER(Table_B.1!Z13),ISNUMBER(Table_B.2!Z13)),SUM(Table_B.1!Z13,Table_B.2!Z13),\":\")","v":0},null,{"$f":"IF(OR(ISNUMBER(Table_B.1!AB13),ISNUMBER(Table_B.2!AB13)),SUM(Table_B.1!AB13,Table_B.2!AB13),\":\")","v":0},null,{"$f":"IF(OR(ISNUMBER(Table_B.1!AD13),ISNUMBER(Table_B.2!AD13)),SUM(Table_B.1!AD13,Table_B.2!AD13),\":\")","v":0},null,{"$f":"IF(OR(ISNUMBER(Table_B.1!AF13),ISNUMBER(Table_B.2!AF13)),SUM(Table_B.1!AF13,Table_B.2!AF13),\":\")","v":0},null,{"$f":"IF(OR(ISNUMBER(Table_B.1!AH13),ISNUMBER(Table_B.2!AH13)),SUM(Table_B.1!AH13,Table_B.2!AH13),\":\")","v":0},null,{"$f":"IF(OR(ISNUMBER(Table_B.1!AJ13),ISNUMBER(Table_B.2!AJ13)),SUM(Table_B.1!AJ13,Table_B.2!AJ13),\":\")","v":0},null,{"$f":"IF(OR(ISNUMBER(Table_B.1!AL13),ISNUMBER(Table_B.2!AL13)),SUM(Table_B.1!AL13,Table_B.2!AL13),\":\")","v":0},null,{"$f":"IF(OR(ISNUMBER(Table_B.1!AN13),ISNUMBER(Table_B.2!AN13)),SUM(Table_B.1!AN13,Table_B.2!AN13),\":\")","v":0},null,{"$f":"IF(OR(ISNUMBER(Table_B.1!AP13),ISNUMBER(Table_B.2!AP13)),SUM(Table_B.1!AP13,Table_B.2!AP13),\":\")","v":0},null,{"$f":"IF(OR(ISNUMBER(Table_B.1!AR13),ISNUMBER(Table_B.2!AR13)),SUM(Table_B.1!AR13,Table_B.2!AR13),\":\")","v":0},null,{"$f":"IF(OR(ISNUMBER(Table_B.1!AT13),ISNUMBER(Table_B.2!AT13)),SUM(Table_B.1!AT13,Table_B.2!AT13),\":\")","v":0},null,{"$f":"IF(OR(ISNUMBER(Table_B.1!AV13),ISNUMBER(Table_B.2!AV13)),SUM(Table_B.1!AV13,Table_B.2!AV13),\":\")","v":0},null,{"$f":"IF(OR(ISNUMBER(Table_B.1!AX13),ISNUMBER(Table_B.2!AX13)),SUM(Table_B.1!AX13,Table_B.2!AX13),\":\")","v":0},null,{"$f":"IF(OR(ISNUMBER(Table_B.1!AZ13),ISNUMBER(Table_B.2!AZ13)),SUM(Table_B.1!AZ13,Table_B.2!AZ13),\":\")","v":0},null,{"$f":"IF(OR(ISNUMBER(Table_B.1!BB13),ISNUMBER(Table_B.2!BB13)),SUM(Table_B.1!BB13,Table_B.2!BB13),\":\")","v":0},null,{"$f":"IF(OR(ISNUMBER(Table_B.1!BD13),ISNUMBER(Table_B.2!BD13)),SUM(Table_B.1!BD13,Table_B.2!BD13),\":\")","v":0},null,{"$f":"IF(OR(ISNUMBER(Table_B.1!BF13),ISNUMBER(Table_B.2!BF13)),SUM(Table_B.1!BF13,Table_B.2!BF13),\":\")","v":0},null,{"$f":"IF(OR(ISNUMBER(Table_B.1!BH13),ISNUMBER(Table_B.2!BH13)),SUM(Table_B.1!BH13,Table_B.2!BH13),\":\")","v":0},null,{"$f":"IF(OR(ISNUMBER(Table_B.1!BJ13),ISNUMBER(Table_B.2!BJ13)),SUM(Table_B.1!BJ13,Table_B.2!BJ13),\":\")","v":0},null,{"$f":"IF(OR(ISNUMBER(Table_B.1!BL13),ISNUMBER(Table_B.2!BL13)),SUM(Table_B.1!BL13,Table_B.2!BL13),\":\")","v":0},null,{"$f":"IF(OR(ISNUMBER(Table_B.1!BN13),ISNUMBER(Table_B.2!BN13)),SUM(Table_B.1!BN13,Table_B.2!BN13),\":\")","v":0},null,{"$f":"IF(OR(ISNUMBER(Table_B.1!BP13),ISNUMBER(Table_B.2!BP13)),SUM(Table_B.1!BP13,Table_B.2!BP13),\":\")","v":0},null,{"$f":"IF(OR(ISNUMBER(Table_B.1!BR13),ISNUMBER(Table_B.2!BR13)),SUM(Table_B.1!BR13,Table_B.2!BR13),\":\")","v":0},null,{"$f":"IF(OR(ISNUMBER(Table_B.1!BT13),ISNUMBER(Table_B.2!BT13)),SUM(Table_B.1!BT13,Table_B.2!BT13),\":\")","v":0},null,{"$f":"IF(OR(ISNUMBER(Table_B.1!BV13),ISNUMBER(Table_B.2!BV13)),SUM(Table_B.1!BV13,Table_B.2!BV13),\":\")","v":0},null,{"$f":"IF(OR(ISNUMBER(Table_B.1!BX13),ISNUMBER(Table_B.2!BX13)),SUM(Table_B.1!BX13,Table_B.2!BX13),\":\")","v":0},null,{"$f":"IF(OR(ISNUMBER(Table_B.1!BZ13),ISNUMBER(Table_B.2!BZ13)),SUM(Table_B.1!BZ13,Table_B.2!BZ13),\":\")","v":0},null,{"$f":"IF(OR(ISNUMBER(Table_B.1!CB13),ISNUMBER(Table_B.2!CB13)),SUM(Table_B.1!CB13,Table_B.2!CB13),\":\")","v":0},null,{"$f":"IF(OR(ISNUMBER(Table_B.1!CD13),ISNUMBER(Table_B.2!CD13)),SUM(Table_B.1!CD13,Table_B.2!CD13),\":\")","v":0},null,{"$f":"IF(OR(ISNUMBER(Table_B.1!CF13),ISNUMBER(Table_B.2!CF13)),SUM(Table_B.1!CF13,Table_B.2!CF13),\":\")","v":0},null,{"$f":"IF(OR(ISNUMBER(Table_B.1!CH13),ISNUMBER(Table_B.2!CH13)),SUM(Table_B.1!CH13,Table_B.2!CH13),\":\")","v":0},null,{"$f":"IF(OR(ISNUMBER(Table_B.1!CJ13),ISNUMBER(Table_B.2!CJ13)),SUM(Table_B.1!CJ13,Table_B.2!CJ13),\":\")","v":0},null,{"$f":"IF(OR(ISNUMBER(Table_B.1!CL13),ISNUMBER(Table_B.2!CL13)),SUM(Table_B.1!CL13,Table_B.2!CL13),\":\")","v":0},null,{"$f":"IF(OR(ISNUMBER(Table_B.1!CN13),ISNUMBER(Table_B.2!CN13)),SUM(Table_B.1!CN13,Table_B.2!CN13),\":\")","v":0},null,{"$f":"IF(OR(ISNUMBER(Table_B.1!CP13),ISNUMBER(Table_B.2!CP13)),SUM(Table_B.1!CP13,Table_B.2!CP13),\":\")","v":0},null,{"$f":"IF(OR(ISNUMBER(Table_B.1!CR13),ISNUMBER(Table_B.2!CR13)),SUM(Table_B.1!CR13,Table_B.2!CR13),\":\")","v":0},null,{"$f":"IF(OR(ISNUMBER(Table_B.1!CT13),ISNUMBER(Table_B.2!CT13)),SUM(Table_B.1!CT13,Table_B.2!CT13),\":\")","v":0},null,{"$f":"IF(OR(ISNUMBER(Table_B.1!CV13),ISNUMBER(Table_B.2!CV13)),SUM(Table_B.1!CV13,Table_B.2!CV13),\":\")","v":0},null,{"$f":"IF(OR(ISNUMBER(Table_B.1!CX13),ISNUMBER(Table_B.2!CX13)),SUM(Table_B.1!CX13,Table_B.2!CX13),\":\")","v":0},null,{"$f":"IF(OR(ISNUMBER(Table_B.1!CZ13),ISNUMBER(Table_B.2!CZ13)),SUM(Table_B.1!CZ13,Table_B.2!CZ13),\":\")","v":0},null,{"$f":"IF(OR(ISNUMBER(Table_B.1!DB13),ISNUMBER(Table_B.2!DB13)),SUM(Table_B.1!DB13,Table_B.2!DB13),\":\")","v":0},null,{"$f":"IF(OR(ISNUMBER(Table_B.1!DD13),ISNUMBER(Table_B.2!DD13)),SUM(Table_B.1!DD13,Table_B.2!DD13),\":\")","v":0},null,{"$f":"IF(OR(ISNUMBER(Table_B.1!DF13),ISNUMBER(Table_B.2!DF13)),SUM(Table_B.1!DF13,Table_B.2!DF13),\":\")","v":0},null,{"$f":"IF(OR(ISNUMBER(Table_B.1!DH13),ISNUMBER(Table_B.2!DH13)),SUM(Table_B.1!DH13,Table_B.2!DH13),\":\")","v":0},null,{"$f":"IF(OR(ISNUMBER(Table_B.1!DJ13),ISNUMBER(Table_B.2!DJ13)),SUM(Table_B.1!DJ13,Table_B.2!DJ13),\":\")","v":0},null,{"$f":"IF(OR(ISNUMBER(Table_B.1!DL13),ISNUMBER(Table_B.2!DL13)),SUM(Table_B.1!DL13,Table_B.2!DL13),\":\")","v":0},null,{"$f":"IF(OR(ISNUMBER(Table_B.1!DN13),ISNUMBER(Table_B.2!DN13)),SUM(Table_B.1!DN13,Table_B.2!DN13),\":\")","v":0},null,{"$f":"IF(OR(ISNUMBER(Table_B.1!DP13),ISNUMBER(Table_B.2!DP13)),SUM(Table_B.1!DP13,Table_B.2!DP13),\":\")","v":0},null,{"$f":"IF(OR(ISNUMBER(Table_B.1!DR13),ISNUMBER(Table_B.2!DR13)),SUM(Table_B.1!DR13,Table_B.2!DR13),\":\")","v":0},null,{"$f":"IF(OR(ISNUMBER(Table_B.1!DT13),ISNUMBER(Table_B.2!DT13)),SUM(Table_B.1!DT13,Table_B.2!DT13),\":\")","v":0},null,{"$f":"IF(OR(ISNUMBER(Table_B.1!DV13),ISNUMBER(Table_B.2!DV13)),SUM(Table_B.1!DV13,Table_B.2!DV13),\":\")","v":0},null,{"$f":"IF(OR(ISNUMBER(Table_B.1!DX13),ISNUMBER(Table_B.2!DX13)),SUM(Table_B.1!DX13,Table_B.2!DX13),\":\")","v":0},null,{"$f":"IF(OR(ISNUMBER(Table_B.1!DZ13),ISNUMBER(Table_B.2!DZ13)),SUM(Table_B.1!DZ13,Table_B.2!DZ13),\":\")","v":0},null,{"$f":"IF(OR(ISNUMBER(Table_B.1!EB13),ISNUMBER(Table_B.2!EB13)),SUM(Table_B.1!EB13,Table_B.2!EB13),\":\")","v":0},null,{"$f":"IF(OR(ISNUMBER(Table_B.1!ED13),ISNUMBER(Table_B.2!ED13)),SUM(Table_B.1!ED13,Table_B.2!ED13),\":\")","v":0},null,{"$f":"IF(OR(ISNUMBER(Table_B.1!EF13),ISNUMBER(Table_B.2!EF13)),SUM(Table_B.1!EF13,Table_B.2!EF13),\":\")","v":0},null,{"$f":"IF(OR(ISNUMBER(Table_B.1!EH13),ISNUMBER(Table_B.2!EH13)),SUM(Table_B.1!EH13,Table_B.2!EH13),\":\")","v":0},null,{"$f":"IF(OR(ISNUMBER(Table_B.1!EJ13),ISNUMBER(Table_B.2!EJ13)),SUM(Table_B.1!EJ13,Table_B.2!EJ13),\":\")","v":0},null,{"$f":"IF(OR(ISNUMBER(Table_B.1!EL13),ISNUMBER(Table_B.2!EL13)),SUM(Table_B.1!EL13,Table_B.2!EL13),\":\")","v":0},null,{"$f":"IF(OR(ISNUMBER(Table_B.1!EN13),ISNUMBER(Table_B.2!EN13)),SUM(Table_B.1!EN13,Table_B.2!EN13),\":\")","v":0},null,{"$f":"IF(OR(ISNUMBER(Table_B.1!EP13),ISNUMBER(Table_B.2!EP13)),SUM(Table_B.1!EP13,Table_B.2!EP13),\":\")","v":0},null,{"$f":"IF(OR(ISNUMBER(Table_B.1!ER13),ISNUMBER(Table_B.2!ER13)),SUM(Table_B.1!ER13,Table_B.2!ER13),\":\")","v":0},null,{"$f":"IF(OR(ISNUMBER(Table_B.1!ET13),ISNUMBER(Table_B.2!ET13)),SUM(Table_B.1!ET13,Table_B.2!ET13),\":\")","v":0},null,{"$f":"IF(OR(ISNUMBER(Table_B.1!EV13),ISNUMBER(Table_B.2!EV13)),SUM(Table_B.1!EV13,Table_B.2!EV13),\":\")","v":0},null,{"$f":"IF(OR(ISNUMBER(Table_B.1!EX13),ISNUMBER(Table_B.2!EX13)),SUM(Table_B.1!EX13,Table_B.2!EX13),\":\")","v":0},null,{"$f":"IF(OR(ISNUMBER(Table_B.1!EZ13),ISNUMBER(Table_B.2!EZ13)),SUM(Table_B.1!EZ13,Table_B.2!EZ13),\":\")","v":0},null,{"$f":"IF(OR(ISNUMBER(Table_B.1!FB13),ISNUMBER(Table_B.2!FB13)),SUM(Table_B.1!FB13,Table_B.2!FB13),\":\")","v":0},null,{"$f":"IF(OR(ISNUMBER(Table_B.1!FD13),ISNUMBER(Table_B.2!FD13)),SUM(Table_B.1!FD13,Table_B.2!FD13),\":\")","v":0},null,{"$f":"IF(OR(ISNUMBER(Table_B.1!FF13),ISNUMBER(Table_B.2!FF13)),SUM(Table_B.1!FF13,Table_B.2!FF13),\":\")","v":0},null,{"$f":"SUM(Table_B.1!FH13,Table_B.2!FH13)","v":0},null,null,null,null,null,null,null,null,null,null,null,null,null,null,null,0,null,""]
[null,6,2,{"$f":"'PEFA rows'!C8","v":"N05"},{"$f":"'PEFA rows'!D8","v":"Solar based renewable natural energy inputs"},null,null,0,null,{"$f":"IF(OR(ISNUMBER(Table_B.1!J14),ISNUMBER(Table_B.2!J14)),SUM(Table_B.1!J14,Table_B.2!J14),\":\")","v":0},null,{"$f":"IF(OR(ISNUMBER(Table_B.1!L14),ISNUMBER(Table_B.2!L14)),SUM(Table_B.1!L14,Table_B.2!L14),\":\")","v":0},null,{"$f":"IF(OR(ISNUMBER(Table_B.1!N14),ISNUMBER(Table_B.2!N14)),SUM(Table_B.1!N14,Table_B.2!N14),\":\")","v":0},null,{"$f":"IF(OR(ISNUMBER(Table_B.1!P14),ISNUMBER(Table_B.2!P14)),SUM(Table_B.1!P14,Table_B.2!P14),\":\")","v":0},null,{"$f":"IF(OR(ISNUMBER(Table_B.1!R14),ISNUMBER(Table_B.2!R14)),SUM(Table_B.1!R14,Table_B.2!R14),\":\")","v":0},null,{"$f":"IF(OR(ISNUMBER(Table_B.1!T14),ISNUMBER(Table_B.2!T14)),SUM(Table_B.1!T14,Table_B.2!T14),\":\")","v":0},null,{"$f":"IF(OR(ISNUMBER(Table_B.1!V14),ISNUMBER(Table_B.2!V14)),SUM(Table_B.1!V14,Table_B.2!V14),\":\")","v":0},null,{"$f":"IF(OR(ISNUMBER(Table_B.1!X14),ISNUMBER(Table_B.2!X14)),SUM(Table_B.1!X14,Table_B.2!X14),\":\")","v":0},null,{"$f":"IF(OR(ISNUMBER(Table_B.1!Z14),ISNUMBER(Table_B.2!Z14)),SUM(Table_B.1!Z14,Table_B.2!Z14),\":\")","v":0},null,{"$f":"IF(OR(ISNUMBER(Table_B.1!AB14),ISNUMBER(Table_B.2!AB14)),SUM(Table_B.1!AB14,Table_B.2!AB14),\":\")","v":0},null,{"$f":"IF(OR(ISNUMBER(Table_B.1!AD14),ISNUMBER(Table_B.2!AD14)),SUM(Table_B.1!AD14,Table_B.2!AD14),\":\")","v":0},null,{"$f":"IF(OR(ISNUMBER(Table_B.1!AF14),ISNUMBER(Table_B.2!AF14)),SUM(Table_B.1!AF14,Table_B.2!AF14),\":\")","v":0},null,{"$f":"IF(OR(ISNUMBER(Table_B.1!AH14),ISNUMBER(Table_B.2!AH14)),SUM(Table_B.1!AH14,Table_B.2!AH14),\":\")","v":0},null,{"$f":"IF(OR(ISNUMBER(Table_B.1!AJ14),ISNUMBER(Table_B.2!AJ14)),SUM(Table_B.1!AJ14,Table_B.2!AJ14),\":\")","v":0},null,{"$f":"IF(OR(ISNUMBER(Table_B.1!AL14),ISNUMBER(Table_B.2!AL14)),SUM(Table_B.1!AL14,Table_B.2!AL14),\":\")","v":0},null,{"$f":"IF(OR(ISNUMBER(Table_B.1!AN14),ISNUMBER(Table_B.2!AN14)),SUM(Table_B.1!AN14,Table_B.2!AN14),\":\")","v":0},null,{"$f":"IF(OR(ISNUMBER(Table_B.1!AP14),ISNUMBER(Table_B.2!AP14)),SUM(Table_B.1!AP14,Table_B.2!AP14),\":\")","v":0},null,{"$f":"IF(OR(ISNUMBER(Table_B.1!AR14),ISNUMBER(Table_B.2!AR14)),SUM(Table_B.1!AR14,Table_B.2!AR14),\":\")","v":0},null,{"$f":"IF(OR(ISNUMBER(Table_B.1!AT14),ISNUMBER(Table_B.2!AT14)),SUM(Table_B.1!AT14,Table_B.2!AT14),\":\")","v":0},null,{"$f":"IF(OR(ISNUMBER(Table_B.1!AV14),ISNUMBER(Table_B.2!AV14)),SUM(Table_B.1!AV14,Table_B.2!AV14),\":\")","v":0},null,{"$f":"IF(OR(ISNUMBER(Table_B.1!AX14),ISNUMBER(Table_B.2!AX14)),SUM(Table_B.1!AX14,Table_B.2!AX14),\":\")","v":0},null,{"$f":"IF(OR(ISNUMBER(Table_B.1!AZ14),ISNUMBER(Table_B.2!AZ14)),SUM(Table_B.1!AZ14,Table_B.2!AZ14),\":\")","v":0},null,{"$f":"IF(OR(ISNUMBER(Table_B.1!BB14),ISNUMBER(Table_B.2!BB14)),SUM(Table_B.1!BB14,Table_B.2!BB14),\":\")","v":0},null,{"$f":"IF(OR(ISNUMBER(Table_B.1!BD14),ISNUMBER(Table_B.2!BD14)),SUM(Table_B.1!BD14,Table_B.2!BD14),\":\")","v":0},null,{"$f":"IF(OR(ISNUMBER(Table_B.1!BF14),ISNUMBER(Table_B.2!BF14)),SUM(Table_B.1!BF14,Table_B.2!BF14),\":\")","v":0},null,{"$f":"IF(OR(ISNUMBER(Table_B.1!BH14),ISNUMBER(Table_B.2!BH14)),SUM(Table_B.1!BH14,Table_B.2!BH14),\":\")","v":0},null,{"$f":"IF(OR(ISNUMBER(Table_B.1!BJ14),ISNUMBER(Table_B.2!BJ14)),SUM(Table_B.1!BJ14,Table_B.2!BJ14),\":\")","v":0},null,{"$f":"IF(OR(ISNUMBER(Table_B.1!BL14),ISNUMBER(Table_B.2!BL14)),SUM(Table_B.1!BL14,Table_B.2!BL14),\":\")","v":0},null,{"$f":"IF(OR(ISNUMBER(Table_B.1!BN14),ISNUMBER(Table_B.2!BN14)),SUM(Table_B.1!BN14,Table_B.2!BN14),\":\")","v":0},null,{"$f":"IF(OR(ISNUMBER(Table_B.1!BP14),ISNUMBER(Table_B.2!BP14)),SUM(Table_B.1!BP14,Table_B.2!BP14),\":\")","v":0},null,{"$f":"IF(OR(ISNUMBER(Table_B.1!BR14),ISNUMBER(Table_B.2!BR14)),SUM(Table_B.1!BR14,Table_B.2!BR14),\":\")","v":0},null,{"$f":"IF(OR(ISNUMBER(Table_B.1!BT14),ISNUMBER(Table_B.2!BT14)),SUM(Table_B.1!BT14,Table_B.2!BT14),\":\")","v":0},null,{"$f":"IF(OR(ISNUMBER(Table_B.1!BV14),ISNUMBER(Table_B.2!BV14)),SUM(Table_B.1!BV14,Table_B.2!BV14),\":\")","v":0},null,{"$f":"IF(OR(ISNUMBER(Table_B.1!BX14),ISNUMBER(Table_B.2!BX14)),SUM(Table_B.1!BX14,Table_B.2!BX14),\":\")","v":0},null,{"$f":"IF(OR(ISNUMBER(Table_B.1!BZ14),ISNUMBER(Table_B.2!BZ14)),SUM(Table_B.1!BZ14,Table_B.2!BZ14),\":\")","v":0},null,{"$f":"IF(OR(ISNUMBER(Table_B.1!CB14),ISNUMBER(Table_B.2!CB14)),SUM(Table_B.1!CB14,Table_B.2!CB14),\":\")","v":0},null,{"$f":"IF(OR(ISNUMBER(Table_B.1!CD14),ISNUMBER(Table_B.2!CD14)),SUM(Table_B.1!CD14,Table_B.2!CD14),\":\")","v":0},null,{"$f":"IF(OR(ISNUMBER(Table_B.1!CF14),ISNUMBER(Table_B.2!CF14)),SUM(Table_B.1!CF14,Table_B.2!CF14),\":\")","v":0},null,{"$f":"IF(OR(ISNUMBER(Table_B.1!CH14),ISNUMBER(Table_B.2!CH14)),SUM(Table_B.1!CH14,Table_B.2!CH14),\":\")","v":0},null,{"$f":"IF(OR(ISNUMBER(Table_B.1!CJ14),ISNUMBER(Table_B.2!CJ14)),SUM(Table_B.1!CJ14,Table_B.2!CJ14),\":\")","v":0},null,{"$f":"IF(OR(ISNUMBER(Table_B.1!CL14),ISNUMBER(Table_B.2!CL14)),SUM(Table_B.1!CL14,Table_B.2!CL14),\":\")","v":0},null,{"$f":"IF(OR(ISNUMBER(Table_B.1!CN14),ISNUMBER(Table_B.2!CN14)),SUM(Table_B.1!CN14,Table_B.2!CN14),\":\")","v":0},null,{"$f":"IF(OR(ISNUMBER(Table_B.1!CP14),ISNUMBER(Table_B.2!CP14)),SUM(Table_B.1!CP14,Table_B.2!CP14),\":\")","v":0},null,{"$f":"IF(OR(ISNUMBER(Table_B.1!CR14),ISNUMBER(Table_B.2!CR14)),SUM(Table_B.1!CR14,Table_B.2!CR14),\":\")","v":0},null,{"$f":"IF(OR(ISNUMBER(Table_B.1!CT14),ISNUMBER(Table_B.2!CT14)),SUM(Table_B.1!CT14,Table_B.2!CT14),\":\")","v":0},null,{"$f":"IF(OR(ISNUMBER(Table_B.1!CV14),ISNUMBER(Table_B.2!CV14)),SUM(Table_B.1!CV14,Table_B.2!CV14),\":\")","v":0},null,{"$f":"IF(OR(ISNUMBER(Table_B.1!CX14),ISNUMBER(Table_B.2!CX14)),SUM(Table_B.1!CX14,Table_B.2!CX14),\":\")","v":0},null,{"$f":"IF(OR(ISNUMBER(Table_B.1!CZ14),ISNUMBER(Table_B.2!CZ14)),SUM(Table_B.1!CZ14,Table_B.2!CZ14),\":\")","v":0},null,{"$f":"IF(OR(ISNUMBER(Table_B.1!DB14),ISNUMBER(Table_B.2!DB14)),SUM(Table_B.1!DB14,Table_B.2!DB14),\":\")","v":0},null,{"$f":"IF(OR(ISNUMBER(Table_B.1!DD14),ISNUMBER(Table_B.2!DD14)),SUM(Table_B.1!DD14,Table_B.2!DD14),\":\")","v":0},null,{"$f":"IF(OR(ISNUMBER(Table_B.1!DF14),ISNUMBER(Table_B.2!DF14)),SUM(Table_B.1!DF14,Table_B.2!DF14),\":\")","v":0},null,{"$f":"IF(OR(ISNUMBER(Table_B.1!DH14),ISNUMBER(Table_B.2!DH14)),SUM(Table_B.1!DH14,Table_B.2!DH14),\":\")","v":0},null,{"$f":"IF(OR(ISNUMBER(Table_B.1!DJ14),ISNUMBER(Table_B.2!DJ14)),SUM(Table_B.1!DJ14,Table_B.2!DJ14),\":\")","v":0},null,{"$f":"IF(OR(ISNUMBER(Table_B.1!DL14),ISNUMBER(Table_B.2!DL14)),SUM(Table_B.1!DL14,Table_B.2!DL14),\":\")","v":0},null,{"$f":"IF(OR(ISNUMBER(Table_B.1!DN14),ISNUMBER(Table_B.2!DN14)),SUM(Table_B.1!DN14,Table_B.2!DN14),\":\")","v":0},null,{"$f":"IF(OR(ISNUMBER(Table_B.1!DP14),ISNUMBER(Table_B.2!DP14)),SUM(Table_B.1!DP14,Table_B.2!DP14),\":\")","v":0},null,{"$f":"IF(OR(ISNUMBER(Table_B.1!DR14),ISNUMBER(Table_B.2!DR14)),SUM(Table_B.1!DR14,Table_B.2!DR14),\":\")","v":0},null,{"$f":"IF(OR(ISNUMBER(Table_B.1!DT14),ISNUMBER(Table_B.2!DT14)),SUM(Table_B.1!DT14,Table_B.2!DT14),\":\")","v":0},null,{"$f":"IF(OR(ISNUMBER(Table_B.1!DV14),ISNUMBER(Table_B.2!DV14)),SUM(Table_B.1!DV14,Table_B.2!DV14),\":\")","v":0},null,{"$f":"IF(OR(ISNUMBER(Table_B.1!DX14),ISNUMBER(Table_B.2!DX14)),SUM(Table_B.1!DX14,Table_B.2!DX14),\":\")","v":0},null,{"$f":"IF(OR(ISNUMBER(Table_B.1!DZ14),ISNUMBER(Table_B.2!DZ14)),SUM(Table_B.1!DZ14,Table_B.2!DZ14),\":\")","v":0},null,{"$f":"IF(OR(ISNUMBER(Table_B.1!EB14),ISNUMBER(Table_B.2!EB14)),SUM(Table_B.1!EB14,Table_B.2!EB14),\":\")","v":0},null,{"$f":"IF(OR(ISNUMBER(Table_B.1!ED14),ISNUMBER(Table_B.2!ED14)),SUM(Table_B.1!ED14,Table_B.2!ED14),\":\")","v":0},null,{"$f":"IF(OR(ISNUMBER(Table_B.1!EF14),ISNUMBER(Table_B.2!EF14)),SUM(Table_B.1!EF14,Table_B.2!EF14),\":\")","v":0},null,{"$f":"IF(OR(ISNUMBER(Table_B.1!EH14),ISNUMBER(Table_B.2!EH14)),SUM(Table_B.1!EH14,Table_B.2!EH14),\":\")","v":0},null,{"$f":"IF(OR(ISNUMBER(Table_B.1!EJ14),ISNUMBER(Table_B.2!EJ14)),SUM(Table_B.1!EJ14,Table_B.2!EJ14),\":\")","v":0},null,{"$f":"IF(OR(ISNUMBER(Table_B.1!EL14),ISNUMBER(Table_B.2!EL14)),SUM(Table_B.1!EL14,Table_B.2!EL14),\":\")","v":0},null,{"$f":"IF(OR(ISNUMBER(Table_B.1!EN14),ISNUMBER(Table_B.2!EN14)),SUM(Table_B.1!EN14,Table_B.2!EN14),\":\")","v":0},null,{"$f":"IF(OR(ISNUMBER(Table_B.1!EP14),ISNUMBER(Table_B.2!EP14)),SUM(Table_B.1!EP14,Table_B.2!EP14),\":\")","v":0},null,{"$f":"IF(OR(ISNUMBER(Table_B.1!ER14),ISNUMBER(Table_B.2!ER14)),SUM(Table_B.1!ER14,Table_B.2!ER14),\":\")","v":0},null,{"$f":"IF(OR(ISNUMBER(Table_B.1!ET14),ISNUMBER(Table_B.2!ET14)),SUM(Table_B.1!ET14,Table_B.2!ET14),\":\")","v":0},null,{"$f":"IF(OR(ISNUMBER(Table_B.1!EV14),ISNUMBER(Table_B.2!EV14)),SUM(Table_B.1!EV14,Table_B.2!EV14),\":\")","v":0},null,{"$f":"IF(OR(ISNUMBER(Table_B.1!EX14),ISNUMBER(Table_B.2!EX14)),SUM(Table_B.1!EX14,Table_B.2!EX14),\":\")","v":0},null,{"$f":"IF(OR(ISNUMBER(Table_B.1!EZ14),ISNUMBER(Table_B.2!EZ14)),SUM(Table_B.1!EZ14,Table_B.2!EZ14),\":\")","v":0},null,{"$f":"IF(OR(ISNUMBER(Table_B.1!FB14),ISNUMBER(Table_B.2!FB14)),SUM(Table_B.1!FB14,Table_B.2!FB14),\":\")","v":0},null,{"$f":"IF(OR(ISNUMBER(Table_B.1!FD14),ISNUMBER(Table_B.2!FD14)),SUM(Table_B.1!FD14,Table_B.2!FD14),\":\")","v":0},null,{"$f":"IF(OR(ISNUMBER(Table_B.1!FF14),ISNUMBER(Table_B.2!FF14)),SUM(Table_B.1!FF14,Table_B.2!FF14),\":\")","v":0},null,{"$f":"SUM(Table_B.1!FH14,Table_B.2!FH14)","v":0},null,null,null,null,null,null,null,null,null,null,null,null,null,null,null,0,null,""]
[null,7,2,{"$f":"'PEFA rows'!C9","v":"N06"},{"$f":"'PEFA rows'!D9","v":"Biomass based renewable natural energy inputs"},null,null,0,null,{"$f":"IF(OR(ISNUMBER(Table_B.1!J15),ISNUMBER(Table_B.2!J15)),SUM(Table_B.1!J15,Table_B.2!J15),\":\")","v":0},null,{"$f":"IF(OR(ISNUMBER(Table_B.1!L15),ISNUMBER(Table_B.2!L15)),SUM(Table_B.1!L15,Table_B.2!L15),\":\")","v":0},null,{"$f":"IF(OR(ISNUMBER(Table_B.1!N15),ISNUMBER(Table_B.2!N15)),SUM(Table_B.1!N15,Table_B.2!N15),\":\")","v":0},null,{"$f":"IF(OR(ISNUMBER(Table_B.1!P15),ISNUMBER(Table_B.2!P15)),SUM(Table_B.1!P15,Table_B.2!P15),\":\")","v":0},null,{"$f":"IF(OR(ISNUMBER(Table_B.1!R15),ISNUMBER(Table_B.2!R15)),SUM(Table_B.1!R15,Table_B.2!R15),\":\")","v":0},null,{"$f":"IF(OR(ISNUMBER(Table_B.1!T15),ISNUMBER(Table_B.2!T15)),SUM(Table_B.1!T15,Table_B.2!T15),\":\")","v":0},null,{"$f":"IF(OR(ISNUMBER(Table_B.1!V15),ISNUMBER(Table_B.2!V15)),SUM(Table_B.1!V15,Table_B.2!V15),\":\")","v":0},null,{"$f":"IF(OR(ISNUMBER(Table_B.1!X15),ISNUMBER(Table_B.2!X15)),SUM(Table_B.1!X15,Table_B.2!X15),\":\")","v":0},null,{"$f":"IF(OR(ISNUMBER(Table_B.1!Z15),ISNUMBER(Table_B.2!Z15)),SUM(Table_B.1!Z15,Table_B.2!Z15),\":\")","v":0},null,{"$f":"IF(OR(ISNUMBER(Table_B.1!AB15),ISNUMBER(Table_B.2!AB15)),SUM(Table_B.1!AB15,Table_B.2!AB15),\":\")","v":0},null,{"$f":"IF(OR(ISNUMBER(Table_B.1!AD15),ISNUMBER(Table_B.2!AD15)),SUM(Table_B.1!AD15,Table_B.2!AD15),\":\")","v":0},null,{"$f":"IF(OR(ISNUMBER(Table_B.1!AF15),ISNUMBER(Table_B.2!AF15)),SUM(Table_B.1!AF15,Table_B.2!AF15),\":\")","v":0},null,{"$f":"IF(OR(ISNUMBER(Table_B.1!AH15),ISNUMBER(Table_B.2!AH15)),SUM(Table_B.1!AH15,Table_B.2!AH15),\":\")","v":0},null,{"$f":"IF(OR(ISNUMBER(Table_B.1!AJ15),ISNUMBER(Table_B.2!AJ15)),SUM(Table_B.1!AJ15,Table_B.2!AJ15),\":\")","v":0},null,{"$f":"IF(OR(ISNUMBER(Table_B.1!AL15),ISNUMBER(Table_B.2!AL15)),SUM(Table_B.1!AL15,Table_B.2!AL15),\":\")","v":0},null,{"$f":"IF(OR(ISNUMBER(Table_B.1!AN15),ISNUMBER(Table_B.2!AN15)),SUM(Table_B.1!AN15,Table_B.2!AN15),\":\")","v":0},null,{"$f":"IF(OR(ISNUMBER(Table_B.1!AP15),ISNUMBER(Table_B.2!AP15)),SUM(Table_B.1!AP15,Table_B.2!AP15),\":\")","v":0},null,{"$f":"IF(OR(ISNUMBER(Table_B.1!AR15),ISNUMBER(Table_B.2!AR15)),SUM(Table_B.1!AR15,Table_B.2!AR15),\":\")","v":0},null,{"$f":"IF(OR(ISNUMBER(Table_B.1!AT15),ISNUMBER(Table_B.2!AT15)),SUM(Table_B.1!AT15,Table_B.2!AT15),\":\")","v":0},null,{"$f":"IF(OR(ISNUMBER(Table_B.1!AV15),ISNUMBER(Table_B.2!AV15)),SUM(Table_B.1!AV15,Table_B.2!AV15),\":\")","v":0},null,{"$f":"IF(OR(ISNUMBER(Table_B.1!AX15),ISNUMBER(Table_B.2!AX15)),SUM(Table_B.1!AX15,Table_B.2!AX15),\":\")","v":0},null,{"$f":"IF(OR(ISNUMBER(Table_B.1!AZ15),ISNUMBER(Table_B.2!AZ15)),SUM(Table_B.1!AZ15,Table_B.2!AZ15),\":\")","v":0},null,{"$f":"IF(OR(ISNUMBER(Table_B.1!BB15),ISNUMBER(Table_B.2!BB15)),SUM(Table_B.1!BB15,Table_B.2!BB15),\":\")","v":0},null,{"$f":"IF(OR(ISNUMBER(Table_B.1!BD15),ISNUMBER(Table_B.2!BD15)),SUM(Table_B.1!BD15,Table_B.2!BD15),\":\")","v":0},null,{"$f":"IF(OR(ISNUMBER(Table_B.1!BF15),ISNUMBER(Table_B.2!BF15)),SUM(Table_B.1!BF15,Table_B.2!BF15),\":\")","v":0},null,{"$f":"IF(OR(ISNUMBER(Table_B.1!BH15),ISNUMBER(Table_B.2!BH15)),SUM(Table_B.1!BH15,Table_B.2!BH15),\":\")","v":0},null,{"$f":"IF(OR(ISNUMBER(Table_B.1!BJ15),ISNUMBER(Table_B.2!BJ15)),SUM(Table_B.1!BJ15,Table_B.2!BJ15),\":\")","v":0},null,{"$f":"IF(OR(ISNUMBER(Table_B.1!BL15),ISNUMBER(Table_B.2!BL15)),SUM(Table_B.1!BL15,Table_B.2!BL15),\":\")","v":0},null,{"$f":"IF(OR(ISNUMBER(Table_B.1!BN15),ISNUMBER(Table_B.2!BN15)),SUM(Table_B.1!BN15,Table_B.2!BN15),\":\")","v":0},null,{"$f":"IF(OR(ISNUMBER(Table_B.1!BP15),ISNUMBER(Table_B.2!BP15)),SUM(Table_B.1!BP15,Table_B.2!BP15),\":\")","v":0},null,{"$f":"IF(OR(ISNUMBER(Table_B.1!BR15),ISNUMBER(Table_B.2!BR15)),SUM(Table_B.1!BR15,Table_B.2!BR15),\":\")","v":0},null,{"$f":"IF(OR(ISNUMBER(Table_B.1!BT15),ISNUMBER(Table_B.2!BT15)),SUM(Table_B.1!BT15,Table_B.2!BT15),\":\")","v":0},null,{"$f":"IF(OR(ISNUMBER(Table_B.1!BV15),ISNUMBER(Table_B.2!BV15)),SUM(Table_B.1!BV15,Table_B.2!BV15),\":\")","v":0},null,{"$f":"IF(OR(ISNUMBER(Table_B.1!BX15),ISNUMBER(Table_B.2!BX15)),SUM(Table_B.1!BX15,Table_B.2!BX15),\":\")","v":0},null,{"$f":"IF(OR(ISNUMBER(Table_B.1!BZ15),ISNUMBER(Table_B.2!BZ15)),SUM(Table_B.1!BZ15,Table_B.2!BZ15),\":\")","v":0},null,{"$f":"IF(OR(ISNUMBER(Table_B.1!CB15),ISNUMBER(Table_B.2!CB15)),SUM(Table_B.1!CB15,Table_B.2!CB15),\":\")","v":0},null,{"$f":"IF(OR(ISNUMBER(Table_B.1!CD15),ISNUMBER(Table_B.2!CD15)),SUM(Table_B.1!CD15,Table_B.2!CD15),\":\")","v":0},null,{"$f":"IF(OR(ISNUMBER(Table_B.1!CF15),ISNUMBER(Table_B.2!CF15)),SUM(Table_B.1!CF15,Table_B.2!CF15),\":\")","v":0},null,{"$f":"IF(OR(ISNUMBER(Table_B.1!CH15),ISNUMBER(Table_B.2!CH15)),SUM(Table_B.1!CH15,Table_B.2!CH15),\":\")","v":0},null,{"$f":"IF(OR(ISNUMBER(Table_B.1!CJ15),ISNUMBER(Table_B.2!CJ15)),SUM(Table_B.1!CJ15,Table_B.2!CJ15),\":\")","v":0},null,{"$f":"IF(OR(ISNUMBER(Table_B.1!CL15),ISNUMBER(Table_B.2!CL15)),SUM(Table_B.1!CL15,Table_B.2!CL15),\":\")","v":0},null,{"$f":"IF(OR(ISNUMBER(Table_B.1!CN15),ISNUMBER(Table_B.2!CN15)),SUM(Table_B.1!CN15,Table_B.2!CN15),\":\")","v":0},null,{"$f":"IF(OR(ISNUMBER(Table_B.1!CP15),ISNUMBER(Table_B.2!CP15)),SUM(Table_B.1!CP15,Table_B.2!CP15),\":\")","v":0},null,{"$f":"IF(OR(ISNUMBER(Table_B.1!CR15),ISNUMBER(Table_B.2!CR15)),SUM(Table_B.1!CR15,Table_B.2!CR15),\":\")","v":0},null,{"$f":"IF(OR(ISNUMBER(Table_B.1!CT15),ISNUMBER(Table_B.2!CT15)),SUM(Table_B.1!CT15,Table_B.2!CT15),\":\")","v":0},null,{"$f":"IF(OR(ISNUMBER(Table_B.1!CV15),ISNUMBER(Table_B.2!CV15)),SUM(Table_B.1!CV15,Table_B.2!CV15),\":\")","v":0},null,{"$f":"IF(OR(ISNUMBER(Table_B.1!CX15),ISNUMBER(Table_B.2!CX15)),SUM(Table_B.1!CX15,Table_B.2!CX15),\":\")","v":0},null,{"$f":"IF(OR(ISNUMBER(Table_B.1!CZ15),ISNUMBER(Table_B.2!CZ15)),SUM(Table_B.1!CZ15,Table_B.2!CZ15),\":\")","v":0},null,{"$f":"IF(OR(ISNUMBER(Table_B.1!DB15),ISNUMBER(Table_B.2!DB15)),SUM(Table_B.1!DB15,Table_B.2!DB15),\":\")","v":0},null,{"$f":"IF(OR(ISNUMBER(Table_B.1!DD15),ISNUMBER(Table_B.2!DD15)),SUM(Table_B.1!DD15,Table_B.2!DD15),\":\")","v":0},null,{"$f":"IF(OR(ISNUMBER(Table_B.1!DF15),ISNUMBER(Table_B.2!DF15)),SUM(Table_B.1!DF15,Table_B.2!DF15),\":\")","v":0},null,{"$f":"IF(OR(ISNUMBER(Table_B.1!DH15),ISNUMBER(Table_B.2!DH15)),SUM(Table_B.1!DH15,Table_B.2!DH15),\":\")","v":0},null,{"$f":"IF(OR(ISNUMBER(Table_B.1!DJ15),ISNUMBER(Table_B.2!DJ15)),SUM(Table_B.1!DJ15,Table_B.2!DJ15),\":\")","v":0},null,{"$f":"IF(OR(ISNUMBER(Table_B.1!DL15),ISNUMBER(Table_B.2!DL15)),SUM(Table_B.1!DL15,Table_B.2!DL15),\":\")","v":0},null,{"$f":"IF(OR(ISNUMBER(Table_B.1!DN15),ISNUMBER(Table_B.2!DN15)),SUM(Table_B.1!DN15,Table_B.2!DN15),\":\")","v":0},null,{"$f":"IF(OR(ISNUMBER(Table_B.1!DP15),ISNUMBER(Table_B.2!DP15)),SUM(Table_B.1!DP15,Table_B.2!DP15),\":\")","v":0},null,{"$f":"IF(OR(ISNUMBER(Table_B.1!DR15),ISNUMBER(Table_B.2!DR15)),SUM(Table_B.1!DR15,Table_B.2!DR15),\":\")","v":0},null,{"$f":"IF(OR(ISNUMBER(Table_B.1!DT15),ISNUMBER(Table_B.2!DT15)),SUM(Table_B.1!DT15,Table_B.2!DT15),\":\")","v":0},null,{"$f":"IF(OR(ISNUMBER(Table_B.1!DV15),ISNUMBER(Table_B.2!DV15)),SUM(Table_B.1!DV15,Table_B.2!DV15),\":\")","v":0},null,{"$f":"IF(OR(ISNUMBER(Table_B.1!DX15),ISNUMBER(Table_B.2!DX15)),SUM(Table_B.1!DX15,Table_B.2!DX15),\":\")","v":0},null,{"$f":"IF(OR(ISNUMBER(Table_B.1!DZ15),ISNUMBER(Table_B.2!DZ15)),SUM(Table_B.1!DZ15,Table_B.2!DZ15),\":\")","v":0},null,{"$f":"IF(OR(ISNUMBER(Table_B.1!EB15),ISNUMBER(Table_B.2!EB15)),SUM(Table_B.1!EB15,Table_B.2!EB15),\":\")","v":0},null,{"$f":"IF(OR(ISNUMBER(Table_B.1!ED15),ISNUMBER(Table_B.2!ED15)),SUM(Table_B.1!ED15,Table_B.2!ED15),\":\")","v":0},null,{"$f":"IF(OR(ISNUMBER(Table_B.1!EF15),ISNUMBER(Table_B.2!EF15)),SUM(Table_B.1!EF15,Table_B.2!EF15),\":\")","v":0},null,{"$f":"IF(OR(ISNUMBER(Table_B.1!EH15),ISNUMBER(Table_B.2!EH15)),SUM(Table_B.1!EH15,Table_B.2!EH15),\":\")","v":0},null,{"$f":"IF(OR(ISNUMBER(Table_B.1!EJ15),ISNUMBER(Table_B.2!EJ15)),SUM(Table_B.1!EJ15,Table_B.2!EJ15),\":\")","v":0},null,{"$f":"IF(OR(ISNUMBER(Table_B.1!EL15),ISNUMBER(Table_B.2!EL15)),SUM(Table_B.1!EL15,Table_B.2!EL15),\":\")","v":0},null,{"$f":"IF(OR(ISNUMBER(Table_B.1!EN15),ISNUMBER(Table_B.2!EN15)),SUM(Table_B.1!EN15,Table_B.2!EN15),\":\")","v":0},null,{"$f":"IF(OR(ISNUMBER(Table_B.1!EP15),ISNUMBER(Table_B.2!EP15)),SUM(Table_B.1!EP15,Table_B.2!EP15),\":\")","v":0},null,{"$f":"IF(OR(ISNUMBER(Table_B.1!ER15),ISNUMBER(Table_B.2!ER15)),SUM(Table_B.1!ER15,Table_B.2!ER15),\":\")","v":0},null,{"$f":"IF(OR(ISNUMBER(Table_B.1!ET15),ISNUMBER(Table_B.2!ET15)),SUM(Table_B.1!ET15,Table_B.2!ET15),\":\")","v":0},null,{"$f":"IF(OR(ISNUMBER(Table_B.1!EV15),ISNUMBER(Table_B.2!EV15)),SUM(Table_B.1!EV15,Table_B.2!EV15),\":\")","v":0},null,{"$f":"IF(OR(ISNUMBER(Table_B.1!EX15),ISNUMBER(Table_B.2!EX15)),SUM(Table_B.1!EX15,Table_B.2!EX15),\":\")","v":0},null,{"$f":"IF(OR(ISNUMBER(Table_B.1!EZ15),ISNUMBER(Table_B.2!EZ15)),SUM(Table_B.1!EZ15,Table_B.2!EZ15),\":\")","v":0},null,{"$f":"IF(OR(ISNUMBER(Table_B.1!FB15),ISNUMBER(Table_B.2!FB15)),SUM(Table_B.1!FB15,Table_B.2!FB15),\":\")","v":0},null,{"$f":"IF(OR(ISNUMBER(Table_B.1!FD15),ISNUMBER(Table_B.2!FD15)),SUM(Table_B.1!FD15,Table_B.2!FD15),\":\")","v":0},null,{"$f":"IF(OR(ISNUMBER(Table_B.1!FF15),ISNUMBER(Table_B.2!FF15)),SUM(Table_B.1!FF15,Table_B.2!FF15),\":\")","v":0},null,{"$f":"SUM(Table_B.1!FH15,Table_B.2!FH15)","v":0},null,null,null,null,null,null,null,null,null,null,null,null,null,null,null,0,null,""]
[null,8,2,{"$f":"'PEFA rows'!C10","v":"N07"},{"$f":"'PEFA rows'!D10","v":"Other renewable natural energy inputs"},null,null,0,null,{"$f":"IF(OR(ISNUMBER(Table_B.1!J16),ISNUMBER(Table_B.2!J16)),SUM(Table_B.1!J16,Table_B.2!J16),\":\")","v":0},null,{"$f":"IF(OR(ISNUMBER(Table_B.1!L16),ISNUMBER(Table_B.2!L16)),SUM(Table_B.1!L16,Table_B.2!L16),\":\")","v":0},null,{"$f":"IF(OR(ISNUMBER(Table_B.1!N16),ISNUMBER(Table_B.2!N16)),SUM(Table_B.1!N16,Table_B.2!N16),\":\")","v":0},null,{"$f":"IF(OR(ISNUMBER(Table_B.1!P16),ISNUMBER(Table_B.2!P16)),SUM(Table_B.1!P16,Table_B.2!P16),\":\")","v":0},null,{"$f":"IF(OR(ISNUMBER(Table_B.1!R16),ISNUMBER(Table_B.2!R16)),SUM(Table_B.1!R16,Table_B.2!R16),\":\")","v":0},null,{"$f":"IF(OR(ISNUMBER(Table_B.1!T16),ISNUMBER(Table_B.2!T16)),SUM(Table_B.1!T16,Table_B.2!T16),\":\")","v":0},null,{"$f":"IF(OR(ISNUMBER(Table_B.1!V16),ISNUMBER(Table_B.2!V16)),SUM(Table_B.1!V16,Table_B.2!V16),\":\")","v":0},null,{"$f":"IF(OR(ISNUMBER(Table_B.1!X16),ISNUMBER(Table_B.2!X16)),SUM(Table_B.1!X16,Table_B.2!X16),\":\")","v":0},null,{"$f":"IF(OR(ISNUMBER(Table_B.1!Z16),ISNUMBER(Table_B.2!Z16)),SUM(Table_B.1!Z16,Table_B.2!Z16),\":\")","v":0},null,{"$f":"IF(OR(ISNUMBER(Table_B.1!AB16),ISNUMBER(Table_B.2!AB16)),SUM(Table_B.1!AB16,Table_B.2!AB16),\":\")","v":0},null,{"$f":"IF(OR(ISNUMBER(Table_B.1!AD16),ISNUMBER(Table_B.2!AD16)),SUM(Table_B.1!AD16,Table_B.2!AD16),\":\")","v":0},null,{"$f":"IF(OR(ISNUMBER(Table_B.1!AF16),ISNUMBER(Table_B.2!AF16)),SUM(Table_B.1!AF16,Table_B.2!AF16),\":\")","v":0},null,{"$f":"IF(OR(ISNUMBER(Table_B.1!AH16),ISNUMBER(Table_B.2!AH16)),SUM(Table_B.1!AH16,Table_B.2!AH16),\":\")","v":0},null,{"$f":"IF(OR(ISNUMBER(Table_B.1!AJ16),ISNUMBER(Table_B.2!AJ16)),SUM(Table_B.1!AJ16,Table_B.2!AJ16),\":\")","v":0},null,{"$f":"IF(OR(ISNUMBER(Table_B.1!AL16),ISNUMBER(Table_B.2!AL16)),SUM(Table_B.1!AL16,Table_B.2!AL16),\":\")","v":0},null,{"$f":"IF(OR(ISNUMBER(Table_B.1!AN16),ISNUMBER(Table_B.2!AN16)),SUM(Table_B.1!AN16,Table_B.2!AN16),\":\")","v":0},null,{"$f":"IF(OR(ISNUMBER(Table_B.1!AP16),ISNUMBER(Table_B.2!AP16)),SUM(Table_B.1!AP16,Table_B.2!AP16),\":\")","v":0},null,{"$f":"IF(OR(ISNUMBER(Table_B.1!AR16),ISNUMBER(Table_B.2!AR16)),SUM(Table_B.1!AR16,Table_B.2!AR16),\":\")","v":0},null,{"$f":"IF(OR(ISNUMBER(Table_B.1!AT16),ISNUMBER(Table_B.2!AT16)),SUM(Table_B.1!AT16,Table_B.2!AT16),\":\")","v":0},null,{"$f":"IF(OR(ISNUMBER(Table_B.1!AV16),ISNUMBER(Table_B.2!AV16)),SUM(Table_B.1!AV16,Table_B.2!AV16),\":\")","v":0},null,{"$f":"IF(OR(ISNUMBER(Table_B.1!AX16),ISNUMBER(Table_B.2!AX16)),SUM(Table_B.1!AX16,Table_B.2!AX16),\":\")","v":0},null,{"$f":"IF(OR(ISNUMBER(Table_B.1!AZ16),ISNUMBER(Table_B.2!AZ16)),SUM(Table_B.1!AZ16,Table_B.2!AZ16),\":\")","v":0},null,{"$f":"IF(OR(ISNUMBER(Table_B.1!BB16),ISNUMBER(Table_B.2!BB16)),SUM(Table_B.1!BB16,Table_B.2!BB16),\":\")","v":0},null,{"$f":"IF(OR(ISNUMBER(Table_B.1!BD16),ISNUMBER(Table_B.2!BD16)),SUM(Table_B.1!BD16,Table_B.2!BD16),\":\")","v":0},null,{"$f":"IF(OR(ISNUMBER(Table_B.1!BF16),ISNUMBER(Table_B.2!BF16)),SUM(Table_B.1!BF16,Table_B.2!BF16),\":\")","v":0},null,{"$f":"IF(OR(ISNUMBER(Table_B.1!BH16),ISNUMBER(Table_B.2!BH16)),SUM(Table_B.1!BH16,Table_B.2!BH16),\":\")","v":0},null,{"$f":"IF(OR(ISNUMBER(Table_B.1!BJ16),ISNUMBER(Table_B.2!BJ16)),SUM(Table_B.1!BJ16,Table_B.2!BJ16),\":\")","v":0},null,{"$f":"IF(OR(ISNUMBER(Table_B.1!BL16),ISNUMBER(Table_B.2!BL16)),SUM(Table_B.1!BL16,Table_B.2!BL16),\":\")","v":0},null,{"$f":"IF(OR(ISNUMBER(Table_B.1!BN16),ISNUMBER(Table_B.2!BN16)),SUM(Table_B.1!BN16,Table_B.2!BN16),\":\")","v":0},null,{"$f":"IF(OR(ISNUMBER(Table_B.1!BP16),ISNUMBER(Table_B.2!BP16)),SUM(Table_B.1!BP16,Table_B.2!BP16),\":\")","v":0},null,{"$f":"IF(OR(ISNUMBER(Table_B.1!BR16),ISNUMBER(Table_B.2!BR16)),SUM(Table_B.1!BR16,Table_B.2!BR16),\":\")","v":0},null,{"$f":"IF(OR(ISNUMBER(Table_B.1!BT16),ISNUMBER(Table_B.2!BT16)),SUM(Table_B.1!BT16,Table_B.2!BT16),\":\")","v":0},null,{"$f":"IF(OR(ISNUMBER(Table_B.1!BV16),ISNUMBER(Table_B.2!BV16)),SUM(Table_B.1!BV16,Table_B.2!BV16),\":\")","v":0},null,{"$f":"IF(OR(ISNUMBER(Table_B.1!BX16),ISNUMBER(Table_B.2!BX16)),SUM(Table_B.1!BX16,Table_B.2!BX16),\":\")","v":0},null,{"$f":"IF(OR(ISNUMBER(Table_B.1!BZ16),ISNUMBER(Table_B.2!BZ16)),SUM(Table_B.1!BZ16,Table_B.2!BZ16),\":\")","v":0},null,{"$f":"IF(OR(ISNUMBER(Table_B.1!CB16),ISNUMBER(Table_B.2!CB16)),SUM(Table_B.1!CB16,Table_B.2!CB16),\":\")","v":0},null,{"$f":"IF(OR(ISNUMBER(Table_B.1!CD16),ISNUMBER(Table_B.2!CD16)),SUM(Table_B.1!CD16,Table_B.2!CD16),\":\")","v":0},null,{"$f":"IF(OR(ISNUMBER(Table_B.1!CF16),ISNUMBER(Table_B.2!CF16)),SUM(Table_B.1!CF16,Table_B.2!CF16),\":\")","v":0},null,{"$f":"IF(OR(ISNUMBER(Table_B.1!CH16),ISNUMBER(Table_B.2!CH16)),SUM(Table_B.1!CH16,Table_B.2!CH16),\":\")","v":0},null,{"$f":"IF(OR(ISNUMBER(Table_B.1!CJ16),ISNUMBER(Table_B.2!CJ16)),SUM(Table_B.1!CJ16,Table_B.2!CJ16),\":\")","v":0},null,{"$f":"IF(OR(ISNUMBER(Table_B.1!CL16),ISNUMBER(Table_B.2!CL16)),SUM(Table_B.1!CL16,Table_B.2!CL16),\":\")","v":0},null,{"$f":"IF(OR(ISNUMBER(Table_B.1!CN16),ISNUMBER(Table_B.2!CN16)),SUM(Table_B.1!CN16,Table_B.2!CN16),\":\")","v":0},null,{"$f":"IF(OR(ISNUMBER(Table_B.1!CP16),ISNUMBER(Table_B.2!CP16)),SUM(Table_B.1!CP16,Table_B.2!CP16),\":\")","v":0},null,{"$f":"IF(OR(ISNUMBER(Table_B.1!CR16),ISNUMBER(Table_B.2!CR16)),SUM(Table_B.1!CR16,Table_B.2!CR16),\":\")","v":0},null,{"$f":"IF(OR(ISNUMBER(Table_B.1!CT16),ISNUMBER(Table_B.2!CT16)),SUM(Table_B.1!CT16,Table_B.2!CT16),\":\")","v":0},null,{"$f":"IF(OR(ISNUMBER(Table_B.1!CV16),ISNUMBER(Table_B.2!CV16)),SUM(Table_B.1!CV16,Table_B.2!CV16),\":\")","v":0},null,{"$f":"IF(OR(ISNUMBER(Table_B.1!CX16),ISNUMBER(Table_B.2!CX16)),SUM(Table_B.1!CX16,Table_B.2!CX16),\":\")","v":0},null,{"$f":"IF(OR(ISNUMBER(Table_B.1!CZ16),ISNUMBER(Table_B.2!CZ16)),SUM(Table_B.1!CZ16,Table_B.2!CZ16),\":\")","v":0},null,{"$f":"IF(OR(ISNUMBER(Table_B.1!DB16),ISNUMBER(Table_B.2!DB16)),SUM(Table_B.1!DB16,Table_B.2!DB16),\":\")","v":0},null,{"$f":"IF(OR(ISNUMBER(Table_B.1!DD16),ISNUMBER(Table_B.2!DD16)),SUM(Table_B.1!DD16,Table_B.2!DD16),\":\")","v":0},null,{"$f":"IF(OR(ISNUMBER(Table_B.1!DF16),ISNUMBER(Table_B.2!DF16)),SUM(Table_B.1!DF16,Table_B.2!DF16),\":\")","v":0},null,{"$f":"IF(OR(ISNUMBER(Table_B.1!DH16),ISNUMBER(Table_B.2!DH16)),SUM(Table_B.1!DH16,Table_B.2!DH16),\":\")","v":0},null,{"$f":"IF(OR(ISNUMBER(Table_B.1!DJ16),ISNUMBER(Table_B.2!DJ16)),SUM(Table_B.1!DJ16,Table_B.2!DJ16),\":\")","v":0},null,{"$f":"IF(OR(ISNUMBER(Table_B.1!DL16),ISNUMBER(Table_B.2!DL16)),SUM(Table_B.1!DL16,Table_B.2!DL16),\":\")","v":0},null,{"$f":"IF(OR(ISNUMBER(Table_B.1!DN16),ISNUMBER(Table_B.2!DN16)),SUM(Table_B.1!DN16,Table_B.2!DN16),\":\")","v":0},null,{"$f":"IF(OR(ISNUMBER(Table_B.1!DP16),ISNUMBER(Table_B.2!DP16)),SUM(Table_B.1!DP16,Table_B.2!DP16),\":\")","v":0},null,{"$f":"IF(OR(ISNUMBER(Table_B.1!DR16),ISNUMBER(Table_B.2!DR16)),SUM(Table_B.1!DR16,Table_B.2!DR16),\":\")","v":0},null,{"$f":"IF(OR(ISNUMBER(Table_B.1!DT16),ISNUMBER(Table_B.2!DT16)),SUM(Table_B.1!DT16,Table_B.2!DT16),\":\")","v":0},null,{"$f":"IF(OR(ISNUMBER(Table_B.1!DV16),ISNUMBER(Table_B.2!DV16)),SUM(Table_B.1!DV16,Table_B.2!DV16),\":\")","v":0},null,{"$f":"IF(OR(ISNUMBER(Table_B.1!DX16),ISNUMBER(Table_B.2!DX16)),SUM(Table_B.1!DX16,Table_B.2!DX16),\":\")","v":0},null,{"$f":"IF(OR(ISNUMBER(Table_B.1!DZ16),ISNUMBER(Table_B.2!DZ16)),SUM(Table_B.1!DZ16,Table_B.2!DZ16),\":\")","v":0},null,{"$f":"IF(OR(ISNUMBER(Table_B.1!EB16),ISNUMBER(Table_B.2!EB16)),SUM(Table_B.1!EB16,Table_B.2!EB16),\":\")","v":0},null,{"$f":"IF(OR(ISNUMBER(Table_B.1!ED16),ISNUMBER(Table_B.2!ED16)),SUM(Table_B.1!ED16,Table_B.2!ED16),\":\")","v":0},null,{"$f":"IF(OR(ISNUMBER(Table_B.1!EF16),ISNUMBER(Table_B.2!EF16)),SUM(Table_B.1!EF16,Table_B.2!EF16),\":\")","v":0},null,{"$f":"IF(OR(ISNUMBER(Table_B.1!EH16),ISNUMBER(Table_B.2!EH16)),SUM(Table_B.1!EH16,Table_B.2!EH16),\":\")","v":0},null,{"$f":"IF(OR(ISNUMBER(Table_B.1!EJ16),ISNUMBER(Table_B.2!EJ16)),SUM(Table_B.1!EJ16,Table_B.2!EJ16),\":\")","v":0},null,{"$f":"IF(OR(ISNUMBER(Table_B.1!EL16),ISNUMBER(Table_B.2!EL16)),SUM(Table_B.1!EL16,Table_B.2!EL16),\":\")","v":0},null,{"$f":"IF(OR(ISNUMBER(Table_B.1!EN16),ISNUMBER(Table_B.2!EN16)),SUM(Table_B.1!EN16,Table_B.2!EN16),\":\")","v":0},null,{"$f":"IF(OR(ISNUMBER(Table_B.1!EP16),ISNUMBER(Table_B.2!EP16)),SUM(Table_B.1!EP16,Table_B.2!EP16),\":\")","v":0},null,{"$f":"IF(OR(ISNUMBER(Table_B.1!ER16),ISNUMBER(Table_B.2!ER16)),SUM(Table_B.1!ER16,Table_B.2!ER16),\":\")","v":0},null,{"$f":"IF(OR(ISNUMBER(Table_B.1!ET16),ISNUMBER(Table_B.2!ET16)),SUM(Table_B.1!ET16,Table_B.2!ET16),\":\")","v":0},null,{"$f":"IF(OR(ISNUMBER(Table_B.1!EV16),ISNUMBER(Table_B.2!EV16)),SUM(Table_B.1!EV16,Table_B.2!EV16),\":\")","v":0},null,{"$f":"IF(OR(ISNUMBER(Table_B.1!EX16),ISNUMBER(Table_B.2!EX16)),SUM(Table_B.1!EX16,Table_B.2!EX16),\":\")","v":0},null,{"$f":"IF(OR(ISNUMBER(Table_B.1!EZ16),ISNUMBER(Table_B.2!EZ16)),SUM(Table_B.1!EZ16,Table_B.2!EZ16),\":\")","v":0},null,{"$f":"IF(OR(ISNUMBER(Table_B.1!FB16),ISNUMBER(Table_B.2!FB16)),SUM(Table_B.1!FB16,Table_B.2!FB16),\":\")","v":0},null,{"$f":"IF(OR(ISNUMBER(Table_B.1!FD16),ISNUMBER(Table_B.2!FD16)),SUM(Table_B.1!FD16,Table_B.2!FD16),\":\")","v":0},null,{"$f":"IF(OR(ISNUMBER(Table_B.1!FF16),ISNUMBER(Table_B.2!FF16)),SUM(Table_B.1!FF16,Table_B.2!FF16),\":\")","v":0},null,{"$f":"SUM(Table_B.1!FH16,Table_B.2!FH16)","v":0},null,null,null,null,null,null,null,null,null,null,null,null,null,null,null,0,null,""]
[null,9,1,{"$f":"'PEFA rows'!C11","v":"P00"},{"$f":"'PEFA rows'!D11","v":"ENERGY PRODUCTS"},null,null,{"$f":"SUM(H18:H37)","v":0},null,{"$f":"SUM(J18:J37)","v":0},null,{"$f":"SUM(L18:L37)","v":0},null,{"$f":"SUM(N18:N37)","v":0},null,{"$f":"SUM(P18:P37)","v":0},null,{"$f":"SUM(R18:R37)","v":0},null,{"$f":"SUM(T18:T37)","v":0},null,{"$f":"SUM(V18:V37)","v":0},null,{"$f":"SUM(X18:X37)","v":0},null,{"$f":"SUM(Z18:Z37)","v":0},null,{"$f":"SUM(AB18:AB37)","v":0},null,{"$f":"SUM(AD18:AD37)","v":0},null,{"$f":"SUM(AF18:AF37)","v":0},null,{"$f":"SUM(AH18:AH37)","v":0},null,{"$f":"SUM(AJ18:AJ37)","v":0},null,{"$f":"SUM(AL18:AL37)","v":0},null,{"$f":"SUM(AN18:AN37)","v":0},null,{"$f":"SUM(AP18:AP37)","v":0},null,{"$f":"SUM(AR18:AR37)","v":0},null,{"$f":"SUM(AT18:AT37)","v":0},null,{"$f":"SUM(AV18:AV37)","v":0},null,{"$f":"SUM(AX18:AX37)","v":0},null,{"$f":"SUM(AZ18:AZ37)","v":0},null,{"$f":"SUM(BB18:BB37)","v":0},null,{"$f":"SUM(BD18:BD37)","v":0},null,{"$f":"SUM(BF18:BF37)","v":0},null,{"$f":"SUM(BH18:BH37)","v":0},null,{"$f":"SUM(BJ18:BJ37)","v":0},null,{"$f":"SUM(BL18:BL37)","v":0},null,{"$f":"SUM(BN18:BN37)","v":0},null,{"$f":"SUM(BP18:BP37)","v":0},null,{"$f":"SUM(BR18:BR37)","v":0},null,{"$f":"SUM(BT18:BT37)","v":0},null,{"$f":"SUM(BV18:BV37)","v":0},null,{"$f":"SUM(BX18:BX37)","v":0},null,{"$f":"SUM(BZ18:BZ37)","v":0},null,{"$f":"SUM(CB18:CB37)","v":0},null,{"$f":"SUM(CD18:CD37)","v":0},null,{"$f":"SUM(CF18:CF37)","v":0},null,{"$f":"SUM(CH18:CH37)","v":0},null,{"$f":"SUM(CJ18:CJ37)","v":0},null,{"$f":"SUM(CL18:CL37)","v":0},null,{"$f":"SUM(CN18:CN37)","v":0},null,{"$f":"SUM(CP18:CP37)","v":0},null,{"$f":"SUM(CR18:CR37)","v":0},null,{"$f":"SUM(CT18:CT37)","v":0},null,{"$f":"SUM(CV18:CV37)","v":0},null,{"$f":"SUM(CX18:CX37)","v":0},null,{"$f":"SUM(CZ18:CZ37)","v":0},null,{"$f":"SUM(DB18:DB37)","v":0},null,{"$f":"SUM(DD18:DD37)","v":0},null,{"$f":"SUM(DF18:DF37)","v":0},null,{"$f":"SUM(DH18:DH37)","v":0},null,{"$f":"SUM(DJ18:DJ37)","v":0},null,{"$f":"SUM(DL18:DL37)","v":0},null,{"$f":"SUM(DN18:DN37)","v":0},null,{"$f":"SUM(DP18:DP37)","v":0},null,{"$f":"SUM(DR18:DR37)","v":0},null,{"$f":"SUM(DT18:DT37)","v":0},null,{"$f":"SUM(DV18:DV37)","v":0},null,{"$f":"SUM(DX18:DX37)","v":0},null,{"$f":"SUM(DZ18:DZ37)","v":0},null,{"$f":"SUM(EB18:EB37)","v":0},null,{"$f":"SUM(ED18:ED37)","v":0},null,{"$f":"SUM(EF18:EF37)","v":0},null,{"$f":"SUM(EH18:EH37)","v":0},null,{"$f":"SUM(EJ18:EJ37)","v":0},null,{"$f":"SUM(EL18:EL37)","v":0},null,{"$f":"SUM(EN18:EN37)","v":0},null,{"$f":"SUM(EP18:EP37)","v":0},null,{"$f":"SUM(ER18:ER37)","v":0},null,{"$f":"SUM(ET18:ET37)","v":0},null,{"$f":"SUM(EV18:EV37)","v":0},null,{"$f":"SUM(EX18:EX37)","v":0},null,{"$f":"SUM(EZ18:EZ37)","v":0},null,{"$f":"SUM(FB18:FB37)","v":0},null,{"$f":"SUM(FD18:FD37)","v":0},null,{"$f":"SUM(FF18:FF37)","v":0},null,{"$f":"SUM(FH18:FH37)","v":0},null,{"$f":"SUM(FJ18:FJ37)","v":0},null,{"$f":"SUM(FL18:FL37)","v":0},null,{"$f":"SUM(FN18:FN37)","v":0},null,{"$f":"SUM(FP18:FP37)","v":0},null,{"$f":"SUM(FR18:FR37)","v":0},null,{"$f":"SUM(FT18:FT37)","v":0},null,null,null,{"$f":"SUM(FX18:FX37)","v":0}]
[null,10,2,{"$f":"'PEFA rows'!C12","v":"P08"},{"$f":"'PEFA rows'!D12","v":"Hard coal"},null,null,{"$f":"SUM(J18,R18,T18,BH18,BJ18,BP18,BR18,BZ18,CL18,CN18,CX18,DF18,DJ18,DV18,EF18,EH18,EJ18,EP18,EV18,FD18,FF18,FH18)","v":0},null,{"$f":"IF(AND(ISNUMBER(Table_B.1!J18),ISNUMBER(Table_B.2!J18)),SUM(Table_B.1!J18,Table_B.2!J18),\":\")","v":0},null,{"$f":"IF(AND(ISNUMBER(Table_B.1!L18),ISNUMBER(Table_B.2!L18)),SUM(Table_B.1!L18,Table_B.2!L18),\":\")","v":0},null,{"$f":"IF(AND(ISNUMBER(Table_B.1!N18),ISNUMBER(Table_B.2!N18)),SUM(Table_B.1!N18,Table_B.2!N18),\":\")","v":0},null,{"$f":"IF(AND(ISNUMBER(Table_B.1!P18),ISNUMBER(Table_B.2!P18)),SUM(Table_B.1!P18,Table_B.2!P18),\":\")","v":0},null,{"$f":"IF(AND(ISNUMBER(Table_B.1!R18),ISNUMBER(Table_B.2!R18)),SUM(Table_B.1!R18,Table_B.2!R18),\":\")","v":0},null,{"$f":"IF(AND(ISNUMBER(Table_B.1!T18),ISNUMBER(Table_B.2!T18)),SUM(Table_B.1!T18,Table_B.2!T18),\":\")","v":0},null,{"$f":"IF(AND(ISNUMBER(Table_B.1!V18),ISNUMBER(Table_B.2!V18)),SUM(Table_B.1!V18,Table_B.2!V18),\":\")","v":0},null,{"$f":"IF(AND(ISNUMBER(Table_B.1!X18),ISNUMBER(Table_B.2!X18)),SUM(Table_B.1!X18,Table_B.2!X18),\":\")","v":0},null,{"$f":"IF(AND(ISNUMBER(Table_B.1!Z18),ISNUMBER(Table_B.2!Z18)),SUM(Table_B.1!Z18,Table_B.2!Z18),\":\")","v":0},null,{"$f":"IF(AND(ISNUMBER(Table_B.1!AB18),ISNUMBER(Table_B.2!AB18)),SUM(Table_B.1!AB18,Table_B.2!AB18),\":\")","v":0},null,{"$f":"IF(AND(ISNUMBER(Table_B.1!AD18),ISNUMBER(Table_B.2!AD18)),SUM(Table_B.1!AD18,Table_B.2!AD18),\":\")","v":0},null,{"$f":"IF(AND(ISNUMBER(Table_B.1!AF18),ISNUMBER(Table_B.2!AF18)),SUM(Table_B.1!AF18,Table_B.2!AF18),\":\")","v":0},null,{"$f":"IF(AND(ISNUMBER(Table_B.1!AH18),ISNUMBER(Table_B.2!AH18)),SUM(Table_B.1!AH18,Table_B.2!AH18),\":\")","v":0},null,{"$f":"IF(AND(ISNUMBER(Table_B.1!AJ18),ISNUMBER(Table_B.2!AJ18)),SUM(Table_B.1!AJ18,Table_B.2!AJ18),\":\")","v":0},null,{"$f":"IF(AND(ISNUMBER(Table_B.1!AL18),ISNUMBER(Table_B.2!AL18)),SUM(Table_B.1!AL18,Table_B.2!AL18),\":\")","v":0},null,{"$f":"IF(AND(ISNUMBER(Table_B.1!AN18),ISNUMBER(Table_B.2!AN18)),SUM(Table_B.1!AN18,Table_B.2!AN18),\":\")","v":0},null,{"$f":"IF(AND(ISNUMBER(Table_B.1!AP18),ISNUMBER(Table_B.2!AP18)),SUM(Table_B.1!AP18,Table_B.2!AP18),\":\")","v":0},null,{"$f":"IF(AND(ISNUMBER(Table_B.1!AR18),ISNUMBER(Table_B.2!AR18)),SUM(Table_B.1!AR18,Table_B.2!AR18),\":\")","v":0},null,{"$f":"IF(AND(ISNUMBER(Table_B.1!AT18),ISNUMBER(Table_B.2!AT18)),SUM(Table_B.1!AT18,Table_B.2!AT18),\":\")","v":0},null,{"$f":"IF(AND(ISNUMBER(Table_B.1!AV18),ISNUMBER(Table_B.2!AV18)),SUM(Table_B.1!AV18,Table_B.2!AV18),\":\")","v":0},null,{"$f":"IF(AND(ISNUMBER(Table_B.1!AX18),ISNUMBER(Table_B.2!AX18)),SUM(Table_B.1!AX18,Table_B.2!AX18),\":\")","v":0},null,{"$f":"IF(AND(ISNUMBER(Table_B.1!AZ18),ISNUMBER(Table_B.2!AZ18)),SUM(Table_B.1!AZ18,Table_B.2!AZ18),\":\")","v":0},null,{"$f":"IF(AND(ISNUMBER(Table_B.1!BB18),ISNUMBER(Table_B.2!BB18)),SUM(Table_B.1!BB18,Table_B.2!BB18),\":\")","v":0},null,{"$f":"IF(AND(ISNUMBER(Table_B.1!BD18),ISNUMBER(Table_B.2!BD18)),SUM(Table_B.1!BD18,Table_B.2!BD18),\":\")","v":0},null,{"$f":"IF(AND(ISNUMBER(Table_B.1!BF18),ISNUMBER(Table_B.2!BF18)),SUM(Table_B.1!BF18,Table_B.2!BF18),\":\")","v":0},null,{"$f":"IF(AND(ISNUMBER(Table_B.1!BH18),ISNUMBER(Table_B.2!BH18)),SUM(Table_B.1!BH18,Table_B.2!BH18),\":\")","v":0},null,{"$f":"IF(AND(ISNUMBER(Table_B.1!BJ18),ISNUMBER(Table_B.2!BJ18)),SUM(Table_B.1!BJ18,Table_B.2!BJ18),\":\")","v":0},null,{"$f":"IF(AND(ISNUMBER(Table_B.1!BL18),ISNUMBER(Table_B.2!BL18)),SUM(Table_B.1!BL18,Table_B.2!BL18),\":\")","v":0},null,{"$f":"IF(AND(ISNUMBER(Table_B.1!BN18),ISNUMBER(Table_B.2!BN18)),SUM(Table_B.1!BN18,Table_B.2!BN18),\":\")","v":0},null,{"$f":"IF(AND(ISNUMBER(Table_B.1!BP18),ISNUMBER(Table_B.2!BP18)),SUM(Table_B.1!BP18,Table_B.2!BP18),\":\")","v":0},null,{"$f":"IF(AND(ISNUMBER(Table_B.1!BR18),ISNUMBER(Table_B.2!BR18)),SUM(Table_B.1!BR18,Table_B.2!BR18),\":\")","v":0},null,{"$f":"IF(AND(ISNUMBER(Table_B.1!BT18),ISNUMBER(Table_B.2!BT18)),SUM(Table_B.1!BT18,Table_B.2!BT18),\":\")","v":0},null,{"$f":"IF(AND(ISNUMBER(Table_B.1!BV18),ISNUMBER(Table_B.2!BV18)),SUM(Table_B.1!BV18,Table_B.2!BV18),\":\")","v":0},null,{"$f":"IF(AND(ISNUMBER(Table_B.1!BX18),ISNUMBER(Table_B.2!BX18)),SUM(Table_B.1!BX18,Table_B.2!BX18),\":\")","v":0},null,{"$f":"IF(AND(ISNUMBER(Table_B.1!BZ18),ISNUMBER(Table_B.2!BZ18)),SUM(Table_B.1!BZ18,Table_B.2!BZ18),\":\")","v":0},null,{"$f":"IF(AND(ISNUMBER(Table_B.1!CB18),ISNUMBER(Table_B.2!CB18)),SUM(Table_B.1!CB18,Table_B.2!CB18),\":\")","v":0},null,{"$f":"IF(AND(ISNUMBER(Table_B.1!CD18),ISNUMBER(Table_B.2!CD18)),SUM(Table_B.1!CD18,Table_B.2!CD18),\":\")","v":0},null,{"$f":"IF(AND(ISNUMBER(Table_B.1!CF18),ISNUMBER(Table_B.2!CF18)),SUM(Table_B.1!CF18,Table_B.2!CF18),\":\")","v":0},null,{"$f":"IF(AND(ISNUMBER(Table_B.1!CH18),ISNUMBER(Table_B.2!CH18)),SUM(Table_B.1!CH18,Table_B.2!CH18),\":\")","v":0},null,{"$f":"IF(AND(ISNUMBER(Table_B.1!CJ18),ISNUMBER(Table_B.2!CJ18)),SUM(Table_B.1!CJ18,Table_B.2!CJ18),\":\")","v":0},null,{"$f":"IF(AND(ISNUMBER(Table_B.1!CL18),ISNUMBER(Table_B.2!CL18)),SUM(Table_B.1!CL18,Table_B.2!CL18),\":\")","v":0},null,{"$f":"IF(AND(ISNUMBER(Table_B.1!CN18),ISNUMBER(Table_B.2!CN18)),SUM(Table_B.1!CN18,Table_B.2!CN18),\":\")","v":0},null,{"$f":"IF(AND(ISNUMBER(Table_B.1!CP18),ISNUMBER(Table_B.2!CP18)),SUM(Table_B.1!CP18,Table_B.2!CP18),\":\")","v":0},null,{"$f":"IF(AND(ISNUMBER(Table_B.1!CR18),ISNUMBER(Table_B.2!CR18)),SUM(Table_B.1!CR18,Table_B.2!CR18),\":\")","v":0},null,{"$f":"IF(AND(ISNUMBER(Table_B.1!CT18),ISNUMBER(Table_B.2!CT18)),SUM(Table_B.1!CT18,Table_B.2!CT18),\":\")","v":0},null,{"$f":"IF(AND(ISNUMBER(Table_B.1!CV18),ISNUMBER(Table_B.2!CV18)),SUM(Table_B.1!CV18,Table_B.2!CV18),\":\")","v":0},null,{"$f":"IF(AND(ISNUMBER(Table_B.1!CX18),ISNUMBER(Table_B.2!CX18)),SUM(Table_B.1!CX18,Table_B.2!CX18),\":\")","v":0},null,{"$f":"IF(AND(ISNUMBER(Table_B.1!CZ18),ISNUMBER(Table_B.2!CZ18)),SUM(Table_B.1!CZ18,Table_B.2!CZ18),\":\")","v":0},null,{"$f":"IF(AND(ISNUMBER(Table_B.1!DB18),ISNUMBER(Table_B.2!DB18)),SUM(Table_B.1!DB18,Table_B.2!DB18),\":\")","v":0},null,{"$f":"IF(AND(ISNUMBER(Table_B.1!DD18),ISNUMBER(Table_B.2!DD18)),SUM(Table_B.1!DD18,Table_B.2!DD18),\":\")","v":0},null,{"$f":"IF(AND(ISNUMBER(Table_B.1!DF18),ISNUMBER(Table_B.2!DF18)),SUM(Table_B.1!DF18,Table_B.2!DF18),\":\")","v":0},null,{"$f":"IF(AND(ISNUMBER(Table_B.1!DH18),ISNUMBER(Table_B.2!DH18)),SUM(Table_B.1!DH18,Table_B.2!DH18),\":\")","v":0},null,{"$f":"IF(AND(ISNUMBER(Table_B.1!DJ18),ISNUMBER(Table_B.2!DJ18)),SUM(Table_B.1!DJ18,Table_B.2!DJ18),\":\")","v":0},null,{"$f":"IF(AND(ISNUMBER(Table_B.1!DL18),ISNUMBER(Table_B.2!DL18)),SUM(Table_B.1!DL18,Table_B.2!DL18),\":\")","v":0},null,{"$f":"IF(AND(ISNUMBER(Table_B.1!DN18),ISNUMBER(Table_B.2!DN18)),SUM(Table_B.1!DN18,Table_B.2!DN18),\":\")","v":0},null,{"$f":"IF(AND(ISNUMBER(Table_B.1!DP18),ISNUMBER(Table_B.2!DP18)),SUM(Table_B.1!DP18,Table_B.2!DP18),\":\")","v":0},null,{"$f":"IF(AND(ISNUMBER(Table_B.1!DR18),ISNUMBER(Table_B.2!DR18)),SUM(Table_B.1!DR18,Table_B.2!DR18),\":\")","v":0},null,{"$f":"IF(AND(ISNUMBER(Table_B.1!DT18),ISNUMBER(Table_B.2!DT18)),SUM(Table_B.1!DT18,Table_B.2!DT18),\":\")","v":0},null,{"$f":"IF(AND(ISNUMBER(Table_B.1!DV18),ISNUMBER(Table_B.2!DV18)),SUM(Table_B.1!DV18,Table_B.2!DV18),\":\")","v":0},null,{"$f":"IF(AND(ISNUMBER(Table_B.1!DX18),ISNUMBER(Table_B.2!DX18)),SUM(Table_B.1!DX18,Table_B.2!DX18),\":\")","v":0},null,{"$f":"IF(AND(ISNUMBER(Table_B.1!DZ18),ISNUMBER(Table_B.2!DZ18)),SUM(Table_B.1!DZ18,Table_B.2!DZ18),\":\")","v":0},null,{"$f":"IF(AND(ISNUMBER(Table_B.1!EB18),ISNUMBER(Table_B.2!EB18)),SUM(Table_B.1!EB18,Table_B.2!EB18),\":\")","v":0},null,{"$f":"IF(AND(ISNUMBER(Table_B.1!ED18),ISNUMBER(Table_B.2!ED18)),SUM(Table_B.1!ED18,Table_B.2!ED18),\":\")","v":0},null,{"$f":"IF(AND(ISNUMBER(Table_B.1!EF18),ISNUMBER(Table_B.2!EF18)),SUM(Table_B.1!EF18,Table_B.2!EF18),\":\")","v":0},null,{"$f":"IF(AND(ISNUMBER(Table_B.1!EH18),ISNUMBER(Table_B.2!EH18)),SUM(Table_B.1!EH18,Table_B.2!EH18),\":\")","v":0},null,{"$f":"IF(AND(ISNUMBER(Table_B.1!EJ18),ISNUMBER(Table_B.2!EJ18)),SUM(Table_B.1!EJ18,Table_B.2!EJ18),\":\")","v":0},null,{"$f":"IF(AND(ISNUMBER(Table_B.1!EL18),ISNUMBER(Table_B.2!EL18)),SUM(Table_B.1!EL18,Table_B.2!EL18),\":\")","v":0},null,{"$f":"IF(AND(ISNUMBER(Table_B.1!EN18),ISNUMBER(Table_B.2!EN18)),SUM(Table_B.1!EN18,Table_B.2!EN18),\":\")","v":0},null,{"$f":"IF(AND(ISNUMBER(Table_B.1!EP18),ISNUMBER(Table_B.2!EP18)),SUM(Table_B.1!EP18,Table_B.2!EP18),\":\")","v":0},null,{"$f":"IF(AND(ISNUMBER(Table_B.1!ER18),ISNUMBER(Table_B.2!ER18)),SUM(Table_B.1!ER18,Table_B.2!ER18),\":\")","v":0},null,{"$f":"IF(AND(ISNUMBER(Table_B.1!ET18),ISNUMBER(Table_B.2!ET18)),SUM(Table_B.1!ET18,Table_B.2!ET18),\":\")","v":0},null,{"$f":"IF(AND(ISNUMBER(Table_B.1!EV18),ISNUMBER(Table_B.2!EV18)),SUM(Table_B.1!EV18,Table_B.2!EV18),\":\")","v":0},null,{"$f":"IF(AND(ISNUMBER(Table_B.1!EX18),ISNUMBER(Table_B.2!EX18)),SUM(Table_B.1!EX18,Table_B.2!EX18),\":\")","v":0},null,{"$f":"IF(AND(ISNUMBER(Table_B.1!EZ18),ISNUMBER(Table_B.2!EZ18)),SUM(Table_B.1!EZ18,Table_B.2!EZ18),\":\")","v":0},null,{"$f":"IF(AND(ISNUMBER(Table_B.1!FB18),ISNUMBER(Table_B.2!FB18)),SUM(Table_B.1!FB18,Table_B.2!FB18),\":\")","v":0},null,{"$f":"IF(AND(ISNUMBER(Table_B.1!FD18),ISNUMBER(Table_B.2!FD18)),SUM(Table_B.1!FD18,Table_B.2!FD18),\":\")","v":0},null,{"$f":"IF(AND(ISNUMBER(Table_B.1!FF18),ISNUMBER(Table_B.2!FF18)),SUM(Table_B.1!FF18,Table_B.2!FF18),\":\")","v":0},null,{"$f":"SUM(Table_B.1!FH18,Table_B.2!FH18)","v":0},null,{"$f":"IF(OR(ISNUMBER(Table_B.1!FJ18),ISNUMBER(Table_B.2!FJ18)),SUM(Table_B.1!FJ18,Table_B.2!FJ18),\":\")","v":0},null,{"$f":"IF(OR(ISNUMBER(Table_B.1!FL18),ISNUMBER(Table_B.2!FL18)),SUM(Table_B.1!FL18,Table_B.2!FL18),\":\")","v":0},null,{"$f":"IF(OR(ISNUMBER(Table_B.1!FN18),ISNUMBER(Table_B.2!FN18)),SUM(Table_B.1!FN18,Table_B.2!FN18),\":\")","v":0},null,{"$f":"IF(OR(ISNUMBER(Table_B.1!FP18),ISNUMBER(Table_B.2!FP18)),SUM(Table_B.1!FP18,Table_B.2!FP18),\":\")","v":0},null,{"$f":"IF(OR(ISNUMBER(Table_B.1!FR18),ISNUMBER(Table_B.2!FR18)),SUM(Table_B.1!FR18,Table_B.2!FR18),\":\")","v":0},null,{"$f":"IF(OR(ISNUMBER(Table_B.1!FT18),ISNUMBER(Table_B.2!FT18)),SUM(Table_B.1!FT18,Table_B.2!FT18),\":\")","v":0},null,null,null,{"$f":"SUM(H18,FJ18,FR18,FT18,FV18)","v":0}]
[null,11,2,{"$f":"'PEFA rows'!C13","v":"P09"},{"$f":"'PEFA rows'!D13","v":"Brown coal and peat"},null,null,0,null,{"$f":"IF(AND(ISNUMBER(Table_B.1!J19),ISNUMBER(Table_B.2!J19)),SUM(Table_B.1!J19,Table_B.2!J19),\":\")","v":0},null,{"$f":"IF(AND(ISNUMBER(Table_B.1!L19),ISNUMBER(Table_B.2!L19)),SUM(Table_B.1!L19,Table_B.2!L19),\":\")","v":0},null,{"$f":"IF(AND(ISNUMBER(Table_B.1!N19),ISNUMBER(Table_B.2!N19)),SUM(Table_B.1!N19,Table_B.2!N19),\":\")","v":0},null,{"$f":"IF(AND(ISNUMBER(Table_B.1!P19),ISNUMBER(Table_B.2!P19)),SUM(Table_B.1!P19,Table_B.2!P19),\":\")","v":0},null,{"$f":"IF(AND(ISNUMBER(Table_B.1!R19),ISNUMBER(Table_B.2!R19)),SUM(Table_B.1!R19,Table_B.2!R19),\":\")","v":0},null,{"$f":"IF(AND(ISNUMBER(Table_B.1!T19),ISNUMBER(Table_B.2!T19)),SUM(Table_B.1!T19,Table_B.2!T19),\":\")","v":0},null,{"$f":"IF(AND(ISNUMBER(Table_B.1!V19),ISNUMBER(Table_B.2!V19)),SUM(Table_B.1!V19,Table_B.2!V19),\":\")","v":0},null,{"$f":"IF(AND(ISNUMBER(Table_B.1!X19),ISNUMBER(Table_B.2!X19)),SUM(Table_B.1!X19,Table_B.2!X19),\":\")","v":0},null,{"$f":"IF(AND(ISNUMBER(Table_B.1!Z19),ISNUMBER(Table_B.2!Z19)),SUM(Table_B.1!Z19,Table_B.2!Z19),\":\")","v":0},null,{"$f":"IF(AND(ISNUMBER(Table_B.1!AB19),ISNUMBER(Table_B.2!AB19)),SUM(Table_B.1!AB19,Table_B.2!AB19),\":\")","v":0},null,{"$f":"IF(AND(ISNUMBER(Table_B.1!AD19),ISNUMBER(Table_B.2!AD19)),SUM(Table_B.1!AD19,Table_B.2!AD19),\":\")","v":0},null,{"$f":"IF(AND(ISNUMBER(Table_B.1!AF19),ISNUMBER(Table_B.2!AF19)),SUM(Table_B.1!AF19,Table_B.2!AF19),\":\")","v":0},null,{"$f":"IF(AND(ISNUMBER(Table_B.1!AH19),ISNUMBER(Table_B.2!AH19)),SUM(Table_B.1!AH19,Table_B.2!AH19),\":\")","v":0},null,{"$f":"IF(AND(ISNUMBER(Table_B.1!AJ19),ISNUMBER(Table_B.2!AJ19)),SUM(Table_B.1!AJ19,Table_B.2!AJ19),\":\")","v":0},null,{"$f":"IF(AND(ISNUMBER(Table_B.1!AL19),ISNUMBER(Table_B.2!AL19)),SUM(Table_B.1!AL19,Table_B.2!AL19),\":\")","v":0},null,{"$f":"IF(AND(ISNUMBER(Table_B.1!AN19),ISNUMBER(Table_B.2!AN19)),SUM(Table_B.1!AN19,Table_B.2!AN19),\":\")","v":0},null,{"$f":"IF(AND(ISNUMBER(Table_B.1!AP19),ISNUMBER(Table_B.2!AP19)),SUM(Table_B.1!AP19,Table_B.2!AP19),\":\")","v":0},null,{"$f":"IF(AND(ISNUMBER(Table_B.1!AR19),ISNUMBER(Table_B.2!AR19)),SUM(Table_B.1!AR19,Table_B.2!AR19),\":\")","v":0},null,{"$f":"IF(AND(ISNUMBER(Table_B.1!AT19),ISNUMBER(Table_B.2!AT19)),SUM(Table_B.1!AT19,Table_B.2!AT19),\":\")","v":0},null,{"$f":"IF(AND(ISNUMBER(Table_B.1!AV19),ISNUMBER(Table_B.2!AV19)),SUM(Table_B.1!AV19,Table_B.2!AV19),\":\")","v":0},null,{"$f":"IF(AND(ISNUMBER(Table_B.1!AX19),ISNUMBER(Table_B.2!AX19)),SUM(Table_B.1!AX19,Table_B.2!AX19),\":\")","v":0},null,{"$f":"IF(AND(ISNUMBER(Table_B.1!AZ19),ISNUMBER(Table_B.2!AZ19)),SUM(Table_B.1!AZ19,Table_B.2!AZ19),\":\")","v":0},null,{"$f":"IF(AND(ISNUMBER(Table_B.1!BB19),ISNUMBER(Table_B.2!BB19)),SUM(Table_B.1!BB19,Table_B.2!BB19),\":\")","v":0},null,{"$f":"IF(AND(ISNUMBER(Table_B.1!BD19),ISNUMBER(Table_B.2!BD19)),SUM(Table_B.1!BD19,Table_B.2!BD19),\":\")","v":0},null,{"$f":"IF(AND(ISNUMBER(Table_B.1!BF19),ISNUMBER(Table_B.2!BF19)),SUM(Table_B.1!BF19,Table_B.2!BF19),\":\")","v":0},null,{"$f":"IF(AND(ISNUMBER(Table_B.1!BH19),ISNUMBER(Table_B.2!BH19)),SUM(Table_B.1!BH19,Table_B.2!BH19),\":\")","v":0},null,{"$f":"IF(AND(ISNUMBER(Table_B.1!BJ19),ISNUMBER(Table_B.2!BJ19)),SUM(Table_B.1!BJ19,Table_B.2!BJ19),\":\")","v":0},null,{"$f":"IF(AND(ISNUMBER(Table_B.1!BL19),ISNUMBER(Table_B.2!BL19)),SUM(Table_B.1!BL19,Table_B.2!BL19),\":\")","v":0},null,{"$f":"IF(AND(ISNUMBER(Table_B.1!BN19),ISNUMBER(Table_B.2!BN19)),SUM(Table_B.1!BN19,Table_B.2!BN19),\":\")","v":0},null,{"$f":"IF(AND(ISNUMBER(Table_B.1!BP19),ISNUMBER(Table_B.2!BP19)),SUM(Table_B.1!BP19,Table_B.2!BP19),\":\")","v":0},null,{"$f":"IF(AND(ISNUMBER(Table_B.1!BR19),ISNUMBER(Table_B.2!BR19)),SUM(Table_B.1!BR19,Table_B.2!BR19),\":\")","v":0},null,{"$f":"IF(AND(ISNUMBER(Table_B.1!BT19),ISNUMBER(Table_B.2!BT19)),SUM(Table_B.1!BT19,Table_B.2!BT19),\":\")","v":0},null,{"$f":"IF(AND(ISNUMBER(Table_B.1!BV19),ISNUMBER(Table_B.2!BV19)),SUM(Table_B.1!BV19,Table_B.2!BV19),\":\")","v":0},null,{"$f":"IF(AND(ISNUMBER(Table_B.1!BX19),ISNUMBER(Table_B.2!BX19)),SUM(Table_B.1!BX19,Table_B.2!BX19),\":\")","v":0},null,{"$f":"IF(AND(ISNUMBER(Table_B.1!BZ19),ISNUMBER(Table_B.2!BZ19)),SUM(Table_B.1!BZ19,Table_B.2!BZ19),\":\")","v":0},null,{"$f":"IF(AND(ISNUMBER(Table_B.1!CB19),ISNUMBER(Table_B.2!CB19)),SUM(Table_B.1!CB19,Table_B.2!CB19),\":\")","v":0},null,{"$f":"IF(AND(ISNUMBER(Table_B.1!CD19),ISNUMBER(Table_B.2!CD19)),SUM(Table_B.1!CD19,Table_B.2!CD19),\":\")","v":0},null,{"$f":"IF(AND(ISNUMBER(Table_B.1!CF19),ISNUMBER(Table_B.2!CF19)),SUM(Table_B.1!CF19,Table_B.2!CF19),\":\")","v":0},null,{"$f":"IF(AND(ISNUMBER(Table_B.1!CH19),ISNUMBER(Table_B.2!CH19)),SUM(Table_B.1!CH19,Table_B.2!CH19),\":\")","v":0},null,{"$f":"IF(AND(ISNUMBER(Table_B.1!CJ19),ISNUMBER(Table_B.2!CJ19)),SUM(Table_B.1!CJ19,Table_B.2!CJ19),\":\")","v":0},null,{"$f":"IF(AND(ISNUMBER(Table_B.1!CL19),ISNUMBER(Table_B.2!CL19)),SUM(Table_B.1!CL19,Table_B.2!CL19),\":\")","v":0},null,{"$f":"IF(AND(ISNUMBER(Table_B.1!CN19),ISNUMBER(Table_B.2!CN19)),SUM(Table_B.1!CN19,Table_B.2!CN19),\":\")","v":0},null,{"$f":"IF(AND(ISNUMBER(Table_B.1!CP19),ISNUMBER(Table_B.2!CP19)),SUM(Table_B.1!CP19,Table_B.2!CP19),\":\")","v":0},null,{"$f":"IF(AND(ISNUMBER(Table_B.1!CR19),ISNUMBER(Table_B.2!CR19)),SUM(Table_B.1!CR19,Table_B.2!CR19),\":\")","v":0},null,{"$f":"IF(AND(ISNUMBER(Table_B.1!CT19),ISNUMBER(Table_B.2!CT19)),SUM(Table_B.1!CT19,Table_B.2!CT19),\":\")","v":0},null,{"$f":"IF(AND(ISNUMBER(Table_B.1!CV19),ISNUMBER(Table_B.2!CV19)),SUM(Table_B.1!CV19,Table_B.2!CV19),\":\")","v":0},null,{"$f":"IF(AND(ISNUMBER(Table_B.1!CX19),ISNUMBER(Table_B.2!CX19)),SUM(Table_B.1!CX19,Table_B.2!CX19),\":\")","v":0},null,{"$f":"IF(AND(ISNUMBER(Table_B.1!CZ19),ISNUMBER(Table_B.2!CZ19)),SUM(Table_B.1!CZ19,Table_B.2!CZ19),\":\")","v":0},null,{"$f":"IF(AND(ISNUMBER(Table_B.1!DB19),ISNUMBER(Table_B.2!DB19)),SUM(Table_B.1!DB19,Table_B.2!DB19),\":\")","v":0},null,{"$f":"IF(AND(ISNUMBER(Table_B.1!DD19),ISNUMBER(Table_B.2!DD19)),SUM(Table_B.1!DD19,Table_B.2!DD19),\":\")","v":0},null,{"$f":"IF(AND(ISNUMBER(Table_B.1!DF19),ISNUMBER(Table_B.2!DF19)),SUM(Table_B.1!DF19,Table_B.2!DF19),\":\")","v":0},null,{"$f":"IF(AND(ISNUMBER(Table_B.1!DH19),ISNUMBER(Table_B.2!DH19)),SUM(Table_B.1!DH19,Table_B.2!DH19),\":\")","v":0},null,{"$f":"IF(AND(ISNUMBER(Table_B.1!DJ19),ISNUMBER(Table_B.2!DJ19)),SUM(Table_B.1!DJ19,Table_B.2!DJ19),\":\")","v":0},null,{"$f":"IF(AND(ISNUMBER(Table_B.1!DL19),ISNUMBER(Table_B.2!DL19)),SUM(Table_B.1!DL19,Table_B.2!DL19),\":\")","v":0},null,{"$f":"IF(AND(ISNUMBER(Table_B.1!DN19),ISNUMBER(Table_B.2!DN19)),SUM(Table_B.1!DN19,Table_B.2!DN19),\":\")","v":0},null,{"$f":"IF(AND(ISNUMBER(Table_B.1!DP19),ISNUMBER(Table_B.2!DP19)),SUM(Table_B.1!DP19,Table_B.2!DP19),\":\")","v":0},null,{"$f":"IF(AND(ISNUMBER(Table_B.1!DR19),ISNUMBER(Table_B.2!DR19)),SUM(Table_B.1!DR19,Table_B.2!DR19),\":\")","v":0},null,{"$f":"IF(AND(ISNUMBER(Table_B.1!DT19),ISNUMBER(Table_B.2!DT19)),SUM(Table_B.1!DT19,Table_B.2!DT19),\":\")","v":0},null,{"$f":"IF(AND(ISNUMBER(Table_B.1!DV19),ISNUMBER(Table_B.2!DV19)),SUM(Table_B.1!DV19,Table_B.2!DV19),\":\")","v":0},null,{"$f":"IF(AND(ISNUMBER(Table_B.1!DX19),ISNUMBER(Table_B.2!DX19)),SUM(Table_B.1!DX19,Table_B.2!DX19),\":\")","v":0},null,{"$f":"IF(AND(ISNUMBER(Table_B.1!DZ19),ISNUMBER(Table_B.2!DZ19)),SUM(Table_B.1!DZ19,Table_B.2!DZ19),\":\")","v":0},null,{"$f":"IF(AND(ISNUMBER(Table_B.1!EB19),ISNUMBER(Table_B.2!EB19)),SUM(Table_B.1!EB19,Table_B.2!EB19),\":\")","v":0},null,{"$f":"IF(AND(ISNUMBER(Table_B.1!ED19),ISNUMBER(Table_B.2!ED19)),SUM(Table_B.1!ED19,Table_B.2!ED19),\":\")","v":0},null,{"$f":"IF(AND(ISNUMBER(Table_B.1!EF19),ISNUMBER(Table_B.2!EF19)),SUM(Table_B.1!EF19,Table_B.2!EF19),\":\")","v":0},null,{"$f":"IF(AND(ISNUMBER(Table_B.1!EH19),ISNUMBER(Table_B.2!EH19)),SUM(Table_B.1!EH19,Table_B.2!EH19),\":\")","v":0},null,{"$f":"IF(AND(ISNUMBER(Table_B.1!EJ19),ISNUMBER(Table_B.2!EJ19)),SUM(Table_B.1!EJ19,Table_B.2!EJ19),\":\")","v":0},null,{"$f":"IF(AND(ISNUMBER(Table_B.1!EL19),ISNUMBER(Table_B.2!EL19)),SUM(Table_B.1!EL19,Table_B.2!EL19),\":\")","v":0},null,{"$f":"IF(AND(ISNUMBER(Table_B.1!EN19),ISNUMBER(Table_B.2!EN19)),SUM(Table_B.1!EN19,Table_B.2!EN19),\":\")","v":0},null,{"$f":"IF(AND(ISNUMBER(Table_B.1!EP19),ISNUMBER(Table_B.2!EP19)),SUM(Table_B.1!EP19,Table_B.2!EP19),\":\")","v":0},null,{"$f":"IF(AND(ISNUMBER(Table_B.1!ER19),ISNUMBER(Table_B.2!ER19)),SUM(Table_B.1!ER19,Table_B.2!ER19),\":\")","v":0},null,{"$f":"IF(AND(ISNUMBER(Table_B.1!ET19),ISNUMBER(Table_B.2!ET19)),SUM(Table_B.1!ET19,Table_B.2!ET19),\":\")","v":0},null,{"$f":"IF(AND(ISNUMBER(Table_B.1!EV19),ISNUMBER(Table_B.2!EV19)),SUM(Table_B.1!EV19,Table_B.2!EV19),\":\")","v":0},null,{"$f":"IF(AND(ISNUMBER(Table_B.1!EX19),ISNUMBER(Table_B.2!EX19)),SUM(Table_B.1!EX19,Table_B.2!EX19),\":\")","v":0},null,{"$f":"IF(AND(ISNUMBER(Table_B.1!EZ19),ISNUMBER(Table_B.2!EZ19)),SUM(Table_B.1!EZ19,Table_B.2!EZ19),\":\")","v":0},null,{"$f":"IF(AND(ISNUMBER(Table_B.1!FB19),ISNUMBER(Table_B.2!FB19)),SUM(Table_B.1!FB19,Table_B.2!FB19),\":\")","v":0},null,{"$f":"IF(AND(ISNUMBER(Table_B.1!FD19),ISNUMBER(Table_B.2!FD19)),SUM(Table_B.1!FD19,Table_B.2!FD19),\":\")","v":0},null,{"$f":"IF(AND(ISNUMBER(Table_B.1!FF19),ISNUMBER(Table_B.2!FF19)),SUM(Table_B.1!FF19,Table_B.2!FF19),\":\")","v":0},null,{"$f":"SUM(Table_B.1!FH19,Table_B.2!FH19)","v":0},null,{"$f":"IF(OR(ISNUMBER(Table_B.1!FJ19),ISNUMBER(Table_B.2!FJ19)),SUM(Table_B.1!FJ19,Table_B.2!FJ19),\":\")","v":0},null,{"$f":"IF(OR(ISNUMBER(Table_B.1!FL19),ISNUMBER(Table_B.2!FL19)),SUM(Table_B.1!FL19,Table_B.2!FL19),\":\")","v":0},null,{"$f":"IF(OR(ISNUMBER(Table_B.1!FN19),ISNUMBER(Table_B.2!FN19)),SUM(Table_B.1!FN19,Table_B.2!FN19),\":\")","v":0},null,{"$f":"IF(OR(ISNUMBER(Table_B.1!FP19),ISNUMBER(Table_B.2!FP19)),SUM(Table_B.1!FP19,Table_B.2!FP19),\":\")","v":0},null,{"$f":"IF(OR(ISNUMBER(Table_B.1!FR19),ISNUMBER(Table_B.2!FR19)),SUM(Table_B.1!FR19,Table_B.2!FR19),\":\")","v":0},null,{"$f":"IF(OR(ISNUMBER(Table_B.1!FT19),ISNUMBER(Table_B.2!FT19)),SUM(Table_B.1!FT19,Table_B.2!FT19),\":\")","v":0},null,null,null,0,null,""]
[null,12,2,{"$f":"'PEFA rows'!C14","v":"P10"},{"$f":"'PEFA rows'!D14","v":"Derived gases (= manufactured gases excl. biogas) "},null,null,0,null,{"$f":"IF(AND(ISNUMBER(Table_B.1!J20),ISNUMBER(Table_B.2!J20)),SUM(Table_B.1!J20,Table_B.2!J20),\":\")","v":0},null,{"$f":"IF(AND(ISNUMBER(Table_B.1!L20),ISNUMBER(Table_B.2!L20)),SUM(Table_B.1!L20,Table_B.2!L20),\":\")","v":0},null,{"$f":"IF(AND(ISNUMBER(Table_B.1!N20),ISNUMBER(Table_B.2!N20)),SUM(Table_B.1!N20,Table_B.2!N20),\":\")","v":0},null,{"$f":"IF(AND(ISNUMBER(Table_B.1!P20),ISNUMBER(Table_B.2!P20)),SUM(Table_B.1!P20,Table_B.2!P20),\":\")","v":0},null,{"$f":"IF(AND(ISNUMBER(Table_B.1!R20),ISNUMBER(Table_B.2!R20)),SUM(Table_B.1!R20,Table_B.2!R20),\":\")","v":0},null,{"$f":"IF(AND(ISNUMBER(Table_B.1!T20),ISNUMBER(Table_B.2!T20)),SUM(Table_B.1!T20,Table_B.2!T20),\":\")","v":0},null,{"$f":"IF(AND(ISNUMBER(Table_B.1!V20),ISNUMBER(Table_B.2!V20)),SUM(Table_B.1!V20,Table_B.2!V20),\":\")","v":0},null,{"$f":"IF(AND(ISNUMBER(Table_B.1!X20),ISNUMBER(Table_B.2!X20)),SUM(Table_B.1!X20,Table_B.2!X20),\":\")","v":0},null,{"$f":"IF(AND(ISNUMBER(Table_B.1!Z20),ISNUMBER(Table_B.2!Z20)),SUM(Table_B.1!Z20,Table_B.2!Z20),\":\")","v":0},null,{"$f":"IF(AND(ISNUMBER(Table_B.1!AB20),ISNUMBER(Table_B.2!AB20)),SUM(Table_B.1!AB20,Table_B.2!AB20),\":\")","v":0},null,{"$f":"IF(AND(ISNUMBER(Table_B.1!AD20),ISNUMBER(Table_B.2!AD20)),SUM(Table_B.1!AD20,Table_B.2!AD20),\":\")","v":0},null,{"$f":"IF(AND(ISNUMBER(Table_B.1!AF20),ISNUMBER(Table_B.2!AF20)),SUM(Table_B.1!AF20,Table_B.2!AF20),\":\")","v":0},null,{"$f":"IF(AND(ISNUMBER(Table_B.1!AH20),ISNUMBER(Table_B.2!AH20)),SUM(Table_B.1!AH20,Table_B.2!AH20),\":\")","v":0},null,{"$f":"IF(AND(ISNUMBER(Table_B.1!AJ20),ISNUMBER(Table_B.2!AJ20)),SUM(Table_B.1!AJ20,Table_B.2!AJ20),\":\")","v":0},null,{"$f":"IF(AND(ISNUMBER(Table_B.1!AL20),ISNUMBER(Table_B.2!AL20)),SUM(Table_B.1!AL20,Table_B.2!AL20),\":\")","v":0},null,{"$f":"IF(AND(ISNUMBER(Table_B.1!AN20),ISNUMBER(Table_B.2!AN20)),SUM(Table_B.1!AN20,Table_B.2!AN20),\":\")","v":0},null,{"$f":"IF(AND(ISNUMBER(Table_B.1!AP20),ISNUMBER(Table_B.2!AP20)),SUM(Table_B.1!AP20,Table_B.2!AP20),\":\")","v":0},null,{"$f":"IF(AND(ISNUMBER(Table_B.1!AR20),ISNUMBER(Table_B.2!AR20)),SUM(Table_B.1!AR20,Table_B.2!AR20),\":\")","v":0},null,{"$f":"IF(AND(ISNUMBER(Table_B.1!AT20),ISNUMBER(Table_B.2!AT20)),SUM(Table_B.1!AT20,Table_B.2!AT20),\":\")","v":0},null,{"$f":"IF(AND(ISNUMBER(Table_B.1!AV20),ISNUMBER(Table_B.2!AV20)),SUM(Table_B.1!AV20,Table_B.2!AV20),\":\")","v":0},null,{"$f":"IF(AND(ISNUMBER(Table_B.1!AX20),ISNUMBER(Table_B.2!AX20)),SUM(Table_B.1!AX20,Table_B.2!AX20),\":\")","v":0},null,{"$f":"IF(AND(ISNUMBER(Table_B.1!AZ20),ISNUMBER(Table_B.2!AZ20)),SUM(Table_B.1!AZ20,Table_B.2!AZ20),\":\")","v":0},null,{"$f":"IF(AND(ISNUMBER(Table_B.1!BB20),ISNUMBER(Table_B.2!BB20)),SUM(Table_B.1!BB20,Table_B.2!BB20),\":\")","v":0},null,{"$f":"IF(AND(ISNUMBER(Table_B.1!BD20),ISNUMBER(Table_B.2!BD20)),SUM(Table_B.1!BD20,Table_B.2!BD20),\":\")","v":0},null,{"$f":"IF(AND(ISNUMBER(Table_B.1!BF20),ISNUMBER(Table_B.2!BF20)),SUM(Table_B.1!BF20,Table_B.2!BF20),\":\")","v":0},null,{"$f":"IF(AND(ISNUMBER(Table_B.1!BH20),ISNUMBER(Table_B.2!BH20)),SUM(Table_B.1!BH20,Table_B.2!BH20),\":\")","v":0},null,{"$f":"IF(AND(ISNUMBER(Table_B.1!BJ20),ISNUMBER(Table_B.2!BJ20)),SUM(Table_B.1!BJ20,Table_B.2!BJ20),\":\")","v":0},null,{"$f":"IF(AND(ISNUMBER(Table_B.1!BL20),ISNUMBER(Table_B.2!BL20)),SUM(Table_B.1!BL20,Table_B.2!BL20),\":\")","v":0},null,{"$f":"IF(AND(ISNUMBER(Table_B.1!BN20),ISNUMBER(Table_B.2!BN20)),SUM(Table_B.1!BN20,Table_B.2!BN20),\":\")","v":0},null,{"$f":"IF(AND(ISNUMBER(Table_B.1!BP20),ISNUMBER(Table_B.2!BP20)),SUM(Table_B.1!BP20,Table_B.2!BP20),\":\")","v":0},null,{"$f":"IF(AND(ISNUMBER(Table_B.1!BR20),ISNUMBER(Table_B.2!BR20)),SUM(Table_B.1!BR20,Table_B.2!BR20),\":\")","v":0},null,{"$f":"IF(AND(ISNUMBER(Table_B.1!BT20),ISNUMBER(Table_B.2!BT20)),SUM(Table_B.1!BT20,Table_B.2!BT20),\":\")","v":0},null,{"$f":"IF(AND(ISNUMBER(Table_B.1!BV20),ISNUMBER(Table_B.2!BV20)),SUM(Table_B.1!BV20,Table_B.2!BV20),\":\")","v":0},null,{"$f":"IF(AND(ISNUMBER(Table_B.1!BX20),ISNUMBER(Table_B.2!BX20)),SUM(Table_B.1!BX20,Table_B.2!BX20),\":\")","v":0},null,{"$f":"IF(AND(ISNUMBER(Table_B.1!BZ20),ISNUMBER(Table_B.2!BZ20)),SUM(Table_B.1!BZ20,Table_B.2!BZ20),\":\")","v":0},null,{"$f":"IF(AND(ISNUMBER(Table_B.1!CB20),ISNUMBER(Table_B.2!CB20)),SUM(Table_B.1!CB20,Table_B.2!CB20),\":\")","v":0},null,{"$f":"IF(AND(ISNUMBER(Table_B.1!CD20),ISNUMBER(Table_B.2!CD20)),SUM(Table_B.1!CD20,Table_B.2!CD20),\":\")","v":0},null,{"$f":"IF(AND(ISNUMBER(Table_B.1!CF20),ISNUMBER(Table_B.2!CF20)),SUM(Table_B.1!CF20,Table_B.2!CF20),\":\")","v":0},null,{"$f":"IF(AND(ISNUMBER(Table_B.1!CH20),ISNUMBER(Table_B.2!CH20)),SUM(Table_B.1!CH20,Table_B.2!CH20),\":\")","v":0},null,{"$f":"IF(AND(ISNUMBER(Table_B.1!CJ20),ISNUMBER(Table_B.2!CJ20)),SUM(Table_B.1!CJ20,Table_B.2!CJ20),\":\")","v":0},null,{"$f":"IF(AND(ISNUMBER(Table_B.1!CL20),ISNUMBER(Table_B.2!CL20)),SUM(Table_B.1!CL20,Table_B.2!CL20),\":\")","v":0},null,{"$f":"IF(AND(ISNUMBER(Table_B.1!CN20),ISNUMBER(Table_B.2!CN20)),SUM(Table_B.1!CN20,Table_B.2!CN20),\":\")","v":0},null,{"$f":"IF(AND(ISNUMBER(Table_B.1!CP20),ISNUMBER(Table_B.2!CP20)),SUM(Table_B.1!CP20,Table_B.2!CP20),\":\")","v":0},null,{"$f":"IF(AND(ISNUMBER(Table_B.1!CR20),ISNUMBER(Table_B.2!CR20)),SUM(Table_B.1!CR20,Table_B.2!CR20),\":\")","v":0},null,{"$f":"IF(AND(ISNUMBER(Table_B.1!CT20),ISNUMBER(Table_B.2!CT20)),SUM(Table_B.1!CT20,Table_B.2!CT20),\":\")","v":0},null,{"$f":"IF(AND(ISNUMBER(Table_B.1!CV20),ISNUMBER(Table_B.2!CV20)),SUM(Table_B.1!CV20,Table_B.2!CV20),\":\")","v":0},null,{"$f":"IF(AND(ISNUMBER(Table_B.1!CX20),ISNUMBER(Table_B.2!CX20)),SUM(Table_B.1!CX20,Table_B.2!CX20),\":\")","v":0},null,{"$f":"IF(AND(ISNUMBER(Table_B.1!CZ20),ISNUMBER(Table_B.2!CZ20)),SUM(Table_B.1!CZ20,Table_B.2!CZ20),\":\")","v":0},null,{"$f":"IF(AND(ISNUMBER(Table_B.1!DB20),ISNUMBER(Table_B.2!DB20)),SUM(Table_B.1!DB20,Table_B.2!DB20),\":\")","v":0},null,{"$f":"IF(AND(ISNUMBER(Table_B.1!DD20),ISNUMBER(Table_B.2!DD20)),SUM(Table_B.1!DD20,Table_B.2!DD20),\":\")","v":0},null,{"$f":"IF(AND(ISNUMBER(Table_B.1!DF20),ISNUMBER(Table_B.2!DF20)),SUM(Table_B.1!DF20,Table_B.2!DF20),\":\")","v":0},null,{"$f":"IF(AND(ISNUMBER(Table_B.1!DH20),ISNUMBER(Table_B.2!DH20)),SUM(Table_B.1!DH20,Table_B.2!DH20),\":\")","v":0},null,{"$f":"IF(AND(ISNUMBER(Table_B.1!DJ20),ISNUMBER(Table_B.2!DJ20)),SUM(Table_B.1!DJ20,Table_B.2!DJ20),\":\")","v":0},null,{"$f":"IF(AND(ISNUMBER(Table_B.1!DL20),ISNUMBER(Table_B.2!DL20)),SUM(Table_B.1!DL20,Table_B.2!DL20),\":\")","v":0},null,{"$f":"IF(AND(ISNUMBER(Table_B.1!DN20),ISNUMBER(Table_B.2!DN20)),SUM(Table_B.1!DN20,Table_B.2!DN20),\":\")","v":0},null,{"$f":"IF(AND(ISNUMBER(Table_B.1!DP20),ISNUMBER(Table_B.2!DP20)),SUM(Table_B.1!DP20,Table_B.2!DP20),\":\")","v":0},null,{"$f":"IF(AND(ISNUMBER(Table_B.1!DR20),ISNUMBER(Table_B.2!DR20)),SUM(Table_B.1!DR20,Table_B.2!DR20),\":\")","v":0},null,{"$f":"IF(AND(ISNUMBER(Table_B.1!DT20),ISNUMBER(Table_B.2!DT20)),SUM(Table_B.1!DT20,Table_B.2!DT20),\":\")","v":0},null,{"$f":"IF(AND(ISNUMBER(Table_B.1!DV20),ISNUMBER(Table_B.2!DV20)),SUM(Table_B.1!DV20,Table_B.2!DV20),\":\")","v":0},null,{"$f":"IF(AND(ISNUMBER(Table_B.1!DX20),ISNUMBER(Table_B.2!DX20)),SUM(Table_B.1!DX20,Table_B.2!DX20),\":\")","v":0},null,{"$f":"IF(AND(ISNUMBER(Table_B.1!DZ20),ISNUMBER(Table_B.2!DZ20)),SUM(Table_B.1!DZ20,Table_B.2!DZ20),\":\")","v":0},null,{"$f":"IF(AND(ISNUMBER(Table_B.1!EB20),ISNUMBER(Table_B.2!EB20)),SUM(Table_B.1!EB20,Table_B.2!EB20),\":\")","v":0},null,{"$f":"IF(AND(ISNUMBER(Table_B.1!ED20),ISNUMBER(Table_B.2!ED20)),SUM(Table_B.1!ED20,Table_B.2!ED20),\":\")","v":0},null,{"$f":"IF(AND(ISNUMBER(Table_B.1!EF20),ISNUMBER(Table_B.2!EF20)),SUM(Table_B.1!EF20,Table_B.2!EF20),\":\")","v":0},null,{"$f":"IF(AND(ISNUMBER(Table_B.1!EH20),ISNUMBER(Table_B.2!EH20)),SUM(Table_B.1!EH20,Table_B.2!EH20),\":\")","v":0},null,{"$f":"IF(AND(ISNUMBER(Table_B.1!EJ20),ISNUMBER(Table_B.2!EJ20)),SUM(Table_B.1!EJ20,Table_B.2!EJ20),\":\")","v":0},null,{"$f":"IF(AND(ISNUMBER(Table_B.1!EL20),ISNUMBER(Table_B.2!EL20)),SUM(Table_B.1!EL20,Table_B.2!EL20),\":\")","v":0},null,{"$f":"IF(AND(ISNUMBER(Table_B.1!EN20),ISNUMBER(Table_B.2!EN20)),SUM(Table_B.1!EN20,Table_B.2!EN20),\":\")","v":0},null,{"$f":"IF(AND(ISNUMBER(Table_B.1!EP20),ISNUMBER(Table_B.2!EP20)),SUM(Table_B.1!EP20,Table_B.2!EP20),\":\")","v":0},null,{"$f":"IF(AND(ISNUMBER(Table_B.1!ER20),ISNUMBER(Table_B.2!ER20)),SUM(Table_B.1!ER20,Table_B.2!ER20),\":\")","v":0},null,{"$f":"IF(AND(ISNUMBER(Table_B.1!ET20),ISNUMBER(Table_B.2!ET20)),SUM(Table_B.1!ET20,Table_B.2!ET20),\":\")","v":0},null,{"$f":"IF(AND(ISNUMBER(Table_B.1!EV20),ISNUMBER(Table_B.2!EV20)),SUM(Table_B.1!EV20,Table_B.2!EV20),\":\")","v":0},null,{"$f":"IF(AND(ISNUMBER(Table_B.1!EX20),ISNUMBER(Table_B.2!EX20)),SUM(Table_B.1!EX20,Table_B.2!EX20),\":\")","v":0},null,{"$f":"IF(AND(ISNUMBER(Table_B.1!EZ20),ISNUMBER(Table_B.2!EZ20)),SUM(Table_B.1!EZ20,Table_B.2!EZ20),\":\")","v":0},null,{"$f":"IF(AND(ISNUMBER(Table_B.1!FB20),ISNUMBER(Table_B.2!FB20)),SUM(Table_B.1!FB20,Table_B.2!FB20),\":\")","v":0},null,{"$f":"IF(AND(ISNUMBER(Table_B.1!FD20),ISNUMBER(Table_B.2!FD20)),SUM(Table_B.1!FD20,Table_B.2!FD20),\":\")","v":0},null,{"$f":"IF(AND(ISNUMBER(Table_B.1!FF20),ISNUMBER(Table_B.2!FF20)),SUM(Table_B.1!FF20,Table_B.2!FF20),\":\")","v":0},null,{"$f":"SUM(Table_B.1!FH20,Table_B.2!FH20)","v":0},null,{"$f":"IF(OR(ISNUMBER(Table_B.1!FJ20),ISNUMBER(Table_B.2!FJ20)),SUM(Table_B.1!FJ20,Table_B.2!FJ20),\":\")","v":0},null,{"$f":"IF(OR(ISNUMBER(Table_B.1!FL20),ISNUMBER(Table_B.2!FL20)),SUM(Table_B.1!FL20,Table_B.2!FL20),\":\")","v":0},null,{"$f":"IF(OR(ISNUMBER(Table_B.1!FN20),ISNUMBER(Table_B.2!FN20)),SUM(Table_B.1!FN20,Table_B.2!FN20),\":\")","v":0},null,{"$f":"IF(OR(ISNUMBER(Table_B.1!FP20),ISNUMBER(Table_B.2!FP20)),SUM(Table_B.1!FP20,Table_B.2!FP20),\":\")","v":0},null,{"$f":"IF(OR(ISNUMBER(Table_B.1!FR20),ISNUMBER(Table_B.2!FR20)),SUM(Table_B.1!FR20,Table_B.2!FR20),\":\")","v":0},null,{"$f":"IF(OR(ISNUMBER(Table_B.1!FT20),ISNUMBER(Table_B.2!FT20)),SUM(Table_B.1!FT20,Table_B.2!FT20),\":\")","v":0},null,null,null,0,null,""]
[null,13,2,{"$f":"'PEFA rows'!C15","v":"P11"},{"$f":"'PEFA rows'!D15","v":"Secondary coal products (coke, coal tar, patent fuel, BKB and peat products)"},null,null,0,null,{"$f":"IF(AND(ISNUMBER(Table_B.1!J21),ISNUMBER(Table_B.2!J21)),SUM(Table_B.1!J21,Table_B.2!J21),\":\")","v":0},null,{"$f":"IF(AND(ISNUMBER(Table_B.1!L21),ISNUMBER(Table_B.2!L21)),SUM(Table_B.1!L21,Table_B.2!L21),\":\")","v":0},null,{"$f":"IF(AND(ISNUMBER(Table_B.1!N21),ISNUMBER(Table_B.2!N21)),SUM(Table_B.1!N21,Table_B.2!N21),\":\")","v":0},null,{"$f":"IF(AND(ISNUMBER(Table_B.1!P21),ISNUMBER(Table_B.2!P21)),SUM(Table_B.1!P21,Table_B.2!P21),\":\")","v":0},null,{"$f":"IF(AND(ISNUMBER(Table_B.1!R21),ISNUMBER(Table_B.2!R21)),SUM(Table_B.1!R21,Table_B.2!R21),\":\")","v":0},null,{"$f":"IF(AND(ISNUMBER(Table_B.1!T21),ISNUMBER(Table_B.2!T21)),SUM(Table_B.1!T21,Table_B.2!T21),\":\")","v":0},null,{"$f":"IF(AND(ISNUMBER(Table_B.1!V21),ISNUMBER(Table_B.2!V21)),SUM(Table_B.1!V21,Table_B.2!V21),\":\")","v":0},null,{"$f":"IF(AND(ISNUMBER(Table_B.1!X21),ISNUMBER(Table_B.2!X21)),SUM(Table_B.1!X21,Table_B.2!X21),\":\")","v":0},null,{"$f":"IF(AND(ISNUMBER(Table_B.1!Z21),ISNUMBER(Table_B.2!Z21)),SUM(Table_B.1!Z21,Table_B.2!Z21),\":\")","v":0},null,{"$f":"IF(AND(ISNUMBER(Table_B.1!AB21),ISNUMBER(Table_B.2!AB21)),SUM(Table_B.1!AB21,Table_B.2!AB21),\":\")","v":0},null,{"$f":"IF(AND(ISNUMBER(Table_B.1!AD21),ISNUMBER(Table_B.2!AD21)),SUM(Table_B.1!AD21,Table_B.2!AD21),\":\")","v":0},null,{"$f":"IF(AND(ISNUMBER(Table_B.1!AF21),ISNUMBER(Table_B.2!AF21)),SUM(Table_B.1!AF21,Table_B.2!AF21),\":\")","v":0},null,{"$f":"IF(AND(ISNUMBER(Table_B.1!AH21),ISNUMBER(Table_B.2!AH21)),SUM(Table_B.1!AH21,Table_B.2!AH21),\":\")","v":0},null,{"$f":"IF(AND(ISNUMBER(Table_B.1!AJ21),ISNUMBER(Table_B.2!AJ21)),SUM(Table_B.1!AJ21,Table_B.2!AJ21),\":\")","v":0},null,{"$f":"IF(AND(ISNUMBER(Table_B.1!AL21),ISNUMBER(Table_B.2!AL21)),SUM(Table_B.1!AL21,Table_B.2!AL21),\":\")","v":0},null,{"$f":"IF(AND(ISNUMBER(Table_B.1!AN21),ISNUMBER(Table_B.2!AN21)),SUM(Table_B.1!AN21,Table_B.2!AN21),\":\")","v":0},null,{"$f":"IF(AND(ISNUMBER(Table_B.1!AP21),ISNUMBER(Table_B.2!AP21)),SUM(Table_B.1!AP21,Table_B.2!AP21),\":\")","v":0},null,{"$f":"IF(AND(ISNUMBER(Table_B.1!AR21),ISNUMBER(Table_B.2!AR21)),SUM(Table_B.1!AR21,Table_B.2!AR21),\":\")","v":0},null,{"$f":"IF(AND(ISNUMBER(Table_B.1!AT21),ISNUMBER(Table_B.2!AT21)),SUM(Table_B.1!AT21,Table_B.2!AT21),\":\")","v":0},null,{"$f":"IF(AND(ISNUMBER(Table_B.1!AV21),ISNUMBER(Table_B.2!AV21)),SUM(Table_B.1!AV21,Table_B.2!AV21),\":\")","v":0},null,{"$f":"IF(AND(ISNUMBER(Table_B.1!AX21),ISNUMBER(Table_B.2!AX21)),SUM(Table_B.1!AX21,Table_B.2!AX21),\":\")","v":0},null,{"$f":"IF(AND(ISNUMBER(Table_B.1!AZ21),ISNUMBER(Table_B.2!AZ21)),SUM(Table_B.1!AZ21,Table_B.2!AZ21),\":\")","v":0},null,{"$f":"IF(AND(ISNUMBER(Table_B.1!BB21),ISNUMBER(Table_B.2!BB21)),SUM(Table_B.1!BB21,Table_B.2!BB21),\":\")","v":0},null,{"$f":"IF(AND(ISNUMBER(Table_B.1!BD21),ISNUMBER(Table_B.2!BD21)),SUM(Table_B.1!BD21,Table_B.2!BD21),\":\")","v":0},null,{"$f":"IF(AND(ISNUMBER(Table_B.1!BF21),ISNUMBER(Table_B.2!BF21)),SUM(Table_B.1!BF21,Table_B.2!BF21),\":\")","v":0},null,{"$f":"IF(AND(ISNUMBER(Table_B.1!BH21),ISNUMBER(Table_B.2!BH21)),SUM(Table_B.1!BH21,Table_B.2!BH21),\":\")","v":0},null,{"$f":"IF(AND(ISNUMBER(Table_B.1!BJ21),ISNUMBER(Table_B.2!BJ21)),SUM(Table_B.1!BJ21,Table_B.2!BJ21),\":\")","v":0},null,{"$f":"IF(AND(ISNUMBER(Table_B.1!BL21),ISNUMBER(Table_B.2!BL21)),SUM(Table_B.1!BL21,Table_B.2!BL21),\":\")","v":0},null,{"$f":"IF(AND(ISNUMBER(Table_B.1!BN21),ISNUMBER(Table_B.2!BN21)),SUM(Table_B.1!BN21,Table_B.2!BN21),\":\")","v":0},null,{"$f":"IF(AND(ISNUMBER(Table_B.1!BP21),ISNUMBER(Table_B.2!BP21)),SUM(Table_B.1!BP21,Table_B.2!BP21),\":\")","v":0},null,{"$f":"IF(AND(ISNUMBER(Table_B.1!BR21),ISNUMBER(Table_B.2!BR21)),SUM(Table_B.1!BR21,Table_B.2!BR21),\":\")","v":0},null,{"$f":"IF(AND(ISNUMBER(Table_B.1!BT21),ISNUMBER(Table_B.2!BT21)),SUM(Table_B.1!BT21,Table_B.2!BT21),\":\")","v":0},null,{"$f":"IF(AND(ISNUMBER(Table_B.1!BV21),ISNUMBER(Table_B.2!BV21)),SUM(Table_B.1!BV21,Table_B.2!BV21),\":\")","v":0},null,{"$f":"IF(AND(ISNUMBER(Table_B.1!BX21),ISNUMBER(Table_B.2!BX21)),SUM(Table_B.1!BX21,Table_B.2!BX21),\":\")","v":0},null,{"$f":"IF(AND(ISNUMBER(Table_B.1!BZ21),ISNUMBER(Table_B.2!BZ21)),SUM(Table_B.1!BZ21,Table_B.2!BZ21),\":\")","v":0},null,{"$f":"IF(AND(ISNUMBER(Table_B.1!CB21),ISNUMBER(Table_B.2!CB21)),SUM(Table_B.1!CB21,Table_B.2!CB21),\":\")","v":0},null,{"$f":"IF(AND(ISNUMBER(Table_B.1!CD21),ISNUMBER(Table_B.2!CD21)),SUM(Table_B.1!CD21,Table_B.2!CD21),\":\")","v":0},null,{"$f":"IF(AND(ISNUMBER(Table_B.1!CF21),ISNUMBER(Table_B.2!CF21)),SUM(Table_B.1!CF21,Table_B.2!CF21),\":\")","v":0},null,{"$f":"IF(AND(ISNUMBER(Table_B.1!CH21),ISNUMBER(Table_B.2!CH21)),SUM(Table_B.1!CH21,Table_B.2!CH21),\":\")","v":0},null,{"$f":"IF(AND(ISNUMBER(Table_B.1!CJ21),ISNUMBER(Table_B.2!CJ21)),SUM(Table_B.1!CJ21,Table_B.2!CJ21),\":\")","v":0},null,{"$f":"IF(AND(ISNUMBER(Table_B.1!CL21),ISNUMBER(Table_B.2!CL21)),SUM(Table_B.1!CL21,Table_B.2!CL21),\":\")","v":0},null,{"$f":"IF(AND(ISNUMBER(Table_B.1!CN21),ISNUMBER(Table_B.2!CN21)),SUM(Table_B.1!CN21,Table_B.2!CN21),\":\")","v":0},null,{"$f":"IF(AND(ISNUMBER(Table_B.1!CP21),ISNUMBER(Table_B.2!CP21)),SUM(Table_B.1!CP21,Table_B.2!CP21),\":\")","v":0},null,{"$f":"IF(AND(ISNUMBER(Table_B.1!CR21),ISNUMBER(Table_B.2!CR21)),SUM(Table_B.1!CR21,Table_B.2!CR21),\":\")","v":0},null,{"$f":"IF(AND(ISNUMBER(Table_B.1!CT21),ISNUMBER(Table_B.2!CT21)),SUM(Table_B.1!CT21,Table_B.2!CT21),\":\")","v":0},null,{"$f":"IF(AND(ISNUMBER(Table_B.1!CV21),ISNUMBER(Table_B.2!CV21)),SUM(Table_B.1!CV21,Table_B.2!CV21),\":\")","v":0},null,{"$f":"IF(AND(ISNUMBER(Table_B.1!CX21),ISNUMBER(Table_B.2!CX21)),SUM(Table_B.1!CX21,Table_B.2!CX21),\":\")","v":0},null,{"$f":"IF(AND(ISNUMBER(Table_B.1!CZ21),ISNUMBER(Table_B.2!CZ21)),SUM(Table_B.1!CZ21,Table_B.2!CZ21),\":\")","v":0},null,{"$f":"IF(AND(ISNUMBER(Table_B.1!DB21),ISNUMBER(Table_B.2!DB21)),SUM(Table_B.1!DB21,Table_B.2!DB21),\":\")","v":0},null,{"$f":"IF(AND(ISNUMBER(Table_B.1!DD21),ISNUMBER(Table_B.2!DD21)),SUM(Table_B.1!DD21,Table_B.2!DD21),\":\")","v":0},null,{"$f":"IF(AND(ISNUMBER(Table_B.1!DF21),ISNUMBER(Table_B.2!DF21)),SUM(Table_B.1!DF21,Table_B.2!DF21),\":\")","v":0},null,{"$f":"IF(AND(ISNUMBER(Table_B.1!DH21),ISNUMBER(Table_B.2!DH21)),SUM(Table_B.1!DH21,Table_B.2!DH21),\":\")","v":0},null,{"$f":"IF(AND(ISNUMBER(Table_B.1!DJ21),ISNUMBER(Table_B.2!DJ21)),SUM(Table_B.1!DJ21,Table_B.2!DJ21),\":\")","v":0},null,{"$f":"IF(AND(ISNUMBER(Table_B.1!DL21),ISNUMBER(Table_B.2!DL21)),SUM(Table_B.1!DL21,Table_B.2!DL21),\":\")","v":0},null,{"$f":"IF(AND(ISNUMBER(Table_B.1!DN21),ISNUMBER(Table_B.2!DN21)),SUM(Table_B.1!DN21,Table_B.2!DN21),\":\")","v":0},null,{"$f":"IF(AND(ISNUMBER(Table_B.1!DP21),ISNUMBER(Table_B.2!DP21)),SUM(Table_B.1!DP21,Table_B.2!DP21),\":\")","v":0},null,{"$f":"IF(AND(ISNUMBER(Table_B.1!DR21),ISNUMBER(Table_B.2!DR21)),SUM(Table_B.1!DR21,Table_B.2!DR21),\":\")","v":0},null,{"$f":"IF(AND(ISNUMBER(Table_B.1!DT21),ISNUMBER(Table_B.2!DT21)),SUM(Table_B.1!DT21,Table_B.2!DT21),\":\")","v":0},null,{"$f":"IF(AND(ISNUMBER(Table_B.1!DV21),ISNUMBER(Table_B.2!DV21)),SUM(Table_B.1!DV21,Table_B.2!DV21),\":\")","v":0},null,{"$f":"IF(AND(ISNUMBER(Table_B.1!DX21),ISNUMBER(Table_B.2!DX21)),SUM(Table_B.1!DX21,Table_B.2!DX21),\":\")","v":0},null,{"$f":"IF(AND(ISNUMBER(Table_B.1!DZ21),ISNUMBER(Table_B.2!DZ21)),SUM(Table_B.1!DZ21,Table_B.2!DZ21),\":\")","v":0},null,{"$f":"IF(AND(ISNUMBER(Table_B.1!EB21),ISNUMBER(Table_B.2!EB21)),SUM(Table_B.1!EB21,Table_B.2!EB21),\":\")","v":0},null,{"$f":"IF(AND(ISNUMBER(Table_B.1!ED21),ISNUMBER(Table_B.2!ED21)),SUM(Table_B.1!ED21,Table_B.2!ED21),\":\")","v":0},null,{"$f":"IF(AND(ISNUMBER(Table_B.1!EF21),ISNUMBER(Table_B.2!EF21)),SUM(Table_B.1!EF21,Table_B.2!EF21),\":\")","v":0},null,{"$f":"IF(AND(ISNUMBER(Table_B.1!EH21),ISNUMBER(Table_B.2!EH21)),SUM(Table_B.1!EH21,Table_B.2!EH21),\":\")","v":0},null,{"$f":"IF(AND(ISNUMBER(Table_B.1!EJ21),ISNUMBER(Table_B.2!EJ21)),SUM(Table_B.1!EJ21,Table_B.2!EJ21),\":\")","v":0},null,{"$f":"IF(AND(ISNUMBER(Table_B.1!EL21),ISNUMBER(Table_B.2!EL21)),SUM(Table_B.1!EL21,Table_B.2!EL21),\":\")","v":0},null,{"$f":"IF(AND(ISNUMBER(Table_B.1!EN21),ISNUMBER(Table_B.2!EN21)),SUM(Table_B.1!EN21,Table_B.2!EN21),\":\")","v":0},null,{"$f":"IF(AND(ISNUMBER(Table_B.1!EP21),ISNUMBER(Table_B.2!EP21)),SUM(Table_B.1!EP21,Table_B.2!EP21),\":\")","v":0},null,{"$f":"IF(AND(ISNUMBER(Table_B.1!ER21),ISNUMBER(Table_B.2!ER21)),SUM(Table_B.1!ER21,Table_B.2!ER21),\":\")","v":0},null,{"$f":"IF(AND(ISNUMBER(Table_B.1!ET21),ISNUMBER(Table_B.2!ET21)),SUM(Table_B.1!ET21,Table_B.2!ET21),\":\")","v":0},null,{"$f":"IF(AND(ISNUMBER(Table_B.1!EV21),ISNUMBER(Table_B.2!EV21)),SUM(Table_B.1!EV21,Table_B.2!EV21),\":\")","v":0},null,{"$f":"IF(AND(ISNUMBER(Table_B.1!EX21),ISNUMBER(Table_B.2!EX21)),SUM(Table_B.1!EX21,Table_B.2!EX21),\":\")","v":0},null,{"$f":"IF(AND(ISNUMBER(Table_B.1!EZ21),ISNUMBER(Table_B.2!EZ21)),SUM(Table_B.1!EZ21,Table_B.2!EZ21),\":\")","v":0},null,{"$f":"IF(AND(ISNUMBER(Table_B.1!FB21),ISNUMBER(Table_B.2!FB21)),SUM(Table_B.1!FB21,Table_B.2!FB21),\":\")","v":0},null,{"$f":"IF(AND(ISNUMBER(Table_B.1!FD21),ISNUMBER(Table_B.2!FD21)),SUM(Table_B.1!FD21,Table_B.2!FD21),\":\")","v":0},null,{"$f":"IF(AND(ISNUMBER(Table_B.1!FF21),ISNUMBER(Table_B.2!FF21)),SUM(Table_B.1!FF21,Table_B.2!FF21),\":\")","v":0},null,{"$f":"SUM(Table_B.1!FH21,Table_B.2!FH21)","v":0},null,{"$f":"IF(OR(ISNUMBER(Table_B.1!FJ21),ISNUMBER(Table_B.2!FJ21)),SUM(Table_B.1!FJ21,Table_B.2!FJ21),\":\")","v":0},null,{"$f":"IF(OR(ISNUMBER(Table_B.1!FL21),ISNUMBER(Table_B.2!FL21)),SUM(Table_B.1!FL21,Table_B.2!FL21),\":\")","v":0},null,{"$f":"IF(OR(ISNUMBER(Table_B.1!FN21),ISNUMBER(Table_B.2!FN21)),SUM(Table_B.1!FN21,Table_B.2!FN21),\":\")","v":0},null,{"$f":"IF(OR(ISNUMBER(Table_B.1!FP21),ISNUMBER(Table_B.2!FP21)),SUM(Table_B.1!FP21,Table_B.2!FP21),\":\")","v":0},null,{"$f":"IF(OR(ISNUMBER(Table_B.1!FR21),ISNUMBER(Table_B.2!FR21)),SUM(Table_B.1!FR21,Table_B.2!FR21),\":\")","v":0},null,{"$f":"IF(OR(ISNUMBER(Table_B.1!FT21),ISNUMBER(Table_B.2!FT21)),SUM(Table_B.1!FT21,Table_B.2!FT21),\":\")","v":0},null,null,null,0,null,""]
[null,14,2,{"$f":"'PEFA rows'!C16","v":"P12"},{"$f":"'PEFA rows'!D16","v":"Crude oil, NGL, and other hydrocarbons (excl. bio)"},null,null,0,null,{"$f":"IF(AND(ISNUMBER(Table_B.1!J22),ISNUMBER(Table_B.2!J22)),SUM(Table_B.1!J22,Table_B.2!J22),\":\")","v":0},null,{"$f":"IF(AND(ISNUMBER(Table_B.1!L22),ISNUMBER(Table_B.2!L22)),SUM(Table_B.1!L22,Table_B.2!L22),\":\")","v":0},null,{"$f":"IF(AND(ISNUMBER(Table_B.1!N22),ISNUMBER(Table_B.2!N22)),SUM(Table_B.1!N22,Table_B.2!N22),\":\")","v":0},null,{"$f":"IF(AND(ISNUMBER(Table_B.1!P22),ISNUMBER(Table_B.2!P22)),SUM(Table_B.1!P22,Table_B.2!P22),\":\")","v":0},null,{"$f":"IF(AND(ISNUMBER(Table_B.1!R22),ISNUMBER(Table_B.2!R22)),SUM(Table_B.1!R22,Table_B.2!R22),\":\")","v":0},null,{"$f":"IF(AND(ISNUMBER(Table_B.1!T22),ISNUMBER(Table_B.2!T22)),SUM(Table_B.1!T22,Table_B.2!T22),\":\")","v":0},null,{"$f":"IF(AND(ISNUMBER(Table_B.1!V22),ISNUMBER(Table_B.2!V22)),SUM(Table_B.1!V22,Table_B.2!V22),\":\")","v":0},null,{"$f":"IF(AND(ISNUMBER(Table_B.1!X22),ISNUMBER(Table_B.2!X22)),SUM(Table_B.1!X22,Table_B.2!X22),\":\")","v":0},null,{"$f":"IF(AND(ISNUMBER(Table_B.1!Z22),ISNUMBER(Table_B.2!Z22)),SUM(Table_B.1!Z22,Table_B.2!Z22),\":\")","v":0},null,{"$f":"IF(AND(ISNUMBER(Table_B.1!AB22),ISNUMBER(Table_B.2!AB22)),SUM(Table_B.1!AB22,Table_B.2!AB22),\":\")","v":0},null,{"$f":"IF(AND(ISNUMBER(Table_B.1!AD22),ISNUMBER(Table_B.2!AD22)),SUM(Table_B.1!AD22,Table_B.2!AD22),\":\")","v":0},null,{"$f":"IF(AND(ISNUMBER(Table_B.1!AF22),ISNUMBER(Table_B.2!AF22)),SUM(Table_B.1!AF22,Table_B.2!AF22),\":\")","v":0},null,{"$f":"IF(AND(ISNUMBER(Table_B.1!AH22),ISNUMBER(Table_B.2!AH22)),SUM(Table_B.1!AH22,Table_B.2!AH22),\":\")","v":0},null,{"$f":"IF(AND(ISNUMBER(Table_B.1!AJ22),ISNUMBER(Table_B.2!AJ22)),SUM(Table_B.1!AJ22,Table_B.2!AJ22),\":\")","v":0},null,{"$f":"IF(AND(ISNUMBER(Table_B.1!AL22),ISNUMBER(Table_B.2!AL22)),SUM(Table_B.1!AL22,Table_B.2!AL22),\":\")","v":0},null,{"$f":"IF(AND(ISNUMBER(Table_B.1!AN22),ISNUMBER(Table_B.2!AN22)),SUM(Table_B.1!AN22,Table_B.2!AN22),\":\")","v":0},null,{"$f":"IF(AND(ISNUMBER(Table_B.1!AP22),ISNUMBER(Table_B.2!AP22)),SUM(Table_B.1!AP22,Table_B.2!AP22),\":\")","v":0},null,{"$f":"IF(AND(ISNUMBER(Table_B.1!AR22),ISNUMBER(Table_B.2!AR22)),SUM(Table_B.1!AR22,Table_B.2!AR22),\":\")","v":0},null,{"$f":"IF(AND(ISNUMBER(Table_B.1!AT22),ISNUMBER(Table_B.2!AT22)),SUM(Table_B.1!AT22,Table_B.2!AT22),\":\")","v":0},null,{"$f":"IF(AND(ISNUMBER(Table_B.1!AV22),ISNUMBER(Table_B.2!AV22)),SUM(Table_B.1!AV22,Table_B.2!AV22),\":\")","v":0},null,{"$f":"IF(AND(ISNUMBER(Table_B.1!AX22),ISNUMBER(Table_B.2!AX22)),SUM(Table_B.1!AX22,Table_B.2!AX22),\":\")","v":0},null,{"$f":"IF(AND(ISNUMBER(Table_B.1!AZ22),ISNUMBER(Table_B.2!AZ22)),SUM(Table_B.1!AZ22,Table_B.2!AZ22),\":\")","v":0},null,{"$f":"IF(AND(ISNUMBER(Table_B.1!BB22),ISNUMBER(Table_B.2!BB22)),SUM(Table_B.1!BB22,Table_B.2!BB22),\":\")","v":0},null,{"$f":"IF(AND(ISNUMBER(Table_B.1!BD22),ISNUMBER(Table_B.2!BD22)),SUM(Table_B.1!BD22,Table_B.2!BD22),\":\")","v":0},null,{"$f":"IF(AND(ISNUMBER(Table_B.1!BF22),ISNUMBER(Table_B.2!BF22)),SUM(Table_B.1!BF22,Table_B.2!BF22),\":\")","v":0},null,{"$f":"IF(AND(ISNUMBER(Table_B.1!BH22),ISNUMBER(Table_B.2!BH22)),SUM(Table_B.1!BH22,Table_B.2!BH22),\":\")","v":0},null,{"$f":"IF(AND(ISNUMBER(Table_B.1!BJ22),ISNUMBER(Table_B.2!BJ22)),SUM(Table_B.1!BJ22,Table_B.2!BJ22),\":\")","v":0},null,{"$f":"IF(AND(ISNUMBER(Table_B.1!BL22),ISNUMBER(Table_B.2!BL22)),SUM(Table_B.1!BL22,Table_B.2!BL22),\":\")","v":0},null,{"$f":"IF(AND(ISNUMBER(Table_B.1!BN22),ISNUMBER(Table_B.2!BN22)),SUM(Table_B.1!BN22,Table_B.2!BN22),\":\")","v":0},null,{"$f":"IF(AND(ISNUMBER(Table_B.1!BP22),ISNUMBER(Table_B.2!BP22)),SUM(Table_B.1!BP22,Table_B.2!BP22),\":\")","v":0},null,{"$f":"IF(AND(ISNUMBER(Table_B.1!BR22),ISNUMBER(Table_B.2!BR22)),SUM(Table_B.1!BR22,Table_B.2!BR22),\":\")","v":0},null,{"$f":"IF(AND(ISNUMBER(Table_B.1!BT22),ISNUMBER(Table_B.2!BT22)),SUM(Table_B.1!BT22,Table_B.2!BT22),\":\")","v":0},null,{"$f":"IF(AND(ISNUMBER(Table_B.1!BV22),ISNUMBER(Table_B.2!BV22)),SUM(Table_B.1!BV22,Table_B.2!BV22),\":\")","v":0},null,{"$f":"IF(AND(ISNUMBER(Table_B.1!BX22),ISNUMBER(Table_B.2!BX22)),SUM(Table_B.1!BX22,Table_B.2!BX22),\":\")","v":0},null,{"$f":"IF(AND(ISNUMBER(Table_B.1!BZ22),ISNUMBER(Table_B.2!BZ22)),SUM(Table_B.1!BZ22,Table_B.2!BZ22),\":\")","v":0},null,{"$f":"IF(AND(ISNUMBER(Table_B.1!CB22),ISNUMBER(Table_B.2!CB22)),SUM(Table_B.1!CB22,Table_B.2!CB22),\":\")","v":0},null,{"$f":"IF(AND(ISNUMBER(Table_B.1!CD22),ISNUMBER(Table_B.2!CD22)),SUM(Table_B.1!CD22,Table_B.2!CD22),\":\")","v":0},null,{"$f":"IF(AND(ISNUMBER(Table_B.1!CF22),ISNUMBER(Table_B.2!CF22)),SUM(Table_B.1!CF22,Table_B.2!CF22),\":\")","v":0},null,{"$f":"IF(AND(ISNUMBER(Table_B.1!CH22),ISNUMBER(Table_B.2!CH22)),SUM(Table_B.1!CH22,Table_B.2!CH22),\":\")","v":0},null,{"$f":"IF(AND(ISNUMBER(Table_B.1!CJ22),ISNUMBER(Table_B.2!CJ22)),SUM(Table_B.1!CJ22,Table_B.2!CJ22),\":\")","v":0},null,{"$f":"IF(AND(ISNUMBER(Table_B.1!CL22),ISNUMBER(Table_B.2!CL22)),SUM(Table_B.1!CL22,Table_B.2!CL22),\":\")","v":0},null,{"$f":"IF(AND(ISNUMBER(Table_B.1!CN22),ISNUMBER(Table_B.2!CN22)),SUM(Table_B.1!CN22,Table_B.2!CN22),\":\")","v":0},null,{"$f":"IF(AND(ISNUMBER(Table_B.1!CP22),ISNUMBER(Table_B.2!CP22)),SUM(Table_B.1!CP22,Table_B.2!CP22),\":\")","v":0},null,{"$f":"IF(AND(ISNUMBER(Table_B.1!CR22),ISNUMBER(Table_B.2!CR22)),SUM(Table_B.1!CR22,Table_B.2!CR22),\":\")","v":0},null,{"$f":"IF(AND(ISNUMBER(Table_B.1!CT22),ISNUMBER(Table_B.2!CT22)),SUM(Table_B.1!CT22,Table_B.2!CT22),\":\")","v":0},null,{"$f":"IF(AND(ISNUMBER(Table_B.1!CV22),ISNUMBER(Table_B.2!CV22)),SUM(Table_B.1!CV22,Table_B.2!CV22),\":\")","v":0},null,{"$f":"IF(AND(ISNUMBER(Table_B.1!CX22),ISNUMBER(Table_B.2!CX22)),SUM(Table_B.1!CX22,Table_B.2!CX22),\":\")","v":0},null,{"$f":"IF(AND(ISNUMBER(Table_B.1!CZ22),ISNUMBER(Table_B.2!CZ22)),SUM(Table_B.1!CZ22,Table_B.2!CZ22),\":\")","v":0},null,{"$f":"IF(AND(ISNUMBER(Table_B.1!DB22),ISNUMBER(Table_B.2!DB22)),SUM(Table_B.1!DB22,Table_B.2!DB22),\":\")","v":0},null,{"$f":"IF(AND(ISNUMBER(Table_B.1!DD22),ISNUMBER(Table_B.2!DD22)),SUM(Table_B.1!DD22,Table_B.2!DD22),\":\")","v":0},null,{"$f":"IF(AND(ISNUMBER(Table_B.1!DF22),ISNUMBER(Table_B.2!DF22)),SUM(Table_B.1!DF22,Table_B.2!DF22),\":\")","v":0},null,{"$f":"IF(AND(ISNUMBER(Table_B.1!DH22),ISNUMBER(Table_B.2!DH22)),SUM(Table_B.1!DH22,Table_B.2!DH22),\":\")","v":0},null,{"$f":"IF(AND(ISNUMBER(Table_B.1!DJ22),ISNUMBER(Table_B.2!DJ22)),SUM(Table_B.1!DJ22,Table_B.2!DJ22),\":\")","v":0},null,{"$f":"IF(AND(ISNUMBER(Table_B.1!DL22),ISNUMBER(Table_B.2!DL22)),SUM(Table_B.1!DL22,Table_B.2!DL22),\":\")","v":0},null,{"$f":"IF(AND(ISNUMBER(Table_B.1!DN22),ISNUMBER(Table_B.2!DN22)),SUM(Table_B.1!DN22,Table_B.2!DN22),\":\")","v":0},null,{"$f":"IF(AND(ISNUMBER(Table_B.1!DP22),ISNUMBER(Table_B.2!DP22)),SUM(Table_B.1!DP22,Table_B.2!DP22),\":\")","v":0},null,{"$f":"IF(AND(ISNUMBER(Table_B.1!DR22),ISNUMBER(Table_B.2!DR22)),SUM(Table_B.1!DR22,Table_B.2!DR22),\":\")","v":0},null,{"$f":"IF(AND(ISNUMBER(Table_B.1!DT22),ISNUMBER(Table_B.2!DT22)),SUM(Table_B.1!DT22,Table_B.2!DT22),\":\")","v":0},null,{"$f":"IF(AND(ISNUMBER(Table_B.1!DV22),ISNUMBER(Table_B.2!DV22)),SUM(Table_B.1!DV22,Table_B.2!DV22),\":\")","v":0},null,{"$f":"IF(AND(ISNUMBER(Table_B.1!DX22),ISNUMBER(Table_B.2!DX22)),SUM(Table_B.1!DX22,Table_B.2!DX22),\":\")","v":0},null,{"$f":"IF(AND(ISNUMBER(Table_B.1!DZ22),ISNUMBER(Table_B.2!DZ22)),SUM(Table_B.1!DZ22,Table_B.2!DZ22),\":\")","v":0},null,{"$f":"IF(AND(ISNUMBER(Table_B.1!EB22),ISNUMBER(Table_B.2!EB22)),SUM(Table_B.1!EB22,Table_B.2!EB22),\":\")","v":0},null,{"$f":"IF(AND(ISNUMBER(Table_B.1!ED22),ISNUMBER(Table_B.2!ED22)),SUM(Table_B.1!ED22,Table_B.2!ED22),\":\")","v":0},null,{"$f":"IF(AND(ISNUMBER(Table_B.1!EF22),ISNUMBER(Table_B.2!EF22)),SUM(Table_B.1!EF22,Table_B.2!EF22),\":\")","v":0},null,{"$f":"IF(AND(ISNUMBER(Table_B.1!EH22),ISNUMBER(Table_B.2!EH22)),SUM(Table_B.1!EH22,Table_B.2!EH22),\":\")","v":0},null,{"$f":"IF(AND(ISNUMBER(Table_B.1!EJ22),ISNUMBER(Table_B.2!EJ22)),SUM(Table_B.1!EJ22,Table_B.2!EJ22),\":\")","v":0},null,{"$f":"IF(AND(ISNUMBER(Table_B.1!EL22),ISNUMBER(Table_B.2!EL22)),SUM(Table_B.1!EL22,Table_B.2!EL22),\":\")","v":0},null,{"$f":"IF(AND(ISNUMBER(Table_B.1!EN22),ISNUMBER(Table_B.2!EN22)),SUM(Table_B.1!EN22,Table_B.2!EN22),\":\")","v":0},null,{"$f":"IF(AND(ISNUMBER(Table_B.1!EP22),ISNUMBER(Table_B.2!EP22)),SUM(Table_B.1!EP22,Table_B.2!EP22),\":\")","v":0},null,{"$f":"IF(AND(ISNUMBER(Table_B.1!ER22),ISNUMBER(Table_B.2!ER22)),SUM(Table_B.1!ER22,Table_B.2!ER22),\":\")","v":0},null,{"$f":"IF(AND(ISNUMBER(Table_B.1!ET22),ISNUMBER(Table_B.2!ET22)),SUM(Table_B.1!ET22,Table_B.2!ET22),\":\")","v":0},null,{"$f":"IF(AND(ISNUMBER(Table_B.1!EV22),ISNUMBER(Table_B.2!EV22)),SUM(Table_B.1!EV22,Table_B.2!EV22),\":\")","v":0},null,{"$f":"IF(AND(ISNUMBER(Table_B.1!EX22),ISNUMBER(Table_B.2!EX22)),SUM(Table_B.1!EX22,Table_B.2!EX22),\":\")","v":0},null,{"$f":"IF(AND(ISNUMBER(Table_B.1!EZ22),ISNUMBER(Table_B.2!EZ22)),SUM(Table_B.1!EZ22,Table_B.2!EZ22),\":\")","v":0},null,{"$f":"IF(AND(ISNUMBER(Table_B.1!FB22),ISNUMBER(Table_B.2!FB22)),SUM(Table_B.1!FB22,Table_B.2!FB22),\":\")","v":0},null,{"$f":"IF(AND(ISNUMBER(Table_B.1!FD22),ISNUMBER(Table_B.2!FD22)),SUM(Table_B.1!FD22,Table_B.2!FD22),\":\")","v":0},null,{"$f":"IF(AND(ISNUMBER(Table_B.1!FF22),ISNUMBER(Table_B.2!FF22)),SUM(Table_B.1!FF22,Table_B.2!FF22),\":\")","v":0},null,{"$f":"SUM(Table_B.1!FH22,Table_B.2!FH22)","v":0},null,{"$f":"IF(OR(ISNUMBER(Table_B.1!FJ22),ISNUMBER(Table_B.2!FJ22)),SUM(Table_B.1!FJ22,Table_B.2!FJ22),\":\")","v":0},null,{"$f":"IF(OR(ISNUMBER(Table_B.1!FL22),ISNUMBER(Table_B.2!FL22)),SUM(Table_B.1!FL22,Table_B.2!FL22),\":\")","v":0},null,{"$f":"IF(OR(ISNUMBER(Table_B.1!FN22),ISNUMBER(Table_B.2!FN22)),SUM(Table_B.1!FN22,Table_B.2!FN22),\":\")","v":0},null,{"$f":"IF(OR(ISNUMBER(Table_B.1!FP22),ISNUMBER(Table_B.2!FP22)),SUM(Table_B.1!FP22,Table_B.2!FP22),\":\")","v":0},null,{"$f":"IF(OR(ISNUMBER(Table_B.1!FR22),ISNUMBER(Table_B.2!FR22)),SUM(Table_B.1!FR22,Table_B.2!FR22),\":\")","v":0},null,{"$f":"IF(OR(ISNUMBER(Table_B.1!FT22),ISNUMBER(Table_B.2!FT22)),SUM(Table_B.1!FT22,Table_B.2!FT22),\":\")","v":0},null,null,null,0,null,""]
[null,15,2,{"$f":"'PEFA rows'!C17","v":"P13"},{"$f":"'PEFA rows'!D17","v":"Natural gas (without bio)"},null,null,0,null,{"$f":"IF(AND(ISNUMBER(Table_B.1!J23),ISNUMBER(Table_B.2!J23)),SUM(Table_B.1!J23,Table_B.2!J23),\":\")","v":0},null,{"$f":"IF(AND(ISNUMBER(Table_B.1!L23),ISNUMBER(Table_B.2!L23)),SUM(Table_B.1!L23,Table_B.2!L23),\":\")","v":0},null,{"$f":"IF(AND(ISNUMBER(Table_B.1!N23),ISNUMBER(Table_B.2!N23)),SUM(Table_B.1!N23,Table_B.2!N23),\":\")","v":0},null,{"$f":"IF(AND(ISNUMBER(Table_B.1!P23),ISNUMBER(Table_B.2!P23)),SUM(Table_B.1!P23,Table_B.2!P23),\":\")","v":0},null,{"$f":"IF(AND(ISNUMBER(Table_B.1!R23),ISNUMBER(Table_B.2!R23)),SUM(Table_B.1!R23,Table_B.2!R23),\":\")","v":0},null,{"$f":"IF(AND(ISNUMBER(Table_B.1!T23),ISNUMBER(Table_B.2!T23)),SUM(Table_B.1!T23,Table_B.2!T23),\":\")","v":0},null,{"$f":"IF(AND(ISNUMBER(Table_B.1!V23),ISNUMBER(Table_B.2!V23)),SUM(Table_B.1!V23,Table_B.2!V23),\":\")","v":0},null,{"$f":"IF(AND(ISNUMBER(Table_B.1!X23),ISNUMBER(Table_B.2!X23)),SUM(Table_B.1!X23,Table_B.2!X23),\":\")","v":0},null,{"$f":"IF(AND(ISNUMBER(Table_B.1!Z23),ISNUMBER(Table_B.2!Z23)),SUM(Table_B.1!Z23,Table_B.2!Z23),\":\")","v":0},null,{"$f":"IF(AND(ISNUMBER(Table_B.1!AB23),ISNUMBER(Table_B.2!AB23)),SUM(Table_B.1!AB23,Table_B.2!AB23),\":\")","v":0},null,{"$f":"IF(AND(ISNUMBER(Table_B.1!AD23),ISNUMBER(Table_B.2!AD23)),SUM(Table_B.1!AD23,Table_B.2!AD23),\":\")","v":0},null,{"$f":"IF(AND(ISNUMBER(Table_B.1!AF23),ISNUMBER(Table_B.2!AF23)),SUM(Table_B.1!AF23,Table_B.2!AF23),\":\")","v":0},null,{"$f":"IF(AND(ISNUMBER(Table_B.1!AH23),ISNUMBER(Table_B.2!AH23)),SUM(Table_B.1!AH23,Table_B.2!AH23),\":\")","v":0},null,{"$f":"IF(AND(ISNUMBER(Table_B.1!AJ23),ISNUMBER(Table_B.2!AJ23)),SUM(Table_B.1!AJ23,Table_B.2!AJ23),\":\")","v":0},null,{"$f":"IF(AND(ISNUMBER(Table_B.1!AL23),ISNUMBER(Table_B.2!AL23)),SUM(Table_B.1!AL23,Table_B.2!AL23),\":\")","v":0},null,{"$f":"IF(AND(ISNUMBER(Table_B.1!AN23),ISNUMBER(Table_B.2!AN23)),SUM(Table_B.1!AN23,Table_B.2!AN23),\":\")","v":0},null,{"$f":"IF(AND(ISNUMBER(Table_B.1!AP23),ISNUMBER(Table_B.2!AP23)),SUM(Table_B.1!AP23,Table_B.2!AP23),\":\")","v":0},null,{"$f":"IF(AND(ISNUMBER(Table_B.1!AR23),ISNUMBER(Table_B.2!AR23)),SUM(Table_B.1!AR23,Table_B.2!AR23),\":\")","v":0},null,{"$f":"IF(AND(ISNUMBER(Table_B.1!AT23),ISNUMBER(Table_B.2!AT23)),SUM(Table_B.1!AT23,Table_B.2!AT23),\":\")","v":0},null,{"$f":"IF(AND(ISNUMBER(Table_B.1!AV23),ISNUMBER(Table_B.2!AV23)),SUM(Table_B.1!AV23,Table_B.2!AV23),\":\")","v":0},null,{"$f":"IF(AND(ISNUMBER(Table_B.1!AX23),ISNUMBER(Table_B.2!AX23)),SUM(Table_B.1!AX23,Table_B.2!AX23),\":\")","v":0},null,{"$f":"IF(AND(ISNUMBER(Table_B.1!AZ23),ISNUMBER(Table_B.2!AZ23)),SUM(Table_B.1!AZ23,Table_B.2!AZ23),\":\")","v":0},null,{"$f":"IF(AND(ISNUMBER(Table_B.1!BB23),ISNUMBER(Table_B.2!BB23)),SUM(Table_B.1!BB23,Table_B.2!BB23),\":\")","v":0},null,{"$f":"IF(AND(ISNUMBER(Table_B.1!BD23),ISNUMBER(Table_B.2!BD23)),SUM(Table_B.1!BD23,Table_B.2!BD23),\":\")","v":0},null,{"$f":"IF(AND(ISNUMBER(Table_B.1!BF23),ISNUMBER(Table_B.2!BF23)),SUM(Table_B.1!BF23,Table_B.2!BF23),\":\")","v":0},null,{"$f":"IF(AND(ISNUMBER(Table_B.1!BH23),ISNUMBER(Table_B.2!BH23)),SUM(Table_B.1!BH23,Table_B.2!BH23),\":\")","v":0},null,{"$f":"IF(AND(ISNUMBER(Table_B.1!BJ23),ISNUMBER(Table_B.2!BJ23)),SUM(Table_B.1!BJ23,Table_B.2!BJ23),\":\")","v":0},null,{"$f":"IF(AND(ISNUMBER(Table_B.1!BL23),ISNUMBER(Table_B.2!BL23)),SUM(Table_B.1!BL23,Table_B.2!BL23),\":\")","v":0},null,{"$f":"IF(AND(ISNUMBER(Table_B.1!BN23),ISNUMBER(Table_B.2!BN23)),SUM(Table_B.1!BN23,Table_B.2!BN23),\":\")","v":0},null,{"$f":"IF(AND(ISNUMBER(Table_B.1!BP23),ISNUMBER(Table_B.2!BP23)),SUM(Table_B.1!BP23,Table_B.2!BP23),\":\")","v":0},null,{"$f":"IF(AND(ISNUMBER(Table_B.1!BR23),ISNUMBER(Table_B.2!BR23)),SUM(Table_B.1!BR23,Table_B.2!BR23),\":\")","v":0},null,{"$f":"IF(AND(ISNUMBER(Table_B.1!BT23),ISNUMBER(Table_B.2!BT23)),SUM(Table_B.1!BT23,Table_B.2!BT23),\":\")","v":0},null,{"$f":"IF(AND(ISNUMBER(Table_B.1!BV23),ISNUMBER(Table_B.2!BV23)),SUM(Table_B.1!BV23,Table_B.2!BV23),\":\")","v":0},null,{"$f":"IF(AND(ISNUMBER(Table_B.1!BX23),ISNUMBER(Table_B.2!BX23)),SUM(Table_B.1!BX23,Table_B.2!BX23),\":\")","v":0},null,{"$f":"IF(AND(ISNUMBER(Table_B.1!BZ23),ISNUMBER(Table_B.2!BZ23)),SUM(Table_B.1!BZ23,Table_B.2!BZ23),\":\")","v":0},null,{"$f":"IF(AND(ISNUMBER(Table_B.1!CB23),ISNUMBER(Table_B.2!CB23)),SUM(Table_B.1!CB23,Table_B.2!CB23),\":\")","v":0},null,{"$f":"IF(AND(ISNUMBER(Table_B.1!CD23),ISNUMBER(Table_B.2!CD23)),SUM(Table_B.1!CD23,Table_B.2!CD23),\":\")","v":0},null,{"$f":"IF(AND(ISNUMBER(Table_B.1!CF23),ISNUMBER(Table_B.2!CF23)),SUM(Table_B.1!CF23,Table_B.2!CF23),\":\")","v":0},null,{"$f":"IF(AND(ISNUMBER(Table_B.1!CH23),ISNUMBER(Table_B.2!CH23)),SUM(Table_B.1!CH23,Table_B.2!CH23),\":\")","v":0},null,{"$f":"IF(AND(ISNUMBER(Table_B.1!CJ23),ISNUMBER(Table_B.2!CJ23)),SUM(Table_B.1!CJ23,Table_B.2!CJ23),\":\")","v":0},null,{"$f":"IF(AND(ISNUMBER(Table_B.1!CL23),ISNUMBER(Table_B.2!CL23)),SUM(Table_B.1!CL23,Table_B.2!CL23),\":\")","v":0},null,{"$f":"IF(AND(ISNUMBER(Table_B.1!CN23),ISNUMBER(Table_B.2!CN23)),SUM(Table_B.1!CN23,Table_B.2!CN23),\":\")","v":0},null,{"$f":"IF(AND(ISNUMBER(Table_B.1!CP23),ISNUMBER(Table_B.2!CP23)),SUM(Table_B.1!CP23,Table_B.2!CP23),\":\")","v":0},null,{"$f":"IF(AND(ISNUMBER(Table_B.1!CR23),ISNUMBER(Table_B.2!CR23)),SUM(Table_B.1!CR23,Table_B.2!CR23),\":\")","v":0},null,{"$f":"IF(AND(ISNUMBER(Table_B.1!CT23),ISNUMBER(Table_B.2!CT23)),SUM(Table_B.1!CT23,Table_B.2!CT23),\":\")","v":0},null,{"$f":"IF(AND(ISNUMBER(Table_B.1!CV23),ISNUMBER(Table_B.2!CV23)),SUM(Table_B.1!CV23,Table_B.2!CV23),\":\")","v":0},null,{"$f":"IF(AND(ISNUMBER(Table_B.1!CX23),ISNUMBER(Table_B.2!CX23)),SUM(Table_B.1!CX23,Table_B.2!CX23),\":\")","v":0},null,{"$f":"IF(AND(ISNUMBER(Table_B.1!CZ23),ISNUMBER(Table_B.2!CZ23)),SUM(Table_B.1!CZ23,Table_B.2!CZ23),\":\")","v":0},null,{"$f":"IF(AND(ISNUMBER(Table_B.1!DB23),ISNUMBER(Table_B.2!DB23)),SUM(Table_B.1!DB23,Table_B.2!DB23),\":\")","v":0},null,{"$f":"IF(AND(ISNUMBER(Table_B.1!DD23),ISNUMBER(Table_B.2!DD23)),SUM(Table_B.1!DD23,Table_B.2!DD23),\":\")","v":0},null,{"$f":"IF(AND(ISNUMBER(Table_B.1!DF23),ISNUMBER(Table_B.2!DF23)),SUM(Table_B.1!DF23,Table_B.2!DF23),\":\")","v":0},null,{"$f":"IF(AND(ISNUMBER(Table_B.1!DH23),ISNUMBER(Table_B.2!DH23)),SUM(Table_B.1!DH23,Table_B.2!DH23),\":\")","v":0},null,{"$f":"IF(AND(ISNUMBER(Table_B.1!DJ23),ISNUMBER(Table_B.2!DJ23)),SUM(Table_B.1!DJ23,Table_B.2!DJ23),\":\")","v":0},null,{"$f":"IF(AND(ISNUMBER(Table_B.1!DL23),ISNUMBER(Table_B.2!DL23)),SUM(Table_B.1!DL23,Table_B.2!DL23),\":\")","v":0},null,{"$f":"IF(AND(ISNUMBER(Table_B.1!DN23),ISNUMBER(Table_B.2!DN23)),SUM(Table_B.1!DN23,Table_B.2!DN23),\":\")","v":0},null,{"$f":"IF(AND(ISNUMBER(Table_B.1!DP23),ISNUMBER(Table_B.2!DP23)),SUM(Table_B.1!DP23,Table_B.2!DP23),\":\")","v":0},null,{"$f":"IF(AND(ISNUMBER(Table_B.1!DR23),ISNUMBER(Table_B.2!DR23)),SUM(Table_B.1!DR23,Table_B.2!DR23),\":\")","v":0},null,{"$f":"IF(AND(ISNUMBER(Table_B.1!DT23),ISNUMBER(Table_B.2!DT23)),SUM(Table_B.1!DT23,Table_B.2!DT23),\":\")","v":0},null,{"$f":"IF(AND(ISNUMBER(Table_B.1!DV23),ISNUMBER(Table_B.2!DV23)),SUM(Table_B.1!DV23,Table_B.2!DV23),\":\")","v":0},null,{"$f":"IF(AND(ISNUMBER(Table_B.1!DX23),ISNUMBER(Table_B.2!DX23)),SUM(Table_B.1!DX23,Table_B.2!DX23),\":\")","v":0},null,{"$f":"IF(AND(ISNUMBER(Table_B.1!DZ23),ISNUMBER(Table_B.2!DZ23)),SUM(Table_B.1!DZ23,Table_B.2!DZ23),\":\")","v":0},null,{"$f":"IF(AND(ISNUMBER(Table_B.1!EB23),ISNUMBER(Table_B.2!EB23)),SUM(Table_B.1!EB23,Table_B.2!EB23),\":\")","v":0},null,{"$f":"IF(AND(ISNUMBER(Table_B.1!ED23),ISNUMBER(Table_B.2!ED23)),SUM(Table_B.1!ED23,Table_B.2!ED23),\":\")","v":0},null,{"$f":"IF(AND(ISNUMBER(Table_B.1!EF23),ISNUMBER(Table_B.2!EF23)),SUM(Table_B.1!EF23,Table_B.2!EF23),\":\")","v":0},null,{"$f":"IF(AND(ISNUMBER(Table_B.1!EH23),ISNUMBER(Table_B.2!EH23)),SUM(Table_B.1!EH23,Table_B.2!EH23),\":\")","v":0},null,{"$f":"IF(AND(ISNUMBER(Table_B.1!EJ23),ISNUMBER(Table_B.2!EJ23)),SUM(Table_B.1!EJ23,Table_B.2!EJ23),\":\")","v":0},null,{"$f":"IF(AND(ISNUMBER(Table_B.1!EL23),ISNUMBER(Table_B.2!EL23)),SUM(Table_B.1!EL23,Table_B.2!EL23),\":\")","v":0},null,{"$f":"IF(AND(ISNUMBER(Table_B.1!EN23),ISNUMBER(Table_B.2!EN23)),SUM(Table_B.1!EN23,Table_B.2!EN23),\":\")","v":0},null,{"$f":"IF(AND(ISNUMBER(Table_B.1!EP23),ISNUMBER(Table_B.2!EP23)),SUM(Table_B.1!EP23,Table_B.2!EP23),\":\")","v":0},null,{"$f":"IF(AND(ISNUMBER(Table_B.1!ER23),ISNUMBER(Table_B.2!ER23)),SUM(Table_B.1!ER23,Table_B.2!ER23),\":\")","v":0},null,{"$f":"IF(AND(ISNUMBER(Table_B.1!ET23),ISNUMBER(Table_B.2!ET23)),SUM(Table_B.1!ET23,Table_B.2!ET23),\":\")","v":0},null,{"$f":"IF(AND(ISNUMBER(Table_B.1!EV23),ISNUMBER(Table_B.2!EV23)),SUM(Table_B.1!EV23,Table_B.2!EV23),\":\")","v":0},null,{"$f":"IF(AND(ISNUMBER(Table_B.1!EX23),ISNUMBER(Table_B.2!EX23)),SUM(Table_B.1!EX23,Table_B.2!EX23),\":\")","v":0},null,{"$f":"IF(AND(ISNUMBER(Table_B.1!EZ23),ISNUMBER(Table_B.2!EZ23)),SUM(Table_B.1!EZ23,Table_B.2!EZ23),\":\")","v":0},null,{"$f":"IF(AND(ISNUMBER(Table_B.1!FB23),ISNUMBER(Table_B.2!FB23)),SUM(Table_B.1!FB23,Table_B.2!FB23),\":\")","v":0},null,{"$f":"IF(AND(ISNUMBER(Table_B.1!FD23),ISNUMBER(Table_B.2!FD23)),SUM(Table_B.1!FD23,Table_B.2!FD23),\":\")","v":0},null,{"$f":"IF(AND(ISNUMBER(Table_B.1!FF23),ISNUMBER(Table_B.2!FF23)),SUM(Table_B.1!FF23,Table_B.2!FF23),\":\")","v":0},null,{"$f":"SUM(Table_B.1!FH23,Table_B.2!FH23)","v":0},null,{"$f":"IF(OR(ISNUMBER(Table_B.1!FJ23),ISNUMBER(Table_B.2!FJ23)),SUM(Table_B.1!FJ23,Table_B.2!FJ23),\":\")","v":0},null,{"$f":"IF(OR(ISNUMBER(Table_B.1!FL23),ISNUMBER(Table_B.2!FL23)),SUM(Table_B.1!FL23,Table_B.2!FL23),\":\")","v":0},null,{"$f":"IF(OR(ISNUMBER(Table_B.1!FN23),ISNUMBER(Table_B.2!FN23)),SUM(Table_B.1!FN23,Table_B.2!FN23),\":\")","v":0},null,{"$f":"IF(OR(ISNUMBER(Table_B.1!FP23),ISNUMBER(Table_B.2!FP23)),SUM(Table_B.1!FP23,Table_B.2!FP23),\":\")","v":0},null,{"$f":"IF(OR(ISNUMBER(Table_B.1!FR23),ISNUMBER(Table_B.2!FR23)),SUM(Table_B.1!FR23,Table_B.2!FR23),\":\")","v":0},null,{"$f":"IF(OR(ISNUMBER(Table_B.1!FT23),ISNUMBER(Table_B.2!FT23)),SUM(Table_B.1!FT23,Table_B.2!FT23),\":\")","v":0},null,null,null,0,null,""]
[null,16,2,{"$f":"'PEFA rows'!C18","v":"P14"},{"$f":"'PEFA rows'!D18","v":"Motor spirit (without bio)"},null,null,0,null,{"$f":"IF(AND(ISNUMBER(Table_B.1!J24),ISNUMBER(Table_B.2!J24)),SUM(Table_B.1!J24,Table_B.2!J24),\":\")","v":0},null,{"$f":"IF(AND(ISNUMBER(Table_B.1!L24),ISNUMBER(Table_B.2!L24)),SUM(Table_B.1!L24,Table_B.2!L24),\":\")","v":0},null,{"$f":"IF(AND(ISNUMBER(Table_B.1!N24),ISNUMBER(Table_B.2!N24)),SUM(Table_B.1!N24,Table_B.2!N24),\":\")","v":0},null,{"$f":"IF(AND(ISNUMBER(Table_B.1!P24),ISNUMBER(Table_B.2!P24)),SUM(Table_B.1!P24,Table_B.2!P24),\":\")","v":0},null,{"$f":"IF(AND(ISNUMBER(Table_B.1!R24),ISNUMBER(Table_B.2!R24)),SUM(Table_B.1!R24,Table_B.2!R24),\":\")","v":0},null,{"$f":"IF(AND(ISNUMBER(Table_B.1!T24),ISNUMBER(Table_B.2!T24)),SUM(Table_B.1!T24,Table_B.2!T24),\":\")","v":0},null,{"$f":"IF(AND(ISNUMBER(Table_B.1!V24),ISNUMBER(Table_B.2!V24)),SUM(Table_B.1!V24,Table_B.2!V24),\":\")","v":0},null,{"$f":"IF(AND(ISNUMBER(Table_B.1!X24),ISNUMBER(Table_B.2!X24)),SUM(Table_B.1!X24,Table_B.2!X24),\":\")","v":0},null,{"$f":"IF(AND(ISNUMBER(Table_B.1!Z24),ISNUMBER(Table_B.2!Z24)),SUM(Table_B.1!Z24,Table_B.2!Z24),\":\")","v":0},null,{"$f":"IF(AND(ISNUMBER(Table_B.1!AB24),ISNUMBER(Table_B.2!AB24)),SUM(Table_B.1!AB24,Table_B.2!AB24),\":\")","v":0},null,{"$f":"IF(AND(ISNUMBER(Table_B.1!AD24),ISNUMBER(Table_B.2!AD24)),SUM(Table_B.1!AD24,Table_B.2!AD24),\":\")","v":0},null,{"$f":"IF(AND(ISNUMBER(Table_B.1!AF24),ISNUMBER(Table_B.2!AF24)),SUM(Table_B.1!AF24,Table_B.2!AF24),\":\")","v":0},null,{"$f":"IF(AND(ISNUMBER(Table_B.1!AH24),ISNUMBER(Table_B.2!AH24)),SUM(Table_B.1!AH24,Table_B.2!AH24),\":\")","v":0},null,{"$f":"IF(AND(ISNUMBER(Table_B.1!AJ24),ISNUMBER(Table_B.2!AJ24)),SUM(Table_B.1!AJ24,Table_B.2!AJ24),\":\")","v":0},null,{"$f":"IF(AND(ISNUMBER(Table_B.1!AL24),ISNUMBER(Table_B.2!AL24)),SUM(Table_B.1!AL24,Table_B.2!AL24),\":\")","v":0},null,{"$f":"IF(AND(ISNUMBER(Table_B.1!AN24),ISNUMBER(Table_B.2!AN24)),SUM(Table_B.1!AN24,Table_B.2!AN24),\":\")","v":0},null,{"$f":"IF(AND(ISNUMBER(Table_B.1!AP24),ISNUMBER(Table_B.2!AP24)),SUM(Table_B.1!AP24,Table_B.2!AP24),\":\")","v":0},null,{"$f":"IF(AND(ISNUMBER(Table_B.1!AR24),ISNUMBER(Table_B.2!AR24)),SUM(Table_B.1!AR24,Table_B.2!AR24),\":\")","v":0},null,{"$f":"IF(AND(ISNUMBER(Table_B.1!AT24),ISNUMBER(Table_B.2!AT24)),SUM(Table_B.1!AT24,Table_B.2!AT24),\":\")","v":0},null,{"$f":"IF(AND(ISNUMBER(Table_B.1!AV24),ISNUMBER(Table_B.2!AV24)),SUM(Table_B.1!AV24,Table_B.2!AV24),\":\")","v":0},null,{"$f":"IF(AND(ISNUMBER(Table_B.1!AX24),ISNUMBER(Table_B.2!AX24)),SUM(Table_B.1!AX24,Table_B.2!AX24),\":\")","v":0},null,{"$f":"IF(AND(ISNUMBER(Table_B.1!AZ24),ISNUMBER(Table_B.2!AZ24)),SUM(Table_B.1!AZ24,Table_B.2!AZ24),\":\")","v":0},null,{"$f":"IF(AND(ISNUMBER(Table_B.1!BB24),ISNUMBER(Table_B.2!BB24)),SUM(Table_B.1!BB24,Table_B.2!BB24),\":\")","v":0},null,{"$f":"IF(AND(ISNUMBER(Table_B.1!BD24),ISNUMBER(Table_B.2!BD24)),SUM(Table_B.1!BD24,Table_B.2!BD24),\":\")","v":0},null,{"$f":"IF(AND(ISNUMBER(Table_B.1!BF24),ISNUMBER(Table_B.2!BF24)),SUM(Table_B.1!BF24,Table_B.2!BF24),\":\")","v":0},null,{"$f":"IF(AND(ISNUMBER(Table_B.1!BH24),ISNUMBER(Table_B.2!BH24)),SUM(Table_B.1!BH24,Table_B.2!BH24),\":\")","v":0},null,{"$f":"IF(AND(ISNUMBER(Table_B.1!BJ24),ISNUMBER(Table_B.2!BJ24)),SUM(Table_B.1!BJ24,Table_B.2!BJ24),\":\")","v":0},null,{"$f":"IF(AND(ISNUMBER(Table_B.1!BL24),ISNUMBER(Table_B.2!BL24)),SUM(Table_B.1!BL24,Table_B.2!BL24),\":\")","v":0},null,{"$f":"IF(AND(ISNUMBER(Table_B.1!BN24),ISNUMBER(Table_B.2!BN24)),SUM(Table_B.1!BN24,Table_B.2!BN24),\":\")","v":0},null,{"$f":"IF(AND(ISNUMBER(Table_B.1!BP24),ISNUMBER(Table_B.2!BP24)),SUM(Table_B.1!BP24,Table_B.2!BP24),\":\")","v":0},null,{"$f":"IF(AND(ISNUMBER(Table_B.1!BR24),ISNUMBER(Table_B.2!BR24)),SUM(Table_B.1!BR24,Table_B.2!BR24),\":\")","v":0},null,{"$f":"IF(AND(ISNUMBER(Table_B.1!BT24),ISNUMBER(Table_B.2!BT24)),SUM(Table_B.1!BT24,Table_B.2!BT24),\":\")","v":0},null,{"$f":"IF(AND(ISNUMBER(Table_B.1!BV24),ISNUMBER(Table_B.2!BV24)),SUM(Table_B.1!BV24,Table_B.2!BV24),\":\")","v":0},null,{"$f":"IF(AND(ISNUMBER(Table_B.1!BX24),ISNUMBER(Table_B.2!BX24)),SUM(Table_B.1!BX24,Table_B.2!BX24),\":\")","v":0},null,{"$f":"IF(AND(ISNUMBER(Table_B.1!BZ24),ISNUMBER(Table_B.2!BZ24)),SUM(Table_B.1!BZ24,Table_B.2!BZ24),\":\")","v":0},null,{"$f":"IF(AND(ISNUMBER(Table_B.1!CB24),ISNUMBER(Table_B.2!CB24)),SUM(Table_B.1!CB24,Table_B.2!CB24),\":\")","v":0},null,{"$f":"IF(AND(ISNUMBER(Table_B.1!CD24),ISNUMBER(Table_B.2!CD24)),SUM(Table_B.1!CD24,Table_B.2!CD24),\":\")","v":0},null,{"$f":"IF(AND(ISNUMBER(Table_B.1!CF24),ISNUMBER(Table_B.2!CF24)),SUM(Table_B.1!CF24,Table_B.2!CF24),\":\")","v":0},null,{"$f":"IF(AND(ISNUMBER(Table_B.1!CH24),ISNUMBER(Table_B.2!CH24)),SUM(Table_B.1!CH24,Table_B.2!CH24),\":\")","v":0},null,{"$f":"IF(AND(ISNUMBER(Table_B.1!CJ24),ISNUMBER(Table_B.2!CJ24)),SUM(Table_B.1!CJ24,Table_B.2!CJ24),\":\")","v":0},null,{"$f":"IF(AND(ISNUMBER(Table_B.1!CL24),ISNUMBER(Table_B.2!CL24)),SUM(Table_B.1!CL24,Table_B.2!CL24),\":\")","v":0},null,{"$f":"IF(AND(ISNUMBER(Table_B.1!CN24),ISNUMBER(Table_B.2!CN24)),SUM(Table_B.1!CN24,Table_B.2!CN24),\":\")","v":0},null,{"$f":"IF(AND(ISNUMBER(Table_B.1!CP24),ISNUMBER(Table_B.2!CP24)),SUM(Table_B.1!CP24,Table_B.2!CP24),\":\")","v":0},null,{"$f":"IF(AND(ISNUMBER(Table_B.1!CR24),ISNUMBER(Table_B.2!CR24)),SUM(Table_B.1!CR24,Table_B.2!CR24),\":\")","v":0},null,{"$f":"IF(AND(ISNUMBER(Table_B.1!CT24),ISNUMBER(Table_B.2!CT24)),SUM(Table_B.1!CT24,Table_B.2!CT24),\":\")","v":0},null,{"$f":"IF(AND(ISNUMBER(Table_B.1!CV24),ISNUMBER(Table_B.2!CV24)),SUM(Table_B.1!CV24,Table_B.2!CV24),\":\")","v":0},null,{"$f":"IF(AND(ISNUMBER(Table_B.1!CX24),ISNUMBER(Table_B.2!CX24)),SUM(Table_B.1!CX24,Table_B.2!CX24),\":\")","v":0},null,{"$f":"IF(AND(ISNUMBER(Table_B.1!CZ24),ISNUMBER(Table_B.2!CZ24)),SUM(Table_B.1!CZ24,Table_B.2!CZ24),\":\")","v":0},null,{"$f":"IF(AND(ISNUMBER(Table_B.1!DB24),ISNUMBER(Table_B.2!DB24)),SUM(Table_B.1!DB24,Table_B.2!DB24),\":\")","v":0},null,{"$f":"IF(AND(ISNUMBER(Table_B.1!DD24),ISNUMBER(Table_B.2!DD24)),SUM(Table_B.1!DD24,Table_B.2!DD24),\":\")","v":0},null,{"$f":"IF(AND(ISNUMBER(Table_B.1!DF24),ISNUMBER(Table_B.2!DF24)),SUM(Table_B.1!DF24,Table_B.2!DF24),\":\")","v":0},null,{"$f":"IF(AND(ISNUMBER(Table_B.1!DH24),ISNUMBER(Table_B.2!DH24)),SUM(Table_B.1!DH24,Table_B.2!DH24),\":\")","v":0},null,{"$f":"IF(AND(ISNUMBER(Table_B.1!DJ24),ISNUMBER(Table_B.2!DJ24)),SUM(Table_B.1!DJ24,Table_B.2!DJ24),\":\")","v":0},null,{"$f":"IF(AND(ISNUMBER(Table_B.1!DL24),ISNUMBER(Table_B.2!DL24)),SUM(Table_B.1!DL24,Table_B.2!DL24),\":\")","v":0},null,{"$f":"IF(AND(ISNUMBER(Table_B.1!DN24),ISNUMBER(Table_B.2!DN24)),SUM(Table_B.1!DN24,Table_B.2!DN24),\":\")","v":0},null,{"$f":"IF(AND(ISNUMBER(Table_B.1!DP24),ISNUMBER(Table_B.2!DP24)),SUM(Table_B.1!DP24,Table_B.2!DP24),\":\")","v":0},null,{"$f":"IF(AND(ISNUMBER(Table_B.1!DR24),ISNUMBER(Table_B.2!DR24)),SUM(Table_B.1!DR24,Table_B.2!DR24),\":\")","v":0},null,{"$f":"IF(AND(ISNUMBER(Table_B.1!DT24),ISNUMBER(Table_B.2!DT24)),SUM(Table_B.1!DT24,Table_B.2!DT24),\":\")","v":0},null,{"$f":"IF(AND(ISNUMBER(Table_B.1!DV24),ISNUMBER(Table_B.2!DV24)),SUM(Table_B.1!DV24,Table_B.2!DV24),\":\")","v":0},null,{"$f":"IF(AND(ISNUMBER(Table_B.1!DX24),ISNUMBER(Table_B.2!DX24)),SUM(Table_B.1!DX24,Table_B.2!DX24),\":\")","v":0},null,{"$f":"IF(AND(ISNUMBER(Table_B.1!DZ24),ISNUMBER(Table_B.2!DZ24)),SUM(Table_B.1!DZ24,Table_B.2!DZ24),\":\")","v":0},null,{"$f":"IF(AND(ISNUMBER(Table_B.1!EB24),ISNUMBER(Table_B.2!EB24)),SUM(Table_B.1!EB24,Table_B.2!EB24),\":\")","v":0},null,{"$f":"IF(AND(ISNUMBER(Table_B.1!ED24),ISNUMBER(Table_B.2!ED24)),SUM(Table_B.1!ED24,Table_B.2!ED24),\":\")","v":0},null,{"$f":"IF(AND(ISNUMBER(Table_B.1!EF24),ISNUMBER(Table_B.2!EF24)),SUM(Table_B.1!EF24,Table_B.2!EF24),\":\")","v":0},null,{"$f":"IF(AND(ISNUMBER(Table_B.1!EH24),ISNUMBER(Table_B.2!EH24)),SUM(Table_B.1!EH24,Table_B.2!EH24),\":\")","v":0},null,{"$f":"IF(AND(ISNUMBER(Table_B.1!EJ24),ISNUMBER(Table_B.2!EJ24)),SUM(Table_B.1!EJ24,Table_B.2!EJ24),\":\")","v":0},null,{"$f":"IF(AND(ISNUMBER(Table_B.1!EL24),ISNUMBER(Table_B.2!EL24)),SUM(Table_B.1!EL24,Table_B.2!EL24),\":\")","v":0},null,{"$f":"IF(AND(ISNUMBER(Table_B.1!EN24),ISNUMBER(Table_B.2!EN24)),SUM(Table_B.1!EN24,Table_B.2!EN24),\":\")","v":0},null,{"$f":"IF(AND(ISNUMBER(Table_B.1!EP24),ISNUMBER(Table_B.2!EP24)),SUM(Table_B.1!EP24,Table_B.2!EP24),\":\")","v":0},null,{"$f":"IF(AND(ISNUMBER(Table_B.1!ER24),ISNUMBER(Table_B.2!ER24)),SUM(Table_B.1!ER24,Table_B.2!ER24),\":\")","v":0},null,{"$f":"IF(AND(ISNUMBER(Table_B.1!ET24),ISNUMBER(Table_B.2!ET24)),SUM(Table_B.1!ET24,Table_B.2!ET24),\":\")","v":0},null,{"$f":"IF(AND(ISNUMBER(Table_B.1!EV24),ISNUMBER(Table_B.2!EV24)),SUM(Table_B.1!EV24,Table_B.2!EV24),\":\")","v":0},null,{"$f":"IF(AND(ISNUMBER(Table_B.1!EX24),ISNUMBER(Table_B.2!EX24)),SUM(Table_B.1!EX24,Table_B.2!EX24),\":\")","v":0},null,{"$f":"IF(AND(ISNUMBER(Table_B.1!EZ24),ISNUMBER(Table_B.2!EZ24)),SUM(Table_B.1!EZ24,Table_B.2!EZ24),\":\")","v":0},null,{"$f":"IF(AND(ISNUMBER(Table_B.1!FB24),ISNUMBER(Table_B.2!FB24)),SUM(Table_B.1!FB24,Table_B.2!FB24),\":\")","v":0},null,{"$f":"IF(AND(ISNUMBER(Table_B.1!FD24),ISNUMBER(Table_B.2!FD24)),SUM(Table_B.1!FD24,Table_B.2!FD24),\":\")","v":0},null,{"$f":"IF(AND(ISNUMBER(Table_B.1!FF24),ISNUMBER(Table_B.2!FF24)),SUM(Table_B.1!FF24,Table_B.2!FF24),\":\")","v":0},null,{"$f":"SUM(Table_B.1!FH24,Table_B.2!FH24)","v":0},null,{"$f":"IF(OR(ISNUMBER(Table_B.1!FJ24),ISNUMBER(Table_B.2!FJ24)),SUM(Table_B.1!FJ24,Table_B.2!FJ24),\":\")","v":0},null,{"$f":"IF(OR(ISNUMBER(Table_B.1!FL24),ISNUMBER(Table_B.2!FL24)),SUM(Table_B.1!FL24,Table_B.2!FL24),\":\")","v":0},null,{"$f":"IF(OR(ISNUMBER(Table_B.1!FN24),ISNUMBER(Table_B.2!FN24)),SUM(Table_B.1!FN24,Table_B.2!FN24),\":\")","v":0},null,{"$f":"IF(OR(ISNUMBER(Table_B.1!FP24),ISNUMBER(Table_B.2!FP24)),SUM(Table_B.1!FP24,Table_B.2!FP24),\":\")","v":0},null,{"$f":"IF(OR(ISNUMBER(Table_B.1!FR24),ISNUMBER(Table_B.2!FR24)),SUM(Table_B.1!FR24,Table_B.2!FR24),\":\")","v":0},null,{"$f":"IF(OR(ISNUMBER(Table_B.1!FT24),ISNUMBER(Table_B.2!FT24)),SUM(Table_B.1!FT24,Table_B.2!FT24),\":\")","v":0},null,null,null,0,null,""]
[null,17,2,{"$f":"'PEFA rows'!C19","v":"P15"},{"$f":"'PEFA rows'!D19","v":"Kerosenes and jet fuels (without bio)"},null,null,0,null,{"$f":"IF(AND(ISNUMBER(Table_B.1!J25),ISNUMBER(Table_B.2!J25)),SUM(Table_B.1!J25,Table_B.2!J25),\":\")","v":0},null,{"$f":"IF(AND(ISNUMBER(Table_B.1!L25),ISNUMBER(Table_B.2!L25)),SUM(Table_B.1!L25,Table_B.2!L25),\":\")","v":0},null,{"$f":"IF(AND(ISNUMBER(Table_B.1!N25),ISNUMBER(Table_B.2!N25)),SUM(Table_B.1!N25,Table_B.2!N25),\":\")","v":0},null,{"$f":"IF(AND(ISNUMBER(Table_B.1!P25),ISNUMBER(Table_B.2!P25)),SUM(Table_B.1!P25,Table_B.2!P25),\":\")","v":0},null,{"$f":"IF(AND(ISNUMBER(Table_B.1!R25),ISNUMBER(Table_B.2!R25)),SUM(Table_B.1!R25,Table_B.2!R25),\":\")","v":0},null,{"$f":"IF(AND(ISNUMBER(Table_B.1!T25),ISNUMBER(Table_B.2!T25)),SUM(Table_B.1!T25,Table_B.2!T25),\":\")","v":0},null,{"$f":"IF(AND(ISNUMBER(Table_B.1!V25),ISNUMBER(Table_B.2!V25)),SUM(Table_B.1!V25,Table_B.2!V25),\":\")","v":0},null,{"$f":"IF(AND(ISNUMBER(Table_B.1!X25),ISNUMBER(Table_B.2!X25)),SUM(Table_B.1!X25,Table_B.2!X25),\":\")","v":0},null,{"$f":"IF(AND(ISNUMBER(Table_B.1!Z25),ISNUMBER(Table_B.2!Z25)),SUM(Table_B.1!Z25,Table_B.2!Z25),\":\")","v":0},null,{"$f":"IF(AND(ISNUMBER(Table_B.1!AB25),ISNUMBER(Table_B.2!AB25)),SUM(Table_B.1!AB25,Table_B.2!AB25),\":\")","v":0},null,{"$f":"IF(AND(ISNUMBER(Table_B.1!AD25),ISNUMBER(Table_B.2!AD25)),SUM(Table_B.1!AD25,Table_B.2!AD25),\":\")","v":0},null,{"$f":"IF(AND(ISNUMBER(Table_B.1!AF25),ISNUMBER(Table_B.2!AF25)),SUM(Table_B.1!AF25,Table_B.2!AF25),\":\")","v":0},null,{"$f":"IF(AND(ISNUMBER(Table_B.1!AH25),ISNUMBER(Table_B.2!AH25)),SUM(Table_B.1!AH25,Table_B.2!AH25),\":\")","v":0},null,{"$f":"IF(AND(ISNUMBER(Table_B.1!AJ25),ISNUMBER(Table_B.2!AJ25)),SUM(Table_B.1!AJ25,Table_B.2!AJ25),\":\")","v":0},null,{"$f":"IF(AND(ISNUMBER(Table_B.1!AL25),ISNUMBER(Table_B.2!AL25)),SUM(Table_B.1!AL25,Table_B.2!AL25),\":\")","v":0},null,{"$f":"IF(AND(ISNUMBER(Table_B.1!AN25),ISNUMBER(Table_B.2!AN25)),SUM(Table_B.1!AN25,Table_B.2!AN25),\":\")","v":0},null,{"$f":"IF(AND(ISNUMBER(Table_B.1!AP25),ISNUMBER(Table_B.2!AP25)),SUM(Table_B.1!AP25,Table_B.2!AP25),\":\")","v":0},null,{"$f":"IF(AND(ISNUMBER(Table_B.1!AR25),ISNUMBER(Table_B.2!AR25)),SUM(Table_B.1!AR25,Table_B.2!AR25),\":\")","v":0},null,{"$f":"IF(AND(ISNUMBER(Table_B.1!AT25),ISNUMBER(Table_B.2!AT25)),SUM(Table_B.1!AT25,Table_B.2!AT25),\":\")","v":0},null,{"$f":"IF(AND(ISNUMBER(Table_B.1!AV25),ISNUMBER(Table_B.2!AV25)),SUM(Table_B.1!AV25,Table_B.2!AV25),\":\")","v":0},null,{"$f":"IF(AND(ISNUMBER(Table_B.1!AX25),ISNUMBER(Table_B.2!AX25)),SUM(Table_B.1!AX25,Table_B.2!AX25),\":\")","v":0},null,{"$f":"IF(AND(ISNUMBER(Table_B.1!AZ25),ISNUMBER(Table_B.2!AZ25)),SUM(Table_B.1!AZ25,Table_B.2!AZ25),\":\")","v":0},null,{"$f":"IF(AND(ISNUMBER(Table_B.1!BB25),ISNUMBER(Table_B.2!BB25)),SUM(Table_B.1!BB25,Table_B.2!BB25),\":\")","v":0},null,{"$f":"IF(AND(ISNUMBER(Table_B.1!BD25),ISNUMBER(Table_B.2!BD25)),SUM(Table_B.1!BD25,Table_B.2!BD25),\":\")","v":0},null,{"$f":"IF(AND(ISNUMBER(Table_B.1!BF25),ISNUMBER(Table_B.2!BF25)),SUM(Table_B.1!BF25,Table_B.2!BF25),\":\")","v":0},null,{"$f":"IF(AND(ISNUMBER(Table_B.1!BH25),ISNUMBER(Table_B.2!BH25)),SUM(Table_B.1!BH25,Table_B.2!BH25),\":\")","v":0},null,{"$f":"IF(AND(ISNUMBER(Table_B.1!BJ25),ISNUMBER(Table_B.2!BJ25)),SUM(Table_B.1!BJ25,Table_B.2!BJ25),\":\")","v":0},null,{"$f":"IF(AND(ISNUMBER(Table_B.1!BL25),ISNUMBER(Table_B.2!BL25)),SUM(Table_B.1!BL25,Table_B.2!BL25),\":\")","v":0},null,{"$f":"IF(AND(ISNUMBER(Table_B.1!BN25),ISNUMBER(Table_B.2!BN25)),SUM(Table_B.1!BN25,Table_B.2!BN25),\":\")","v":0},null,{"$f":"IF(AND(ISNUMBER(Table_B.1!BP25),ISNUMBER(Table_B.2!BP25)),SUM(Table_B.1!BP25,Table_B.2!BP25),\":\")","v":0},null,{"$f":"IF(AND(ISNUMBER(Table_B.1!BR25),ISNUMBER(Table_B.2!BR25)),SUM(Table_B.1!BR25,Table_B.2!BR25),\":\")","v":0},null,{"$f":"IF(AND(ISNUMBER(Table_B.1!BT25),ISNUMBER(Table_B.2!BT25)),SUM(Table_B.1!BT25,Table_B.2!BT25),\":\")","v":0},null,{"$f":"IF(AND(ISNUMBER(Table_B.1!BV25),ISNUMBER(Table_B.2!BV25)),SUM(Table_B.1!BV25,Table_B.2!BV25),\":\")","v":0},null,{"$f":"IF(AND(ISNUMBER(Table_B.1!BX25),ISNUMBER(Table_B.2!BX25)),SUM(Table_B.1!BX25,Table_B.2!BX25),\":\")","v":0},null,{"$f":"IF(AND(ISNUMBER(Table_B.1!BZ25),ISNUMBER(Table_B.2!BZ25)),SUM(Table_B.1!BZ25,Table_B.2!BZ25),\":\")","v":0},null,{"$f":"IF(AND(ISNUMBER(Table_B.1!CB25),ISNUMBER(Table_B.2!CB25)),SUM(Table_B.1!CB25,Table_B.2!CB25),\":\")","v":0},null,{"$f":"IF(AND(ISNUMBER(Table_B.1!CD25),ISNUMBER(Table_B.2!CD25)),SUM(Table_B.1!CD25,Table_B.2!CD25),\":\")","v":0},null,{"$f":"IF(AND(ISNUMBER(Table_B.1!CF25),ISNUMBER(Table_B.2!CF25)),SUM(Table_B.1!CF25,Table_B.2!CF25),\":\")","v":0},null,{"$f":"IF(AND(ISNUMBER(Table_B.1!CH25),ISNUMBER(Table_B.2!CH25)),SUM(Table_B.1!CH25,Table_B.2!CH25),\":\")","v":0},null,{"$f":"IF(AND(ISNUMBER(Table_B.1!CJ25),ISNUMBER(Table_B.2!CJ25)),SUM(Table_B.1!CJ25,Table_B.2!CJ25),\":\")","v":0},null,{"$f":"IF(AND(ISNUMBER(Table_B.1!CL25),ISNUMBER(Table_B.2!CL25)),SUM(Table_B.1!CL25,Table_B.2!CL25),\":\")","v":0},null,{"$f":"IF(AND(ISNUMBER(Table_B.1!CN25),ISNUMBER(Table_B.2!CN25)),SUM(Table_B.1!CN25,Table_B.2!CN25),\":\")","v":0},null,{"$f":"IF(AND(ISNUMBER(Table_B.1!CP25),ISNUMBER(Table_B.2!CP25)),SUM(Table_B.1!CP25,Table_B.2!CP25),\":\")","v":0},null,{"$f":"IF(AND(ISNUMBER(Table_B.1!CR25),ISNUMBER(Table_B.2!CR25)),SUM(Table_B.1!CR25,Table_B.2!CR25),\":\")","v":0},null,{"$f":"IF(AND(ISNUMBER(Table_B.1!CT25),ISNUMBER(Table_B.2!CT25)),SUM(Table_B.1!CT25,Table_B.2!CT25),\":\")","v":0},null,{"$f":"IF(AND(ISNUMBER(Table_B.1!CV25),ISNUMBER(Table_B.2!CV25)),SUM(Table_B.1!CV25,Table_B.2!CV25),\":\")","v":0},null,{"$f":"IF(AND(ISNUMBER(Table_B.1!CX25),ISNUMBER(Table_B.2!CX25)),SUM(Table_B.1!CX25,Table_B.2!CX25),\":\")","v":0},null,{"$f":"IF(AND(ISNUMBER(Table_B.1!CZ25),ISNUMBER(Table_B.2!CZ25)),SUM(Table_B.1!CZ25,Table_B.2!CZ25),\":\")","v":0},null,{"$f":"IF(AND(ISNUMBER(Table_B.1!DB25),ISNUMBER(Table_B.2!DB25)),SUM(Table_B.1!DB25,Table_B.2!DB25),\":\")","v":0},null,{"$f":"IF(AND(ISNUMBER(Table_B.1!DD25),ISNUMBER(Table_B.2!DD25)),SUM(Table_B.1!DD25,Table_B.2!DD25),\":\")","v":0},null,{"$f":"IF(AND(ISNUMBER(Table_B.1!DF25),ISNUMBER(Table_B.2!DF25)),SUM(Table_B.1!DF25,Table_B.2!DF25),\":\")","v":0},null,{"$f":"IF(AND(ISNUMBER(Table_B.1!DH25),ISNUMBER(Table_B.2!DH25)),SUM(Table_B.1!DH25,Table_B.2!DH25),\":\")","v":0},null,{"$f":"IF(AND(ISNUMBER(Table_B.1!DJ25),ISNUMBER(Table_B.2!DJ25)),SUM(Table_B.1!DJ25,Table_B.2!DJ25),\":\")","v":0},null,{"$f":"IF(AND(ISNUMBER(Table_B.1!DL25),ISNUMBER(Table_B.2!DL25)),SUM(Table_B.1!DL25,Table_B.2!DL25),\":\")","v":0},null,{"$f":"IF(AND(ISNUMBER(Table_B.1!DN25),ISNUMBER(Table_B.2!DN25)),SUM(Table_B.1!DN25,Table_B.2!DN25),\":\")","v":0},null,{"$f":"IF(AND(ISNUMBER(Table_B.1!DP25),ISNUMBER(Table_B.2!DP25)),SUM(Table_B.1!DP25,Table_B.2!DP25),\":\")","v":0},null,{"$f":"IF(AND(ISNUMBER(Table_B.1!DR25),ISNUMBER(Table_B.2!DR25)),SUM(Table_B.1!DR25,Table_B.2!DR25),\":\")","v":0},null,{"$f":"IF(AND(ISNUMBER(Table_B.1!DT25),ISNUMBER(Table_B.2!DT25)),SUM(Table_B.1!DT25,Table_B.2!DT25),\":\")","v":0},null,{"$f":"IF(AND(ISNUMBER(Table_B.1!DV25),ISNUMBER(Table_B.2!DV25)),SUM(Table_B.1!DV25,Table_B.2!DV25),\":\")","v":0},null,{"$f":"IF(AND(ISNUMBER(Table_B.1!DX25),ISNUMBER(Table_B.2!DX25)),SUM(Table_B.1!DX25,Table_B.2!DX25),\":\")","v":0},null,{"$f":"IF(AND(ISNUMBER(Table_B.1!DZ25),ISNUMBER(Table_B.2!DZ25)),SUM(Table_B.1!DZ25,Table_B.2!DZ25),\":\")","v":0},null,{"$f":"IF(AND(ISNUMBER(Table_B.1!EB25),ISNUMBER(Table_B.2!EB25)),SUM(Table_B.1!EB25,Table_B.2!EB25),\":\")","v":0},null,{"$f":"IF(AND(ISNUMBER(Table_B.1!ED25),ISNUMBER(Table_B.2!ED25)),SUM(Table_B.1!ED25,Table_B.2!ED25),\":\")","v":0},null,{"$f":"IF(AND(ISNUMBER(Table_B.1!EF25),ISNUMBER(Table_B.2!EF25)),SUM(Table_B.1!EF25,Table_B.2!EF25),\":\")","v":0},null,{"$f":"IF(AND(ISNUMBER(Table_B.1!EH25),ISNUMBER(Table_B.2!EH25)),SUM(Table_B.1!EH25,Table_B.2!EH25),\":\")","v":0},null,{"$f":"IF(AND(ISNUMBER(Table_B.1!EJ25),ISNUMBER(Table_B.2!EJ25)),SUM(Table_B.1!EJ25,Table_B.2!EJ25),\":\")","v":0},null,{"$f":"IF(AND(ISNUMBER(Table_B.1!EL25),ISNUMBER(Table_B.2!EL25)),SUM(Table_B.1!EL25,Table_B.2!EL25),\":\")","v":0},null,{"$f":"IF(AND(ISNUMBER(Table_B.1!EN25),ISNUMBER(Table_B.2!EN25)),SUM(Table_B.1!EN25,Table_B.2!EN25),\":\")","v":0},null,{"$f":"IF(AND(ISNUMBER(Table_B.1!EP25),ISNUMBER(Table_B.2!EP25)),SUM(Table_B.1!EP25,Table_B.2!EP25),\":\")","v":0},null,{"$f":"IF(AND(ISNUMBER(Table_B.1!ER25),ISNUMBER(Table_B.2!ER25)),SUM(Table_B.1!ER25,Table_B.2!ER25),\":\")","v":0},null,{"$f":"IF(AND(ISNUMBER(Table_B.1!ET25),ISNUMBER(Table_B.2!ET25)),SUM(Table_B.1!ET25,Table_B.2!ET25),\":\")","v":0},null,{"$f":"IF(AND(ISNUMBER(Table_B.1!EV25),ISNUMBER(Table_B.2!EV25)),SUM(Table_B.1!EV25,Table_B.2!EV25),\":\")","v":0},null,{"$f":"IF(AND(ISNUMBER(Table_B.1!EX25),ISNUMBER(Table_B.2!EX25)),SUM(Table_B.1!EX25,Table_B.2!EX25),\":\")","v":0},null,{"$f":"IF(AND(ISNUMBER(Table_B.1!EZ25),ISNUMBER(Table_B.2!EZ25)),SUM(Table_B.1!EZ25,Table_B.2!EZ25),\":\")","v":0},null,{"$f":"IF(AND(ISNUMBER(Table_B.1!FB25),ISNUMBER(Table_B.2!FB25)),SUM(Table_B.1!FB25,Table_B.2!FB25),\":\")","v":0},null,{"$f":"IF(AND(ISNUMBER(Table_B.1!FD25),ISNUMBER(Table_B.2!FD25)),SUM(Table_B.1!FD25,Table_B.2!FD25),\":\")","v":0},null,{"$f":"IF(AND(ISNUMBER(Table_B.1!FF25),ISNUMBER(Table_B.2!FF25)),SUM(Table_B.1!FF25,Table_B.2!FF25),\":\")","v":0},null,{"$f":"SUM(Table_B.1!FH25,Table_B.2!FH25)","v":0},null,{"$f":"IF(OR(ISNUMBER(Table_B.1!FJ25),ISNUMBER(Table_B.2!FJ25)),SUM(Table_B.1!FJ25,Table_B.2!FJ25),\":\")","v":0},null,{"$f":"IF(OR(ISNUMBER(Table_B.1!FL25),ISNUMBER(Table_B.2!FL25)),SUM(Table_B.1!FL25,Table_B.2!FL25),\":\")","v":0},null,{"$f":"IF(OR(ISNUMBER(Table_B.1!FN25),ISNUMBER(Table_B.2!FN25)),SUM(Table_B.1!FN25,Table_B.2!FN25),\":\")","v":0},null,{"$f":"IF(OR(ISNUMBER(Table_B.1!FP25),ISNUMBER(Table_B.2!FP25)),SUM(Table_B.1!FP25,Table_B.2!FP25),\":\")","v":0},null,{"$f":"IF(OR(ISNUMBER(Table_B.1!FR25),ISNUMBER(Table_B.2!FR25)),SUM(Table_B.1!FR25,Table_B.2!FR25),\":\")","v":0},null,{"$f":"IF(OR(ISNUMBER(Table_B.1!FT25),ISNUMBER(Table_B.2!FT25)),SUM(Table_B.1!FT25,Table_B.2!FT25),\":\")","v":0},null,null,null,0,null,""]
[null,18,2,{"$f":"'PEFA rows'!C20","v":"P16"},{"$f":"'PEFA rows'!D20","v":"Naphtha"},null,null,0,null,{"$f":"IF(AND(ISNUMBER(Table_B.1!J26),ISNUMBER(Table_B.2!J26)),SUM(Table_B.1!J26,Table_B.2!J26),\":\")","v":0},null,{"$f":"IF(AND(ISNUMBER(Table_B.1!L26),ISNUMBER(Table_B.2!L26)),SUM(Table_B.1!L26,Table_B.2!L26),\":\")","v":0},null,{"$f":"IF(AND(ISNUMBER(Table_B.1!N26),ISNUMBER(Table_B.2!N26)),SUM(Table_B.1!N26,Table_B.2!N26),\":\")","v":0},null,{"$f":"IF(AND(ISNUMBER(Table_B.1!P26),ISNUMBER(Table_B.2!P26)),SUM(Table_B.1!P26,Table_B.2!P26),\":\")","v":0},null,{"$f":"IF(AND(ISNUMBER(Table_B.1!R26),ISNUMBER(Table_B.2!R26)),SUM(Table_B.1!R26,Table_B.2!R26),\":\")","v":0},null,{"$f":"IF(AND(ISNUMBER(Table_B.1!T26),ISNUMBER(Table_B.2!T26)),SUM(Table_B.1!T26,Table_B.2!T26),\":\")","v":0},null,{"$f":"IF(AND(ISNUMBER(Table_B.1!V26),ISNUMBER(Table_B.2!V26)),SUM(Table_B.1!V26,Table_B.2!V26),\":\")","v":0},null,{"$f":"IF(AND(ISNUMBER(Table_B.1!X26),ISNUMBER(Table_B.2!X26)),SUM(Table_B.1!X26,Table_B.2!X26),\":\")","v":0},null,{"$f":"IF(AND(ISNUMBER(Table_B.1!Z26),ISNUMBER(Table_B.2!Z26)),SUM(Table_B.1!Z26,Table_B.2!Z26),\":\")","v":0},null,{"$f":"IF(AND(ISNUMBER(Table_B.1!AB26),ISNUMBER(Table_B.2!AB26)),SUM(Table_B.1!AB26,Table_B.2!AB26),\":\")","v":0},null,{"$f":"IF(AND(ISNUMBER(Table_B.1!AD26),ISNUMBER(Table_B.2!AD26)),SUM(Table_B.1!AD26,Table_B.2!AD26),\":\")","v":0},null,{"$f":"IF(AND(ISNUMBER(Table_B.1!AF26),ISNUMBER(Table_B.2!AF26)),SUM(Table_B.1!AF26,Table_B.2!AF26),\":\")","v":0},null,{"$f":"IF(AND(ISNUMBER(Table_B.1!AH26),ISNUMBER(Table_B.2!AH26)),SUM(Table_B.1!AH26,Table_B.2!AH26),\":\")","v":0},null,{"$f":"IF(AND(ISNUMBER(Table_B.1!AJ26),ISNUMBER(Table_B.2!AJ26)),SUM(Table_B.1!AJ26,Table_B.2!AJ26),\":\")","v":0},null,{"$f":"IF(AND(ISNUMBER(Table_B.1!AL26),ISNUMBER(Table_B.2!AL26)),SUM(Table_B.1!AL26,Table_B.2!AL26),\":\")","v":0},null,{"$f":"IF(AND(ISNUMBER(Table_B.1!AN26),ISNUMBER(Table_B.2!AN26)),SUM(Table_B.1!AN26,Table_B.2!AN26),\":\")","v":0},null,{"$f":"IF(AND(ISNUMBER(Table_B.1!AP26),ISNUMBER(Table_B.2!AP26)),SUM(Table_B.1!AP26,Table_B.2!AP26),\":\")","v":0},null,{"$f":"IF(AND(ISNUMBER(Table_B.1!AR26),ISNUMBER(Table_B.2!AR26)),SUM(Table_B.1!AR26,Table_B.2!AR26),\":\")","v":0},null,{"$f":"IF(AND(ISNUMBER(Table_B.1!AT26),ISNUMBER(Table_B.2!AT26)),SUM(Table_B.1!AT26,Table_B.2!AT26),\":\")","v":0},null,{"$f":"IF(AND(ISNUMBER(Table_B.1!AV26),ISNUMBER(Table_B.2!AV26)),SUM(Table_B.1!AV26,Table_B.2!AV26),\":\")","v":0},null,{"$f":"IF(AND(ISNUMBER(Table_B.1!AX26),ISNUMBER(Table_B.2!AX26)),SUM(Table_B.1!AX26,Table_B.2!AX26),\":\")","v":0},null,{"$f":"IF(AND(ISNUMBER(Table_B.1!AZ26),ISNUMBER(Table_B.2!AZ26)),SUM(Table_B.1!AZ26,Table_B.2!AZ26),\":\")","v":0},null,{"$f":"IF(AND(ISNUMBER(Table_B.1!BB26),ISNUMBER(Table_B.2!BB26)),SUM(Table_B.1!BB26,Table_B.2!BB26),\":\")","v":0},null,{"$f":"IF(AND(ISNUMBER(Table_B.1!BD26),ISNUMBER(Table_B.2!BD26)),SUM(Table_B.1!BD26,Table_B.2!BD26),\":\")","v":0},null,{"$f":"IF(AND(ISNUMBER(Table_B.1!BF26),ISNUMBER(Table_B.2!BF26)),SUM(Table_B.1!BF26,Table_B.2!BF26),\":\")","v":0},null,{"$f":"IF(AND(ISNUMBER(Table_B.1!BH26),ISNUMBER(Table_B.2!BH26)),SUM(Table_B.1!BH26,Table_B.2!BH26),\":\")","v":0},null,{"$f":"IF(AND(ISNUMBER(Table_B.1!BJ26),ISNUMBER(Table_B.2!BJ26)),SUM(Table_B.1!BJ26,Table_B.2!BJ26),\":\")","v":0},null,{"$f":"IF(AND(ISNUMBER(Table_B.1!BL26),ISNUMBER(Table_B.2!BL26)),SUM(Table_B.1!BL26,Table_B.2!BL26),\":\")","v":0},null,{"$f":"IF(AND(ISNUMBER(Table_B.1!BN26),ISNUMBER(Table_B.2!BN26)),SUM(Table_B.1!BN26,Table_B.2!BN26),\":\")","v":0},null,{"$f":"IF(AND(ISNUMBER(Table_B.1!BP26),ISNUMBER(Table_B.2!BP26)),SUM(Table_B.1!BP26,Table_B.2!BP26),\":\")","v":0},null,{"$f":"IF(AND(ISNUMBER(Table_B.1!BR26),ISNUMBER(Table_B.2!BR26)),SUM(Table_B.1!BR26,Table_B.2!BR26),\":\")","v":0},null,{"$f":"IF(AND(ISNUMBER(Table_B.1!BT26),ISNUMBER(Table_B.2!BT26)),SUM(Table_B.1!BT26,Table_B.2!BT26),\":\")","v":0},null,{"$f":"IF(AND(ISNUMBER(Table_B.1!BV26),ISNUMBER(Table_B.2!BV26)),SUM(Table_B.1!BV26,Table_B.2!BV26),\":\")","v":0},null,{"$f":"IF(AND(ISNUMBER(Table_B.1!BX26),ISNUMBER(Table_B.2!BX26)),SUM(Table_B.1!BX26,Table_B.2!BX26),\":\")","v":0},null,{"$f":"IF(AND(ISNUMBER(Table_B.1!BZ26),ISNUMBER(Table_B.2!BZ26)),SUM(Table_B.1!BZ26,Table_B.2!BZ26),\":\")","v":0},null,{"$f":"IF(AND(ISNUMBER(Table_B.1!CB26),ISNUMBER(Table_B.2!CB26)),SUM(Table_B.1!CB26,Table_B.2!CB26),\":\")","v":0},null,{"$f":"IF(AND(ISNUMBER(Table_B.1!CD26),ISNUMBER(Table_B.2!CD26)),SUM(Table_B.1!CD26,Table_B.2!CD26),\":\")","v":0},null,{"$f":"IF(AND(ISNUMBER(Table_B.1!CF26),ISNUMBER(Table_B.2!CF26)),SUM(Table_B.1!CF26,Table_B.2!CF26),\":\")","v":0},null,{"$f":"IF(AND(ISNUMBER(Table_B.1!CH26),ISNUMBER(Table_B.2!CH26)),SUM(Table_B.1!CH26,Table_B.2!CH26),\":\")","v":0},null,{"$f":"IF(AND(ISNUMBER(Table_B.1!CJ26),ISNUMBER(Table_B.2!CJ26)),SUM(Table_B.1!CJ26,Table_B.2!CJ26),\":\")","v":0},null,{"$f":"IF(AND(ISNUMBER(Table_B.1!CL26),ISNUMBER(Table_B.2!CL26)),SUM(Table_B.1!CL26,Table_B.2!CL26),\":\")","v":0},null,{"$f":"IF(AND(ISNUMBER(Table_B.1!CN26),ISNUMBER(Table_B.2!CN26)),SUM(Table_B.1!CN26,Table_B.2!CN26),\":\")","v":0},null,{"$f":"IF(AND(ISNUMBER(Table_B.1!CP26),ISNUMBER(Table_B.2!CP26)),SUM(Table_B.1!CP26,Table_B.2!CP26),\":\")","v":0},null,{"$f":"IF(AND(ISNUMBER(Table_B.1!CR26),ISNUMBER(Table_B.2!CR26)),SUM(Table_B.1!CR26,Table_B.2!CR26),\":\")","v":0},null,{"$f":"IF(AND(ISNUMBER(Table_B.1!CT26),ISNUMBER(Table_B.2!CT26)),SUM(Table_B.1!CT26,Table_B.2!CT26),\":\")","v":0},null,{"$f":"IF(AND(ISNUMBER(Table_B.1!CV26),ISNUMBER(Table_B.2!CV26)),SUM(Table_B.1!CV26,Table_B.2!CV26),\":\")","v":0},null,{"$f":"IF(AND(ISNUMBER(Table_B.1!CX26),ISNUMBER(Table_B.2!CX26)),SUM(Table_B.1!CX26,Table_B.2!CX26),\":\")","v":0},null,{"$f":"IF(AND(ISNUMBER(Table_B.1!CZ26),ISNUMBER(Table_B.2!CZ26)),SUM(Table_B.1!CZ26,Table_B.2!CZ26),\":\")","v":0},null,{"$f":"IF(AND(ISNUMBER(Table_B.1!DB26),ISNUMBER(Table_B.2!DB26)),SUM(Table_B.1!DB26,Table_B.2!DB26),\":\")","v":0},null,{"$f":"IF(AND(ISNUMBER(Table_B.1!DD26),ISNUMBER(Table_B.2!DD26)),SUM(Table_B.1!DD26,Table_B.2!DD26),\":\")","v":0},null,{"$f":"IF(AND(ISNUMBER(Table_B.1!DF26),ISNUMBER(Table_B.2!DF26)),SUM(Table_B.1!DF26,Table_B.2!DF26),\":\")","v":0},null,{"$f":"IF(AND(ISNUMBER(Table_B.1!DH26),ISNUMBER(Table_B.2!DH26)),SUM(Table_B.1!DH26,Table_B.2!DH26),\":\")","v":0},null,{"$f":"IF(AND(ISNUMBER(Table_B.1!DJ26),ISNUMBER(Table_B.2!DJ26)),SUM(Table_B.1!DJ26,Table_B.2!DJ26),\":\")","v":0},null,{"$f":"IF(AND(ISNUMBER(Table_B.1!DL26),ISNUMBER(Table_B.2!DL26)),SUM(Table_B.1!DL26,Table_B.2!DL26),\":\")","v":0},null,{"$f":"IF(AND(ISNUMBER(Table_B.1!DN26),ISNUMBER(Table_B.2!DN26)),SUM(Table_B.1!DN26,Table_B.2!DN26),\":\")","v":0},null,{"$f":"IF(AND(ISNUMBER(Table_B.1!DP26),ISNUMBER(Table_B.2!DP26)),SUM(Table_B.1!DP26,Table_B.2!DP26),\":\")","v":0},null,{"$f":"IF(AND(ISNUMBER(Table_B.1!DR26),ISNUMBER(Table_B.2!DR26)),SUM(Table_B.1!DR26,Table_B.2!DR26),\":\")","v":0},null,{"$f":"IF(AND(ISNUMBER(Table_B.1!DT26),ISNUMBER(Table_B.2!DT26)),SUM(Table_B.1!DT26,Table_B.2!DT26),\":\")","v":0},null,{"$f":"IF(AND(ISNUMBER(Table_B.1!DV26),ISNUMBER(Table_B.2!DV26)),SUM(Table_B.1!DV26,Table_B.2!DV26),\":\")","v":0},null,{"$f":"IF(AND(ISNUMBER(Table_B.1!DX26),ISNUMBER(Table_B.2!DX26)),SUM(Table_B.1!DX26,Table_B.2!DX26),\":\")","v":0},null,{"$f":"IF(AND(ISNUMBER(Table_B.1!DZ26),ISNUMBER(Table_B.2!DZ26)),SUM(Table_B.1!DZ26,Table_B.2!DZ26),\":\")","v":0},null,{"$f":"IF(AND(ISNUMBER(Table_B.1!EB26),ISNUMBER(Table_B.2!EB26)),SUM(Table_B.1!EB26,Table_B.2!EB26),\":\")","v":0},null,{"$f":"IF(AND(ISNUMBER(Table_B.1!ED26),ISNUMBER(Table_B.2!ED26)),SUM(Table_B.1!ED26,Table_B.2!ED26),\":\")","v":0},null,{"$f":"IF(AND(ISNUMBER(Table_B.1!EF26),ISNUMBER(Table_B.2!EF26)),SUM(Table_B.1!EF26,Table_B.2!EF26),\":\")","v":0},null,{"$f":"IF(AND(ISNUMBER(Table_B.1!EH26),ISNUMBER(Table_B.2!EH26)),SUM(Table_B.1!EH26,Table_B.2!EH26),\":\")","v":0},null,{"$f":"IF(AND(ISNUMBER(Table_B.1!EJ26),ISNUMBER(Table_B.2!EJ26)),SUM(Table_B.1!EJ26,Table_B.2!EJ26),\":\")","v":0},null,{"$f":"IF(AND(ISNUMBER(Table_B.1!EL26),ISNUMBER(Table_B.2!EL26)),SUM(Table_B.1!EL26,Table_B.2!EL26),\":\")","v":0},null,{"$f":"IF(AND(ISNUMBER(Table_B.1!EN26),ISNUMBER(Table_B.2!EN26)),SUM(Table_B.1!EN26,Table_B.2!EN26),\":\")","v":0},null,{"$f":"IF(AND(ISNUMBER(Table_B.1!EP26),ISNUMBER(Table_B.2!EP26)),SUM(Table_B.1!EP26,Table_B.2!EP26),\":\")","v":0},null,{"$f":"IF(AND(ISNUMBER(Table_B.1!ER26),ISNUMBER(Table_B.2!ER26)),SUM(Table_B.1!ER26,Table_B.2!ER26),\":\")","v":0},null,{"$f":"IF(AND(ISNUMBER(Table_B.1!ET26),ISNUMBER(Table_B.2!ET26)),SUM(Table_B.1!ET26,Table_B.2!ET26),\":\")","v":0},null,{"$f":"IF(AND(ISNUMBER(Table_B.1!EV26),ISNUMBER(Table_B.2!EV26)),SUM(Table_B.1!EV26,Table_B.2!EV26),\":\")","v":0},null,{"$f":"IF(AND(ISNUMBER(Table_B.1!EX26),ISNUMBER(Table_B.2!EX26)),SUM(Table_B.1!EX26,Table_B.2!EX26),\":\")","v":0},null,{"$f":"IF(AND(ISNUMBER(Table_B.1!EZ26),ISNUMBER(Table_B.2!EZ26)),SUM(Table_B.1!EZ26,Table_B.2!EZ26),\":\")","v":0},null,{"$f":"IF(AND(ISNUMBER(Table_B.1!FB26),ISNUMBER(Table_B.2!FB26)),SUM(Table_B.1!FB26,Table_B.2!FB26),\":\")","v":0},null,{"$f":"IF(AND(ISNUMBER(Table_B.1!FD26),ISNUMBER(Table_B.2!FD26)),SUM(Table_B.1!FD26,Table_B.2!FD26),\":\")","v":0},null,{"$f":"IF(AND(ISNUMBER(Table_B.1!FF26),ISNUMBER(Table_B.2!FF26)),SUM(Table_B.1!FF26,Table_B.2!FF26),\":\")","v":0},null,{"$f":"SUM(Table_B.1!FH26,Table_B.2!FH26)","v":0},null,{"$f":"IF(OR(ISNUMBER(Table_B.1!FJ26),ISNUMBER(Table_B.2!FJ26)),SUM(Table_B.1!FJ26,Table_B.2!FJ26),\":\")","v":0},null,{"$f":"IF(OR(ISNUMBER(Table_B.1!FL26),ISNUMBER(Table_B.2!FL26)),SUM(Table_B.1!FL26,Table_B.2!FL26),\":\")","v":0},null,{"$f":"IF(OR(ISNUMBER(Table_B.1!FN26),ISNUMBER(Table_B.2!FN26)),SUM(Table_B.1!FN26,Table_B.2!FN26),\":\")","v":0},null,{"$f":"IF(OR(ISNUMBER(Table_B.1!FP26),ISNUMBER(Table_B.2!FP26)),SUM(Table_B.1!FP26,Table_B.2!FP26),\":\")","v":0},null,{"$f":"IF(OR(ISNUMBER(Table_B.1!FR26),ISNUMBER(Table_B.2!FR26)),SUM(Table_B.1!FR26,Table_B.2!FR26),\":\")","v":0},null,{"$f":"IF(OR(ISNUMBER(Table_B.1!FT26),ISNUMBER(Table_B.2!FT26)),SUM(Table_B.1!FT26,Table_B.2!FT26),\":\")","v":0},null,null,null,0,null,""]
[null,19,2,{"$f":"'PEFA rows'!C21","v":"P17"},{"$f":"'PEFA rows'!D21","v":"Transport diesel (without bio)"},null,null,0,null,{"$f":"IF(AND(ISNUMBER(Table_B.1!J27),ISNUMBER(Table_B.2!J27)),SUM(Table_B.1!J27,Table_B.2!J27),\":\")","v":0},null,{"$f":"IF(AND(ISNUMBER(Table_B.1!L27),ISNUMBER(Table_B.2!L27)),SUM(Table_B.1!L27,Table_B.2!L27),\":\")","v":0},null,{"$f":"IF(AND(ISNUMBER(Table_B.1!N27),ISNUMBER(Table_B.2!N27)),SUM(Table_B.1!N27,Table_B.2!N27),\":\")","v":0},null,{"$f":"IF(AND(ISNUMBER(Table_B.1!P27),ISNUMBER(Table_B.2!P27)),SUM(Table_B.1!P27,Table_B.2!P27),\":\")","v":0},null,{"$f":"IF(AND(ISNUMBER(Table_B.1!R27),ISNUMBER(Table_B.2!R27)),SUM(Table_B.1!R27,Table_B.2!R27),\":\")","v":0},null,{"$f":"IF(AND(ISNUMBER(Table_B.1!T27),ISNUMBER(Table_B.2!T27)),SUM(Table_B.1!T27,Table_B.2!T27),\":\")","v":0},null,{"$f":"IF(AND(ISNUMBER(Table_B.1!V27),ISNUMBER(Table_B.2!V27)),SUM(Table_B.1!V27,Table_B.2!V27),\":\")","v":0},null,{"$f":"IF(AND(ISNUMBER(Table_B.1!X27),ISNUMBER(Table_B.2!X27)),SUM(Table_B.1!X27,Table_B.2!X27),\":\")","v":0},null,{"$f":"IF(AND(ISNUMBER(Table_B.1!Z27),ISNUMBER(Table_B.2!Z27)),SUM(Table_B.1!Z27,Table_B.2!Z27),\":\")","v":0},null,{"$f":"IF(AND(ISNUMBER(Table_B.1!AB27),ISNUMBER(Table_B.2!AB27)),SUM(Table_B.1!AB27,Table_B.2!AB27),\":\")","v":0},null,{"$f":"IF(AND(ISNUMBER(Table_B.1!AD27),ISNUMBER(Table_B.2!AD27)),SUM(Table_B.1!AD27,Table_B.2!AD27),\":\")","v":0},null,{"$f":"IF(AND(ISNUMBER(Table_B.1!AF27),ISNUMBER(Table_B.2!AF27)),SUM(Table_B.1!AF27,Table_B.2!AF27),\":\")","v":0},null,{"$f":"IF(AND(ISNUMBER(Table_B.1!AH27),ISNUMBER(Table_B.2!AH27)),SUM(Table_B.1!AH27,Table_B.2!AH27),\":\")","v":0},null,{"$f":"IF(AND(ISNUMBER(Table_B.1!AJ27),ISNUMBER(Table_B.2!AJ27)),SUM(Table_B.1!AJ27,Table_B.2!AJ27),\":\")","v":0},null,{"$f":"IF(AND(ISNUMBER(Table_B.1!AL27),ISNUMBER(Table_B.2!AL27)),SUM(Table_B.1!AL27,Table_B.2!AL27),\":\")","v":0},null,{"$f":"IF(AND(ISNUMBER(Table_B.1!AN27),ISNUMBER(Table_B.2!AN27)),SUM(Table_B.1!AN27,Table_B.2!AN27),\":\")","v":0},null,{"$f":"IF(AND(ISNUMBER(Table_B.1!AP27),ISNUMBER(Table_B.2!AP27)),SUM(Table_B.1!AP27,Table_B.2!AP27),\":\")","v":0},null,{"$f":"IF(AND(ISNUMBER(Table_B.1!AR27),ISNUMBER(Table_B.2!AR27)),SUM(Table_B.1!AR27,Table_B.2!AR27),\":\")","v":0},null,{"$f":"IF(AND(ISNUMBER(Table_B.1!AT27),ISNUMBER(Table_B.2!AT27)),SUM(Table_B.1!AT27,Table_B.2!AT27),\":\")","v":0},null,{"$f":"IF(AND(ISNUMBER(Table_B.1!AV27),ISNUMBER(Table_B.2!AV27)),SUM(Table_B.1!AV27,Table_B.2!AV27),\":\")","v":0},null,{"$f":"IF(AND(ISNUMBER(Table_B.1!AX27),ISNUMBER(Table_B.2!AX27)),SUM(Table_B.1!AX27,Table_B.2!AX27),\":\")","v":0},null,{"$f":"IF(AND(ISNUMBER(Table_B.1!AZ27),ISNUMBER(Table_B.2!AZ27)),SUM(Table_B.1!AZ27,Table_B.2!AZ27),\":\")","v":0},null,{"$f":"IF(AND(ISNUMBER(Table_B.1!BB27),ISNUMBER(Table_B.2!BB27)),SUM(Table_B.1!BB27,Table_B.2!BB27),\":\")","v":0},null,{"$f":"IF(AND(ISNUMBER(Table_B.1!BD27),ISNUMBER(Table_B.2!BD27)),SUM(Table_B.1!BD27,Table_B.2!BD27),\":\")","v":0},null,{"$f":"IF(AND(ISNUMBER(Table_B.1!BF27),ISNUMBER(Table_B.2!BF27)),SUM(Table_B.1!BF27,Table_B.2!BF27),\":\")","v":0},null,{"$f":"IF(AND(ISNUMBER(Table_B.1!BH27),ISNUMBER(Table_B.2!BH27)),SUM(Table_B.1!BH27,Table_B.2!BH27),\":\")","v":0},null,{"$f":"IF(AND(ISNUMBER(Table_B.1!BJ27),ISNUMBER(Table_B.2!BJ27)),SUM(Table_B.1!BJ27,Table_B.2!BJ27),\":\")","v":0},null,{"$f":"IF(AND(ISNUMBER(Table_B.1!BL27),ISNUMBER(Table_B.2!BL27)),SUM(Table_B.1!BL27,Table_B.2!BL27),\":\")","v":0},null,{"$f":"IF(AND(ISNUMBER(Table_B.1!BN27),ISNUMBER(Table_B.2!BN27)),SUM(Table_B.1!BN27,Table_B.2!BN27),\":\")","v":0},null,{"$f":"IF(AND(ISNUMBER(Table_B.1!BP27),ISNUMBER(Table_B.2!BP27)),SUM(Table_B.1!BP27,Table_B.2!BP27),\":\")","v":0},null,{"$f":"IF(AND(ISNUMBER(Table_B.1!BR27),ISNUMBER(Table_B.2!BR27)),SUM(Table_B.1!BR27,Table_B.2!BR27),\":\")","v":0},null,{"$f":"IF(AND(ISNUMBER(Table_B.1!BT27),ISNUMBER(Table_B.2!BT27)),SUM(Table_B.1!BT27,Table_B.2!BT27),\":\")","v":0},null,{"$f":"IF(AND(ISNUMBER(Table_B.1!BV27),ISNUMBER(Table_B.2!BV27)),SUM(Table_B.1!BV27,Table_B.2!BV27),\":\")","v":0},null,{"$f":"IF(AND(ISNUMBER(Table_B.1!BX27),ISNUMBER(Table_B.2!BX27)),SUM(Table_B.1!BX27,Table_B.2!BX27),\":\")","v":0},null,{"$f":"IF(AND(ISNUMBER(Table_B.1!BZ27),ISNUMBER(Table_B.2!BZ27)),SUM(Table_B.1!BZ27,Table_B.2!BZ27),\":\")","v":0},null,{"$f":"IF(AND(ISNUMBER(Table_B.1!CB27),ISNUMBER(Table_B.2!CB27)),SUM(Table_B.1!CB27,Table_B.2!CB27),\":\")","v":0},null,{"$f":"IF(AND(ISNUMBER(Table_B.1!CD27),ISNUMBER(Table_B.2!CD27)),SUM(Table_B.1!CD27,Table_B.2!CD27),\":\")","v":0},null,{"$f":"IF(AND(ISNUMBER(Table_B.1!CF27),ISNUMBER(Table_B.2!CF27)),SUM(Table_B.1!CF27,Table_B.2!CF27),\":\")","v":0},null,{"$f":"IF(AND(ISNUMBER(Table_B.1!CH27),ISNUMBER(Table_B.2!CH27)),SUM(Table_B.1!CH27,Table_B.2!CH27),\":\")","v":0},null,{"$f":"IF(AND(ISNUMBER(Table_B.1!CJ27),ISNUMBER(Table_B.2!CJ27)),SUM(Table_B.1!CJ27,Table_B.2!CJ27),\":\")","v":0},null,{"$f":"IF(AND(ISNUMBER(Table_B.1!CL27),ISNUMBER(Table_B.2!CL27)),SUM(Table_B.1!CL27,Table_B.2!CL27),\":\")","v":0},null,{"$f":"IF(AND(ISNUMBER(Table_B.1!CN27),ISNUMBER(Table_B.2!CN27)),SUM(Table_B.1!CN27,Table_B.2!CN27),\":\")","v":0},null,{"$f":"IF(AND(ISNUMBER(Table_B.1!CP27),ISNUMBER(Table_B.2!CP27)),SUM(Table_B.1!CP27,Table_B.2!CP27),\":\")","v":0},null,{"$f":"IF(AND(ISNUMBER(Table_B.1!CR27),ISNUMBER(Table_B.2!CR27)),SUM(Table_B.1!CR27,Table_B.2!CR27),\":\")","v":0},null,{"$f":"IF(AND(ISNUMBER(Table_B.1!CT27),ISNUMBER(Table_B.2!CT27)),SUM(Table_B.1!CT27,Table_B.2!CT27),\":\")","v":0},null,{"$f":"IF(AND(ISNUMBER(Table_B.1!CV27),ISNUMBER(Table_B.2!CV27)),SUM(Table_B.1!CV27,Table_B.2!CV27),\":\")","v":0},null,{"$f":"IF(AND(ISNUMBER(Table_B.1!CX27),ISNUMBER(Table_B.2!CX27)),SUM(Table_B.1!CX27,Table_B.2!CX27),\":\")","v":0},null,{"$f":"IF(AND(ISNUMBER(Table_B.1!CZ27),ISNUMBER(Table_B.2!CZ27)),SUM(Table_B.1!CZ27,Table_B.2!CZ27),\":\")","v":0},null,{"$f":"IF(AND(ISNUMBER(Table_B.1!DB27),ISNUMBER(Table_B.2!DB27)),SUM(Table_B.1!DB27,Table_B.2!DB27),\":\")","v":0},null,{"$f":"IF(AND(ISNUMBER(Table_B.1!DD27),ISNUMBER(Table_B.2!DD27)),SUM(Table_B.1!DD27,Table_B.2!DD27),\":\")","v":0},null,{"$f":"IF(AND(ISNUMBER(Table_B.1!DF27),ISNUMBER(Table_B.2!DF27)),SUM(Table_B.1!DF27,Table_B.2!DF27),\":\")","v":0},null,{"$f":"IF(AND(ISNUMBER(Table_B.1!DH27),ISNUMBER(Table_B.2!DH27)),SUM(Table_B.1!DH27,Table_B.2!DH27),\":\")","v":0},null,{"$f":"IF(AND(ISNUMBER(Table_B.1!DJ27),ISNUMBER(Table_B.2!DJ27)),SUM(Table_B.1!DJ27,Table_B.2!DJ27),\":\")","v":0},null,{"$f":"IF(AND(ISNUMBER(Table_B.1!DL27),ISNUMBER(Table_B.2!DL27)),SUM(Table_B.1!DL27,Table_B.2!DL27),\":\")","v":0},null,{"$f":"IF(AND(ISNUMBER(Table_B.1!DN27),ISNUMBER(Table_B.2!DN27)),SUM(Table_B.1!DN27,Table_B.2!DN27),\":\")","v":0},null,{"$f":"IF(AND(ISNUMBER(Table_B.1!DP27),ISNUMBER(Table_B.2!DP27)),SUM(Table_B.1!DP27,Table_B.2!DP27),\":\")","v":0},null,{"$f":"IF(AND(ISNUMBER(Table_B.1!DR27),ISNUMBER(Table_B.2!DR27)),SUM(Table_B.1!DR27,Table_B.2!DR27),\":\")","v":0},null,{"$f":"IF(AND(ISNUMBER(Table_B.1!DT27),ISNUMBER(Table_B.2!DT27)),SUM(Table_B.1!DT27,Table_B.2!DT27),\":\")","v":0},null,{"$f":"IF(AND(ISNUMBER(Table_B.1!DV27),ISNUMBER(Table_B.2!DV27)),SUM(Table_B.1!DV27,Table_B.2!DV27),\":\")","v":0},null,{"$f":"IF(AND(ISNUMBER(Table_B.1!DX27),ISNUMBER(Table_B.2!DX27)),SUM(Table_B.1!DX27,Table_B.2!DX27),\":\")","v":0},null,{"$f":"IF(AND(ISNUMBER(Table_B.1!DZ27),ISNUMBER(Table_B.2!DZ27)),SUM(Table_B.1!DZ27,Table_B.2!DZ27),\":\")","v":0},null,{"$f":"IF(AND(ISNUMBER(Table_B.1!EB27),ISNUMBER(Table_B.2!EB27)),SUM(Table_B.1!EB27,Table_B.2!EB27),\":\")","v":0},null,{"$f":"IF(AND(ISNUMBER(Table_B.1!ED27),ISNUMBER(Table_B.2!ED27)),SUM(Table_B.1!ED27,Table_B.2!ED27),\":\")","v":0},null,{"$f":"IF(AND(ISNUMBER(Table_B.1!EF27),ISNUMBER(Table_B.2!EF27)),SUM(Table_B.1!EF27,Table_B.2!EF27),\":\")","v":0},null,{"$f":"IF(AND(ISNUMBER(Table_B.1!EH27),ISNUMBER(Table_B.2!EH27)),SUM(Table_B.1!EH27,Table_B.2!EH27),\":\")","v":0},null,{"$f":"IF(AND(ISNUMBER(Table_B.1!EJ27),ISNUMBER(Table_B.2!EJ27)),SUM(Table_B.1!EJ27,Table_B.2!EJ27),\":\")","v":0},null,{"$f":"IF(AND(ISNUMBER(Table_B.1!EL27),ISNUMBER(Table_B.2!EL27)),SUM(Table_B.1!EL27,Table_B.2!EL27),\":\")","v":0},null,{"$f":"IF(AND(ISNUMBER(Table_B.1!EN27),ISNUMBER(Table_B.2!EN27)),SUM(Table_B.1!EN27,Table_B.2!EN27),\":\")","v":0},null,{"$f":"IF(AND(ISNUMBER(Table_B.1!EP27),ISNUMBER(Table_B.2!EP27)),SUM(Table_B.1!EP27,Table_B.2!EP27),\":\")","v":0},null,{"$f":"IF(AND(ISNUMBER(Table_B.1!ER27),ISNUMBER(Table_B.2!ER27)),SUM(Table_B.1!ER27,Table_B.2!ER27),\":\")","v":0},null,{"$f":"IF(AND(ISNUMBER(Table_B.1!ET27),ISNUMBER(Table_B.2!ET27)),SUM(Table_B.1!ET27,Table_B.2!ET27),\":\")","v":0},null,{"$f":"IF(AND(ISNUMBER(Table_B.1!EV27),ISNUMBER(Table_B.2!EV27)),SUM(Table_B.1!EV27,Table_B.2!EV27),\":\")","v":0},null,{"$f":"IF(AND(ISNUMBER(Table_B.1!EX27),ISNUMBER(Table_B.2!EX27)),SUM(Table_B.1!EX27,Table_B.2!EX27),\":\")","v":0},null,{"$f":"IF(AND(ISNUMBER(Table_B.1!EZ27),ISNUMBER(Table_B.2!EZ27)),SUM(Table_B.1!EZ27,Table_B.2!EZ27),\":\")","v":0},null,{"$f":"IF(AND(ISNUMBER(Table_B.1!FB27),ISNUMBER(Table_B.2!FB27)),SUM(Table_B.1!FB27,Table_B.2!FB27),\":\")","v":0},null,{"$f":"IF(AND(ISNUMBER(Table_B.1!FD27),ISNUMBER(Table_B.2!FD27)),SUM(Table_B.1!FD27,Table_B.2!FD27),\":\")","v":0},null,{"$f":"IF(AND(ISNUMBER(Table_B.1!FF27),ISNUMBER(Table_B.2!FF27)),SUM(Table_B.1!FF27,Table_B.2!FF27),\":\")","v":0},null,{"$f":"SUM(Table_B.1!FH27,Table_B.2!FH27)","v":0},null,{"$f":"IF(OR(ISNUMBER(Table_B.1!FJ27),ISNUMBER(Table_B.2!FJ27)),SUM(Table_B.1!FJ27,Table_B.2!FJ27),\":\")","v":0},null,{"$f":"IF(OR(ISNUMBER(Table_B.1!FL27),ISNUMBER(Table_B.2!FL27)),SUM(Table_B.1!FL27,Table_B.2!FL27),\":\")","v":0},null,{"$f":"IF(OR(ISNUMBER(Table_B.1!FN27),ISNUMBER(Table_B.2!FN27)),SUM(Table_B.1!FN27,Table_B.2!FN27),\":\")","v":0},null,{"$f":"IF(OR(ISNUMBER(Table_B.1!FP27),ISNUMBER(Table_B.2!FP27)),SUM(Table_B.1!FP27,Table_B.2!FP27),\":\")","v":0},null,{"$f":"IF(OR(ISNUMBER(Table_B.1!FR27),ISNUMBER(Table_B.2!FR27)),SUM(Table_B.1!FR27,Table_B.2!FR27),\":\")","v":0},null,{"$f":"IF(OR(ISNUMBER(Table_B.1!FT27),ISNUMBER(Table_B.2!FT27)),SUM(Table_B.1!FT27,Table_B.2!FT27),\":\")","v":0},null,null,null,0]
[null,20,2,{"$f":"'PEFA rows'!C22","v":"P18"},{"$f":"'PEFA rows'!D22","v":"Heating and other gasoil (without bio)"},null,null,0,null,{"$f":"IF(AND(ISNUMBER(Table_B.1!J28),ISNUMBER(Table_B.2!J28)),SUM(Table_B.1!J28,Table_B.2!J28),\":\")","v":0},null,{"$f":"IF(AND(ISNUMBER(Table_B.1!L28),ISNUMBER(Table_B.2!L28)),SUM(Table_B.1!L28,Table_B.2!L28),\":\")","v":0},null,{"$f":"IF(AND(ISNUMBER(Table_B.1!N28),ISNUMBER(Table_B.2!N28)),SUM(Table_B.1!N28,Table_B.2!N28),\":\")","v":0},null,{"$f":"IF(AND(ISNUMBER(Table_B.1!P28),ISNUMBER(Table_B.2!P28)),SUM(Table_B.1!P28,Table_B.2!P28),\":\")","v":0},null,{"$f":"IF(AND(ISNUMBER(Table_B.1!R28),ISNUMBER(Table_B.2!R28)),SUM(Table_B.1!R28,Table_B.2!R28),\":\")","v":0},null,{"$f":"IF(AND(ISNUMBER(Table_B.1!T28),ISNUMBER(Table_B.2!T28)),SUM(Table_B.1!T28,Table_B.2!T28),\":\")","v":0},null,{"$f":"IF(AND(ISNUMBER(Table_B.1!V28),ISNUMBER(Table_B.2!V28)),SUM(Table_B.1!V28,Table_B.2!V28),\":\")","v":0},null,{"$f":"IF(AND(ISNUMBER(Table_B.1!X28),ISNUMBER(Table_B.2!X28)),SUM(Table_B.1!X28,Table_B.2!X28),\":\")","v":0},null,{"$f":"IF(AND(ISNUMBER(Table_B.1!Z28),ISNUMBER(Table_B.2!Z28)),SUM(Table_B.1!Z28,Table_B.2!Z28),\":\")","v":0},null,{"$f":"IF(AND(ISNUMBER(Table_B.1!AB28),ISNUMBER(Table_B.2!AB28)),SUM(Table_B.1!AB28,Table_B.2!AB28),\":\")","v":0},null,{"$f":"IF(AND(ISNUMBER(Table_B.1!AD28),ISNUMBER(Table_B.2!AD28)),SUM(Table_B.1!AD28,Table_B.2!AD28),\":\")","v":0},null,{"$f":"IF(AND(ISNUMBER(Table_B.1!AF28),ISNUMBER(Table_B.2!AF28)),SUM(Table_B.1!AF28,Table_B.2!AF28),\":\")","v":0},null,{"$f":"IF(AND(ISNUMBER(Table_B.1!AH28),ISNUMBER(Table_B.2!AH28)),SUM(Table_B.1!AH28,Table_B.2!AH28),\":\")","v":0},null,{"$f":"IF(AND(ISNUMBER(Table_B.1!AJ28),ISNUMBER(Table_B.2!AJ28)),SUM(Table_B.1!AJ28,Table_B.2!AJ28),\":\")","v":0},null,{"$f":"IF(AND(ISNUMBER(Table_B.1!AL28),ISNUMBER(Table_B.2!AL28)),SUM(Table_B.1!AL28,Table_B.2!AL28),\":\")","v":0},null,{"$f":"IF(AND(ISNUMBER(Table_B.1!AN28),ISNUMBER(Table_B.2!AN28)),SUM(Table_B.1!AN28,Table_B.2!AN28),\":\")","v":0},null,{"$f":"IF(AND(ISNUMBER(Table_B.1!AP28),ISNUMBER(Table_B.2!AP28)),SUM(Table_B.1!AP28,Table_B.2!AP28),\":\")","v":0},null,{"$f":"IF(AND(ISNUMBER(Table_B.1!AR28),ISNUMBER(Table_B.2!AR28)),SUM(Table_B.1!AR28,Table_B.2!AR28),\":\")","v":0},null,{"$f":"IF(AND(ISNUMBER(Table_B.1!AT28),ISNUMBER(Table_B.2!AT28)),SUM(Table_B.1!AT28,Table_B.2!AT28),\":\")","v":0},null,{"$f":"IF(AND(ISNUMBER(Table_B.1!AV28),ISNUMBER(Table_B.2!AV28)),SUM(Table_B.1!AV28,Table_B.2!AV28),\":\")","v":0},null,{"$f":"IF(AND(ISNUMBER(Table_B.1!AX28),ISNUMBER(Table_B.2!AX28)),SUM(Table_B.1!AX28,Table_B.2!AX28),\":\")","v":0},null,{"$f":"IF(AND(ISNUMBER(Table_B.1!AZ28),ISNUMBER(Table_B.2!AZ28)),SUM(Table_B.1!AZ28,Table_B.2!AZ28),\":\")","v":0},null,{"$f":"IF(AND(ISNUMBER(Table_B.1!BB28),ISNUMBER(Table_B.2!BB28)),SUM(Table_B.1!BB28,Table_B.2!BB28),\":\")","v":0},null,{"$f":"IF(AND(ISNUMBER(Table_B.1!BD28),ISNUMBER(Table_B.2!BD28)),SUM(Table_B.1!BD28,Table_B.2!BD28),\":\")","v":0},null,{"$f":"IF(AND(ISNUMBER(Table_B.1!BF28),ISNUMBER(Table_B.2!BF28)),SUM(Table_B.1!BF28,Table_B.2!BF28),\":\")","v":0},null,{"$f":"IF(AND(ISNUMBER(Table_B.1!BH28),ISNUMBER(Table_B.2!BH28)),SUM(Table_B.1!BH28,Table_B.2!BH28),\":\")","v":0},null,{"$f":"IF(AND(ISNUMBER(Table_B.1!BJ28),ISNUMBER(Table_B.2!BJ28)),SUM(Table_B.1!BJ28,Table_B.2!BJ28),\":\")","v":0},null,{"$f":"IF(AND(ISNUMBER(Table_B.1!BL28),ISNUMBER(Table_B.2!BL28)),SUM(Table_B.1!BL28,Table_B.2!BL28),\":\")","v":0},null,{"$f":"IF(AND(ISNUMBER(Table_B.1!BN28),ISNUMBER(Table_B.2!BN28)),SUM(Table_B.1!BN28,Table_B.2!BN28),\":\")","v":0},null,{"$f":"IF(AND(ISNUMBER(Table_B.1!BP28),ISNUMBER(Table_B.2!BP28)),SUM(Table_B.1!BP28,Table_B.2!BP28),\":\")","v":0},null,{"$f":"IF(AND(ISNUMBER(Table_B.1!BR28),ISNUMBER(Table_B.2!BR28)),SUM(Table_B.1!BR28,Table_B.2!BR28),\":\")","v":0},null,{"$f":"IF(AND(ISNUMBER(Table_B.1!BT28),ISNUMBER(Table_B.2!BT28)),SUM(Table_B.1!BT28,Table_B.2!BT28),\":\")","v":0},null,{"$f":"IF(AND(ISNUMBER(Table_B.1!BV28),ISNUMBER(Table_B.2!BV28)),SUM(Table_B.1!BV28,Table_B.2!BV28),\":\")","v":0},null,{"$f":"IF(AND(ISNUMBER(Table_B.1!BX28),ISNUMBER(Table_B.2!BX28)),SUM(Table_B.1!BX28,Table_B.2!BX28),\":\")","v":0},null,{"$f":"IF(AND(ISNUMBER(Table_B.1!BZ28),ISNUMBER(Table_B.2!BZ28)),SUM(Table_B.1!BZ28,Table_B.2!BZ28),\":\")","v":0},null,{"$f":"IF(AND(ISNUMBER(Table_B.1!CB28),ISNUMBER(Table_B.2!CB28)),SUM(Table_B.1!CB28,Table_B.2!CB28),\":\")","v":0},null,{"$f":"IF(AND(ISNUMBER(Table_B.1!CD28),ISNUMBER(Table_B.2!CD28)),SUM(Table_B.1!CD28,Table_B.2!CD28),\":\")","v":0},null,{"$f":"IF(AND(ISNUMBER(Table_B.1!CF28),ISNUMBER(Table_B.2!CF28)),SUM(Table_B.1!CF28,Table_B.2!CF28),\":\")","v":0},null,{"$f":"IF(AND(ISNUMBER(Table_B.1!CH28),ISNUMBER(Table_B.2!CH28)),SUM(Table_B.1!CH28,Table_B.2!CH28),\":\")","v":0},null,{"$f":"IF(AND(ISNUMBER(Table_B.1!CJ28),ISNUMBER(Table_B.2!CJ28)),SUM(Table_B.1!CJ28,Table_B.2!CJ28),\":\")","v":0},null,{"$f":"IF(AND(ISNUMBER(Table_B.1!CL28),ISNUMBER(Table_B.2!CL28)),SUM(Table_B.1!CL28,Table_B.2!CL28),\":\")","v":0},null,{"$f":"IF(AND(ISNUMBER(Table_B.1!CN28),ISNUMBER(Table_B.2!CN28)),SUM(Table_B.1!CN28,Table_B.2!CN28),\":\")","v":0},null,{"$f":"IF(AND(ISNUMBER(Table_B.1!CP28),ISNUMBER(Table_B.2!CP28)),SUM(Table_B.1!CP28,Table_B.2!CP28),\":\")","v":0},null,{"$f":"IF(AND(ISNUMBER(Table_B.1!CR28),ISNUMBER(Table_B.2!CR28)),SUM(Table_B.1!CR28,Table_B.2!CR28),\":\")","v":0},null,{"$f":"IF(AND(ISNUMBER(Table_B.1!CT28),ISNUMBER(Table_B.2!CT28)),SUM(Table_B.1!CT28,Table_B.2!CT28),\":\")","v":0},null,{"$f":"IF(AND(ISNUMBER(Table_B.1!CV28),ISNUMBER(Table_B.2!CV28)),SUM(Table_B.1!CV28,Table_B.2!CV28),\":\")","v":0},null,{"$f":"IF(AND(ISNUMBER(Table_B.1!CX28),ISNUMBER(Table_B.2!CX28)),SUM(Table_B.1!CX28,Table_B.2!CX28),\":\")","v":0},null,{"$f":"IF(AND(ISNUMBER(Table_B.1!CZ28),ISNUMBER(Table_B.2!CZ28)),SUM(Table_B.1!CZ28,Table_B.2!CZ28),\":\")","v":0},null,{"$f":"IF(AND(ISNUMBER(Table_B.1!DB28),ISNUMBER(Table_B.2!DB28)),SUM(Table_B.1!DB28,Table_B.2!DB28),\":\")","v":0},null,{"$f":"IF(AND(ISNUMBER(Table_B.1!DD28),ISNUMBER(Table_B.2!DD28)),SUM(Table_B.1!DD28,Table_B.2!DD28),\":\")","v":0},null,{"$f":"IF(AND(ISNUMBER(Table_B.1!DF28),ISNUMBER(Table_B.2!DF28)),SUM(Table_B.1!DF28,Table_B.2!DF28),\":\")","v":0},null,{"$f":"IF(AND(ISNUMBER(Table_B.1!DH28),ISNUMBER(Table_B.2!DH28)),SUM(Table_B.1!DH28,Table_B.2!DH28),\":\")","v":0},null,{"$f":"IF(AND(ISNUMBER(Table_B.1!DJ28),ISNUMBER(Table_B.2!DJ28)),SUM(Table_B.1!DJ28,Table_B.2!DJ28),\":\")","v":0},null,{"$f":"IF(AND(ISNUMBER(Table_B.1!DL28),ISNUMBER(Table_B.2!DL28)),SUM(Table_B.1!DL28,Table_B.2!DL28),\":\")","v":0},null,{"$f":"IF(AND(ISNUMBER(Table_B.1!DN28),ISNUMBER(Table_B.2!DN28)),SUM(Table_B.1!DN28,Table_B.2!DN28),\":\")","v":0},null,{"$f":"IF(AND(ISNUMBER(Table_B.1!DP28),ISNUMBER(Table_B.2!DP28)),SUM(Table_B.1!DP28,Table_B.2!DP28),\":\")","v":0},null,{"$f":"IF(AND(ISNUMBER(Table_B.1!DR28),ISNUMBER(Table_B.2!DR28)),SUM(Table_B.1!DR28,Table_B.2!DR28),\":\")","v":0},null,{"$f":"IF(AND(ISNUMBER(Table_B.1!DT28),ISNUMBER(Table_B.2!DT28)),SUM(Table_B.1!DT28,Table_B.2!DT28),\":\")","v":0},null,{"$f":"IF(AND(ISNUMBER(Table_B.1!DV28),ISNUMBER(Table_B.2!DV28)),SUM(Table_B.1!DV28,Table_B.2!DV28),\":\")","v":0},null,{"$f":"IF(AND(ISNUMBER(Table_B.1!DX28),ISNUMBER(Table_B.2!DX28)),SUM(Table_B.1!DX28,Table_B.2!DX28),\":\")","v":0},null,{"$f":"IF(AND(ISNUMBER(Table_B.1!DZ28),ISNUMBER(Table_B.2!DZ28)),SUM(Table_B.1!DZ28,Table_B.2!DZ28),\":\")","v":0},null,{"$f":"IF(AND(ISNUMBER(Table_B.1!EB28),ISNUMBER(Table_B.2!EB28)),SUM(Table_B.1!EB28,Table_B.2!EB28),\":\")","v":0},null,{"$f":"IF(AND(ISNUMBER(Table_B.1!ED28),ISNUMBER(Table_B.2!ED28)),SUM(Table_B.1!ED28,Table_B.2!ED28),\":\")","v":0},null,{"$f":"IF(AND(ISNUMBER(Table_B.1!EF28),ISNUMBER(Table_B.2!EF28)),SUM(Table_B.1!EF28,Table_B.2!EF28),\":\")","v":0},null,{"$f":"IF(AND(ISNUMBER(Table_B.1!EH28),ISNUMBER(Table_B.2!EH28)),SUM(Table_B.1!EH28,Table_B.2!EH28),\":\")","v":0},null,{"$f":"IF(AND(ISNUMBER(Table_B.1!EJ28),ISNUMBER(Table_B.2!EJ28)),SUM(Table_B.1!EJ28,Table_B.2!EJ28),\":\")","v":0},null,{"$f":"IF(AND(ISNUMBER(Table_B.1!EL28),ISNUMBER(Table_B.2!EL28)),SUM(Table_B.1!EL28,Table_B.2!EL28),\":\")","v":0},null,{"$f":"IF(AND(ISNUMBER(Table_B.1!EN28),ISNUMBER(Table_B.2!EN28)),SUM(Table_B.1!EN28,Table_B.2!EN28),\":\")","v":0},null,{"$f":"IF(AND(ISNUMBER(Table_B.1!EP28),ISNUMBER(Table_B.2!EP28)),SUM(Table_B.1!EP28,Table_B.2!EP28),\":\")","v":0},null,{"$f":"IF(AND(ISNUMBER(Table_B.1!ER28),ISNUMBER(Table_B.2!ER28)),SUM(Table_B.1!ER28,Table_B.2!ER28),\":\")","v":0},null,{"$f":"IF(AND(ISNUMBER(Table_B.1!ET28),ISNUMBER(Table_B.2!ET28)),SUM(Table_B.1!ET28,Table_B.2!ET28),\":\")","v":0},null,{"$f":"IF(AND(ISNUMBER(Table_B.1!EV28),ISNUMBER(Table_B.2!EV28)),SUM(Table_B.1!EV28,Table_B.2!EV28),\":\")","v":0},null,{"$f":"IF(AND(ISNUMBER(Table_B.1!EX28),ISNUMBER(Table_B.2!EX28)),SUM(Table_B.1!EX28,Table_B.2!EX28),\":\")","v":0},null,{"$f":"IF(AND(ISNUMBER(Table_B.1!EZ28),ISNUMBER(Table_B.2!EZ28)),SUM(Table_B.1!EZ28,Table_B.2!EZ28),\":\")","v":0},null,{"$f":"IF(AND(ISNUMBER(Table_B.1!FB28),ISNUMBER(Table_B.2!FB28)),SUM(Table_B.1!FB28,Table_B.2!FB28),\":\")","v":0},null,{"$f":"IF(AND(ISNUMBER(Table_B.1!FD28),ISNUMBER(Table_B.2!FD28)),SUM(Table_B.1!FD28,Table_B.2!FD28),\":\")","v":0},null,{"$f":"IF(AND(ISNUMBER(Table_B.1!FF28),ISNUMBER(Table_B.2!FF28)),SUM(Table_B.1!FF28,Table_B.2!FF28),\":\")","v":0},null,{"$f":"SUM(Table_B.1!FH28,Table_B.2!FH28)","v":0},null,{"$f":"IF(OR(ISNUMBER(Table_B.1!FJ28),ISNUMBER(Table_B.2!FJ28)),SUM(Table_B.1!FJ28,Table_B.2!FJ28),\":\")","v":0},null,{"$f":"IF(OR(ISNUMBER(Table_B.1!FL28),ISNUMBER(Table_B.2!FL28)),SUM(Table_B.1!FL28,Table_B.2!FL28),\":\")","v":0},null,{"$f":"IF(OR(ISNUMBER(Table_B.1!FN28),ISNUMBER(Table_B.2!FN28)),SUM(Table_B.1!FN28,Table_B.2!FN28),\":\")","v":0},null,{"$f":"IF(OR(ISNUMBER(Table_B.1!FP28),ISNUMBER(Table_B.2!FP28)),SUM(Table_B.1!FP28,Table_B.2!FP28),\":\")","v":0},null,{"$f":"IF(OR(ISNUMBER(Table_B.1!FR28),ISNUMBER(Table_B.2!FR28)),SUM(Table_B.1!FR28,Table_B.2!FR28),\":\")","v":0},null,{"$f":"IF(OR(ISNUMBER(Table_B.1!FT28),ISNUMBER(Table_B.2!FT28)),SUM(Table_B.1!FT28,Table_B.2!FT28),\":\")","v":0},null,null,null,0,null,""]
[null,21,2,{"$f":"'PEFA rows'!C23","v":"P19"},{"$f":"'PEFA rows'!D23","v":"Residual fuel oil"},null,null,0,null,{"$f":"IF(AND(ISNUMBER(Table_B.1!J29),ISNUMBER(Table_B.2!J29)),SUM(Table_B.1!J29,Table_B.2!J29),\":\")","v":0},null,{"$f":"IF(AND(ISNUMBER(Table_B.1!L29),ISNUMBER(Table_B.2!L29)),SUM(Table_B.1!L29,Table_B.2!L29),\":\")","v":0},null,{"$f":"IF(AND(ISNUMBER(Table_B.1!N29),ISNUMBER(Table_B.2!N29)),SUM(Table_B.1!N29,Table_B.2!N29),\":\")","v":0},null,{"$f":"IF(AND(ISNUMBER(Table_B.1!P29),ISNUMBER(Table_B.2!P29)),SUM(Table_B.1!P29,Table_B.2!P29),\":\")","v":0},null,{"$f":"IF(AND(ISNUMBER(Table_B.1!R29),ISNUMBER(Table_B.2!R29)),SUM(Table_B.1!R29,Table_B.2!R29),\":\")","v":0},null,{"$f":"IF(AND(ISNUMBER(Table_B.1!T29),ISNUMBER(Table_B.2!T29)),SUM(Table_B.1!T29,Table_B.2!T29),\":\")","v":0},null,{"$f":"IF(AND(ISNUMBER(Table_B.1!V29),ISNUMBER(Table_B.2!V29)),SUM(Table_B.1!V29,Table_B.2!V29),\":\")","v":0},null,{"$f":"IF(AND(ISNUMBER(Table_B.1!X29),ISNUMBER(Table_B.2!X29)),SUM(Table_B.1!X29,Table_B.2!X29),\":\")","v":0},null,{"$f":"IF(AND(ISNUMBER(Table_B.1!Z29),ISNUMBER(Table_B.2!Z29)),SUM(Table_B.1!Z29,Table_B.2!Z29),\":\")","v":0},null,{"$f":"IF(AND(ISNUMBER(Table_B.1!AB29),ISNUMBER(Table_B.2!AB29)),SUM(Table_B.1!AB29,Table_B.2!AB29),\":\")","v":0},null,{"$f":"IF(AND(ISNUMBER(Table_B.1!AD29),ISNUMBER(Table_B.2!AD29)),SUM(Table_B.1!AD29,Table_B.2!AD29),\":\")","v":0},null,{"$f":"IF(AND(ISNUMBER(Table_B.1!AF29),ISNUMBER(Table_B.2!AF29)),SUM(Table_B.1!AF29,Table_B.2!AF29),\":\")","v":0},null,{"$f":"IF(AND(ISNUMBER(Table_B.1!AH29),ISNUMBER(Table_B.2!AH29)),SUM(Table_B.1!AH29,Table_B.2!AH29),\":\")","v":0},null,{"$f":"IF(AND(ISNUMBER(Table_B.1!AJ29),ISNUMBER(Table_B.2!AJ29)),SUM(Table_B.1!AJ29,Table_B.2!AJ29),\":\")","v":0},null,{"$f":"IF(AND(ISNUMBER(Table_B.1!AL29),ISNUMBER(Table_B.2!AL29)),SUM(Table_B.1!AL29,Table_B.2!AL29),\":\")","v":0},null,{"$f":"IF(AND(ISNUMBER(Table_B.1!AN29),ISNUMBER(Table_B.2!AN29)),SUM(Table_B.1!AN29,Table_B.2!AN29),\":\")","v":0},null,{"$f":"IF(AND(ISNUMBER(Table_B.1!AP29),ISNUMBER(Table_B.2!AP29)),SUM(Table_B.1!AP29,Table_B.2!AP29),\":\")","v":0},null,{"$f":"IF(AND(ISNUMBER(Table_B.1!AR29),ISNUMBER(Table_B.2!AR29)),SUM(Table_B.1!AR29,Table_B.2!AR29),\":\")","v":0},null,{"$f":"IF(AND(ISNUMBER(Table_B.1!AT29),ISNUMBER(Table_B.2!AT29)),SUM(Table_B.1!AT29,Table_B.2!AT29),\":\")","v":0},null,{"$f":"IF(AND(ISNUMBER(Table_B.1!AV29),ISNUMBER(Table_B.2!AV29)),SUM(Table_B.1!AV29,Table_B.2!AV29),\":\")","v":0},null,{"$f":"IF(AND(ISNUMBER(Table_B.1!AX29),ISNUMBER(Table_B.2!AX29)),SUM(Table_B.1!AX29,Table_B.2!AX29),\":\")","v":0},null,{"$f":"IF(AND(ISNUMBER(Table_B.1!AZ29),ISNUMBER(Table_B.2!AZ29)),SUM(Table_B.1!AZ29,Table_B.2!AZ29),\":\")","v":0},null,{"$f":"IF(AND(ISNUMBER(Table_B.1!BB29),ISNUMBER(Table_B.2!BB29)),SUM(Table_B.1!BB29,Table_B.2!BB29),\":\")","v":0},null,{"$f":"IF(AND(ISNUMBER(Table_B.1!BD29),ISNUMBER(Table_B.2!BD29)),SUM(Table_B.1!BD29,Table_B.2!BD29),\":\")","v":0},null,{"$f":"IF(AND(ISNUMBER(Table_B.1!BF29),ISNUMBER(Table_B.2!BF29)),SUM(Table_B.1!BF29,Table_B.2!BF29),\":\")","v":0},null,{"$f":"IF(AND(ISNUMBER(Table_B.1!BH29),ISNUMBER(Table_B.2!BH29)),SUM(Table_B.1!BH29,Table_B.2!BH29),\":\")","v":0},null,{"$f":"IF(AND(ISNUMBER(Table_B.1!BJ29),ISNUMBER(Table_B.2!BJ29)),SUM(Table_B.1!BJ29,Table_B.2!BJ29),\":\")","v":0},null,{"$f":"IF(AND(ISNUMBER(Table_B.1!BL29),ISNUMBER(Table_B.2!BL29)),SUM(Table_B.1!BL29,Table_B.2!BL29),\":\")","v":0},null,{"$f":"IF(AND(ISNUMBER(Table_B.1!BN29),ISNUMBER(Table_B.2!BN29)),SUM(Table_B.1!BN29,Table_B.2!BN29),\":\")","v":0},null,{"$f":"IF(AND(ISNUMBER(Table_B.1!BP29),ISNUMBER(Table_B.2!BP29)),SUM(Table_B.1!BP29,Table_B.2!BP29),\":\")","v":0},null,{"$f":"IF(AND(ISNUMBER(Table_B.1!BR29),ISNUMBER(Table_B.2!BR29)),SUM(Table_B.1!BR29,Table_B.2!BR29),\":\")","v":0},null,{"$f":"IF(AND(ISNUMBER(Table_B.1!BT29),ISNUMBER(Table_B.2!BT29)),SUM(Table_B.1!BT29,Table_B.2!BT29),\":\")","v":0},null,{"$f":"IF(AND(ISNUMBER(Table_B.1!BV29),ISNUMBER(Table_B.2!BV29)),SUM(Table_B.1!BV29,Table_B.2!BV29),\":\")","v":0},null,{"$f":"IF(AND(ISNUMBER(Table_B.1!BX29),ISNUMBER(Table_B.2!BX29)),SUM(Table_B.1!BX29,Table_B.2!BX29),\":\")","v":0},null,{"$f":"IF(AND(ISNUMBER(Table_B.1!BZ29),ISNUMBER(Table_B.2!BZ29)),SUM(Table_B.1!BZ29,Table_B.2!BZ29),\":\")","v":0},null,{"$f":"IF(AND(ISNUMBER(Table_B.1!CB29),ISNUMBER(Table_B.2!CB29)),SUM(Table_B.1!CB29,Table_B.2!CB29),\":\")","v":0},null,{"$f":"IF(AND(ISNUMBER(Table_B.1!CD29),ISNUMBER(Table_B.2!CD29)),SUM(Table_B.1!CD29,Table_B.2!CD29),\":\")","v":0},null,{"$f":"IF(AND(ISNUMBER(Table_B.1!CF29),ISNUMBER(Table_B.2!CF29)),SUM(Table_B.1!CF29,Table_B.2!CF29),\":\")","v":0},null,{"$f":"IF(AND(ISNUMBER(Table_B.1!CH29),ISNUMBER(Table_B.2!CH29)),SUM(Table_B.1!CH29,Table_B.2!CH29),\":\")","v":0},null,{"$f":"IF(AND(ISNUMBER(Table_B.1!CJ29),ISNUMBER(Table_B.2!CJ29)),SUM(Table_B.1!CJ29,Table_B.2!CJ29),\":\")","v":0},null,{"$f":"IF(AND(ISNUMBER(Table_B.1!CL29),ISNUMBER(Table_B.2!CL29)),SUM(Table_B.1!CL29,Table_B.2!CL29),\":\")","v":0},null,{"$f":"IF(AND(ISNUMBER(Table_B.1!CN29),ISNUMBER(Table_B.2!CN29)),SUM(Table_B.1!CN29,Table_B.2!CN29),\":\")","v":0},null,{"$f":"IF(AND(ISNUMBER(Table_B.1!CP29),ISNUMBER(Table_B.2!CP29)),SUM(Table_B.1!CP29,Table_B.2!CP29),\":\")","v":0},null,{"$f":"IF(AND(ISNUMBER(Table_B.1!CR29),ISNUMBER(Table_B.2!CR29)),SUM(Table_B.1!CR29,Table_B.2!CR29),\":\")","v":0},null,{"$f":"IF(AND(ISNUMBER(Table_B.1!CT29),ISNUMBER(Table_B.2!CT29)),SUM(Table_B.1!CT29,Table_B.2!CT29),\":\")","v":0},null,{"$f":"IF(AND(ISNUMBER(Table_B.1!CV29),ISNUMBER(Table_B.2!CV29)),SUM(Table_B.1!CV29,Table_B.2!CV29),\":\")","v":0},null,{"$f":"IF(AND(ISNUMBER(Table_B.1!CX29),ISNUMBER(Table_B.2!CX29)),SUM(Table_B.1!CX29,Table_B.2!CX29),\":\")","v":0},null,{"$f":"IF(AND(ISNUMBER(Table_B.1!CZ29),ISNUMBER(Table_B.2!CZ29)),SUM(Table_B.1!CZ29,Table_B.2!CZ29),\":\")","v":0},null,{"$f":"IF(AND(ISNUMBER(Table_B.1!DB29),ISNUMBER(Table_B.2!DB29)),SUM(Table_B.1!DB29,Table_B.2!DB29),\":\")","v":0},null,{"$f":"IF(AND(ISNUMBER(Table_B.1!DD29),ISNUMBER(Table_B.2!DD29)),SUM(Table_B.1!DD29,Table_B.2!DD29),\":\")","v":0},null,{"$f":"IF(AND(ISNUMBER(Table_B.1!DF29),ISNUMBER(Table_B.2!DF29)),SUM(Table_B.1!DF29,Table_B.2!DF29),\":\")","v":0},null,{"$f":"IF(AND(ISNUMBER(Table_B.1!DH29),ISNUMBER(Table_B.2!DH29)),SUM(Table_B.1!DH29,Table_B.2!DH29),\":\")","v":0},null,{"$f":"IF(AND(ISNUMBER(Table_B.1!DJ29),ISNUMBER(Table_B.2!DJ29)),SUM(Table_B.1!DJ29,Table_B.2!DJ29),\":\")","v":0},null,{"$f":"IF(AND(ISNUMBER(Table_B.1!DL29),ISNUMBER(Table_B.2!DL29)),SUM(Table_B.1!DL29,Table_B.2!DL29),\":\")","v":0},null,{"$f":"IF(AND(ISNUMBER(Table_B.1!DN29),ISNUMBER(Table_B.2!DN29)),SUM(Table_B.1!DN29,Table_B.2!DN29),\":\")","v":0},null,{"$f":"IF(AND(ISNUMBER(Table_B.1!DP29),ISNUMBER(Table_B.2!DP29)),SUM(Table_B.1!DP29,Table_B.2!DP29),\":\")","v":0},null,{"$f":"IF(AND(ISNUMBER(Table_B.1!DR29),ISNUMBER(Table_B.2!DR29)),SUM(Table_B.1!DR29,Table_B.2!DR29),\":\")","v":0},null,{"$f":"IF(AND(ISNUMBER(Table_B.1!DT29),ISNUMBER(Table_B.2!DT29)),SUM(Table_B.1!DT29,Table_B.2!DT29),\":\")","v":0},null,{"$f":"IF(AND(ISNUMBER(Table_B.1!DV29),ISNUMBER(Table_B.2!DV29)),SUM(Table_B.1!DV29,Table_B.2!DV29),\":\")","v":0},null,{"$f":"IF(AND(ISNUMBER(Table_B.1!DX29),ISNUMBER(Table_B.2!DX29)),SUM(Table_B.1!DX29,Table_B.2!DX29),\":\")","v":0},null,{"$f":"IF(AND(ISNUMBER(Table_B.1!DZ29),ISNUMBER(Table_B.2!DZ29)),SUM(Table_B.1!DZ29,Table_B.2!DZ29),\":\")","v":0},null,{"$f":"IF(AND(ISNUMBER(Table_B.1!EB29),ISNUMBER(Table_B.2!EB29)),SUM(Table_B.1!EB29,Table_B.2!EB29),\":\")","v":0},null,{"$f":"IF(AND(ISNUMBER(Table_B.1!ED29),ISNUMBER(Table_B.2!ED29)),SUM(Table_B.1!ED29,Table_B.2!ED29),\":\")","v":0},null,{"$f":"IF(AND(ISNUMBER(Table_B.1!EF29),ISNUMBER(Table_B.2!EF29)),SUM(Table_B.1!EF29,Table_B.2!EF29),\":\")","v":0},null,{"$f":"IF(AND(ISNUMBER(Table_B.1!EH29),ISNUMBER(Table_B.2!EH29)),SUM(Table_B.1!EH29,Table_B.2!EH29),\":\")","v":0},null,{"$f":"IF(AND(ISNUMBER(Table_B.1!EJ29),ISNUMBER(Table_B.2!EJ29)),SUM(Table_B.1!EJ29,Table_B.2!EJ29),\":\")","v":0},null,{"$f":"IF(AND(ISNUMBER(Table_B.1!EL29),ISNUMBER(Table_B.2!EL29)),SUM(Table_B.1!EL29,Table_B.2!EL29),\":\")","v":0},null,{"$f":"IF(AND(ISNUMBER(Table_B.1!EN29),ISNUMBER(Table_B.2!EN29)),SUM(Table_B.1!EN29,Table_B.2!EN29),\":\")","v":0},null,{"$f":"IF(AND(ISNUMBER(Table_B.1!EP29),ISNUMBER(Table_B.2!EP29)),SUM(Table_B.1!EP29,Table_B.2!EP29),\":\")","v":0},null,{"$f":"IF(AND(ISNUMBER(Table_B.1!ER29),ISNUMBER(Table_B.2!ER29)),SUM(Table_B.1!ER29,Table_B.2!ER29),\":\")","v":0},null,{"$f":"IF(AND(ISNUMBER(Table_B.1!ET29),ISNUMBER(Table_B.2!ET29)),SUM(Table_B.1!ET29,Table_B.2!ET29),\":\")","v":0},null,{"$f":"IF(AND(ISNUMBER(Table_B.1!EV29),ISNUMBER(Table_B.2!EV29)),SUM(Table_B.1!EV29,Table_B.2!EV29),\":\")","v":0},null,{"$f":"IF(AND(ISNUMBER(Table_B.1!EX29),ISNUMBER(Table_B.2!EX29)),SUM(Table_B.1!EX29,Table_B.2!EX29),\":\")","v":0},null,{"$f":"IF(AND(ISNUMBER(Table_B.1!EZ29),ISNUMBER(Table_B.2!EZ29)),SUM(Table_B.1!EZ29,Table_B.2!EZ29),\":\")","v":0},null,{"$f":"IF(AND(ISNUMBER(Table_B.1!FB29),ISNUMBER(Table_B.2!FB29)),SUM(Table_B.1!FB29,Table_B.2!FB29),\":\")","v":0},null,{"$f":"IF(AND(ISNUMBER(Table_B.1!FD29),ISNUMBER(Table_B.2!FD29)),SUM(Table_B.1!FD29,Table_B.2!FD29),\":\")","v":0},null,{"$f":"IF(AND(ISNUMBER(Table_B.1!FF29),ISNUMBER(Table_B.2!FF29)),SUM(Table_B.1!FF29,Table_B.2!FF29),\":\")","v":0},null,{"$f":"SUM(Table_B.1!FH29,Table_B.2!FH29)","v":0},null,{"$f":"IF(OR(ISNUMBER(Table_B.1!FJ29),ISNUMBER(Table_B.2!FJ29)),SUM(Table_B.1!FJ29,Table_B.2!FJ29),\":\")","v":0},null,{"$f":"IF(OR(ISNUMBER(Table_B.1!FL29),ISNUMBER(Table_B.2!FL29)),SUM(Table_B.1!FL29,Table_B.2!FL29),\":\")","v":0},null,{"$f":"IF(OR(ISNUMBER(Table_B.1!FN29),ISNUMBER(Table_B.2!FN29)),SUM(Table_B.1!FN29,Table_B.2!FN29),\":\")","v":0},null,{"$f":"IF(OR(ISNUMBER(Table_B.1!FP29),ISNUMBER(Table_B.2!FP29)),SUM(Table_B.1!FP29,Table_B.2!FP29),\":\")","v":0},null,{"$f":"IF(OR(ISNUMBER(Table_B.1!FR29),ISNUMBER(Table_B.2!FR29)),SUM(Table_B.1!FR29,Table_B.2!FR29),\":\")","v":0},null,{"$f":"IF(OR(ISNUMBER(Table_B.1!FT29),ISNUMBER(Table_B.2!FT29)),SUM(Table_B.1!FT29,Table_B.2!FT29),\":\")","v":0},null,null,null,0,null,""]
[null,22,2,{"$f":"'PEFA rows'!C24","v":"P20"},{"$f":"'PEFA rows'!D24","v":"Refinery gas, ethane and LPG"},null,null,0,null,{"$f":"IF(AND(ISNUMBER(Table_B.1!J30),ISNUMBER(Table_B.2!J30)),SUM(Table_B.1!J30,Table_B.2!J30),\":\")","v":0},null,{"$f":"IF(AND(ISNUMBER(Table_B.1!L30),ISNUMBER(Table_B.2!L30)),SUM(Table_B.1!L30,Table_B.2!L30),\":\")","v":0},null,{"$f":"IF(AND(ISNUMBER(Table_B.1!N30),ISNUMBER(Table_B.2!N30)),SUM(Table_B.1!N30,Table_B.2!N30),\":\")","v":0},null,{"$f":"IF(AND(ISNUMBER(Table_B.1!P30),ISNUMBER(Table_B.2!P30)),SUM(Table_B.1!P30,Table_B.2!P30),\":\")","v":0},null,{"$f":"IF(AND(ISNUMBER(Table_B.1!R30),ISNUMBER(Table_B.2!R30)),SUM(Table_B.1!R30,Table_B.2!R30),\":\")","v":0},null,{"$f":"IF(AND(ISNUMBER(Table_B.1!T30),ISNUMBER(Table_B.2!T30)),SUM(Table_B.1!T30,Table_B.2!T30),\":\")","v":0},null,{"$f":"IF(AND(ISNUMBER(Table_B.1!V30),ISNUMBER(Table_B.2!V30)),SUM(Table_B.1!V30,Table_B.2!V30),\":\")","v":0},null,{"$f":"IF(AND(ISNUMBER(Table_B.1!X30),ISNUMBER(Table_B.2!X30)),SUM(Table_B.1!X30,Table_B.2!X30),\":\")","v":0},null,{"$f":"IF(AND(ISNUMBER(Table_B.1!Z30),ISNUMBER(Table_B.2!Z30)),SUM(Table_B.1!Z30,Table_B.2!Z30),\":\")","v":0},null,{"$f":"IF(AND(ISNUMBER(Table_B.1!AB30),ISNUMBER(Table_B.2!AB30)),SUM(Table_B.1!AB30,Table_B.2!AB30),\":\")","v":0},null,{"$f":"IF(AND(ISNUMBER(Table_B.1!AD30),ISNUMBER(Table_B.2!AD30)),SUM(Table_B.1!AD30,Table_B.2!AD30),\":\")","v":0},null,{"$f":"IF(AND(ISNUMBER(Table_B.1!AF30),ISNUMBER(Table_B.2!AF30)),SUM(Table_B.1!AF30,Table_B.2!AF30),\":\")","v":0},null,{"$f":"IF(AND(ISNUMBER(Table_B.1!AH30),ISNUMBER(Table_B.2!AH30)),SUM(Table_B.1!AH30,Table_B.2!AH30),\":\")","v":0},null,{"$f":"IF(AND(ISNUMBER(Table_B.1!AJ30),ISNUMBER(Table_B.2!AJ30)),SUM(Table_B.1!AJ30,Table_B.2!AJ30),\":\")","v":0},null,{"$f":"IF(AND(ISNUMBER(Table_B.1!AL30),ISNUMBER(Table_B.2!AL30)),SUM(Table_B.1!AL30,Table_B.2!AL30),\":\")","v":0},null,{"$f":"IF(AND(ISNUMBER(Table_B.1!AN30),ISNUMBER(Table_B.2!AN30)),SUM(Table_B.1!AN30,Table_B.2!AN30),\":\")","v":0},null,{"$f":"IF(AND(ISNUMBER(Table_B.1!AP30),ISNUMBER(Table_B.2!AP30)),SUM(Table_B.1!AP30,Table_B.2!AP30),\":\")","v":0},null,{"$f":"IF(AND(ISNUMBER(Table_B.1!AR30),ISNUMBER(Table_B.2!AR30)),SUM(Table_B.1!AR30,Table_B.2!AR30),\":\")","v":0},null,{"$f":"IF(AND(ISNUMBER(Table_B.1!AT30),ISNUMBER(Table_B.2!AT30)),SUM(Table_B.1!AT30,Table_B.2!AT30),\":\")","v":0},null,{"$f":"IF(AND(ISNUMBER(Table_B.1!AV30),ISNUMBER(Table_B.2!AV30)),SUM(Table_B.1!AV30,Table_B.2!AV30),\":\")","v":0},null,{"$f":"IF(AND(ISNUMBER(Table_B.1!AX30),ISNUMBER(Table_B.2!AX30)),SUM(Table_B.1!AX30,Table_B.2!AX30),\":\")","v":0},null,{"$f":"IF(AND(ISNUMBER(Table_B.1!AZ30),ISNUMBER(Table_B.2!AZ30)),SUM(Table_B.1!AZ30,Table_B.2!AZ30),\":\")","v":0},null,{"$f":"IF(AND(ISNUMBER(Table_B.1!BB30),ISNUMBER(Table_B.2!BB30)),SUM(Table_B.1!BB30,Table_B.2!BB30),\":\")","v":0},null,{"$f":"IF(AND(ISNUMBER(Table_B.1!BD30),ISNUMBER(Table_B.2!BD30)),SUM(Table_B.1!BD30,Table_B.2!BD30),\":\")","v":0},null,{"$f":"IF(AND(ISNUMBER(Table_B.1!BF30),ISNUMBER(Table_B.2!BF30)),SUM(Table_B.1!BF30,Table_B.2!BF30),\":\")","v":0},null,{"$f":"IF(AND(ISNUMBER(Table_B.1!BH30),ISNUMBER(Table_B.2!BH30)),SUM(Table_B.1!BH30,Table_B.2!BH30),\":\")","v":0},null,{"$f":"IF(AND(ISNUMBER(Table_B.1!BJ30),ISNUMBER(Table_B.2!BJ30)),SUM(Table_B.1!BJ30,Table_B.2!BJ30),\":\")","v":0},null,{"$f":"IF(AND(ISNUMBER(Table_B.1!BL30),ISNUMBER(Table_B.2!BL30)),SUM(Table_B.1!BL30,Table_B.2!BL30),\":\")","v":0},null,{"$f":"IF(AND(ISNUMBER(Table_B.1!BN30),ISNUMBER(Table_B.2!BN30)),SUM(Table_B.1!BN30,Table_B.2!BN30),\":\")","v":0},null,{"$f":"IF(AND(ISNUMBER(Table_B.1!BP30),ISNUMBER(Table_B.2!BP30)),SUM(Table_B.1!BP30,Table_B.2!BP30),\":\")","v":0},null,{"$f":"IF(AND(ISNUMBER(Table_B.1!BR30),ISNUMBER(Table_B.2!BR30)),SUM(Table_B.1!BR30,Table_B.2!BR30),\":\")","v":0},null,{"$f":"IF(AND(ISNUMBER(Table_B.1!BT30),ISNUMBER(Table_B.2!BT30)),SUM(Table_B.1!BT30,Table_B.2!BT30),\":\")","v":0},null,{"$f":"IF(AND(ISNUMBER(Table_B.1!BV30),ISNUMBER(Table_B.2!BV30)),SUM(Table_B.1!BV30,Table_B.2!BV30),\":\")","v":0},null,{"$f":"IF(AND(ISNUMBER(Table_B.1!BX30),ISNUMBER(Table_B.2!BX30)),SUM(Table_B.1!BX30,Table_B.2!BX30),\":\")","v":0},null,{"$f":"IF(AND(ISNUMBER(Table_B.1!BZ30),ISNUMBER(Table_B.2!BZ30)),SUM(Table_B.1!BZ30,Table_B.2!BZ30),\":\")","v":0},null,{"$f":"IF(AND(ISNUMBER(Table_B.1!CB30),ISNUMBER(Table_B.2!CB30)),SUM(Table_B.1!CB30,Table_B.2!CB30),\":\")","v":0},null,{"$f":"IF(AND(ISNUMBER(Table_B.1!CD30),ISNUMBER(Table_B.2!CD30)),SUM(Table_B.1!CD30,Table_B.2!CD30),\":\")","v":0},null,{"$f":"IF(AND(ISNUMBER(Table_B.1!CF30),ISNUMBER(Table_B.2!CF30)),SUM(Table_B.1!CF30,Table_B.2!CF30),\":\")","v":0},null,{"$f":"IF(AND(ISNUMBER(Table_B.1!CH30),ISNUMBER(Table_B.2!CH30)),SUM(Table_B.1!CH30,Table_B.2!CH30),\":\")","v":0},null,{"$f":"IF(AND(ISNUMBER(Table_B.1!CJ30),ISNUMBER(Table_B.2!CJ30)),SUM(Table_B.1!CJ30,Table_B.2!CJ30),\":\")","v":0},null,{"$f":"IF(AND(ISNUMBER(Table_B.1!CL30),ISNUMBER(Table_B.2!CL30)),SUM(Table_B.1!CL30,Table_B.2!CL30),\":\")","v":0},null,{"$f":"IF(AND(ISNUMBER(Table_B.1!CN30),ISNUMBER(Table_B.2!CN30)),SUM(Table_B.1!CN30,Table_B.2!CN30),\":\")","v":0},null,{"$f":"IF(AND(ISNUMBER(Table_B.1!CP30),ISNUMBER(Table_B.2!CP30)),SUM(Table_B.1!CP30,Table_B.2!CP30),\":\")","v":0},null,{"$f":"IF(AND(ISNUMBER(Table_B.1!CR30),ISNUMBER(Table_B.2!CR30)),SUM(Table_B.1!CR30,Table_B.2!CR30),\":\")","v":0},null,{"$f":"IF(AND(ISNUMBER(Table_B.1!CT30),ISNUMBER(Table_B.2!CT30)),SUM(Table_B.1!CT30,Table_B.2!CT30),\":\")","v":0},null,{"$f":"IF(AND(ISNUMBER(Table_B.1!CV30),ISNUMBER(Table_B.2!CV30)),SUM(Table_B.1!CV30,Table_B.2!CV30),\":\")","v":0},null,{"$f":"IF(AND(ISNUMBER(Table_B.1!CX30),ISNUMBER(Table_B.2!CX30)),SUM(Table_B.1!CX30,Table_B.2!CX30),\":\")","v":0},null,{"$f":"IF(AND(ISNUMBER(Table_B.1!CZ30),ISNUMBER(Table_B.2!CZ30)),SUM(Table_B.1!CZ30,Table_B.2!CZ30),\":\")","v":0},null,{"$f":"IF(AND(ISNUMBER(Table_B.1!DB30),ISNUMBER(Table_B.2!DB30)),SUM(Table_B.1!DB30,Table_B.2!DB30),\":\")","v":0},null,{"$f":"IF(AND(ISNUMBER(Table_B.1!DD30),ISNUMBER(Table_B.2!DD30)),SUM(Table_B.1!DD30,Table_B.2!DD30),\":\")","v":0},null,{"$f":"IF(AND(ISNUMBER(Table_B.1!DF30),ISNUMBER(Table_B.2!DF30)),SUM(Table_B.1!DF30,Table_B.2!DF30),\":\")","v":0},null,{"$f":"IF(AND(ISNUMBER(Table_B.1!DH30),ISNUMBER(Table_B.2!DH30)),SUM(Table_B.1!DH30,Table_B.2!DH30),\":\")","v":0},null,{"$f":"IF(AND(ISNUMBER(Table_B.1!DJ30),ISNUMBER(Table_B.2!DJ30)),SUM(Table_B.1!DJ30,Table_B.2!DJ30),\":\")","v":0},null,{"$f":"IF(AND(ISNUMBER(Table_B.1!DL30),ISNUMBER(Table_B.2!DL30)),SUM(Table_B.1!DL30,Table_B.2!DL30),\":\")","v":0},null,{"$f":"IF(AND(ISNUMBER(Table_B.1!DN30),ISNUMBER(Table_B.2!DN30)),SUM(Table_B.1!DN30,Table_B.2!DN30),\":\")","v":0},null,{"$f":"IF(AND(ISNUMBER(Table_B.1!DP30),ISNUMBER(Table_B.2!DP30)),SUM(Table_B.1!DP30,Table_B.2!DP30),\":\")","v":0},null,{"$f":"IF(AND(ISNUMBER(Table_B.1!DR30),ISNUMBER(Table_B.2!DR30)),SUM(Table_B.1!DR30,Table_B.2!DR30),\":\")","v":0},null,{"$f":"IF(AND(ISNUMBER(Table_B.1!DT30),ISNUMBER(Table_B.2!DT30)),SUM(Table_B.1!DT30,Table_B.2!DT30),\":\")","v":0},null,{"$f":"IF(AND(ISNUMBER(Table_B.1!DV30),ISNUMBER(Table_B.2!DV30)),SUM(Table_B.1!DV30,Table_B.2!DV30),\":\")","v":0},null,{"$f":"IF(AND(ISNUMBER(Table_B.1!DX30),ISNUMBER(Table_B.2!DX30)),SUM(Table_B.1!DX30,Table_B.2!DX30),\":\")","v":0},null,{"$f":"IF(AND(ISNUMBER(Table_B.1!DZ30),ISNUMBER(Table_B.2!DZ30)),SUM(Table_B.1!DZ30,Table_B.2!DZ30),\":\")","v":0},null,{"$f":"IF(AND(ISNUMBER(Table_B.1!EB30),ISNUMBER(Table_B.2!EB30)),SUM(Table_B.1!EB30,Table_B.2!EB30),\":\")","v":0},null,{"$f":"IF(AND(ISNUMBER(Table_B.1!ED30),ISNUMBER(Table_B.2!ED30)),SUM(Table_B.1!ED30,Table_B.2!ED30),\":\")","v":0},null,{"$f":"IF(AND(ISNUMBER(Table_B.1!EF30),ISNUMBER(Table_B.2!EF30)),SUM(Table_B.1!EF30,Table_B.2!EF30),\":\")","v":0},null,{"$f":"IF(AND(ISNUMBER(Table_B.1!EH30),ISNUMBER(Table_B.2!EH30)),SUM(Table_B.1!EH30,Table_B.2!EH30),\":\")","v":0},null,{"$f":"IF(AND(ISNUMBER(Table_B.1!EJ30),ISNUMBER(Table_B.2!EJ30)),SUM(Table_B.1!EJ30,Table_B.2!EJ30),\":\")","v":0},null,{"$f":"IF(AND(ISNUMBER(Table_B.1!EL30),ISNUMBER(Table_B.2!EL30)),SUM(Table_B.1!EL30,Table_B.2!EL30),\":\")","v":0},null,{"$f":"IF(AND(ISNUMBER(Table_B.1!EN30),ISNUMBER(Table_B.2!EN30)),SUM(Table_B.1!EN30,Table_B.2!EN30),\":\")","v":0},null,{"$f":"IF(AND(ISNUMBER(Table_B.1!EP30),ISNUMBER(Table_B.2!EP30)),SUM(Table_B.1!EP30,Table_B.2!EP30),\":\")","v":0},null,{"$f":"IF(AND(ISNUMBER(Table_B.1!ER30),ISNUMBER(Table_B.2!ER30)),SUM(Table_B.1!ER30,Table_B.2!ER30),\":\")","v":0},null,{"$f":"IF(AND(ISNUMBER(Table_B.1!ET30),ISNUMBER(Table_B.2!ET30)),SUM(Table_B.1!ET30,Table_B.2!ET30),\":\")","v":0},null,{"$f":"IF(AND(ISNUMBER(Table_B.1!EV30),ISNUMBER(Table_B.2!EV30)),SUM(Table_B.1!EV30,Table_B.2!EV30),\":\")","v":0},null,{"$f":"IF(AND(ISNUMBER(Table_B.1!EX30),ISNUMBER(Table_B.2!EX30)),SUM(Table_B.1!EX30,Table_B.2!EX30),\":\")","v":0},null,{"$f":"IF(AND(ISNUMBER(Table_B.1!EZ30),ISNUMBER(Table_B.2!EZ30)),SUM(Table_B.1!EZ30,Table_B.2!EZ30),\":\")","v":0},null,{"$f":"IF(AND(ISNUMBER(Table_B.1!FB30),ISNUMBER(Table_B.2!FB30)),SUM(Table_B.1!FB30,Table_B.2!FB30),\":\")","v":0},null,{"$f":"IF(AND(ISNUMBER(Table_B.1!FD30),ISNUMBER(Table_B.2!FD30)),SUM(Table_B.1!FD30,Table_B.2!FD30),\":\")","v":0},null,{"$f":"IF(AND(ISNUMBER(Table_B.1!FF30),ISNUMBER(Table_B.2!FF30)),SUM(Table_B.1!FF30,Table_B.2!FF30),\":\")","v":0},null,{"$f":"SUM(Table_B.1!FH30,Table_B.2!FH30)","v":0},null,{"$f":"IF(OR(ISNUMBER(Table_B.1!FJ30),ISNUMBER(Table_B.2!FJ30)),SUM(Table_B.1!FJ30,Table_B.2!FJ30),\":\")","v":0},null,{"$f":"IF(OR(ISNUMBER(Table_B.1!FL30),ISNUMBER(Table_B.2!FL30)),SUM(Table_B.1!FL30,Table_B.2!FL30),\":\")","v":0},null,{"$f":"IF(OR(ISNUMBER(Table_B.1!FN30),ISNUMBER(Table_B.2!FN30)),SUM(Table_B.1!FN30,Table_B.2!FN30),\":\")","v":0},null,{"$f":"IF(OR(ISNUMBER(Table_B.1!FP30),ISNUMBER(Table_B.2!FP30)),SUM(Table_B.1!FP30,Table_B.2!FP30),\":\")","v":0},null,{"$f":"IF(OR(ISNUMBER(Table_B.1!FR30),ISNUMBER(Table_B.2!FR30)),SUM(Table_B.1!FR30,Table_B.2!FR30),\":\")","v":0},null,{"$f":"IF(OR(ISNUMBER(Table_B.1!FT30),ISNUMBER(Table_B.2!FT30)),SUM(Table_B.1!FT30,Table_B.2!FT30),\":\")","v":0},null,null,null,0,null,""]
[null,23,2,{"$f":"'PEFA rows'!C25","v":"P21"},{"$f":"'PEFA rows'!D25","v":"Other petroleum products incl. additives/oxygenates and refinery feedstocks"},null,null,0,null,{"$f":"IF(AND(ISNUMBER(Table_B.1!J31),ISNUMBER(Table_B.2!J31)),SUM(Table_B.1!J31,Table_B.2!J31),\":\")","v":0},null,{"$f":"IF(AND(ISNUMBER(Table_B.1!L31),ISNUMBER(Table_B.2!L31)),SUM(Table_B.1!L31,Table_B.2!L31),\":\")","v":0},null,{"$f":"IF(AND(ISNUMBER(Table_B.1!N31),ISNUMBER(Table_B.2!N31)),SUM(Table_B.1!N31,Table_B.2!N31),\":\")","v":0},null,{"$f":"IF(AND(ISNUMBER(Table_B.1!P31),ISNUMBER(Table_B.2!P31)),SUM(Table_B.1!P31,Table_B.2!P31),\":\")","v":0},null,{"$f":"IF(AND(ISNUMBER(Table_B.1!R31),ISNUMBER(Table_B.2!R31)),SUM(Table_B.1!R31,Table_B.2!R31),\":\")","v":0},null,{"$f":"IF(AND(ISNUMBER(Table_B.1!T31),ISNUMBER(Table_B.2!T31)),SUM(Table_B.1!T31,Table_B.2!T31),\":\")","v":0},null,{"$f":"IF(AND(ISNUMBER(Table_B.1!V31),ISNUMBER(Table_B.2!V31)),SUM(Table_B.1!V31,Table_B.2!V31),\":\")","v":0},null,{"$f":"IF(AND(ISNUMBER(Table_B.1!X31),ISNUMBER(Table_B.2!X31)),SUM(Table_B.1!X31,Table_B.2!X31),\":\")","v":0},null,{"$f":"IF(AND(ISNUMBER(Table_B.1!Z31),ISNUMBER(Table_B.2!Z31)),SUM(Table_B.1!Z31,Table_B.2!Z31),\":\")","v":0},null,{"$f":"IF(AND(ISNUMBER(Table_B.1!AB31),ISNUMBER(Table_B.2!AB31)),SUM(Table_B.1!AB31,Table_B.2!AB31),\":\")","v":0},null,{"$f":"IF(AND(ISNUMBER(Table_B.1!AD31),ISNUMBER(Table_B.2!AD31)),SUM(Table_B.1!AD31,Table_B.2!AD31),\":\")","v":0},null,{"$f":"IF(AND(ISNUMBER(Table_B.1!AF31),ISNUMBER(Table_B.2!AF31)),SUM(Table_B.1!AF31,Table_B.2!AF31),\":\")","v":0},null,{"$f":"IF(AND(ISNUMBER(Table_B.1!AH31),ISNUMBER(Table_B.2!AH31)),SUM(Table_B.1!AH31,Table_B.2!AH31),\":\")","v":0},null,{"$f":"IF(AND(ISNUMBER(Table_B.1!AJ31),ISNUMBER(Table_B.2!AJ31)),SUM(Table_B.1!AJ31,Table_B.2!AJ31),\":\")","v":0},null,{"$f":"IF(AND(ISNUMBER(Table_B.1!AL31),ISNUMBER(Table_B.2!AL31)),SUM(Table_B.1!AL31,Table_B.2!AL31),\":\")","v":0},null,{"$f":"IF(AND(ISNUMBER(Table_B.1!AN31),ISNUMBER(Table_B.2!AN31)),SUM(Table_B.1!AN31,Table_B.2!AN31),\":\")","v":0},null,{"$f":"IF(AND(ISNUMBER(Table_B.1!AP31),ISNUMBER(Table_B.2!AP31)),SUM(Table_B.1!AP31,Table_B.2!AP31),\":\")","v":0},null,{"$f":"IF(AND(ISNUMBER(Table_B.1!AR31),ISNUMBER(Table_B.2!AR31)),SUM(Table_B.1!AR31,Table_B.2!AR31),\":\")","v":0},null,{"$f":"IF(AND(ISNUMBER(Table_B.1!AT31),ISNUMBER(Table_B.2!AT31)),SUM(Table_B.1!AT31,Table_B.2!AT31),\":\")","v":0},null,{"$f":"IF(AND(ISNUMBER(Table_B.1!AV31),ISNUMBER(Table_B.2!AV31)),SUM(Table_B.1!AV31,Table_B.2!AV31),\":\")","v":0},null,{"$f":"IF(AND(ISNUMBER(Table_B.1!AX31),ISNUMBER(Table_B.2!AX31)),SUM(Table_B.1!AX31,Table_B.2!AX31),\":\")","v":0},null,{"$f":"IF(AND(ISNUMBER(Table_B.1!AZ31),ISNUMBER(Table_B.2!AZ31)),SUM(Table_B.1!AZ31,Table_B.2!AZ31),\":\")","v":0},null,{"$f":"IF(AND(ISNUMBER(Table_B.1!BB31),ISNUMBER(Table_B.2!BB31)),SUM(Table_B.1!BB31,Table_B.2!BB31),\":\")","v":0},null,{"$f":"IF(AND(ISNUMBER(Table_B.1!BD31),ISNUMBER(Table_B.2!BD31)),SUM(Table_B.1!BD31,Table_B.2!BD31),\":\")","v":0},null,{"$f":"IF(AND(ISNUMBER(Table_B.1!BF31),ISNUMBER(Table_B.2!BF31)),SUM(Table_B.1!BF31,Table_B.2!BF31),\":\")","v":0},null,{"$f":"IF(AND(ISNUMBER(Table_B.1!BH31),ISNUMBER(Table_B.2!BH31)),SUM(Table_B.1!BH31,Table_B.2!BH31),\":\")","v":0},null,{"$f":"IF(AND(ISNUMBER(Table_B.1!BJ31),ISNUMBER(Table_B.2!BJ31)),SUM(Table_B.1!BJ31,Table_B.2!BJ31),\":\")","v":0},null,{"$f":"IF(AND(ISNUMBER(Table_B.1!BL31),ISNUMBER(Table_B.2!BL31)),SUM(Table_B.1!BL31,Table_B.2!BL31),\":\")","v":0},null,{"$f":"IF(AND(ISNUMBER(Table_B.1!BN31),ISNUMBER(Table_B.2!BN31)),SUM(Table_B.1!BN31,Table_B.2!BN31),\":\")","v":0},null,{"$f":"IF(AND(ISNUMBER(Table_B.1!BP31),ISNUMBER(Table_B.2!BP31)),SUM(Table_B.1!BP31,Table_B.2!BP31),\":\")","v":0},null,{"$f":"IF(AND(ISNUMBER(Table_B.1!BR31),ISNUMBER(Table_B.2!BR31)),SUM(Table_B.1!BR31,Table_B.2!BR31),\":\")","v":0},null,{"$f":"IF(AND(ISNUMBER(Table_B.1!BT31),ISNUMBER(Table_B.2!BT31)),SUM(Table_B.1!BT31,Table_B.2!BT31),\":\")","v":0},null,{"$f":"IF(AND(ISNUMBER(Table_B.1!BV31),ISNUMBER(Table_B.2!BV31)),SUM(Table_B.1!BV31,Table_B.2!BV31),\":\")","v":0},null,{"$f":"IF(AND(ISNUMBER(Table_B.1!BX31),ISNUMBER(Table_B.2!BX31)),SUM(Table_B.1!BX31,Table_B.2!BX31),\":\")","v":0},null,{"$f":"IF(AND(ISNUMBER(Table_B.1!BZ31),ISNUMBER(Table_B.2!BZ31)),SUM(Table_B.1!BZ31,Table_B.2!BZ31),\":\")","v":0},null,{"$f":"IF(AND(ISNUMBER(Table_B.1!CB31),ISNUMBER(Table_B.2!CB31)),SUM(Table_B.1!CB31,Table_B.2!CB31),\":\")","v":0},null,{"$f":"IF(AND(ISNUMBER(Table_B.1!CD31),ISNUMBER(Table_B.2!CD31)),SUM(Table_B.1!CD31,Table_B.2!CD31),\":\")","v":0},null,{"$f":"IF(AND(ISNUMBER(Table_B.1!CF31),ISNUMBER(Table_B.2!CF31)),SUM(Table_B.1!CF31,Table_B.2!CF31),\":\")","v":0},null,{"$f":"IF(AND(ISNUMBER(Table_B.1!CH31),ISNUMBER(Table_B.2!CH31)),SUM(Table_B.1!CH31,Table_B.2!CH31),\":\")","v":0},null,{"$f":"IF(AND(ISNUMBER(Table_B.1!CJ31),ISNUMBER(Table_B.2!CJ31)),SUM(Table_B.1!CJ31,Table_B.2!CJ31),\":\")","v":0},null,{"$f":"IF(AND(ISNUMBER(Table_B.1!CL31),ISNUMBER(Table_B.2!CL31)),SUM(Table_B.1!CL31,Table_B.2!CL31),\":\")","v":0},null,{"$f":"IF(AND(ISNUMBER(Table_B.1!CN31),ISNUMBER(Table_B.2!CN31)),SUM(Table_B.1!CN31,Table_B.2!CN31),\":\")","v":0},null,{"$f":"IF(AND(ISNUMBER(Table_B.1!CP31),ISNUMBER(Table_B.2!CP31)),SUM(Table_B.1!CP31,Table_B.2!CP31),\":\")","v":0},null,{"$f":"IF(AND(ISNUMBER(Table_B.1!CR31),ISNUMBER(Table_B.2!CR31)),SUM(Table_B.1!CR31,Table_B.2!CR31),\":\")","v":0},null,{"$f":"IF(AND(ISNUMBER(Table_B.1!CT31),ISNUMBER(Table_B.2!CT31)),SUM(Table_B.1!CT31,Table_B.2!CT31),\":\")","v":0},null,{"$f":"IF(AND(ISNUMBER(Table_B.1!CV31),ISNUMBER(Table_B.2!CV31)),SUM(Table_B.1!CV31,Table_B.2!CV31),\":\")","v":0},null,{"$f":"IF(AND(ISNUMBER(Table_B.1!CX31),ISNUMBER(Table_B.2!CX31)),SUM(Table_B.1!CX31,Table_B.2!CX31),\":\")","v":0},null,{"$f":"IF(AND(ISNUMBER(Table_B.1!CZ31),ISNUMBER(Table_B.2!CZ31)),SUM(Table_B.1!CZ31,Table_B.2!CZ31),\":\")","v":0},null,{"$f":"IF(AND(ISNUMBER(Table_B.1!DB31),ISNUMBER(Table_B.2!DB31)),SUM(Table_B.1!DB31,Table_B.2!DB31),\":\")","v":0},null,{"$f":"IF(AND(ISNUMBER(Table_B.1!DD31),ISNUMBER(Table_B.2!DD31)),SUM(Table_B.1!DD31,Table_B.2!DD31),\":\")","v":0},null,{"$f":"IF(AND(ISNUMBER(Table_B.1!DF31),ISNUMBER(Table_B.2!DF31)),SUM(Table_B.1!DF31,Table_B.2!DF31),\":\")","v":0},null,{"$f":"IF(AND(ISNUMBER(Table_B.1!DH31),ISNUMBER(Table_B.2!DH31)),SUM(Table_B.1!DH31,Table_B.2!DH31),\":\")","v":0},null,{"$f":"IF(AND(ISNUMBER(Table_B.1!DJ31),ISNUMBER(Table_B.2!DJ31)),SUM(Table_B.1!DJ31,Table_B.2!DJ31),\":\")","v":0},null,{"$f":"IF(AND(ISNUMBER(Table_B.1!DL31),ISNUMBER(Table_B.2!DL31)),SUM(Table_B.1!DL31,Table_B.2!DL31),\":\")","v":0},null,{"$f":"IF(AND(ISNUMBER(Table_B.1!DN31),ISNUMBER(Table_B.2!DN31)),SUM(Table_B.1!DN31,Table_B.2!DN31),\":\")","v":0},null,{"$f":"IF(AND(ISNUMBER(Table_B.1!DP31),ISNUMBER(Table_B.2!DP31)),SUM(Table_B.1!DP31,Table_B.2!DP31),\":\")","v":0},null,{"$f":"IF(AND(ISNUMBER(Table_B.1!DR31),ISNUMBER(Table_B.2!DR31)),SUM(Table_B.1!DR31,Table_B.2!DR31),\":\")","v":0},null,{"$f":"IF(AND(ISNUMBER(Table_B.1!DT31),ISNUMBER(Table_B.2!DT31)),SUM(Table_B.1!DT31,Table_B.2!DT31),\":\")","v":0},null,{"$f":"IF(AND(ISNUMBER(Table_B.1!DV31),ISNUMBER(Table_B.2!DV31)),SUM(Table_B.1!DV31,Table_B.2!DV31),\":\")","v":0},null,{"$f":"IF(AND(ISNUMBER(Table_B.1!DX31),ISNUMBER(Table_B.2!DX31)),SUM(Table_B.1!DX31,Table_B.2!DX31),\":\")","v":0},null,{"$f":"IF(AND(ISNUMBER(Table_B.1!DZ31),ISNUMBER(Table_B.2!DZ31)),SUM(Table_B.1!DZ31,Table_B.2!DZ31),\":\")","v":0},null,{"$f":"IF(AND(ISNUMBER(Table_B.1!EB31),ISNUMBER(Table_B.2!EB31)),SUM(Table_B.1!EB31,Table_B.2!EB31),\":\")","v":0},null,{"$f":"IF(AND(ISNUMBER(Table_B.1!ED31),ISNUMBER(Table_B.2!ED31)),SUM(Table_B.1!ED31,Table_B.2!ED31),\":\")","v":0},null,{"$f":"IF(AND(ISNUMBER(Table_B.1!EF31),ISNUMBER(Table_B.2!EF31)),SUM(Table_B.1!EF31,Table_B.2!EF31),\":\")","v":0},null,{"$f":"IF(AND(ISNUMBER(Table_B.1!EH31),ISNUMBER(Table_B.2!EH31)),SUM(Table_B.1!EH31,Table_B.2!EH31),\":\")","v":0},null,{"$f":"IF(AND(ISNUMBER(Table_B.1!EJ31),ISNUMBER(Table_B.2!EJ31)),SUM(Table_B.1!EJ31,Table_B.2!EJ31),\":\")","v":0},null,{"$f":"IF(AND(ISNUMBER(Table_B.1!EL31),ISNUMBER(Table_B.2!EL31)),SUM(Table_B.1!EL31,Table_B.2!EL31),\":\")","v":0},null,{"$f":"IF(AND(ISNUMBER(Table_B.1!EN31),ISNUMBER(Table_B.2!EN31)),SUM(Table_B.1!EN31,Table_B.2!EN31),\":\")","v":0},null,{"$f":"IF(AND(ISNUMBER(Table_B.1!EP31),ISNUMBER(Table_B.2!EP31)),SUM(Table_B.1!EP31,Table_B.2!EP31),\":\")","v":0},null,{"$f":"IF(AND(ISNUMBER(Table_B.1!ER31),ISNUMBER(Table_B.2!ER31)),SUM(Table_B.1!ER31,Table_B.2!ER31),\":\")","v":0},null,{"$f":"IF(AND(ISNUMBER(Table_B.1!ET31),ISNUMBER(Table_B.2!ET31)),SUM(Table_B.1!ET31,Table_B.2!ET31),\":\")","v":0},null,{"$f":"IF(AND(ISNUMBER(Table_B.1!EV31),ISNUMBER(Table_B.2!EV31)),SUM(Table_B.1!EV31,Table_B.2!EV31),\":\")","v":0},null,{"$f":"IF(AND(ISNUMBER(Table_B.1!EX31),ISNUMBER(Table_B.2!EX31)),SUM(Table_B.1!EX31,Table_B.2!EX31),\":\")","v":0},null,{"$f":"IF(AND(ISNUMBER(Table_B.1!EZ31),ISNUMBER(Table_B.2!EZ31)),SUM(Table_B.1!EZ31,Table_B.2!EZ31),\":\")","v":0},null,{"$f":"IF(AND(ISNUMBER(Table_B.1!FB31),ISNUMBER(Table_B.2!FB31)),SUM(Table_B.1!FB31,Table_B.2!FB31),\":\")","v":0},null,{"$f":"IF(AND(ISNUMBER(Table_B.1!FD31),ISNUMBER(Table_B.2!FD31)),SUM(Table_B.1!FD31,Table_B.2!FD31),\":\")","v":0},null,{"$f":"IF(AND(ISNUMBER(Table_B.1!FF31),ISNUMBER(Table_B.2!FF31)),SUM(Table_B.1!FF31,Table_B.2!FF31),\":\")","v":0},null,{"$f":"SUM(Table_B.1!FH31,Table_B.2!FH31)","v":0},null,{"$f":"IF(OR(ISNUMBER(Table_B.1!FJ31),ISNUMBER(Table_B.2!FJ31)),SUM(Table_B.1!FJ31,Table_B.2!FJ31),\":\")","v":0},null,{"$f":"IF(OR(ISNUMBER(Table_B.1!FL31),ISNUMBER(Table_B.2!FL31)),SUM(Table_B.1!FL31,Table_B.2!FL31),\":\")","v":0},null,{"$f":"IF(OR(ISNUMBER(Table_B.1!FN31),ISNUMBER(Table_B.2!FN31)),SUM(Table_B.1!FN31,Table_B.2!FN31),\":\")","v":0},null,{"$f":"IF(OR(ISNUMBER(Table_B.1!FP31),ISNUMBER(Table_B.2!FP31)),SUM(Table_B.1!FP31,Table_B.2!FP31),\":\")","v":0},null,{"$f":"IF(OR(ISNUMBER(Table_B.1!FR31),ISNUMBER(Table_B.2!FR31)),SUM(Table_B.1!FR31,Table_B.2!FR31),\":\")","v":0},null,{"$f":"IF(OR(ISNUMBER(Table_B.1!FT31),ISNUMBER(Table_B.2!FT31)),SUM(Table_B.1!FT31,Table_B.2!FT31),\":\")","v":0},null,null,null,0,null,""]
[null,24,2,{"$f":"'PEFA rows'!C26","v":"P22"},{"$f":"'PEFA rows'!D26","v":"Nuclear fuel"},null,null,0,null,{"$f":"IF(AND(ISNUMBER(Table_B.1!J32),ISNUMBER(Table_B.2!J32)),SUM(Table_B.1!J32,Table_B.2!J32),\":\")","v":0},null,{"$f":"IF(AND(ISNUMBER(Table_B.1!L32),ISNUMBER(Table_B.2!L32)),SUM(Table_B.1!L32,Table_B.2!L32),\":\")","v":0},null,{"$f":"IF(AND(ISNUMBER(Table_B.1!N32),ISNUMBER(Table_B.2!N32)),SUM(Table_B.1!N32,Table_B.2!N32),\":\")","v":0},null,{"$f":"IF(AND(ISNUMBER(Table_B.1!P32),ISNUMBER(Table_B.2!P32)),SUM(Table_B.1!P32,Table_B.2!P32),\":\")","v":0},null,{"$f":"IF(AND(ISNUMBER(Table_B.1!R32),ISNUMBER(Table_B.2!R32)),SUM(Table_B.1!R32,Table_B.2!R32),\":\")","v":0},null,{"$f":"IF(AND(ISNUMBER(Table_B.1!T32),ISNUMBER(Table_B.2!T32)),SUM(Table_B.1!T32,Table_B.2!T32),\":\")","v":0},null,{"$f":"IF(AND(ISNUMBER(Table_B.1!V32),ISNUMBER(Table_B.2!V32)),SUM(Table_B.1!V32,Table_B.2!V32),\":\")","v":0},null,{"$f":"IF(AND(ISNUMBER(Table_B.1!X32),ISNUMBER(Table_B.2!X32)),SUM(Table_B.1!X32,Table_B.2!X32),\":\")","v":0},null,{"$f":"IF(AND(ISNUMBER(Table_B.1!Z32),ISNUMBER(Table_B.2!Z32)),SUM(Table_B.1!Z32,Table_B.2!Z32),\":\")","v":0},null,{"$f":"IF(AND(ISNUMBER(Table_B.1!AB32),ISNUMBER(Table_B.2!AB32)),SUM(Table_B.1!AB32,Table_B.2!AB32),\":\")","v":0},null,{"$f":"IF(AND(ISNUMBER(Table_B.1!AD32),ISNUMBER(Table_B.2!AD32)),SUM(Table_B.1!AD32,Table_B.2!AD32),\":\")","v":0},null,{"$f":"IF(AND(ISNUMBER(Table_B.1!AF32),ISNUMBER(Table_B.2!AF32)),SUM(Table_B.1!AF32,Table_B.2!AF32),\":\")","v":0},null,{"$f":"IF(AND(ISNUMBER(Table_B.1!AH32),ISNUMBER(Table_B.2!AH32)),SUM(Table_B.1!AH32,Table_B.2!AH32),\":\")","v":0},null,{"$f":"IF(AND(ISNUMBER(Table_B.1!AJ32),ISNUMBER(Table_B.2!AJ32)),SUM(Table_B.1!AJ32,Table_B.2!AJ32),\":\")","v":0},null,{"$f":"IF(AND(ISNUMBER(Table_B.1!AL32),ISNUMBER(Table_B.2!AL32)),SUM(Table_B.1!AL32,Table_B.2!AL32),\":\")","v":0},null,{"$f":"IF(AND(ISNUMBER(Table_B.1!AN32),ISNUMBER(Table_B.2!AN32)),SUM(Table_B.1!AN32,Table_B.2!AN32),\":\")","v":0},null,{"$f":"IF(AND(ISNUMBER(Table_B.1!AP32),ISNUMBER(Table_B.2!AP32)),SUM(Table_B.1!AP32,Table_B.2!AP32),\":\")","v":0},null,{"$f":"IF(AND(ISNUMBER(Table_B.1!AR32),ISNUMBER(Table_B.2!AR32)),SUM(Table_B.1!AR32,Table_B.2!AR32),\":\")","v":0},null,{"$f":"IF(AND(ISNUMBER(Table_B.1!AT32),ISNUMBER(Table_B.2!AT32)),SUM(Table_B.1!AT32,Table_B.2!AT32),\":\")","v":0},null,{"$f":"IF(AND(ISNUMBER(Table_B.1!AV32),ISNUMBER(Table_B.2!AV32)),SUM(Table_B.1!AV32,Table_B.2!AV32),\":\")","v":0},null,{"$f":"IF(AND(ISNUMBER(Table_B.1!AX32),ISNUMBER(Table_B.2!AX32)),SUM(Table_B.1!AX32,Table_B.2!AX32),\":\")","v":0},null,{"$f":"IF(AND(ISNUMBER(Table_B.1!AZ32),ISNUMBER(Table_B.2!AZ32)),SUM(Table_B.1!AZ32,Table_B.2!AZ32),\":\")","v":0},null,{"$f":"IF(AND(ISNUMBER(Table_B.1!BB32),ISNUMBER(Table_B.2!BB32)),SUM(Table_B.1!BB32,Table_B.2!BB32),\":\")","v":0},null,{"$f":"IF(AND(ISNUMBER(Table_B.1!BD32),ISNUMBER(Table_B.2!BD32)),SUM(Table_B.1!BD32,Table_B.2!BD32),\":\")","v":0},null,{"$f":"IF(AND(ISNUMBER(Table_B.1!BF32),ISNUMBER(Table_B.2!BF32)),SUM(Table_B.1!BF32,Table_B.2!BF32),\":\")","v":0},null,{"$f":"IF(AND(ISNUMBER(Table_B.1!BH32),ISNUMBER(Table_B.2!BH32)),SUM(Table_B.1!BH32,Table_B.2!BH32),\":\")","v":0},null,{"$f":"IF(AND(ISNUMBER(Table_B.1!BJ32),ISNUMBER(Table_B.2!BJ32)),SUM(Table_B.1!BJ32,Table_B.2!BJ32),\":\")","v":0},null,{"$f":"IF(AND(ISNUMBER(Table_B.1!BL32),ISNUMBER(Table_B.2!BL32)),SUM(Table_B.1!BL32,Table_B.2!BL32),\":\")","v":0},null,{"$f":"IF(AND(ISNUMBER(Table_B.1!BN32),ISNUMBER(Table_B.2!BN32)),SUM(Table_B.1!BN32,Table_B.2!BN32),\":\")","v":0},null,{"$f":"IF(AND(ISNUMBER(Table_B.1!BP32),ISNUMBER(Table_B.2!BP32)),SUM(Table_B.1!BP32,Table_B.2!BP32),\":\")","v":0},null,{"$f":"IF(AND(ISNUMBER(Table_B.1!BR32),ISNUMBER(Table_B.2!BR32)),SUM(Table_B.1!BR32,Table_B.2!BR32),\":\")","v":0},null,{"$f":"IF(AND(ISNUMBER(Table_B.1!BT32),ISNUMBER(Table_B.2!BT32)),SUM(Table_B.1!BT32,Table_B.2!BT32),\":\")","v":0},null,{"$f":"IF(AND(ISNUMBER(Table_B.1!BV32),ISNUMBER(Table_B.2!BV32)),SUM(Table_B.1!BV32,Table_B.2!BV32),\":\")","v":0},null,{"$f":"IF(AND(ISNUMBER(Table_B.1!BX32),ISNUMBER(Table_B.2!BX32)),SUM(Table_B.1!BX32,Table_B.2!BX32),\":\")","v":0},null,{"$f":"IF(AND(ISNUMBER(Table_B.1!BZ32),ISNUMBER(Table_B.2!BZ32)),SUM(Table_B.1!BZ32,Table_B.2!BZ32),\":\")","v":0},null,{"$f":"IF(AND(ISNUMBER(Table_B.1!CB32),ISNUMBER(Table_B.2!CB32)),SUM(Table_B.1!CB32,Table_B.2!CB32),\":\")","v":0},null,{"$f":"IF(AND(ISNUMBER(Table_B.1!CD32),ISNUMBER(Table_B.2!CD32)),SUM(Table_B.1!CD32,Table_B.2!CD32),\":\")","v":0},null,{"$f":"IF(AND(ISNUMBER(Table_B.1!CF32),ISNUMBER(Table_B.2!CF32)),SUM(Table_B.1!CF32,Table_B.2!CF32),\":\")","v":0},null,{"$f":"IF(AND(ISNUMBER(Table_B.1!CH32),ISNUMBER(Table_B.2!CH32)),SUM(Table_B.1!CH32,Table_B.2!CH32),\":\")","v":0},null,{"$f":"IF(AND(ISNUMBER(Table_B.1!CJ32),ISNUMBER(Table_B.2!CJ32)),SUM(Table_B.1!CJ32,Table_B.2!CJ32),\":\")","v":0},null,{"$f":"IF(AND(ISNUMBER(Table_B.1!CL32),ISNUMBER(Table_B.2!CL32)),SUM(Table_B.1!CL32,Table_B.2!CL32),\":\")","v":0},null,{"$f":"IF(AND(ISNUMBER(Table_B.1!CN32),ISNUMBER(Table_B.2!CN32)),SUM(Table_B.1!CN32,Table_B.2!CN32),\":\")","v":0},null,{"$f":"IF(AND(ISNUMBER(Table_B.1!CP32),ISNUMBER(Table_B.2!CP32)),SUM(Table_B.1!CP32,Table_B.2!CP32),\":\")","v":0},null,{"$f":"IF(AND(ISNUMBER(Table_B.1!CR32),ISNUMBER(Table_B.2!CR32)),SUM(Table_B.1!CR32,Table_B.2!CR32),\":\")","v":0},null,{"$f":"IF(AND(ISNUMBER(Table_B.1!CT32),ISNUMBER(Table_B.2!CT32)),SUM(Table_B.1!CT32,Table_B.2!CT32),\":\")","v":0},null,{"$f":"IF(AND(ISNUMBER(Table_B.1!CV32),ISNUMBER(Table_B.2!CV32)),SUM(Table_B.1!CV32,Table_B.2!CV32),\":\")","v":0},null,{"$f":"IF(AND(ISNUMBER(Table_B.1!CX32),ISNUMBER(Table_B.2!CX32)),SUM(Table_B.1!CX32,Table_B.2!CX32),\":\")","v":0},null,{"$f":"IF(AND(ISNUMBER(Table_B.1!CZ32),ISNUMBER(Table_B.2!CZ32)),SUM(Table_B.1!CZ32,Table_B.2!CZ32),\":\")","v":0},null,{"$f":"IF(AND(ISNUMBER(Table_B.1!DB32),ISNUMBER(Table_B.2!DB32)),SUM(Table_B.1!DB32,Table_B.2!DB32),\":\")","v":0},null,{"$f":"IF(AND(ISNUMBER(Table_B.1!DD32),ISNUMBER(Table_B.2!DD32)),SUM(Table_B.1!DD32,Table_B.2!DD32),\":\")","v":0},null,{"$f":"IF(AND(ISNUMBER(Table_B.1!DF32),ISNUMBER(Table_B.2!DF32)),SUM(Table_B.1!DF32,Table_B.2!DF32),\":\")","v":0},null,{"$f":"IF(AND(ISNUMBER(Table_B.1!DH32),ISNUMBER(Table_B.2!DH32)),SUM(Table_B.1!DH32,Table_B.2!DH32),\":\")","v":0},null,{"$f":"IF(AND(ISNUMBER(Table_B.1!DJ32),ISNUMBER(Table_B.2!DJ32)),SUM(Table_B.1!DJ32,Table_B.2!DJ32),\":\")","v":0},null,{"$f":"IF(AND(ISNUMBER(Table_B.1!DL32),ISNUMBER(Table_B.2!DL32)),SUM(Table_B.1!DL32,Table_B.2!DL32),\":\")","v":0},null,{"$f":"IF(AND(ISNUMBER(Table_B.1!DN32),ISNUMBER(Table_B.2!DN32)),SUM(Table_B.1!DN32,Table_B.2!DN32),\":\")","v":0},null,{"$f":"IF(AND(ISNUMBER(Table_B.1!DP32),ISNUMBER(Table_B.2!DP32)),SUM(Table_B.1!DP32,Table_B.2!DP32),\":\")","v":0},null,{"$f":"IF(AND(ISNUMBER(Table_B.1!DR32),ISNUMBER(Table_B.2!DR32)),SUM(Table_B.1!DR32,Table_B.2!DR32),\":\")","v":0},null,{"$f":"IF(AND(ISNUMBER(Table_B.1!DT32),ISNUMBER(Table_B.2!DT32)),SUM(Table_B.1!DT32,Table_B.2!DT32),\":\")","v":0},null,{"$f":"IF(AND(ISNUMBER(Table_B.1!DV32),ISNUMBER(Table_B.2!DV32)),SUM(Table_B.1!DV32,Table_B.2!DV32),\":\")","v":0},null,{"$f":"IF(AND(ISNUMBER(Table_B.1!DX32),ISNUMBER(Table_B.2!DX32)),SUM(Table_B.1!DX32,Table_B.2!DX32),\":\")","v":0},null,{"$f":"IF(AND(ISNUMBER(Table_B.1!DZ32),ISNUMBER(Table_B.2!DZ32)),SUM(Table_B.1!DZ32,Table_B.2!DZ32),\":\")","v":0},null,{"$f":"IF(AND(ISNUMBER(Table_B.1!EB32),ISNUMBER(Table_B.2!EB32)),SUM(Table_B.1!EB32,Table_B.2!EB32),\":\")","v":0},null,{"$f":"IF(AND(ISNUMBER(Table_B.1!ED32),ISNUMBER(Table_B.2!ED32)),SUM(Table_B.1!ED32,Table_B.2!ED32),\":\")","v":0},null,{"$f":"IF(AND(ISNUMBER(Table_B.1!EF32),ISNUMBER(Table_B.2!EF32)),SUM(Table_B.1!EF32,Table_B.2!EF32),\":\")","v":0},null,{"$f":"IF(AND(ISNUMBER(Table_B.1!EH32),ISNUMBER(Table_B.2!EH32)),SUM(Table_B.1!EH32,Table_B.2!EH32),\":\")","v":0},null,{"$f":"IF(AND(ISNUMBER(Table_B.1!EJ32),ISNUMBER(Table_B.2!EJ32)),SUM(Table_B.1!EJ32,Table_B.2!EJ32),\":\")","v":0},null,{"$f":"IF(AND(ISNUMBER(Table_B.1!EL32),ISNUMBER(Table_B.2!EL32)),SUM(Table_B.1!EL32,Table_B.2!EL32),\":\")","v":0},null,{"$f":"IF(AND(ISNUMBER(Table_B.1!EN32),ISNUMBER(Table_B.2!EN32)),SUM(Table_B.1!EN32,Table_B.2!EN32),\":\")","v":0},null,{"$f":"IF(AND(ISNUMBER(Table_B.1!EP32),ISNUMBER(Table_B.2!EP32)),SUM(Table_B.1!EP32,Table_B.2!EP32),\":\")","v":0},null,{"$f":"IF(AND(ISNUMBER(Table_B.1!ER32),ISNUMBER(Table_B.2!ER32)),SUM(Table_B.1!ER32,Table_B.2!ER32),\":\")","v":0},null,{"$f":"IF(AND(ISNUMBER(Table_B.1!ET32),ISNUMBER(Table_B.2!ET32)),SUM(Table_B.1!ET32,Table_B.2!ET32),\":\")","v":0},null,{"$f":"IF(AND(ISNUMBER(Table_B.1!EV32),ISNUMBER(Table_B.2!EV32)),SUM(Table_B.1!EV32,Table_B.2!EV32),\":\")","v":0},null,{"$f":"IF(AND(ISNUMBER(Table_B.1!EX32),ISNUMBER(Table_B.2!EX32)),SUM(Table_B.1!EX32,Table_B.2!EX32),\":\")","v":0},null,{"$f":"IF(AND(ISNUMBER(Table_B.1!EZ32),ISNUMBER(Table_B.2!EZ32)),SUM(Table_B.1!EZ32,Table_B.2!EZ32),\":\")","v":0},null,{"$f":"IF(AND(ISNUMBER(Table_B.1!FB32),ISNUMBER(Table_B.2!FB32)),SUM(Table_B.1!FB32,Table_B.2!FB32),\":\")","v":0},null,{"$f":"IF(AND(ISNUMBER(Table_B.1!FD32),ISNUMBER(Table_B.2!FD32)),SUM(Table_B.1!FD32,Table_B.2!FD32),\":\")","v":0},null,{"$f":"IF(AND(ISNUMBER(Table_B.1!FF32),ISNUMBER(Table_B.2!FF32)),SUM(Table_B.1!FF32,Table_B.2!FF32),\":\")","v":0},null,{"$f":"SUM(Table_B.1!FH32,Table_B.2!FH32)","v":0},null,{"$f":"IF(OR(ISNUMBER(Table_B.1!FJ32),ISNUMBER(Table_B.2!FJ32)),SUM(Table_B.1!FJ32,Table_B.2!FJ32),\":\")","v":0},null,{"$f":"IF(OR(ISNUMBER(Table_B.1!FL32),ISNUMBER(Table_B.2!FL32)),SUM(Table_B.1!FL32,Table_B.2!FL32),\":\")","v":0},null,{"$f":"IF(OR(ISNUMBER(Table_B.1!FN32),ISNUMBER(Table_B.2!FN32)),SUM(Table_B.1!FN32,Table_B.2!FN32),\":\")","v":0},null,{"$f":"IF(OR(ISNUMBER(Table_B.1!FP32),ISNUMBER(Table_B.2!FP32)),SUM(Table_B.1!FP32,Table_B.2!FP32),\":\")","v":0},null,{"$f":"IF(OR(ISNUMBER(Table_B.1!FR32),ISNUMBER(Table_B.2!FR32)),SUM(Table_B.1!FR32,Table_B.2!FR32),\":\")","v":0},null,{"$f":"IF(OR(ISNUMBER(Table_B.1!FT32),ISNUMBER(Table_B.2!FT32)),SUM(Table_B.1!FT32,Table_B.2!FT32),\":\")","v":0},null,null,null,0,null,""]
[null,25,2,{"$f":"'PEFA rows'!C27","v":"P23"},{"$f":"'PEFA rows'!D27","v":"Wood, wood waste and other solid biomass, charcoal"},null,null,0,null,{"$f":"IF(AND(ISNUMBER(Table_B.1!J33),ISNUMBER(Table_B.2!J33)),SUM(Table_B.1!J33,Table_B.2!J33),\":\")","v":0},null,{"$f":"IF(AND(ISNUMBER(Table_B.1!L33),ISNUMBER(Table_B.2!L33)),SUM(Table_B.1!L33,Table_B.2!L33),\":\")","v":0},null,{"$f":"IF(AND(ISNUMBER(Table_B.1!N33),ISNUMBER(Table_B.2!N33)),SUM(Table_B.1!N33,Table_B.2!N33),\":\")","v":0},null,{"$f":"IF(AND(ISNUMBER(Table_B.1!P33),ISNUMBER(Table_B.2!P33)),SUM(Table_B.1!P33,Table_B.2!P33),\":\")","v":0},null,{"$f":"IF(AND(ISNUMBER(Table_B.1!R33),ISNUMBER(Table_B.2!R33)),SUM(Table_B.1!R33,Table_B.2!R33),\":\")","v":0},null,{"$f":"IF(AND(ISNUMBER(Table_B.1!T33),ISNUMBER(Table_B.2!T33)),SUM(Table_B.1!T33,Table_B.2!T33),\":\")","v":0},null,{"$f":"IF(AND(ISNUMBER(Table_B.1!V33),ISNUMBER(Table_B.2!V33)),SUM(Table_B.1!V33,Table_B.2!V33),\":\")","v":0},null,{"$f":"IF(AND(ISNUMBER(Table_B.1!X33),ISNUMBER(Table_B.2!X33)),SUM(Table_B.1!X33,Table_B.2!X33),\":\")","v":0},null,{"$f":"IF(AND(ISNUMBER(Table_B.1!Z33),ISNUMBER(Table_B.2!Z33)),SUM(Table_B.1!Z33,Table_B.2!Z33),\":\")","v":0},null,{"$f":"IF(AND(ISNUMBER(Table_B.1!AB33),ISNUMBER(Table_B.2!AB33)),SUM(Table_B.1!AB33,Table_B.2!AB33),\":\")","v":0},null,{"$f":"IF(AND(ISNUMBER(Table_B.1!AD33),ISNUMBER(Table_B.2!AD33)),SUM(Table_B.1!AD33,Table_B.2!AD33),\":\")","v":0},null,{"$f":"IF(AND(ISNUMBER(Table_B.1!AF33),ISNUMBER(Table_B.2!AF33)),SUM(Table_B.1!AF33,Table_B.2!AF33),\":\")","v":0},null,{"$f":"IF(AND(ISNUMBER(Table_B.1!AH33),ISNUMBER(Table_B.2!AH33)),SUM(Table_B.1!AH33,Table_B.2!AH33),\":\")","v":0},null,{"$f":"IF(AND(ISNUMBER(Table_B.1!AJ33),ISNUMBER(Table_B.2!AJ33)),SUM(Table_B.1!AJ33,Table_B.2!AJ33),\":\")","v":0},null,{"$f":"IF(AND(ISNUMBER(Table_B.1!AL33),ISNUMBER(Table_B.2!AL33)),SUM(Table_B.1!AL33,Table_B.2!AL33),\":\")","v":0},null,{"$f":"IF(AND(ISNUMBER(Table_B.1!AN33),ISNUMBER(Table_B.2!AN33)),SUM(Table_B.1!AN33,Table_B.2!AN33),\":\")","v":0},null,{"$f":"IF(AND(ISNUMBER(Table_B.1!AP33),ISNUMBER(Table_B.2!AP33)),SUM(Table_B.1!AP33,Table_B.2!AP33),\":\")","v":0},null,{"$f":"IF(AND(ISNUMBER(Table_B.1!AR33),ISNUMBER(Table_B.2!AR33)),SUM(Table_B.1!AR33,Table_B.2!AR33),\":\")","v":0},null,{"$f":"IF(AND(ISNUMBER(Table_B.1!AT33),ISNUMBER(Table_B.2!AT33)),SUM(Table_B.1!AT33,Table_B.2!AT33),\":\")","v":0},null,{"$f":"IF(AND(ISNUMBER(Table_B.1!AV33),ISNUMBER(Table_B.2!AV33)),SUM(Table_B.1!AV33,Table_B.2!AV33),\":\")","v":0},null,{"$f":"IF(AND(ISNUMBER(Table_B.1!AX33),ISNUMBER(Table_B.2!AX33)),SUM(Table_B.1!AX33,Table_B.2!AX33),\":\")","v":0},null,{"$f":"IF(AND(ISNUMBER(Table_B.1!AZ33),ISNUMBER(Table_B.2!AZ33)),SUM(Table_B.1!AZ33,Table_B.2!AZ33),\":\")","v":0},null,{"$f":"IF(AND(ISNUMBER(Table_B.1!BB33),ISNUMBER(Table_B.2!BB33)),SUM(Table_B.1!BB33,Table_B.2!BB33),\":\")","v":0},null,{"$f":"IF(AND(ISNUMBER(Table_B.1!BD33),ISNUMBER(Table_B.2!BD33)),SUM(Table_B.1!BD33,Table_B.2!BD33),\":\")","v":0},null,{"$f":"IF(AND(ISNUMBER(Table_B.1!BF33),ISNUMBER(Table_B.2!BF33)),SUM(Table_B.1!BF33,Table_B.2!BF33),\":\")","v":0},null,{"$f":"IF(AND(ISNUMBER(Table_B.1!BH33),ISNUMBER(Table_B.2!BH33)),SUM(Table_B.1!BH33,Table_B.2!BH33),\":\")","v":0},null,{"$f":"IF(AND(ISNUMBER(Table_B.1!BJ33),ISNUMBER(Table_B.2!BJ33)),SUM(Table_B.1!BJ33,Table_B.2!BJ33),\":\")","v":0},null,{"$f":"IF(AND(ISNUMBER(Table_B.1!BL33),ISNUMBER(Table_B.2!BL33)),SUM(Table_B.1!BL33,Table_B.2!BL33),\":\")","v":0},null,{"$f":"IF(AND(ISNUMBER(Table_B.1!BN33),ISNUMBER(Table_B.2!BN33)),SUM(Table_B.1!BN33,Table_B.2!BN33),\":\")","v":0},null,{"$f":"IF(AND(ISNUMBER(Table_B.1!BP33),ISNUMBER(Table_B.2!BP33)),SUM(Table_B.1!BP33,Table_B.2!BP33),\":\")","v":0},null,{"$f":"IF(AND(ISNUMBER(Table_B.1!BR33),ISNUMBER(Table_B.2!BR33)),SUM(Table_B.1!BR33,Table_B.2!BR33),\":\")","v":0},null,{"$f":"IF(AND(ISNUMBER(Table_B.1!BT33),ISNUMBER(Table_B.2!BT33)),SUM(Table_B.1!BT33,Table_B.2!BT33),\":\")","v":0},null,{"$f":"IF(AND(ISNUMBER(Table_B.1!BV33),ISNUMBER(Table_B.2!BV33)),SUM(Table_B.1!BV33,Table_B.2!BV33),\":\")","v":0},null,{"$f":"IF(AND(ISNUMBER(Table_B.1!BX33),ISNUMBER(Table_B.2!BX33)),SUM(Table_B.1!BX33,Table_B.2!BX33),\":\")","v":0},null,{"$f":"IF(AND(ISNUMBER(Table_B.1!BZ33),ISNUMBER(Table_B.2!BZ33)),SUM(Table_B.1!BZ33,Table_B.2!BZ33),\":\")","v":0},null,{"$f":"IF(AND(ISNUMBER(Table_B.1!CB33),ISNUMBER(Table_B.2!CB33)),SUM(Table_B.1!CB33,Table_B.2!CB33),\":\")","v":0},null,{"$f":"IF(AND(ISNUMBER(Table_B.1!CD33),ISNUMBER(Table_B.2!CD33)),SUM(Table_B.1!CD33,Table_B.2!CD33),\":\")","v":0},null,{"$f":"IF(AND(ISNUMBER(Table_B.1!CF33),ISNUMBER(Table_B.2!CF33)),SUM(Table_B.1!CF33,Table_B.2!CF33),\":\")","v":0},null,{"$f":"IF(AND(ISNUMBER(Table_B.1!CH33),ISNUMBER(Table_B.2!CH33)),SUM(Table_B.1!CH33,Table_B.2!CH33),\":\")","v":0},null,{"$f":"IF(AND(ISNUMBER(Table_B.1!CJ33),ISNUMBER(Table_B.2!CJ33)),SUM(Table_B.1!CJ33,Table_B.2!CJ33),\":\")","v":0},null,{"$f":"IF(AND(ISNUMBER(Table_B.1!CL33),ISNUMBER(Table_B.2!CL33)),SUM(Table_B.1!CL33,Table_B.2!CL33),\":\")","v":0},null,{"$f":"IF(AND(ISNUMBER(Table_B.1!CN33),ISNUMBER(Table_B.2!CN33)),SUM(Table_B.1!CN33,Table_B.2!CN33),\":\")","v":0},null,{"$f":"IF(AND(ISNUMBER(Table_B.1!CP33),ISNUMBER(Table_B.2!CP33)),SUM(Table_B.1!CP33,Table_B.2!CP33),\":\")","v":0},null,{"$f":"IF(AND(ISNUMBER(Table_B.1!CR33),ISNUMBER(Table_B.2!CR33)),SUM(Table_B.1!CR33,Table_B.2!CR33),\":\")","v":0},null,{"$f":"IF(AND(ISNUMBER(Table_B.1!CT33),ISNUMBER(Table_B.2!CT33)),SUM(Table_B.1!CT33,Table_B.2!CT33),\":\")","v":0},null,{"$f":"IF(AND(ISNUMBER(Table_B.1!CV33),ISNUMBER(Table_B.2!CV33)),SUM(Table_B.1!CV33,Table_B.2!CV33),\":\")","v":0},null,{"$f":"IF(AND(ISNUMBER(Table_B.1!CX33),ISNUMBER(Table_B.2!CX33)),SUM(Table_B.1!CX33,Table_B.2!CX33),\":\")","v":0},null,{"$f":"IF(AND(ISNUMBER(Table_B.1!CZ33),ISNUMBER(Table_B.2!CZ33)),SUM(Table_B.1!CZ33,Table_B.2!CZ33),\":\")","v":0},null,{"$f":"IF(AND(ISNUMBER(Table_B.1!DB33),ISNUMBER(Table_B.2!DB33)),SUM(Table_B.1!DB33,Table_B.2!DB33),\":\")","v":0},null,{"$f":"IF(AND(ISNUMBER(Table_B.1!DD33),ISNUMBER(Table_B.2!DD33)),SUM(Table_B.1!DD33,Table_B.2!DD33),\":\")","v":0},null,{"$f":"IF(AND(ISNUMBER(Table_B.1!DF33),ISNUMBER(Table_B.2!DF33)),SUM(Table_B.1!DF33,Table_B.2!DF33),\":\")","v":0},null,{"$f":"IF(AND(ISNUMBER(Table_B.1!DH33),ISNUMBER(Table_B.2!DH33)),SUM(Table_B.1!DH33,Table_B.2!DH33),\":\")","v":0},null,{"$f":"IF(AND(ISNUMBER(Table_B.1!DJ33),ISNUMBER(Table_B.2!DJ33)),SUM(Table_B.1!DJ33,Table_B.2!DJ33),\":\")","v":0},null,{"$f":"IF(AND(ISNUMBER(Table_B.1!DL33),ISNUMBER(Table_B.2!DL33)),SUM(Table_B.1!DL33,Table_B.2!DL33),\":\")","v":0},null,{"$f":"IF(AND(ISNUMBER(Table_B.1!DN33),ISNUMBER(Table_B.2!DN33)),SUM(Table_B.1!DN33,Table_B.2!DN33),\":\")","v":0},null,{"$f":"IF(AND(ISNUMBER(Table_B.1!DP33),ISNUMBER(Table_B.2!DP33)),SUM(Table_B.1!DP33,Table_B.2!DP33),\":\")","v":0},null,{"$f":"IF(AND(ISNUMBER(Table_B.1!DR33),ISNUMBER(Table_B.2!DR33)),SUM(Table_B.1!DR33,Table_B.2!DR33),\":\")","v":0},null,{"$f":"IF(AND(ISNUMBER(Table_B.1!DT33),ISNUMBER(Table_B.2!DT33)),SUM(Table_B.1!DT33,Table_B.2!DT33),\":\")","v":0},null,{"$f":"IF(AND(ISNUMBER(Table_B.1!DV33),ISNUMBER(Table_B.2!DV33)),SUM(Table_B.1!DV33,Table_B.2!DV33),\":\")","v":0},null,{"$f":"IF(AND(ISNUMBER(Table_B.1!DX33),ISNUMBER(Table_B.2!DX33)),SUM(Table_B.1!DX33,Table_B.2!DX33),\":\")","v":0},null,{"$f":"IF(AND(ISNUMBER(Table_B.1!DZ33),ISNUMBER(Table_B.2!DZ33)),SUM(Table_B.1!DZ33,Table_B.2!DZ33),\":\")","v":0},null,{"$f":"IF(AND(ISNUMBER(Table_B.1!EB33),ISNUMBER(Table_B.2!EB33)),SUM(Table_B.1!EB33,Table_B.2!EB33),\":\")","v":0},null,{"$f":"IF(AND(ISNUMBER(Table_B.1!ED33),ISNUMBER(Table_B.2!ED33)),SUM(Table_B.1!ED33,Table_B.2!ED33),\":\")","v":0},null,{"$f":"IF(AND(ISNUMBER(Table_B.1!EF33),ISNUMBER(Table_B.2!EF33)),SUM(Table_B.1!EF33,Table_B.2!EF33),\":\")","v":0},null,{"$f":"IF(AND(ISNUMBER(Table_B.1!EH33),ISNUMBER(Table_B.2!EH33)),SUM(Table_B.1!EH33,Table_B.2!EH33),\":\")","v":0},null,{"$f":"IF(AND(ISNUMBER(Table_B.1!EJ33),ISNUMBER(Table_B.2!EJ33)),SUM(Table_B.1!EJ33,Table_B.2!EJ33),\":\")","v":0},null,{"$f":"IF(AND(ISNUMBER(Table_B.1!EL33),ISNUMBER(Table_B.2!EL33)),SUM(Table_B.1!EL33,Table_B.2!EL33),\":\")","v":0},null,{"$f":"IF(AND(ISNUMBER(Table_B.1!EN33),ISNUMBER(Table_B.2!EN33)),SUM(Table_B.1!EN33,Table_B.2!EN33),\":\")","v":0},null,{"$f":"IF(AND(ISNUMBER(Table_B.1!EP33),ISNUMBER(Table_B.2!EP33)),SUM(Table_B.1!EP33,Table_B.2!EP33),\":\")","v":0},null,{"$f":"IF(AND(ISNUMBER(Table_B.1!ER33),ISNUMBER(Table_B.2!ER33)),SUM(Table_B.1!ER33,Table_B.2!ER33),\":\")","v":0},null,{"$f":"IF(AND(ISNUMBER(Table_B.1!ET33),ISNUMBER(Table_B.2!ET33)),SUM(Table_B.1!ET33,Table_B.2!ET33),\":\")","v":0},null,{"$f":"IF(AND(ISNUMBER(Table_B.1!EV33),ISNUMBER(Table_B.2!EV33)),SUM(Table_B.1!EV33,Table_B.2!EV33),\":\")","v":0},null,{"$f":"IF(AND(ISNUMBER(Table_B.1!EX33),ISNUMBER(Table_B.2!EX33)),SUM(Table_B.1!EX33,Table_B.2!EX33),\":\")","v":0},null,{"$f":"IF(AND(ISNUMBER(Table_B.1!EZ33),ISNUMBER(Table_B.2!EZ33)),SUM(Table_B.1!EZ33,Table_B.2!EZ33),\":\")","v":0},null,{"$f":"IF(AND(ISNUMBER(Table_B.1!FB33),ISNUMBER(Table_B.2!FB33)),SUM(Table_B.1!FB33,Table_B.2!FB33),\":\")","v":0},null,{"$f":"IF(AND(ISNUMBER(Table_B.1!FD33),ISNUMBER(Table_B.2!FD33)),SUM(Table_B.1!FD33,Table_B.2!FD33),\":\")","v":0},null,{"$f":"IF(AND(ISNUMBER(Table_B.1!FF33),ISNUMBER(Table_B.2!FF33)),SUM(Table_B.1!FF33,Table_B.2!FF33),\":\")","v":0},null,{"$f":"SUM(Table_B.1!FH33,Table_B.2!FH33)","v":0},null,{"$f":"IF(OR(ISNUMBER(Table_B.1!FJ33),ISNUMBER(Table_B.2!FJ33)),SUM(Table_B.1!FJ33,Table_B.2!FJ33),\":\")","v":0},null,{"$f":"IF(OR(ISNUMBER(Table_B.1!FL33),ISNUMBER(Table_B.2!FL33)),SUM(Table_B.1!FL33,Table_B.2!FL33),\":\")","v":0},null,{"$f":"IF(OR(ISNUMBER(Table_B.1!FN33),ISNUMBER(Table_B.2!FN33)),SUM(Table_B.1!FN33,Table_B.2!FN33),\":\")","v":0},null,{"$f":"IF(OR(ISNUMBER(Table_B.1!FP33),ISNUMBER(Table_B.2!FP33)),SUM(Table_B.1!FP33,Table_B.2!FP33),\":\")","v":0},null,{"$f":"IF(OR(ISNUMBER(Table_B.1!FR33),ISNUMBER(Table_B.2!FR33)),SUM(Table_B.1!FR33,Table_B.2!FR33),\":\")","v":0},null,{"$f":"IF(OR(ISNUMBER(Table_B.1!FT33),ISNUMBER(Table_B.2!FT33)),SUM(Table_B.1!FT33,Table_B.2!FT33),\":\")","v":0},null,null,null,0,null,""]
[null,26,2,{"$f":"'PEFA rows'!C28","v":"P24"},{"$f":"'PEFA rows'!D28","v":"Liquid biofuels"},null,null,0,null,{"$f":"IF(AND(ISNUMBER(Table_B.1!J34),ISNUMBER(Table_B.2!J34)),SUM(Table_B.1!J34,Table_B.2!J34),\":\")","v":0},null,{"$f":"IF(AND(ISNUMBER(Table_B.1!L34),ISNUMBER(Table_B.2!L34)),SUM(Table_B.1!L34,Table_B.2!L34),\":\")","v":0},null,{"$f":"IF(AND(ISNUMBER(Table_B.1!N34),ISNUMBER(Table_B.2!N34)),SUM(Table_B.1!N34,Table_B.2!N34),\":\")","v":0},null,{"$f":"IF(AND(ISNUMBER(Table_B.1!P34),ISNUMBER(Table_B.2!P34)),SUM(Table_B.1!P34,Table_B.2!P34),\":\")","v":0},null,{"$f":"IF(AND(ISNUMBER(Table_B.1!R34),ISNUMBER(Table_B.2!R34)),SUM(Table_B.1!R34,Table_B.2!R34),\":\")","v":0},null,{"$f":"IF(AND(ISNUMBER(Table_B.1!T34),ISNUMBER(Table_B.2!T34)),SUM(Table_B.1!T34,Table_B.2!T34),\":\")","v":0},null,{"$f":"IF(AND(ISNUMBER(Table_B.1!V34),ISNUMBER(Table_B.2!V34)),SUM(Table_B.1!V34,Table_B.2!V34),\":\")","v":0},null,{"$f":"IF(AND(ISNUMBER(Table_B.1!X34),ISNUMBER(Table_B.2!X34)),SUM(Table_B.1!X34,Table_B.2!X34),\":\")","v":0},null,{"$f":"IF(AND(ISNUMBER(Table_B.1!Z34),ISNUMBER(Table_B.2!Z34)),SUM(Table_B.1!Z34,Table_B.2!Z34),\":\")","v":0},null,{"$f":"IF(AND(ISNUMBER(Table_B.1!AB34),ISNUMBER(Table_B.2!AB34)),SUM(Table_B.1!AB34,Table_B.2!AB34),\":\")","v":0},null,{"$f":"IF(AND(ISNUMBER(Table_B.1!AD34),ISNUMBER(Table_B.2!AD34)),SUM(Table_B.1!AD34,Table_B.2!AD34),\":\")","v":0},null,{"$f":"IF(AND(ISNUMBER(Table_B.1!AF34),ISNUMBER(Table_B.2!AF34)),SUM(Table_B.1!AF34,Table_B.2!AF34),\":\")","v":0},null,{"$f":"IF(AND(ISNUMBER(Table_B.1!AH34),ISNUMBER(Table_B.2!AH34)),SUM(Table_B.1!AH34,Table_B.2!AH34),\":\")","v":0},null,{"$f":"IF(AND(ISNUMBER(Table_B.1!AJ34),ISNUMBER(Table_B.2!AJ34)),SUM(Table_B.1!AJ34,Table_B.2!AJ34),\":\")","v":0},null,{"$f":"IF(AND(ISNUMBER(Table_B.1!AL34),ISNUMBER(Table_B.2!AL34)),SUM(Table_B.1!AL34,Table_B.2!AL34),\":\")","v":0},null,{"$f":"IF(AND(ISNUMBER(Table_B.1!AN34),ISNUMBER(Table_B.2!AN34)),SUM(Table_B.1!AN34,Table_B.2!AN34),\":\")","v":0},null,{"$f":"IF(AND(ISNUMBER(Table_B.1!AP34),ISNUMBER(Table_B.2!AP34)),SUM(Table_B.1!AP34,Table_B.2!AP34),\":\")","v":0},null,{"$f":"IF(AND(ISNUMBER(Table_B.1!AR34),ISNUMBER(Table_B.2!AR34)),SUM(Table_B.1!AR34,Table_B.2!AR34),\":\")","v":0},null,{"$f":"IF(AND(ISNUMBER(Table_B.1!AT34),ISNUMBER(Table_B.2!AT34)),SUM(Table_B.1!AT34,Table_B.2!AT34),\":\")","v":0},null,{"$f":"IF(AND(ISNUMBER(Table_B.1!AV34),ISNUMBER(Table_B.2!AV34)),SUM(Table_B.1!AV34,Table_B.2!AV34),\":\")","v":0},null,{"$f":"IF(AND(ISNUMBER(Table_B.1!AX34),ISNUMBER(Table_B.2!AX34)),SUM(Table_B.1!AX34,Table_B.2!AX34),\":\")","v":0},null,{"$f":"IF(AND(ISNUMBER(Table_B.1!AZ34),ISNUMBER(Table_B.2!AZ34)),SUM(Table_B.1!AZ34,Table_B.2!AZ34),\":\")","v":0},null,{"$f":"IF(AND(ISNUMBER(Table_B.1!BB34),ISNUMBER(Table_B.2!BB34)),SUM(Table_B.1!BB34,Table_B.2!BB34),\":\")","v":0},null,{"$f":"IF(AND(ISNUMBER(Table_B.1!BD34),ISNUMBER(Table_B.2!BD34)),SUM(Table_B.1!BD34,Table_B.2!BD34),\":\")","v":0},null,{"$f":"IF(AND(ISNUMBER(Table_B.1!BF34),ISNUMBER(Table_B.2!BF34)),SUM(Table_B.1!BF34,Table_B.2!BF34),\":\")","v":0},null,{"$f":"IF(AND(ISNUMBER(Table_B.1!BH34),ISNUMBER(Table_B.2!BH34)),SUM(Table_B.1!BH34,Table_B.2!BH34),\":\")","v":0},null,{"$f":"IF(AND(ISNUMBER(Table_B.1!BJ34),ISNUMBER(Table_B.2!BJ34)),SUM(Table_B.1!BJ34,Table_B.2!BJ34),\":\")","v":0},null,{"$f":"IF(AND(ISNUMBER(Table_B.1!BL34),ISNUMBER(Table_B.2!BL34)),SUM(Table_B.1!BL34,Table_B.2!BL34),\":\")","v":0},null,{"$f":"IF(AND(ISNUMBER(Table_B.1!BN34),ISNUMBER(Table_B.2!BN34)),SUM(Table_B.1!BN34,Table_B.2!BN34),\":\")","v":0},null,{"$f":"IF(AND(ISNUMBER(Table_B.1!BP34),ISNUMBER(Table_B.2!BP34)),SUM(Table_B.1!BP34,Table_B.2!BP34),\":\")","v":0},null,{"$f":"IF(AND(ISNUMBER(Table_B.1!BR34),ISNUMBER(Table_B.2!BR34)),SUM(Table_B.1!BR34,Table_B.2!BR34),\":\")","v":0},null,{"$f":"IF(AND(ISNUMBER(Table_B.1!BT34),ISNUMBER(Table_B.2!BT34)),SUM(Table_B.1!BT34,Table_B.2!BT34),\":\")","v":0},null,{"$f":"IF(AND(ISNUMBER(Table_B.1!BV34),ISNUMBER(Table_B.2!BV34)),SUM(Table_B.1!BV34,Table_B.2!BV34),\":\")","v":0},null,{"$f":"IF(AND(ISNUMBER(Table_B.1!BX34),ISNUMBER(Table_B.2!BX34)),SUM(Table_B.1!BX34,Table_B.2!BX34),\":\")","v":0},null,{"$f":"IF(AND(ISNUMBER(Table_B.1!BZ34),ISNUMBER(Table_B.2!BZ34)),SUM(Table_B.1!BZ34,Table_B.2!BZ34),\":\")","v":0},null,{"$f":"IF(AND(ISNUMBER(Table_B.1!CB34),ISNUMBER(Table_B.2!CB34)),SUM(Table_B.1!CB34,Table_B.2!CB34),\":\")","v":0},null,{"$f":"IF(AND(ISNUMBER(Table_B.1!CD34),ISNUMBER(Table_B.2!CD34)),SUM(Table_B.1!CD34,Table_B.2!CD34),\":\")","v":0},null,{"$f":"IF(AND(ISNUMBER(Table_B.1!CF34),ISNUMBER(Table_B.2!CF34)),SUM(Table_B.1!CF34,Table_B.2!CF34),\":\")","v":0},null,{"$f":"IF(AND(ISNUMBER(Table_B.1!CH34),ISNUMBER(Table_B.2!CH34)),SUM(Table_B.1!CH34,Table_B.2!CH34),\":\")","v":0},null,{"$f":"IF(AND(ISNUMBER(Table_B.1!CJ34),ISNUMBER(Table_B.2!CJ34)),SUM(Table_B.1!CJ34,Table_B.2!CJ34),\":\")","v":0},null,{"$f":"IF(AND(ISNUMBER(Table_B.1!CL34),ISNUMBER(Table_B.2!CL34)),SUM(Table_B.1!CL34,Table_B.2!CL34),\":\")","v":0},null,{"$f":"IF(AND(ISNUMBER(Table_B.1!CN34),ISNUMBER(Table_B.2!CN34)),SUM(Table_B.1!CN34,Table_B.2!CN34),\":\")","v":0},null,{"$f":"IF(AND(ISNUMBER(Table_B.1!CP34),ISNUMBER(Table_B.2!CP34)),SUM(Table_B.1!CP34,Table_B.2!CP34),\":\")","v":0},null,{"$f":"IF(AND(ISNUMBER(Table_B.1!CR34),ISNUMBER(Table_B.2!CR34)),SUM(Table_B.1!CR34,Table_B.2!CR34),\":\")","v":0},null,{"$f":"IF(AND(ISNUMBER(Table_B.1!CT34),ISNUMBER(Table_B.2!CT34)),SUM(Table_B.1!CT34,Table_B.2!CT34),\":\")","v":0},null,{"$f":"IF(AND(ISNUMBER(Table_B.1!CV34),ISNUMBER(Table_B.2!CV34)),SUM(Table_B.1!CV34,Table_B.2!CV34),\":\")","v":0},null,{"$f":"IF(AND(ISNUMBER(Table_B.1!CX34),ISNUMBER(Table_B.2!CX34)),SUM(Table_B.1!CX34,Table_B.2!CX34),\":\")","v":0},null,{"$f":"IF(AND(ISNUMBER(Table_B.1!CZ34),ISNUMBER(Table_B.2!CZ34)),SUM(Table_B.1!CZ34,Table_B.2!CZ34),\":\")","v":0},null,{"$f":"IF(AND(ISNUMBER(Table_B.1!DB34),ISNUMBER(Table_B.2!DB34)),SUM(Table_B.1!DB34,Table_B.2!DB34),\":\")","v":0},null,{"$f":"IF(AND(ISNUMBER(Table_B.1!DD34),ISNUMBER(Table_B.2!DD34)),SUM(Table_B.1!DD34,Table_B.2!DD34),\":\")","v":0},null,{"$f":"IF(AND(ISNUMBER(Table_B.1!DF34),ISNUMBER(Table_B.2!DF34)),SUM(Table_B.1!DF34,Table_B.2!DF34),\":\")","v":0},null,{"$f":"IF(AND(ISNUMBER(Table_B.1!DH34),ISNUMBER(Table_B.2!DH34)),SUM(Table_B.1!DH34,Table_B.2!DH34),\":\")","v":0},null,{"$f":"IF(AND(ISNUMBER(Table_B.1!DJ34),ISNUMBER(Table_B.2!DJ34)),SUM(Table_B.1!DJ34,Table_B.2!DJ34),\":\")","v":0},null,{"$f":"IF(AND(ISNUMBER(Table_B.1!DL34),ISNUMBER(Table_B.2!DL34)),SUM(Table_B.1!DL34,Table_B.2!DL34),\":\")","v":0},null,{"$f":"IF(AND(ISNUMBER(Table_B.1!DN34),ISNUMBER(Table_B.2!DN34)),SUM(Table_B.1!DN34,Table_B.2!DN34),\":\")","v":0},null,{"$f":"IF(AND(ISNUMBER(Table_B.1!DP34),ISNUMBER(Table_B.2!DP34)),SUM(Table_B.1!DP34,Table_B.2!DP34),\":\")","v":0},null,{"$f":"IF(AND(ISNUMBER(Table_B.1!DR34),ISNUMBER(Table_B.2!DR34)),SUM(Table_B.1!DR34,Table_B.2!DR34),\":\")","v":0},null,{"$f":"IF(AND(ISNUMBER(Table_B.1!DT34),ISNUMBER(Table_B.2!DT34)),SUM(Table_B.1!DT34,Table_B.2!DT34),\":\")","v":0},null,{"$f":"IF(AND(ISNUMBER(Table_B.1!DV34),ISNUMBER(Table_B.2!DV34)),SUM(Table_B.1!DV34,Table_B.2!DV34),\":\")","v":0},null,{"$f":"IF(AND(ISNUMBER(Table_B.1!DX34),ISNUMBER(Table_B.2!DX34)),SUM(Table_B.1!DX34,Table_B.2!DX34),\":\")","v":0},null,{"$f":"IF(AND(ISNUMBER(Table_B.1!DZ34),ISNUMBER(Table_B.2!DZ34)),SUM(Table_B.1!DZ34,Table_B.2!DZ34),\":\")","v":0},null,{"$f":"IF(AND(ISNUMBER(Table_B.1!EB34),ISNUMBER(Table_B.2!EB34)),SUM(Table_B.1!EB34,Table_B.2!EB34),\":\")","v":0},null,{"$f":"IF(AND(ISNUMBER(Table_B.1!ED34),ISNUMBER(Table_B.2!ED34)),SUM(Table_B.1!ED34,Table_B.2!ED34),\":\")","v":0},null,{"$f":"IF(AND(ISNUMBER(Table_B.1!EF34),ISNUMBER(Table_B.2!EF34)),SUM(Table_B.1!EF34,Table_B.2!EF34),\":\")","v":0},null,{"$f":"IF(AND(ISNUMBER(Table_B.1!EH34),ISNUMBER(Table_B.2!EH34)),SUM(Table_B.1!EH34,Table_B.2!EH34),\":\")","v":0},null,{"$f":"IF(AND(ISNUMBER(Table_B.1!EJ34),ISNUMBER(Table_B.2!EJ34)),SUM(Table_B.1!EJ34,Table_B.2!EJ34),\":\")","v":0},null,{"$f":"IF(AND(ISNUMBER(Table_B.1!EL34),ISNUMBER(Table_B.2!EL34)),SUM(Table_B.1!EL34,Table_B.2!EL34),\":\")","v":0},null,{"$f":"IF(AND(ISNUMBER(Table_B.1!EN34),ISNUMBER(Table_B.2!EN34)),SUM(Table_B.1!EN34,Table_B.2!EN34),\":\")","v":0},null,{"$f":"IF(AND(ISNUMBER(Table_B.1!EP34),ISNUMBER(Table_B.2!EP34)),SUM(Table_B.1!EP34,Table_B.2!EP34),\":\")","v":0},null,{"$f":"IF(AND(ISNUMBER(Table_B.1!ER34),ISNUMBER(Table_B.2!ER34)),SUM(Table_B.1!ER34,Table_B.2!ER34),\":\")","v":0},null,{"$f":"IF(AND(ISNUMBER(Table_B.1!ET34),ISNUMBER(Table_B.2!ET34)),SUM(Table_B.1!ET34,Table_B.2!ET34),\":\")","v":0},null,{"$f":"IF(AND(ISNUMBER(Table_B.1!EV34),ISNUMBER(Table_B.2!EV34)),SUM(Table_B.1!EV34,Table_B.2!EV34),\":\")","v":0},null,{"$f":"IF(AND(ISNUMBER(Table_B.1!EX34),ISNUMBER(Table_B.2!EX34)),SUM(Table_B.1!EX34,Table_B.2!EX34),\":\")","v":0},null,{"$f":"IF(AND(ISNUMBER(Table_B.1!EZ34),ISNUMBER(Table_B.2!EZ34)),SUM(Table_B.1!EZ34,Table_B.2!EZ34),\":\")","v":0},null,{"$f":"IF(AND(ISNUMBER(Table_B.1!FB34),ISNUMBER(Table_B.2!FB34)),SUM(Table_B.1!FB34,Table_B.2!FB34),\":\")","v":0},null,{"$f":"IF(AND(ISNUMBER(Table_B.1!FD34),ISNUMBER(Table_B.2!FD34)),SUM(Table_B.1!FD34,Table_B.2!FD34),\":\")","v":0},null,{"$f":"IF(AND(ISNUMBER(Table_B.1!FF34),ISNUMBER(Table_B.2!FF34)),SUM(Table_B.1!FF34,Table_B.2!FF34),\":\")","v":0},null,{"$f":"SUM(Table_B.1!FH34,Table_B.2!FH34)","v":0},null,{"$f":"IF(OR(ISNUMBER(Table_B.1!FJ34),ISNUMBER(Table_B.2!FJ34)),SUM(Table_B.1!FJ34,Table_B.2!FJ34),\":\")","v":0},null,{"$f":"IF(OR(ISNUMBER(Table_B.1!FL34),ISNUMBER(Table_B.2!FL34)),SUM(Table_B.1!FL34,Table_B.2!FL34),\":\")","v":0},null,{"$f":"IF(OR(ISNUMBER(Table_B.1!FN34),ISNUMBER(Table_B.2!FN34)),SUM(Table_B.1!FN34,Table_B.2!FN34),\":\")","v":0},null,{"$f":"IF(OR(ISNUMBER(Table_B.1!FP34),ISNUMBER(Table_B.2!FP34)),SUM(Table_B.1!FP34,Table_B.2!FP34),\":\")","v":0},null,{"$f":"IF(OR(ISNUMBER(Table_B.1!FR34),ISNUMBER(Table_B.2!FR34)),SUM(Table_B.1!FR34,Table_B.2!FR34),\":\")","v":0},null,{"$f":"IF(OR(ISNUMBER(Table_B.1!FT34),ISNUMBER(Table_B.2!FT34)),SUM(Table_B.1!FT34,Table_B.2!FT34),\":\")","v":0},null,null,null,0,null,""]
[null,27,2,{"$f":"'PEFA rows'!C29","v":"P25"},{"$f":"'PEFA rows'!D29","v":"Biogas"},null,null,0,null,{"$f":"IF(AND(ISNUMBER(Table_B.1!J35),ISNUMBER(Table_B.2!J35)),SUM(Table_B.1!J35,Table_B.2!J35),\":\")","v":0},null,{"$f":"IF(AND(ISNUMBER(Table_B.1!L35),ISNUMBER(Table_B.2!L35)),SUM(Table_B.1!L35,Table_B.2!L35),\":\")","v":0},null,{"$f":"IF(AND(ISNUMBER(Table_B.1!N35),ISNUMBER(Table_B.2!N35)),SUM(Table_B.1!N35,Table_B.2!N35),\":\")","v":0},null,{"$f":"IF(AND(ISNUMBER(Table_B.1!P35),ISNUMBER(Table_B.2!P35)),SUM(Table_B.1!P35,Table_B.2!P35),\":\")","v":0},null,{"$f":"IF(AND(ISNUMBER(Table_B.1!R35),ISNUMBER(Table_B.2!R35)),SUM(Table_B.1!R35,Table_B.2!R35),\":\")","v":0},null,{"$f":"IF(AND(ISNUMBER(Table_B.1!T35),ISNUMBER(Table_B.2!T35)),SUM(Table_B.1!T35,Table_B.2!T35),\":\")","v":0},null,{"$f":"IF(AND(ISNUMBER(Table_B.1!V35),ISNUMBER(Table_B.2!V35)),SUM(Table_B.1!V35,Table_B.2!V35),\":\")","v":0},null,{"$f":"IF(AND(ISNUMBER(Table_B.1!X35),ISNUMBER(Table_B.2!X35)),SUM(Table_B.1!X35,Table_B.2!X35),\":\")","v":0},null,{"$f":"IF(AND(ISNUMBER(Table_B.1!Z35),ISNUMBER(Table_B.2!Z35)),SUM(Table_B.1!Z35,Table_B.2!Z35),\":\")","v":0},null,{"$f":"IF(AND(ISNUMBER(Table_B.1!AB35),ISNUMBER(Table_B.2!AB35)),SUM(Table_B.1!AB35,Table_B.2!AB35),\":\")","v":0},null,{"$f":"IF(AND(ISNUMBER(Table_B.1!AD35),ISNUMBER(Table_B.2!AD35)),SUM(Table_B.1!AD35,Table_B.2!AD35),\":\")","v":0},null,{"$f":"IF(AND(ISNUMBER(Table_B.1!AF35),ISNUMBER(Table_B.2!AF35)),SUM(Table_B.1!AF35,Table_B.2!AF35),\":\")","v":0},null,{"$f":"IF(AND(ISNUMBER(Table_B.1!AH35),ISNUMBER(Table_B.2!AH35)),SUM(Table_B.1!AH35,Table_B.2!AH35),\":\")","v":0},null,{"$f":"IF(AND(ISNUMBER(Table_B.1!AJ35),ISNUMBER(Table_B.2!AJ35)),SUM(Table_B.1!AJ35,Table_B.2!AJ35),\":\")","v":0},null,{"$f":"IF(AND(ISNUMBER(Table_B.1!AL35),ISNUMBER(Table_B.2!AL35)),SUM(Table_B.1!AL35,Table_B.2!AL35),\":\")","v":0},null,{"$f":"IF(AND(ISNUMBER(Table_B.1!AN35),ISNUMBER(Table_B.2!AN35)),SUM(Table_B.1!AN35,Table_B.2!AN35),\":\")","v":0},null,{"$f":"IF(AND(ISNUMBER(Table_B.1!AP35),ISNUMBER(Table_B.2!AP35)),SUM(Table_B.1!AP35,Table_B.2!AP35),\":\")","v":0},null,{"$f":"IF(AND(ISNUMBER(Table_B.1!AR35),ISNUMBER(Table_B.2!AR35)),SUM(Table_B.1!AR35,Table_B.2!AR35),\":\")","v":0},null,{"$f":"IF(AND(ISNUMBER(Table_B.1!AT35),ISNUMBER(Table_B.2!AT35)),SUM(Table_B.1!AT35,Table_B.2!AT35),\":\")","v":0},null,{"$f":"IF(AND(ISNUMBER(Table_B.1!AV35),ISNUMBER(Table_B.2!AV35)),SUM(Table_B.1!AV35,Table_B.2!AV35),\":\")","v":0},null,{"$f":"IF(AND(ISNUMBER(Table_B.1!AX35),ISNUMBER(Table_B.2!AX35)),SUM(Table_B.1!AX35,Table_B.2!AX35),\":\")","v":0},null,{"$f":"IF(AND(ISNUMBER(Table_B.1!AZ35),ISNUMBER(Table_B.2!AZ35)),SUM(Table_B.1!AZ35,Table_B.2!AZ35),\":\")","v":0},null,{"$f":"IF(AND(ISNUMBER(Table_B.1!BB35),ISNUMBER(Table_B.2!BB35)),SUM(Table_B.1!BB35,Table_B.2!BB35),\":\")","v":0},null,{"$f":"IF(AND(ISNUMBER(Table_B.1!BD35),ISNUMBER(Table_B.2!BD35)),SUM(Table_B.1!BD35,Table_B.2!BD35),\":\")","v":0},null,{"$f":"IF(AND(ISNUMBER(Table_B.1!BF35),ISNUMBER(Table_B.2!BF35)),SUM(Table_B.1!BF35,Table_B.2!BF35),\":\")","v":0},null,{"$f":"IF(AND(ISNUMBER(Table_B.1!BH35),ISNUMBER(Table_B.2!BH35)),SUM(Table_B.1!BH35,Table_B.2!BH35),\":\")","v":0},null,{"$f":"IF(AND(ISNUMBER(Table_B.1!BJ35),ISNUMBER(Table_B.2!BJ35)),SUM(Table_B.1!BJ35,Table_B.2!BJ35),\":\")","v":0},null,{"$f":"IF(AND(ISNUMBER(Table_B.1!BL35),ISNUMBER(Table_B.2!BL35)),SUM(Table_B.1!BL35,Table_B.2!BL35),\":\")","v":0},null,{"$f":"IF(AND(ISNUMBER(Table_B.1!BN35),ISNUMBER(Table_B.2!BN35)),SUM(Table_B.1!BN35,Table_B.2!BN35),\":\")","v":0},null,{"$f":"IF(AND(ISNUMBER(Table_B.1!BP35),ISNUMBER(Table_B.2!BP35)),SUM(Table_B.1!BP35,Table_B.2!BP35),\":\")","v":0},null,{"$f":"IF(AND(ISNUMBER(Table_B.1!BR35),ISNUMBER(Table_B.2!BR35)),SUM(Table_B.1!BR35,Table_B.2!BR35),\":\")","v":0},null,{"$f":"IF(AND(ISNUMBER(Table_B.1!BT35),ISNUMBER(Table_B.2!BT35)),SUM(Table_B.1!BT35,Table_B.2!BT35),\":\")","v":0},null,{"$f":"IF(AND(ISNUMBER(Table_B.1!BV35),ISNUMBER(Table_B.2!BV35)),SUM(Table_B.1!BV35,Table_B.2!BV35),\":\")","v":0},null,{"$f":"IF(AND(ISNUMBER(Table_B.1!BX35),ISNUMBER(Table_B.2!BX35)),SUM(Table_B.1!BX35,Table_B.2!BX35),\":\")","v":0},null,{"$f":"IF(AND(ISNUMBER(Table_B.1!BZ35),ISNUMBER(Table_B.2!BZ35)),SUM(Table_B.1!BZ35,Table_B.2!BZ35),\":\")","v":0},null,{"$f":"IF(AND(ISNUMBER(Table_B.1!CB35),ISNUMBER(Table_B.2!CB35)),SUM(Table_B.1!CB35,Table_B.2!CB35),\":\")","v":0},null,{"$f":"IF(AND(ISNUMBER(Table_B.1!CD35),ISNUMBER(Table_B.2!CD35)),SUM(Table_B.1!CD35,Table_B.2!CD35),\":\")","v":0},null,{"$f":"IF(AND(ISNUMBER(Table_B.1!CF35),ISNUMBER(Table_B.2!CF35)),SUM(Table_B.1!CF35,Table_B.2!CF35),\":\")","v":0},null,{"$f":"IF(AND(ISNUMBER(Table_B.1!CH35),ISNUMBER(Table_B.2!CH35)),SUM(Table_B.1!CH35,Table_B.2!CH35),\":\")","v":0},null,{"$f":"IF(AND(ISNUMBER(Table_B.1!CJ35),ISNUMBER(Table_B.2!CJ35)),SUM(Table_B.1!CJ35,Table_B.2!CJ35),\":\")","v":0},null,{"$f":"IF(AND(ISNUMBER(Table_B.1!CL35),ISNUMBER(Table_B.2!CL35)),SUM(Table_B.1!CL35,Table_B.2!CL35),\":\")","v":0},null,{"$f":"IF(AND(ISNUMBER(Table_B.1!CN35),ISNUMBER(Table_B.2!CN35)),SUM(Table_B.1!CN35,Table_B.2!CN35),\":\")","v":0},null,{"$f":"IF(AND(ISNUMBER(Table_B.1!CP35),ISNUMBER(Table_B.2!CP35)),SUM(Table_B.1!CP35,Table_B.2!CP35),\":\")","v":0},null,{"$f":"IF(AND(ISNUMBER(Table_B.1!CR35),ISNUMBER(Table_B.2!CR35)),SUM(Table_B.1!CR35,Table_B.2!CR35),\":\")","v":0},null,{"$f":"IF(AND(ISNUMBER(Table_B.1!CT35),ISNUMBER(Table_B.2!CT35)),SUM(Table_B.1!CT35,Table_B.2!CT35),\":\")","v":0},null,{"$f":"IF(AND(ISNUMBER(Table_B.1!CV35),ISNUMBER(Table_B.2!CV35)),SUM(Table_B.1!CV35,Table_B.2!CV35),\":\")","v":0},null,{"$f":"IF(AND(ISNUMBER(Table_B.1!CX35),ISNUMBER(Table_B.2!CX35)),SUM(Table_B.1!CX35,Table_B.2!CX35),\":\")","v":0},null,{"$f":"IF(AND(ISNUMBER(Table_B.1!CZ35),ISNUMBER(Table_B.2!CZ35)),SUM(Table_B.1!CZ35,Table_B.2!CZ35),\":\")","v":0},null,{"$f":"IF(AND(ISNUMBER(Table_B.1!DB35),ISNUMBER(Table_B.2!DB35)),SUM(Table_B.1!DB35,Table_B.2!DB35),\":\")","v":0},null,{"$f":"IF(AND(ISNUMBER(Table_B.1!DD35),ISNUMBER(Table_B.2!DD35)),SUM(Table_B.1!DD35,Table_B.2!DD35),\":\")","v":0},null,{"$f":"IF(AND(ISNUMBER(Table_B.1!DF35),ISNUMBER(Table_B.2!DF35)),SUM(Table_B.1!DF35,Table_B.2!DF35),\":\")","v":0},null,{"$f":"IF(AND(ISNUMBER(Table_B.1!DH35),ISNUMBER(Table_B.2!DH35)),SUM(Table_B.1!DH35,Table_B.2!DH35),\":\")","v":0},null,{"$f":"IF(AND(ISNUMBER(Table_B.1!DJ35),ISNUMBER(Table_B.2!DJ35)),SUM(Table_B.1!DJ35,Table_B.2!DJ35),\":\")","v":0},null,{"$f":"IF(AND(ISNUMBER(Table_B.1!DL35),ISNUMBER(Table_B.2!DL35)),SUM(Table_B.1!DL35,Table_B.2!DL35),\":\")","v":0},null,{"$f":"IF(AND(ISNUMBER(Table_B.1!DN35),ISNUMBER(Table_B.2!DN35)),SUM(Table_B.1!DN35,Table_B.2!DN35),\":\")","v":0},null,{"$f":"IF(AND(ISNUMBER(Table_B.1!DP35),ISNUMBER(Table_B.2!DP35)),SUM(Table_B.1!DP35,Table_B.2!DP35),\":\")","v":0},null,{"$f":"IF(AND(ISNUMBER(Table_B.1!DR35),ISNUMBER(Table_B.2!DR35)),SUM(Table_B.1!DR35,Table_B.2!DR35),\":\")","v":0},null,{"$f":"IF(AND(ISNUMBER(Table_B.1!DT35),ISNUMBER(Table_B.2!DT35)),SUM(Table_B.1!DT35,Table_B.2!DT35),\":\")","v":0},null,{"$f":"IF(AND(ISNUMBER(Table_B.1!DV35),ISNUMBER(Table_B.2!DV35)),SUM(Table_B.1!DV35,Table_B.2!DV35),\":\")","v":0},null,{"$f":"IF(AND(ISNUMBER(Table_B.1!DX35),ISNUMBER(Table_B.2!DX35)),SUM(Table_B.1!DX35,Table_B.2!DX35),\":\")","v":0},null,{"$f":"IF(AND(ISNUMBER(Table_B.1!DZ35),ISNUMBER(Table_B.2!DZ35)),SUM(Table_B.1!DZ35,Table_B.2!DZ35),\":\")","v":0},null,{"$f":"IF(AND(ISNUMBER(Table_B.1!EB35),ISNUMBER(Table_B.2!EB35)),SUM(Table_B.1!EB35,Table_B.2!EB35),\":\")","v":0},null,{"$f":"IF(AND(ISNUMBER(Table_B.1!ED35),ISNUMBER(Table_B.2!ED35)),SUM(Table_B.1!ED35,Table_B.2!ED35),\":\")","v":0},null,{"$f":"IF(AND(ISNUMBER(Table_B.1!EF35),ISNUMBER(Table_B.2!EF35)),SUM(Table_B.1!EF35,Table_B.2!EF35),\":\")","v":0},null,{"$f":"IF(AND(ISNUMBER(Table_B.1!EH35),ISNUMBER(Table_B.2!EH35)),SUM(Table_B.1!EH35,Table_B.2!EH35),\":\")","v":0},null,{"$f":"IF(AND(ISNUMBER(Table_B.1!EJ35),ISNUMBER(Table_B.2!EJ35)),SUM(Table_B.1!EJ35,Table_B.2!EJ35),\":\")","v":0},null,{"$f":"IF(AND(ISNUMBER(Table_B.1!EL35),ISNUMBER(Table_B.2!EL35)),SUM(Table_B.1!EL35,Table_B.2!EL35),\":\")","v":0},null,{"$f":"IF(AND(ISNUMBER(Table_B.1!EN35),ISNUMBER(Table_B.2!EN35)),SUM(Table_B.1!EN35,Table_B.2!EN35),\":\")","v":0},null,{"$f":"IF(AND(ISNUMBER(Table_B.1!EP35),ISNUMBER(Table_B.2!EP35)),SUM(Table_B.1!EP35,Table_B.2!EP35),\":\")","v":0},null,{"$f":"IF(AND(ISNUMBER(Table_B.1!ER35),ISNUMBER(Table_B.2!ER35)),SUM(Table_B.1!ER35,Table_B.2!ER35),\":\")","v":0},null,{"$f":"IF(AND(ISNUMBER(Table_B.1!ET35),ISNUMBER(Table_B.2!ET35)),SUM(Table_B.1!ET35,Table_B.2!ET35),\":\")","v":0},null,{"$f":"IF(AND(ISNUMBER(Table_B.1!EV35),ISNUMBER(Table_B.2!EV35)),SUM(Table_B.1!EV35,Table_B.2!EV35),\":\")","v":0},null,{"$f":"IF(AND(ISNUMBER(Table_B.1!EX35),ISNUMBER(Table_B.2!EX35)),SUM(Table_B.1!EX35,Table_B.2!EX35),\":\")","v":0},null,{"$f":"IF(AND(ISNUMBER(Table_B.1!EZ35),ISNUMBER(Table_B.2!EZ35)),SUM(Table_B.1!EZ35,Table_B.2!EZ35),\":\")","v":0},null,{"$f":"IF(AND(ISNUMBER(Table_B.1!FB35),ISNUMBER(Table_B.2!FB35)),SUM(Table_B.1!FB35,Table_B.2!FB35),\":\")","v":0},null,{"$f":"IF(AND(ISNUMBER(Table_B.1!FD35),ISNUMBER(Table_B.2!FD35)),SUM(Table_B.1!FD35,Table_B.2!FD35),\":\")","v":0},null,{"$f":"IF(AND(ISNUMBER(Table_B.1!FF35),ISNUMBER(Table_B.2!FF35)),SUM(Table_B.1!FF35,Table_B.2!FF35),\":\")","v":0},null,{"$f":"SUM(Table_B.1!FH35,Table_B.2!FH35)","v":0},null,{"$f":"IF(OR(ISNUMBER(Table_B.1!FJ35),ISNUMBER(Table_B.2!FJ35)),SUM(Table_B.1!FJ35,Table_B.2!FJ35),\":\")","v":0},null,{"$f":"IF(OR(ISNUMBER(Table_B.1!FL35),ISNUMBER(Table_B.2!FL35)),SUM(Table_B.1!FL35,Table_B.2!FL35),\":\")","v":0},null,{"$f":"IF(OR(ISNUMBER(Table_B.1!FN35),ISNUMBER(Table_B.2!FN35)),SUM(Table_B.1!FN35,Table_B.2!FN35),\":\")","v":0},null,{"$f":"IF(OR(ISNUMBER(Table_B.1!FP35),ISNUMBER(Table_B.2!FP35)),SUM(Table_B.1!FP35,Table_B.2!FP35),\":\")","v":0},null,{"$f":"IF(OR(ISNUMBER(Table_B.1!FR35),ISNUMBER(Table_B.2!FR35)),SUM(Table_B.1!FR35,Table_B.2!FR35),\":\")","v":0},null,{"$f":"IF(OR(ISNUMBER(Table_B.1!FT35),ISNUMBER(Table_B.2!FT35)),SUM(Table_B.1!FT35,Table_B.2!FT35),\":\")","v":0},null,null,null,0,null,""]
[null,28,2,{"$f":"'PEFA rows'!C30","v":"P26"},{"$f":"'PEFA rows'!D30","v":"Electrical energy"},null,null,0,null,{"$f":"IF(AND(ISNUMBER(Table_B.1!J36),ISNUMBER(Table_B.2!J36)),SUM(Table_B.1!J36,Table_B.2!J36),\":\")","v":0},null,{"$f":"IF(AND(ISNUMBER(Table_B.1!L36),ISNUMBER(Table_B.2!L36)),SUM(Table_B.1!L36,Table_B.2!L36),\":\")","v":0},null,{"$f":"IF(AND(ISNUMBER(Table_B.1!N36),ISNUMBER(Table_B.2!N36)),SUM(Table_B.1!N36,Table_B.2!N36),\":\")","v":0},null,{"$f":"IF(AND(ISNUMBER(Table_B.1!P36),ISNUMBER(Table_B.2!P36)),SUM(Table_B.1!P36,Table_B.2!P36),\":\")","v":0},null,{"$f":"IF(AND(ISNUMBER(Table_B.1!R36),ISNUMBER(Table_B.2!R36)),SUM(Table_B.1!R36,Table_B.2!R36),\":\")","v":0},null,{"$f":"IF(AND(ISNUMBER(Table_B.1!T36),ISNUMBER(Table_B.2!T36)),SUM(Table_B.1!T36,Table_B.2!T36),\":\")","v":0},null,{"$f":"IF(AND(ISNUMBER(Table_B.1!V36),ISNUMBER(Table_B.2!V36)),SUM(Table_B.1!V36,Table_B.2!V36),\":\")","v":0},null,{"$f":"IF(AND(ISNUMBER(Table_B.1!X36),ISNUMBER(Table_B.2!X36)),SUM(Table_B.1!X36,Table_B.2!X36),\":\")","v":0},null,{"$f":"IF(AND(ISNUMBER(Table_B.1!Z36),ISNUMBER(Table_B.2!Z36)),SUM(Table_B.1!Z36,Table_B.2!Z36),\":\")","v":0},null,{"$f":"IF(AND(ISNUMBER(Table_B.1!AB36),ISNUMBER(Table_B.2!AB36)),SUM(Table_B.1!AB36,Table_B.2!AB36),\":\")","v":0},null,{"$f":"IF(AND(ISNUMBER(Table_B.1!AD36),ISNUMBER(Table_B.2!AD36)),SUM(Table_B.1!AD36,Table_B.2!AD36),\":\")","v":0},null,{"$f":"IF(AND(ISNUMBER(Table_B.1!AF36),ISNUMBER(Table_B.2!AF36)),SUM(Table_B.1!AF36,Table_B.2!AF36),\":\")","v":0},null,{"$f":"IF(AND(ISNUMBER(Table_B.1!AH36),ISNUMBER(Table_B.2!AH36)),SUM(Table_B.1!AH36,Table_B.2!AH36),\":\")","v":0},null,{"$f":"IF(AND(ISNUMBER(Table_B.1!AJ36),ISNUMBER(Table_B.2!AJ36)),SUM(Table_B.1!AJ36,Table_B.2!AJ36),\":\")","v":0},null,{"$f":"IF(AND(ISNUMBER(Table_B.1!AL36),ISNUMBER(Table_B.2!AL36)),SUM(Table_B.1!AL36,Table_B.2!AL36),\":\")","v":0},null,{"$f":"IF(AND(ISNUMBER(Table_B.1!AN36),ISNUMBER(Table_B.2!AN36)),SUM(Table_B.1!AN36,Table_B.2!AN36),\":\")","v":0},null,{"$f":"IF(AND(ISNUMBER(Table_B.1!AP36),ISNUMBER(Table_B.2!AP36)),SUM(Table_B.1!AP36,Table_B.2!AP36),\":\")","v":0},null,{"$f":"IF(AND(ISNUMBER(Table_B.1!AR36),ISNUMBER(Table_B.2!AR36)),SUM(Table_B.1!AR36,Table_B.2!AR36),\":\")","v":0},null,{"$f":"IF(AND(ISNUMBER(Table_B.1!AT36),ISNUMBER(Table_B.2!AT36)),SUM(Table_B.1!AT36,Table_B.2!AT36),\":\")","v":0},null,{"$f":"IF(AND(ISNUMBER(Table_B.1!AV36),ISNUMBER(Table_B.2!AV36)),SUM(Table_B.1!AV36,Table_B.2!AV36),\":\")","v":0},null,{"$f":"IF(AND(ISNUMBER(Table_B.1!AX36),ISNUMBER(Table_B.2!AX36)),SUM(Table_B.1!AX36,Table_B.2!AX36),\":\")","v":0},null,{"$f":"IF(AND(ISNUMBER(Table_B.1!AZ36),ISNUMBER(Table_B.2!AZ36)),SUM(Table_B.1!AZ36,Table_B.2!AZ36),\":\")","v":0},null,{"$f":"IF(AND(ISNUMBER(Table_B.1!BB36),ISNUMBER(Table_B.2!BB36)),SUM(Table_B.1!BB36,Table_B.2!BB36),\":\")","v":0},null,{"$f":"IF(AND(ISNUMBER(Table_B.1!BD36),ISNUMBER(Table_B.2!BD36)),SUM(Table_B.1!BD36,Table_B.2!BD36),\":\")","v":0},null,{"$f":"IF(AND(ISNUMBER(Table_B.1!BF36),ISNUMBER(Table_B.2!BF36)),SUM(Table_B.1!BF36,Table_B.2!BF36),\":\")","v":0},null,{"$f":"IF(AND(ISNUMBER(Table_B.1!BH36),ISNUMBER(Table_B.2!BH36)),SUM(Table_B.1!BH36,Table_B.2!BH36),\":\")","v":0},null,{"$f":"IF(AND(ISNUMBER(Table_B.1!BJ36),ISNUMBER(Table_B.2!BJ36)),SUM(Table_B.1!BJ36,Table_B.2!BJ36),\":\")","v":0},null,{"$f":"IF(AND(ISNUMBER(Table_B.1!BL36),ISNUMBER(Table_B.2!BL36)),SUM(Table_B.1!BL36,Table_B.2!BL36),\":\")","v":0},null,{"$f":"IF(AND(ISNUMBER(Table_B.1!BN36),ISNUMBER(Table_B.2!BN36)),SUM(Table_B.1!BN36,Table_B.2!BN36),\":\")","v":0},null,{"$f":"IF(AND(ISNUMBER(Table_B.1!BP36),ISNUMBER(Table_B.2!BP36)),SUM(Table_B.1!BP36,Table_B.2!BP36),\":\")","v":0},null,{"$f":"IF(AND(ISNUMBER(Table_B.1!BR36),ISNUMBER(Table_B.2!BR36)),SUM(Table_B.1!BR36,Table_B.2!BR36),\":\")","v":0},null,{"$f":"IF(AND(ISNUMBER(Table_B.1!BT36),ISNUMBER(Table_B.2!BT36)),SUM(Table_B.1!BT36,Table_B.2!BT36),\":\")","v":0},null,{"$f":"IF(AND(ISNUMBER(Table_B.1!BV36),ISNUMBER(Table_B.2!BV36)),SUM(Table_B.1!BV36,Table_B.2!BV36),\":\")","v":0},null,{"$f":"IF(AND(ISNUMBER(Table_B.1!BX36),ISNUMBER(Table_B.2!BX36)),SUM(Table_B.1!BX36,Table_B.2!BX36),\":\")","v":0},null,{"$f":"IF(AND(ISNUMBER(Table_B.1!BZ36),ISNUMBER(Table_B.2!BZ36)),SUM(Table_B.1!BZ36,Table_B.2!BZ36),\":\")","v":0},null,{"$f":"IF(AND(ISNUMBER(Table_B.1!CB36),ISNUMBER(Table_B.2!CB36)),SUM(Table_B.1!CB36,Table_B.2!CB36),\":\")","v":0},null,{"$f":"IF(AND(ISNUMBER(Table_B.1!CD36),ISNUMBER(Table_B.2!CD36)),SUM(Table_B.1!CD36,Table_B.2!CD36),\":\")","v":0},null,{"$f":"IF(AND(ISNUMBER(Table_B.1!CF36),ISNUMBER(Table_B.2!CF36)),SUM(Table_B.1!CF36,Table_B.2!CF36),\":\")","v":0},null,{"$f":"IF(AND(ISNUMBER(Table_B.1!CH36),ISNUMBER(Table_B.2!CH36)),SUM(Table_B.1!CH36,Table_B.2!CH36),\":\")","v":0},null,{"$f":"IF(AND(ISNUMBER(Table_B.1!CJ36),ISNUMBER(Table_B.2!CJ36)),SUM(Table_B.1!CJ36,Table_B.2!CJ36),\":\")","v":0},null,{"$f":"IF(AND(ISNUMBER(Table_B.1!CL36),ISNUMBER(Table_B.2!CL36)),SUM(Table_B.1!CL36,Table_B.2!CL36),\":\")","v":0},null,{"$f":"IF(AND(ISNUMBER(Table_B.1!CN36),ISNUMBER(Table_B.2!CN36)),SUM(Table_B.1!CN36,Table_B.2!CN36),\":\")","v":0},null,{"$f":"IF(AND(ISNUMBER(Table_B.1!CP36),ISNUMBER(Table_B.2!CP36)),SUM(Table_B.1!CP36,Table_B.2!CP36),\":\")","v":0},null,{"$f":"IF(AND(ISNUMBER(Table_B.1!CR36),ISNUMBER(Table_B.2!CR36)),SUM(Table_B.1!CR36,Table_B.2!CR36),\":\")","v":0},null,{"$f":"IF(AND(ISNUMBER(Table_B.1!CT36),ISNUMBER(Table_B.2!CT36)),SUM(Table_B.1!CT36,Table_B.2!CT36),\":\")","v":0},null,{"$f":"IF(AND(ISNUMBER(Table_B.1!CV36),ISNUMBER(Table_B.2!CV36)),SUM(Table_B.1!CV36,Table_B.2!CV36),\":\")","v":0},null,{"$f":"IF(AND(ISNUMBER(Table_B.1!CX36),ISNUMBER(Table_B.2!CX36)),SUM(Table_B.1!CX36,Table_B.2!CX36),\":\")","v":0},null,{"$f":"IF(AND(ISNUMBER(Table_B.1!CZ36),ISNUMBER(Table_B.2!CZ36)),SUM(Table_B.1!CZ36,Table_B.2!CZ36),\":\")","v":0},null,{"$f":"IF(AND(ISNUMBER(Table_B.1!DB36),ISNUMBER(Table_B.2!DB36)),SUM(Table_B.1!DB36,Table_B.2!DB36),\":\")","v":0},null,{"$f":"IF(AND(ISNUMBER(Table_B.1!DD36),ISNUMBER(Table_B.2!DD36)),SUM(Table_B.1!DD36,Table_B.2!DD36),\":\")","v":0},null,{"$f":"IF(AND(ISNUMBER(Table_B.1!DF36),ISNUMBER(Table_B.2!DF36)),SUM(Table_B.1!DF36,Table_B.2!DF36),\":\")","v":0},null,{"$f":"IF(AND(ISNUMBER(Table_B.1!DH36),ISNUMBER(Table_B.2!DH36)),SUM(Table_B.1!DH36,Table_B.2!DH36),\":\")","v":0},null,{"$f":"IF(AND(ISNUMBER(Table_B.1!DJ36),ISNUMBER(Table_B.2!DJ36)),SUM(Table_B.1!DJ36,Table_B.2!DJ36),\":\")","v":0},null,{"$f":"IF(AND(ISNUMBER(Table_B.1!DL36),ISNUMBER(Table_B.2!DL36)),SUM(Table_B.1!DL36,Table_B.2!DL36),\":\")","v":0},null,{"$f":"IF(AND(ISNUMBER(Table_B.1!DN36),ISNUMBER(Table_B.2!DN36)),SUM(Table_B.1!DN36,Table_B.2!DN36),\":\")","v":0},null,{"$f":"IF(AND(ISNUMBER(Table_B.1!DP36),ISNUMBER(Table_B.2!DP36)),SUM(Table_B.1!DP36,Table_B.2!DP36),\":\")","v":0},null,{"$f":"IF(AND(ISNUMBER(Table_B.1!DR36),ISNUMBER(Table_B.2!DR36)),SUM(Table_B.1!DR36,Table_B.2!DR36),\":\")","v":0},null,{"$f":"IF(AND(ISNUMBER(Table_B.1!DT36),ISNUMBER(Table_B.2!DT36)),SUM(Table_B.1!DT36,Table_B.2!DT36),\":\")","v":0},null,{"$f":"IF(AND(ISNUMBER(Table_B.1!DV36),ISNUMBER(Table_B.2!DV36)),SUM(Table_B.1!DV36,Table_B.2!DV36),\":\")","v":0},null,{"$f":"IF(AND(ISNUMBER(Table_B.1!DX36),ISNUMBER(Table_B.2!DX36)),SUM(Table_B.1!DX36,Table_B.2!DX36),\":\")","v":0},null,{"$f":"IF(AND(ISNUMBER(Table_B.1!DZ36),ISNUMBER(Table_B.2!DZ36)),SUM(Table_B.1!DZ36,Table_B.2!DZ36),\":\")","v":0},null,{"$f":"IF(AND(ISNUMBER(Table_B.1!EB36),ISNUMBER(Table_B.2!EB36)),SUM(Table_B.1!EB36,Table_B.2!EB36),\":\")","v":0},null,{"$f":"IF(AND(ISNUMBER(Table_B.1!ED36),ISNUMBER(Table_B.2!ED36)),SUM(Table_B.1!ED36,Table_B.2!ED36),\":\")","v":0},null,{"$f":"IF(AND(ISNUMBER(Table_B.1!EF36),ISNUMBER(Table_B.2!EF36)),SUM(Table_B.1!EF36,Table_B.2!EF36),\":\")","v":0},null,{"$f":"IF(AND(ISNUMBER(Table_B.1!EH36),ISNUMBER(Table_B.2!EH36)),SUM(Table_B.1!EH36,Table_B.2!EH36),\":\")","v":0},null,{"$f":"IF(AND(ISNUMBER(Table_B.1!EJ36),ISNUMBER(Table_B.2!EJ36)),SUM(Table_B.1!EJ36,Table_B.2!EJ36),\":\")","v":0},null,{"$f":"IF(AND(ISNUMBER(Table_B.1!EL36),ISNUMBER(Table_B.2!EL36)),SUM(Table_B.1!EL36,Table_B.2!EL36),\":\")","v":0},null,{"$f":"IF(AND(ISNUMBER(Table_B.1!EN36),ISNUMBER(Table_B.2!EN36)),SUM(Table_B.1!EN36,Table_B.2!EN36),\":\")","v":0},null,{"$f":"IF(AND(ISNUMBER(Table_B.1!EP36),ISNUMBER(Table_B.2!EP36)),SUM(Table_B.1!EP36,Table_B.2!EP36),\":\")","v":0},null,{"$f":"IF(AND(ISNUMBER(Table_B.1!ER36),ISNUMBER(Table_B.2!ER36)),SUM(Table_B.1!ER36,Table_B.2!ER36),\":\")","v":0},null,{"$f":"IF(AND(ISNUMBER(Table_B.1!ET36),ISNUMBER(Table_B.2!ET36)),SUM(Table_B.1!ET36,Table_B.2!ET36),\":\")","v":0},null,{"$f":"IF(AND(ISNUMBER(Table_B.1!EV36),ISNUMBER(Table_B.2!EV36)),SUM(Table_B.1!EV36,Table_B.2!EV36),\":\")","v":0},null,{"$f":"IF(AND(ISNUMBER(Table_B.1!EX36),ISNUMBER(Table_B.2!EX36)),SUM(Table_B.1!EX36,Table_B.2!EX36),\":\")","v":0},null,{"$f":"IF(AND(ISNUMBER(Table_B.1!EZ36),ISNUMBER(Table_B.2!EZ36)),SUM(Table_B.1!EZ36,Table_B.2!EZ36),\":\")","v":0},null,{"$f":"IF(AND(ISNUMBER(Table_B.1!FB36),ISNUMBER(Table_B.2!FB36)),SUM(Table_B.1!FB36,Table_B.2!FB36),\":\")","v":0},null,{"$f":"IF(AND(ISNUMBER(Table_B.1!FD36),ISNUMBER(Table_B.2!FD36)),SUM(Table_B.1!FD36,Table_B.2!FD36),\":\")","v":0},null,{"$f":"IF(AND(ISNUMBER(Table_B.1!FF36),ISNUMBER(Table_B.2!FF36)),SUM(Table_B.1!FF36,Table_B.2!FF36),\":\")","v":0},null,{"$f":"SUM(Table_B.1!FH36,Table_B.2!FH36)","v":0},null,{"$f":"IF(OR(ISNUMBER(Table_B.1!FJ36),ISNUMBER(Table_B.2!FJ36)),SUM(Table_B.1!FJ36,Table_B.2!FJ36),\":\")","v":0},null,{"$f":"IF(OR(ISNUMBER(Table_B.1!FL36),ISNUMBER(Table_B.2!FL36)),SUM(Table_B.1!FL36,Table_B.2!FL36),\":\")","v":0},null,{"$f":"IF(OR(ISNUMBER(Table_B.1!FN36),ISNUMBER(Table_B.2!FN36)),SUM(Table_B.1!FN36,Table_B.2!FN36),\":\")","v":0},null,{"$f":"IF(OR(ISNUMBER(Table_B.1!FP36),ISNUMBER(Table_B.2!FP36)),SUM(Table_B.1!FP36,Table_B.2!FP36),\":\")","v":0},null,{"$f":"IF(OR(ISNUMBER(Table_B.1!FR36),ISNUMBER(Table_B.2!FR36)),SUM(Table_B.1!FR36,Table_B.2!FR36),\":\")","v":0},null,{"$f":"IF(OR(ISNUMBER(Table_B.1!FT36),ISNUMBER(Table_B.2!FT36)),SUM(Table_B.1!FT36,Table_B.2!FT36),\":\")","v":0},null,null,null,0,null,""]
[null,29,2,{"$f":"'PEFA rows'!C31","v":"P27"},{"$f":"'PEFA rows'!D31","v":"Heat"},null,null,0,null,{"$f":"IF(AND(ISNUMBER(Table_B.1!J37),ISNUMBER(Table_B.2!J37)),SUM(Table_B.1!J37,Table_B.2!J37),\":\")","v":0},null,{"$f":"IF(AND(ISNUMBER(Table_B.1!L37),ISNUMBER(Table_B.2!L37)),SUM(Table_B.1!L37,Table_B.2!L37),\":\")","v":0},null,{"$f":"IF(AND(ISNUMBER(Table_B.1!N37),ISNUMBER(Table_B.2!N37)),SUM(Table_B.1!N37,Table_B.2!N37),\":\")","v":0},null,{"$f":"IF(AND(ISNUMBER(Table_B.1!P37),ISNUMBER(Table_B.2!P37)),SUM(Table_B.1!P37,Table_B.2!P37),\":\")","v":0},null,{"$f":"IF(AND(ISNUMBER(Table_B.1!R37),ISNUMBER(Table_B.2!R37)),SUM(Table_B.1!R37,Table_B.2!R37),\":\")","v":0},null,{"$f":"IF(AND(ISNUMBER(Table_B.1!T37),ISNUMBER(Table_B.2!T37)),SUM(Table_B.1!T37,Table_B.2!T37),\":\")","v":0},null,{"$f":"IF(AND(ISNUMBER(Table_B.1!V37),ISNUMBER(Table_B.2!V37)),SUM(Table_B.1!V37,Table_B.2!V37),\":\")","v":0},null,{"$f":"IF(AND(ISNUMBER(Table_B.1!X37),ISNUMBER(Table_B.2!X37)),SUM(Table_B.1!X37,Table_B.2!X37),\":\")","v":0},null,{"$f":"IF(AND(ISNUMBER(Table_B.1!Z37),ISNUMBER(Table_B.2!Z37)),SUM(Table_B.1!Z37,Table_B.2!Z37),\":\")","v":0},null,{"$f":"IF(AND(ISNUMBER(Table_B.1!AB37),ISNUMBER(Table_B.2!AB37)),SUM(Table_B.1!AB37,Table_B.2!AB37),\":\")","v":0},null,{"$f":"IF(AND(ISNUMBER(Table_B.1!AD37),ISNUMBER(Table_B.2!AD37)),SUM(Table_B.1!AD37,Table_B.2!AD37),\":\")","v":0},null,{"$f":"IF(AND(ISNUMBER(Table_B.1!AF37),ISNUMBER(Table_B.2!AF37)),SUM(Table_B.1!AF37,Table_B.2!AF37),\":\")","v":0},null,{"$f":"IF(AND(ISNUMBER(Table_B.1!AH37),ISNUMBER(Table_B.2!AH37)),SUM(Table_B.1!AH37,Table_B.2!AH37),\":\")","v":0},null,{"$f":"IF(AND(ISNUMBER(Table_B.1!AJ37),ISNUMBER(Table_B.2!AJ37)),SUM(Table_B.1!AJ37,Table_B.2!AJ37),\":\")","v":0},null,{"$f":"IF(AND(ISNUMBER(Table_B.1!AL37),ISNUMBER(Table_B.2!AL37)),SUM(Table_B.1!AL37,Table_B.2!AL37),\":\")","v":0},null,{"$f":"IF(AND(ISNUMBER(Table_B.1!AN37),ISNUMBER(Table_B.2!AN37)),SUM(Table_B.1!AN37,Table_B.2!AN37),\":\")","v":0},null,{"$f":"IF(AND(ISNUMBER(Table_B.1!AP37),ISNUMBER(Table_B.2!AP37)),SUM(Table_B.1!AP37,Table_B.2!AP37),\":\")","v":0},null,{"$f":"IF(AND(ISNUMBER(Table_B.1!AR37),ISNUMBER(Table_B.2!AR37)),SUM(Table_B.1!AR37,Table_B.2!AR37),\":\")","v":0},null,{"$f":"IF(AND(ISNUMBER(Table_B.1!AT37),ISNUMBER(Table_B.2!AT37)),SUM(Table_B.1!AT37,Table_B.2!AT37),\":\")","v":0},null,{"$f":"IF(AND(ISNUMBER(Table_B.1!AV37),ISNUMBER(Table_B.2!AV37)),SUM(Table_B.1!AV37,Table_B.2!AV37),\":\")","v":0},null,{"$f":"IF(AND(ISNUMBER(Table_B.1!AX37),ISNUMBER(Table_B.2!AX37)),SUM(Table_B.1!AX37,Table_B.2!AX37),\":\")","v":0},null,{"$f":"IF(AND(ISNUMBER(Table_B.1!AZ37),ISNUMBER(Table_B.2!AZ37)),SUM(Table_B.1!AZ37,Table_B.2!AZ37),\":\")","v":0},null,{"$f":"IF(AND(ISNUMBER(Table_B.1!BB37),ISNUMBER(Table_B.2!BB37)),SUM(Table_B.1!BB37,Table_B.2!BB37),\":\")","v":0},null,{"$f":"IF(AND(ISNUMBER(Table_B.1!BD37),ISNUMBER(Table_B.2!BD37)),SUM(Table_B.1!BD37,Table_B.2!BD37),\":\")","v":0},null,{"$f":"IF(AND(ISNUMBER(Table_B.1!BF37),ISNUMBER(Table_B.2!BF37)),SUM(Table_B.1!BF37,Table_B.2!BF37),\":\")","v":0},null,{"$f":"IF(AND(ISNUMBER(Table_B.1!BH37),ISNUMBER(Table_B.2!BH37)),SUM(Table_B.1!BH37,Table_B.2!BH37),\":\")","v":0},null,{"$f":"IF(AND(ISNUMBER(Table_B.1!BJ37),ISNUMBER(Table_B.2!BJ37)),SUM(Table_B.1!BJ37,Table_B.2!BJ37),\":\")","v":0},null,{"$f":"IF(AND(ISNUMBER(Table_B.1!BL37),ISNUMBER(Table_B.2!BL37)),SUM(Table_B.1!BL37,Table_B.2!BL37),\":\")","v":0},null,{"$f":"IF(AND(ISNUMBER(Table_B.1!BN37),ISNUMBER(Table_B.2!BN37)),SUM(Table_B.1!BN37,Table_B.2!BN37),\":\")","v":0},null,{"$f":"IF(AND(ISNUMBER(Table_B.1!BP37),ISNUMBER(Table_B.2!BP37)),SUM(Table_B.1!BP37,Table_B.2!BP37),\":\")","v":0},null,{"$f":"IF(AND(ISNUMBER(Table_B.1!BR37),ISNUMBER(Table_B.2!BR37)),SUM(Table_B.1!BR37,Table_B.2!BR37),\":\")","v":0},null,{"$f":"IF(AND(ISNUMBER(Table_B.1!BT37),ISNUMBER(Table_B.2!BT37)),SUM(Table_B.1!BT37,Table_B.2!BT37),\":\")","v":0},null,{"$f":"IF(AND(ISNUMBER(Table_B.1!BV37),ISNUMBER(Table_B.2!BV37)),SUM(Table_B.1!BV37,Table_B.2!BV37),\":\")","v":0},null,{"$f":"IF(AND(ISNUMBER(Table_B.1!BX37),ISNUMBER(Table_B.2!BX37)),SUM(Table_B.1!BX37,Table_B.2!BX37),\":\")","v":0},null,{"$f":"IF(AND(ISNUMBER(Table_B.1!BZ37),ISNUMBER(Table_B.2!BZ37)),SUM(Table_B.1!BZ37,Table_B.2!BZ37),\":\")","v":0},null,{"$f":"IF(AND(ISNUMBER(Table_B.1!CB37),ISNUMBER(Table_B.2!CB37)),SUM(Table_B.1!CB37,Table_B.2!CB37),\":\")","v":0},null,{"$f":"IF(AND(ISNUMBER(Table_B.1!CD37),ISNUMBER(Table_B.2!CD37)),SUM(Table_B.1!CD37,Table_B.2!CD37),\":\")","v":0},null,{"$f":"IF(AND(ISNUMBER(Table_B.1!CF37),ISNUMBER(Table_B.2!CF37)),SUM(Table_B.1!CF37,Table_B.2!CF37),\":\")","v":0},null,{"$f":"IF(AND(ISNUMBER(Table_B.1!CH37),ISNUMBER(Table_B.2!CH37)),SUM(Table_B.1!CH37,Table_B.2!CH37),\":\")","v":0},null,{"$f":"IF(AND(ISNUMBER(Table_B.1!CJ37),ISNUMBER(Table_B.2!CJ37)),SUM(Table_B.1!CJ37,Table_B.2!CJ37),\":\")","v":0},null,{"$f":"IF(AND(ISNUMBER(Table_B.1!CL37),ISNUMBER(Table_B.2!CL37)),SUM(Table_B.1!CL37,Table_B.2!CL37),\":\")","v":0},null,{"$f":"IF(AND(ISNUMBER(Table_B.1!CN37),ISNUMBER(Table_B.2!CN37)),SUM(Table_B.1!CN37,Table_B.2!CN37),\":\")","v":0},null,{"$f":"IF(AND(ISNUMBER(Table_B.1!CP37),ISNUMBER(Table_B.2!CP37)),SUM(Table_B.1!CP37,Table_B.2!CP37),\":\")","v":0},null,{"$f":"IF(AND(ISNUMBER(Table_B.1!CR37),ISNUMBER(Table_B.2!CR37)),SUM(Table_B.1!CR37,Table_B.2!CR37),\":\")","v":0},null,{"$f":"IF(AND(ISNUMBER(Table_B.1!CT37),ISNUMBER(Table_B.2!CT37)),SUM(Table_B.1!CT37,Table_B.2!CT37),\":\")","v":0},null,{"$f":"IF(AND(ISNUMBER(Table_B.1!CV37),ISNUMBER(Table_B.2!CV37)),SUM(Table_B.1!CV37,Table_B.2!CV37),\":\")","v":0},null,{"$f":"IF(AND(ISNUMBER(Table_B.1!CX37),ISNUMBER(Table_B.2!CX37)),SUM(Table_B.1!CX37,Table_B.2!CX37),\":\")","v":0},null,{"$f":"IF(AND(ISNUMBER(Table_B.1!CZ37),ISNUMBER(Table_B.2!CZ37)),SUM(Table_B.1!CZ37,Table_B.2!CZ37),\":\")","v":0},null,{"$f":"IF(AND(ISNUMBER(Table_B.1!DB37),ISNUMBER(Table_B.2!DB37)),SUM(Table_B.1!DB37,Table_B.2!DB37),\":\")","v":0},null,{"$f":"IF(AND(ISNUMBER(Table_B.1!DD37),ISNUMBER(Table_B.2!DD37)),SUM(Table_B.1!DD37,Table_B.2!DD37),\":\")","v":0},null,{"$f":"IF(AND(ISNUMBER(Table_B.1!DF37),ISNUMBER(Table_B.2!DF37)),SUM(Table_B.1!DF37,Table_B.2!DF37),\":\")","v":0},null,{"$f":"IF(AND(ISNUMBER(Table_B.1!DH37),ISNUMBER(Table_B.2!DH37)),SUM(Table_B.1!DH37,Table_B.2!DH37),\":\")","v":0},null,{"$f":"IF(AND(ISNUMBER(Table_B.1!DJ37),ISNUMBER(Table_B.2!DJ37)),SUM(Table_B.1!DJ37,Table_B.2!DJ37),\":\")","v":0},null,{"$f":"IF(AND(ISNUMBER(Table_B.1!DL37),ISNUMBER(Table_B.2!DL37)),SUM(Table_B.1!DL37,Table_B.2!DL37),\":\")","v":0},null,{"$f":"IF(AND(ISNUMBER(Table_B.1!DN37),ISNUMBER(Table_B.2!DN37)),SUM(Table_B.1!DN37,Table_B.2!DN37),\":\")","v":0},null,{"$f":"IF(AND(ISNUMBER(Table_B.1!DP37),ISNUMBER(Table_B.2!DP37)),SUM(Table_B.1!DP37,Table_B.2!DP37),\":\")","v":0},null,{"$f":"IF(AND(ISNUMBER(Table_B.1!DR37),ISNUMBER(Table_B.2!DR37)),SUM(Table_B.1!DR37,Table_B.2!DR37),\":\")","v":0},null,{"$f":"IF(AND(ISNUMBER(Table_B.1!DT37),ISNUMBER(Table_B.2!DT37)),SUM(Table_B.1!DT37,Table_B.2!DT37),\":\")","v":0},null,{"$f":"IF(AND(ISNUMBER(Table_B.1!DV37),ISNUMBER(Table_B.2!DV37)),SUM(Table_B.1!DV37,Table_B.2!DV37),\":\")","v":0},null,{"$f":"IF(AND(ISNUMBER(Table_B.1!DX37),ISNUMBER(Table_B.2!DX37)),SUM(Table_B.1!DX37,Table_B.2!DX37),\":\")","v":0},null,{"$f":"IF(AND(ISNUMBER(Table_B.1!DZ37),ISNUMBER(Table_B.2!DZ37)),SUM(Table_B.1!DZ37,Table_B.2!DZ37),\":\")","v":0},null,{"$f":"IF(AND(ISNUMBER(Table_B.1!EB37),ISNUMBER(Table_B.2!EB37)),SUM(Table_B.1!EB37,Table_B.2!EB37),\":\")","v":0},null,{"$f":"IF(AND(ISNUMBER(Table_B.1!ED37),ISNUMBER(Table_B.2!ED37)),SUM(Table_B.1!ED37,Table_B.2!ED37),\":\")","v":0},null,{"$f":"IF(AND(ISNUMBER(Table_B.1!EF37),ISNUMBER(Table_B.2!EF37)),SUM(Table_B.1!EF37,Table_B.2!EF37),\":\")","v":0},null,{"$f":"IF(AND(ISNUMBER(Table_B.1!EH37),ISNUMBER(Table_B.2!EH37)),SUM(Table_B.1!EH37,Table_B.2!EH37),\":\")","v":0},null,{"$f":"IF(AND(ISNUMBER(Table_B.1!EJ37),ISNUMBER(Table_B.2!EJ37)),SUM(Table_B.1!EJ37,Table_B.2!EJ37),\":\")","v":0},null,{"$f":"IF(AND(ISNUMBER(Table_B.1!EL37),ISNUMBER(Table_B.2!EL37)),SUM(Table_B.1!EL37,Table_B.2!EL37),\":\")","v":0},null,{"$f":"IF(AND(ISNUMBER(Table_B.1!EN37),ISNUMBER(Table_B.2!EN37)),SUM(Table_B.1!EN37,Table_B.2!EN37),\":\")","v":0},null,{"$f":"IF(AND(ISNUMBER(Table_B.1!EP37),ISNUMBER(Table_B.2!EP37)),SUM(Table_B.1!EP37,Table_B.2!EP37),\":\")","v":0},null,{"$f":"IF(AND(ISNUMBER(Table_B.1!ER37),ISNUMBER(Table_B.2!ER37)),SUM(Table_B.1!ER37,Table_B.2!ER37),\":\")","v":0},null,{"$f":"IF(AND(ISNUMBER(Table_B.1!ET37),ISNUMBER(Table_B.2!ET37)),SUM(Table_B.1!ET37,Table_B.2!ET37),\":\")","v":0},null,{"$f":"IF(AND(ISNUMBER(Table_B.1!EV37),ISNUMBER(Table_B.2!EV37)),SUM(Table_B.1!EV37,Table_B.2!EV37),\":\")","v":0},null,{"$f":"IF(AND(ISNUMBER(Table_B.1!EX37),ISNUMBER(Table_B.2!EX37)),SUM(Table_B.1!EX37,Table_B.2!EX37),\":\")","v":0},null,{"$f":"IF(AND(ISNUMBER(Table_B.1!EZ37),ISNUMBER(Table_B.2!EZ37)),SUM(Table_B.1!EZ37,Table_B.2!EZ37),\":\")","v":0},null,{"$f":"IF(AND(ISNUMBER(Table_B.1!FB37),ISNUMBER(Table_B.2!FB37)),SUM(Table_B.1!FB37,Table_B.2!FB37),\":\")","v":0},null,{"$f":"IF(AND(ISNUMBER(Table_B.1!FD37),ISNUMBER(Table_B.2!FD37)),SUM(Table_B.1!FD37,Table_B.2!FD37),\":\")","v":0},null,{"$f":"IF(AND(ISNUMBER(Table_B.1!FF37),ISNUMBER(Table_B.2!FF37)),SUM(Table_B.1!FF37,Table_B.2!FF37),\":\")","v":0},null,{"$f":"SUM(Table_B.1!FH37,Table_B.2!FH37)","v":0},null,{"$f":"IF(OR(ISNUMBER(Table_B.1!FJ37),ISNUMBER(Table_B.2!FJ37)),SUM(Table_B.1!FJ37,Table_B.2!FJ37),\":\")","v":0},null,{"$f":"IF(OR(ISNUMBER(Table_B.1!FL37),ISNUMBER(Table_B.2!FL37)),SUM(Table_B.1!FL37,Table_B.2!FL37),\":\")","v":0},null,{"$f":"IF(OR(ISNUMBER(Table_B.1!FN37),ISNUMBER(Table_B.2!FN37)),SUM(Table_B.1!FN37,Table_B.2!FN37),\":\")","v":0},null,{"$f":"IF(OR(ISNUMBER(Table_B.1!FP37),ISNUMBER(Table_B.2!FP37)),SUM(Table_B.1!FP37,Table_B.2!FP37),\":\")","v":0},null,{"$f":"IF(OR(ISNUMBER(Table_B.1!FR37),ISNUMBER(Table_B.2!FR37)),SUM(Table_B.1!FR37,Table_B.2!FR37),\":\")","v":0},null,{"$f":"IF(OR(ISNUMBER(Table_B.1!FT37),ISNUMBER(Table_B.2!FT37)),SUM(Table_B.1!FT37,Table_B.2!FT37),\":\")","v":0},null,null,null,{"$f":"SUM(H37,FJ37,FR37,,FT37,FV37)","v":0},null,""]
[null,30,{"$f":"'PEFA rows'!B32","v":1},{"$f":"'PEFA rows'!C32","v":"R00"},{"$f":"'PEFA rows'!D32","v":"ENERGY AND OTHER RESIDUALS"},null,null,{"$f":"SUM(H39:H42)","v":0},null,{"$f":"SUM(J39:J42)","v":0},null,{"$f":"SUM(L39:L42)","v":0},null,{"$f":"SUM(N39:N42)","v":0},null,{"$f":"SUM(P39:P42)","v":0},null,{"$f":"SUM(R39:R42)","v":0},null,{"$f":"SUM(T39:T42)","v":0},null,{"$f":"SUM(V39:V42)","v":0},null,{"$f":"SUM(X39:X42)","v":0},null,{"$f":"SUM(Z39:Z42)","v":0},null,{"$f":"SUM(AB39:AB42)","v":0},null,{"$f":"SUM(AD39:AD42)","v":0},null,{"$f":"SUM(AF39:AF42)","v":0},null,{"$f":"SUM(AH39:AH42)","v":0},null,{"$f":"SUM(AJ39:AJ42)","v":0},null,{"$f":"SUM(AL39:AL42)","v":0},null,{"$f":"SUM(AN39:AN42)","v":0},null,{"$f":"SUM(AP39:AP42)","v":0},null,{"$f":"SUM(AR39:AR42)","v":0},null,{"$f":"SUM(AT39:AT42)","v":0},null,{"$f":"SUM(AV39:AV42)","v":0},null,{"$f":"SUM(AX39:AX42)","v":0},null,{"$f":"SUM(AZ39:AZ42)","v":0},null,{"$f":"SUM(BB39:BB42)","v":0},null,{"$f":"SUM(BD39:BD42)","v":0},null,{"$f":"SUM(BF39:BF42)","v":0},null,{"$f":"SUM(BH39:BH42)","v":0},null,{"$f":"SUM(BJ39:BJ42)","v":0},null,{"$f":"SUM(BL39:BL42)","v":0},null,{"$f":"SUM(BN39:BN42)","v":0},null,{"$f":"SUM(BP39:BP42)","v":0},null,{"$f":"SUM(BR39:BR42)","v":0},null,{"$f":"SUM(BT39:BT42)","v":0},null,{"$f":"SUM(BV39:BV42)","v":0},null,{"$f":"SUM(BX39:BX42)","v":0},null,{"$f":"SUM(BZ39:BZ42)","v":0},null,{"$f":"SUM(CB39:CB42)","v":0},null,{"$f":"SUM(CD39:CD42)","v":0},null,{"$f":"SUM(CF39:CF42)","v":0},null,{"$f":"SUM(CH39:CH42)","v":0},null,{"$f":"SUM(CJ39:CJ42)","v":0},null,{"$f":"SUM(CL39:CL42)","v":0},null,{"$f":"SUM(CN39:CN42)","v":0},null,{"$f":"SUM(CP39:CP42)","v":0},null,{"$f":"SUM(CR39:CR42)","v":0},null,{"$f":"SUM(CT39:CT42)","v":0},null,{"$f":"SUM(CV39:CV42)","v":0},null,{"$f":"SUM(CX39:CX42)","v":0},null,{"$f":"SUM(CZ39:CZ42)","v":0},null,{"$f":"SUM(DB39:DB42)","v":0},null,{"$f":"SUM(DD39:DD42)","v":0},null,{"$f":"SUM(DF39:DF42)","v":0},null,{"$f":"SUM(DH39:DH42)","v":0},null,{"$f":"SUM(DJ39:DJ42)","v":0},null,{"$f":"SUM(DL39:DL42)","v":0},null,{"$f":"SUM(DN39:DN42)","v":0},null,{"$f":"SUM(DP39:DP42)","v":0},null,{"$f":"SUM(DR39:DR42)","v":0},null,{"$f":"SUM(DT39:DT42)","v":0},null,{"$f":"SUM(DV39:DV42)","v":0},null,{"$f":"SUM(DX39:DX42)","v":0},null,{"$f":"SUM(DZ39:DZ42)","v":0},null,{"$f":"SUM(EB39:EB42)","v":0},null,{"$f":"SUM(ED39:ED42)","v":0},null,{"$f":"SUM(EF39:EF42)","v":0},null,{"$f":"SUM(EH39:EH42)","v":0},null,{"$f":"SUM(EJ39:EJ42)","v":0},null,{"$f":"SUM(EL39:EL42)","v":0},null,{"$f":"SUM(EN39:EN42)","v":0},null,{"$f":"SUM(EP39:EP42)","v":0},null,{"$f":"SUM(ER39:ER42)","v":0},null,{"$f":"SUM(ET39:ET42)","v":0},null,{"$f":"SUM(EV39:EV42)","v":0},null,{"$f":"SUM(EX39:EX42)","v":0},null,{"$f":"SUM(EZ39:EZ42)","v":0},null,{"$f":"SUM(FB39:FB42)","v":0},null,{"$f":"SUM(FD39:FD42)","v":0},null,{"$f":"SUM(FF39:FF42)","v":0},null,{"$f":"SUM(FH39:FH42)","v":0},null,{"$f":"SUM(FJ39:FJ42)","v":0},null,{"$f":"SUM(FL39:FL42)","v":0},null,{"$f":"SUM(FN39:FN42)","v":0},null,{"$f":"SUM(FP39:FP42)","v":0},null,{"$f":"SUM(FR39:FR42)","v":0},null,{"$f":"SUM(FT39:FT42)","v":0},null,{"$f":"SUM(FV39:FV42)","v":0},null,{"$f":"SUM(FX39:FX42)","v":0},null,""]
[null,31,2,{"$f":"'PEFA rows'!C33","v":"R28"},{"$f":"'PEFA rows'!D33","v":"Renewable waste"},null,null,{"$f":"SUM(J39,R39,T39,BH39,BJ39,BP39,BR39,BZ39,CL39,CN39,CX39,DF39,DJ39,DV39,EF39,EH39,EJ39,EP39,EV39,FD39,FF39,FH39)","v":0},null,{"$f":"IF(AND(ISNUMBER(Table_B.1!J39),ISNUMBER(Table_B.2!J39)),SUM(Table_B.1!J39,Table_B.2!J39),\":\")","v":0},null,{"$f":"IF(AND(ISNUMBER(Table_B.1!L39),ISNUMBER(Table_B.2!L39)),SUM(Table_B.1!L39,Table_B.2!L39),\":\")","v":0},null,{"$f":"IF(AND(ISNUMBER(Table_B.1!N39),ISNUMBER(Table_B.2!N39)),SUM(Table_B.1!N39,Table_B.2!N39),\":\")","v":0},null,{"$f":"IF(AND(ISNUMBER(Table_B.1!P39),ISNUMBER(Table_B.2!P39)),SUM(Table_B.1!P39,Table_B.2!P39),\":\")","v":0},null,{"$f":"IF(AND(ISNUMBER(Table_B.1!R39),ISNUMBER(Table_B.2!R39)),SUM(Table_B.1!R39,Table_B.2!R39),\":\")","v":0},null,{"$f":"IF(AND(ISNUMBER(Table_B.1!T39),ISNUMBER(Table_B.2!T39)),SUM(Table_B.1!T39,Table_B.2!T39),\":\")","v":0},null,{"$f":"IF(AND(ISNUMBER(Table_B.1!V39),ISNUMBER(Table_B.2!V39)),SUM(Table_B.1!V39,Table_B.2!V39),\":\")","v":0},null,{"$f":"IF(AND(ISNUMBER(Table_B.1!X39),ISNUMBER(Table_B.2!X39)),SUM(Table_B.1!X39,Table_B.2!X39),\":\")","v":0},null,{"$f":"IF(AND(ISNUMBER(Table_B.1!Z39),ISNUMBER(Table_B.2!Z39)),SUM(Table_B.1!Z39,Table_B.2!Z39),\":\")","v":0},null,{"$f":"IF(AND(ISNUMBER(Table_B.1!AB39),ISNUMBER(Table_B.2!AB39)),SUM(Table_B.1!AB39,Table_B.2!AB39),\":\")","v":0},null,{"$f":"IF(AND(ISNUMBER(Table_B.1!AD39),ISNUMBER(Table_B.2!AD39)),SUM(Table_B.1!AD39,Table_B.2!AD39),\":\")","v":0},null,{"$f":"IF(OR(ISNUMBER(Table_B.1!AF39),ISNUMBER(Table_B.2!AF39)),SUM(Table_B.1!AF39,Table_B.2!AF39),\":\")","v":0},null,{"$f":"IF(OR(ISNUMBER(Table_B.1!AH39),ISNUMBER(Table_B.2!AH39)),SUM(Table_B.1!AH39,Table_B.2!AH39),\":\")","v":0},null,{"$f":"IF(OR(ISNUMBER(Table_B.1!AJ39),ISNUMBER(Table_B.2!AJ39)),SUM(Table_B.1!AJ39,Table_B.2!AJ39),\":\")","v":0},null,{"$f":"IF(OR(ISNUMBER(Table_B.1!AL39),ISNUMBER(Table_B.2!AL39)),SUM(Table_B.1!AL39,Table_B.2!AL39),\":\")","v":0},null,{"$f":"IF(OR(ISNUMBER(Table_B.1!AN39),ISNUMBER(Table_B.2!AN39)),SUM(Table_B.1!AN39,Table_B.2!AN39),\":\")","v":0},null,{"$f":"IF(OR(ISNUMBER(Table_B.1!AP39),ISNUMBER(Table_B.2!AP39)),SUM(Table_B.1!AP39,Table_B.2!AP39),\":\")","v":0},null,{"$f":"IF(OR(ISNUMBER(Table_B.1!AR39),ISNUMBER(Table_B.2!AR39)),SUM(Table_B.1!AR39,Table_B.2!AR39),\":\")","v":0},null,{"$f":"IF(OR(ISNUMBER(Table_B.1!AT39),ISNUMBER(Table_B.2!AT39)),SUM(Table_B.1!AT39,Table_B.2!AT39),\":\")","v":0},null,{"$f":"IF(OR(ISNUMBER(Table_B.1!AV39),ISNUMBER(Table_B.2!AV39)),SUM(Table_B.1!AV39,Table_B.2!AV39),\":\")","v":0},null,{"$f":"IF(OR(ISNUMBER(Table_B.1!AX39),ISNUMBER(Table_B.2!AX39)),SUM(Table_B.1!AX39,Table_B.2!AX39),\":\")","v":0},null,{"$f":"IF(OR(ISNUMBER(Table_B.1!AZ39),ISNUMBER(Table_B.2!AZ39)),SUM(Table_B.1!AZ39,Table_B.2!AZ39),\":\")","v":0},null,{"$f":"IF(OR(ISNUMBER(Table_B.1!BB39),ISNUMBER(Table_B.2!BB39)),SUM(Table_B.1!BB39,Table_B.2!BB39),\":\")","v":0},null,{"$f":"IF(OR(ISNUMBER(Table_B.1!BD39),ISNUMBER(Table_B.2!BD39)),SUM(Table_B.1!BD39,Table_B.2!BD39),\":\")","v":0},null,{"$f":"IF(OR(ISNUMBER(Table_B.1!BF39),ISNUMBER(Table_B.2!BF39)),SUM(Table_B.1!BF39,Table_B.2!BF39),\":\")","v":0},null,{"$f":"IF(OR(ISNUMBER(Table_B.1!BH39),ISNUMBER(Table_B.2!BH39)),SUM(Table_B.1!BH39,Table_B.2!BH39),\":\")","v":0},null,{"$f":"IF(OR(ISNUMBER(Table_B.1!BJ39),ISNUMBER(Table_B.2!BJ39)),SUM(Table_B.1!BJ39,Table_B.2!BJ39),\":\")","v":0},null,{"$f":"IF(OR(ISNUMBER(Table_B.1!BL39),ISNUMBER(Table_B.2!BL39)),SUM(Table_B.1!BL39,Table_B.2!BL39),\":\")","v":0},null,{"$f":"IF(OR(ISNUMBER(Table_B.1!BN39),ISNUMBER(Table_B.2!BN39)),SUM(Table_B.1!BN39,Table_B.2!BN39),\":\")","v":0},null,{"$f":"IF(OR(ISNUMBER(Table_B.1!BP39),ISNUMBER(Table_B.2!BP39)),SUM(Table_B.1!BP39,Table_B.2!BP39),\":\")","v":0},null,{"$f":"IF(OR(ISNUMBER(Table_B.1!BR39),ISNUMBER(Table_B.2!BR39)),SUM(Table_B.1!BR39,Table_B.2!BR39),\":\")","v":0},null,{"$f":"IF(OR(ISNUMBER(Table_B.1!BT39),ISNUMBER(Table_B.2!BT39)),SUM(Table_B.1!BT39,Table_B.2!BT39),\":\")","v":0},null,{"$f":"IF(OR(ISNUMBER(Table_B.1!BV39),ISNUMBER(Table_B.2!BV39)),SUM(Table_B.1!BV39,Table_B.2!BV39),\":\")","v":0},null,{"$f":"IF(OR(ISNUMBER(Table_B.1!BX39),ISNUMBER(Table_B.2!BX39)),SUM(Table_B.1!BX39,Table_B.2!BX39),\":\")","v":0},null,{"$f":"IF(OR(ISNUMBER(Table_B.1!BZ39),ISNUMBER(Table_B.2!BZ39)),SUM(Table_B.1!BZ39,Table_B.2!BZ39),\":\")","v":0},null,{"$f":"IF(OR(ISNUMBER(Table_B.1!CB39),ISNUMBER(Table_B.2!CB39)),SUM(Table_B.1!CB39,Table_B.2!CB39),\":\")","v":0},null,{"$f":"IF(OR(ISNUMBER(Table_B.1!CD39),ISNUMBER(Table_B.2!CD39)),SUM(Table_B.1!CD39,Table_B.2!CD39),\":\")","v":0},null,{"$f":"IF(OR(ISNUMBER(Table_B.1!CF39),ISNUMBER(Table_B.2!CF39)),SUM(Table_B.1!CF39,Table_B.2!CF39),\":\")","v":0},null,{"$f":"IF(OR(ISNUMBER(Table_B.1!CH39),ISNUMBER(Table_B.2!CH39)),SUM(Table_B.1!CH39,Table_B.2!CH39),\":\")","v":0},null,{"$f":"IF(OR(ISNUMBER(Table_B.1!CJ39),ISNUMBER(Table_B.2!CJ39)),SUM(Table_B.1!CJ39,Table_B.2!CJ39),\":\")","v":0},null,{"$f":"IF(OR(ISNUMBER(Table_B.1!CL39),ISNUMBER(Table_B.2!CL39)),SUM(Table_B.1!CL39,Table_B.2!CL39),\":\")","v":0},null,{"$f":"IF(OR(ISNUMBER(Table_B.1!CN39),ISNUMBER(Table_B.2!CN39)),SUM(Table_B.1!CN39,Table_B.2!CN39),\":\")","v":0},null,{"$f":"IF(OR(ISNUMBER(Table_B.1!CP39),ISNUMBER(Table_B.2!CP39)),SUM(Table_B.1!CP39,Table_B.2!CP39),\":\")","v":0},null,{"$f":"IF(OR(ISNUMBER(Table_B.1!CR39),ISNUMBER(Table_B.2!CR39)),SUM(Table_B.1!CR39,Table_B.2!CR39),\":\")","v":0},null,{"$f":"IF(OR(ISNUMBER(Table_B.1!CT39),ISNUMBER(Table_B.2!CT39)),SUM(Table_B.1!CT39,Table_B.2!CT39),\":\")","v":0},null,{"$f":"IF(OR(ISNUMBER(Table_B.1!CV39),ISNUMBER(Table_B.2!CV39)),SUM(Table_B.1!CV39,Table_B.2!CV39),\":\")","v":0},null,{"$f":"IF(OR(ISNUMBER(Table_B.1!CX39),ISNUMBER(Table_B.2!CX39)),SUM(Table_B.1!CX39,Table_B.2!CX39),\":\")","v":0},null,{"$f":"IF(OR(ISNUMBER(Table_B.1!CZ39),ISNUMBER(Table_B.2!CZ39)),SUM(Table_B.1!CZ39,Table_B.2!CZ39),\":\")","v":0},null,{"$f":"IF(OR(ISNUMBER(Table_B.1!DB39),ISNUMBER(Table_B.2!DB39)),SUM(Table_B.1!DB39,Table_B.2!DB39),\":\")","v":0},null,{"$f":"IF(OR(ISNUMBER(Table_B.1!DD39),ISNUMBER(Table_B.2!DD39)),SUM(Table_B.1!DD39,Table_B.2!DD39),\":\")","v":0},null,{"$f":"IF(OR(ISNUMBER(Table_B.1!DF39),ISNUMBER(Table_B.2!DF39)),SUM(Table_B.1!DF39,Table_B.2!DF39),\":\")","v":0},null,{"$f":"IF(OR(ISNUMBER(Table_B.1!DH39),ISNUMBER(Table_B.2!DH39)),SUM(Table_B.1!DH39,Table_B.2!DH39),\":\")","v":0},null,{"$f":"IF(OR(ISNUMBER(Table_B.1!DJ39),ISNUMBER(Table_B.2!DJ39)),SUM(Table_B.1!DJ39,Table_B.2!DJ39),\":\")","v":0},null,{"$f":"IF(OR(ISNUMBER(Table_B.1!DL39),ISNUMBER(Table_B.2!DL39)),SUM(Table_B.1!DL39,Table_B.2!DL39),\":\")","v":0},null,{"$f":"IF(OR(ISNUMBER(Table_B.1!DN39),ISNUMBER(Table_B.2!DN39)),SUM(Table_B.1!DN39,Table_B.2!DN39),\":\")","v":0},null,{"$f":"IF(OR(ISNUMBER(Table_B.1!DP39),ISNUMBER(Table_B.2!DP39)),SUM(Table_B.1!DP39,Table_B.2!DP39),\":\")","v":0},null,{"$f":"IF(OR(ISNUMBER(Table_B.1!DR39),ISNUMBER(Table_B.2!DR39)),SUM(Table_B.1!DR39,Table_B.2!DR39),\":\")","v":0},null,{"$f":"IF(OR(ISNUMBER(Table_B.1!DT39),ISNUMBER(Table_B.2!DT39)),SUM(Table_B.1!DT39,Table_B.2!DT39),\":\")","v":0},null,{"$f":"IF(OR(ISNUMBER(Table_B.1!DV39),ISNUMBER(Table_B.2!DV39)),SUM(Table_B.1!DV39,Table_B.2!DV39),\":\")","v":0},null,{"$f":"IF(OR(ISNUMBER(Table_B.1!DX39),ISNUMBER(Table_B.2!DX39)),SUM(Table_B.1!DX39,Table_B.2!DX39),\":\")","v":0},null,{"$f":"IF(OR(ISNUMBER(Table_B.1!DZ39),ISNUMBER(Table_B.2!DZ39)),SUM(Table_B.1!DZ39,Table_B.2!DZ39),\":\")","v":0},null,{"$f":"IF(OR(ISNUMBER(Table_B.1!EB39),ISNUMBER(Table_B.2!EB39)),SUM(Table_B.1!EB39,Table_B.2!EB39),\":\")","v":0},null,{"$f":"IF(OR(ISNUMBER(Table_B.1!ED39),ISNUMBER(Table_B.2!ED39)),SUM(Table_B.1!ED39,Table_B.2!ED39),\":\")","v":0},null,{"$f":"IF(OR(ISNUMBER(Table_B.1!EF39),ISNUMBER(Table_B.2!EF39)),SUM(Table_B.1!EF39,Table_B.2!EF39),\":\")","v":0},null,{"$f":"IF(OR(ISNUMBER(Table_B.1!EH39),ISNUMBER(Table_B.2!EH39)),SUM(Table_B.1!EH39,Table_B.2!EH39),\":\")","v":0},null,{"$f":"IF(OR(ISNUMBER(Table_B.1!EJ39),ISNUMBER(Table_B.2!EJ39)),SUM(Table_B.1!EJ39,Table_B.2!EJ39),\":\")","v":0},null,{"$f":"IF(OR(ISNUMBER(Table_B.1!EL39),ISNUMBER(Table_B.2!EL39)),SUM(Table_B.1!EL39,Table_B.2!EL39),\":\")","v":0},null,{"$f":"IF(OR(ISNUMBER(Table_B.1!EN39),ISNUMBER(Table_B.2!EN39)),SUM(Table_B.1!EN39,Table_B.2!EN39),\":\")","v":0},null,{"$f":"IF(OR(ISNUMBER(Table_B.1!EP39),ISNUMBER(Table_B.2!EP39)),SUM(Table_B.1!EP39,Table_B.2!EP39),\":\")","v":0},null,{"$f":"IF(OR(ISNUMBER(Table_B.1!ER39),ISNUMBER(Table_B.2!ER39)),SUM(Table_B.1!ER39,Table_B.2!ER39),\":\")","v":0},null,{"$f":"IF(OR(ISNUMBER(Table_B.1!ET39),ISNUMBER(Table_B.2!ET39)),SUM(Table_B.1!ET39,Table_B.2!ET39),\":\")","v":0},null,{"$f":"IF(OR(ISNUMBER(Table_B.1!EV39),ISNUMBER(Table_B.2!EV39)),SUM(Table_B.1!EV39,Table_B.2!EV39),\":\")","v":0},null,{"$f":"IF(OR(ISNUMBER(Table_B.1!EX39),ISNUMBER(Table_B.2!EX39)),SUM(Table_B.1!EX39,Table_B.2!EX39),\":\")","v":0},null,{"$f":"IF(OR(ISNUMBER(Table_B.1!EZ39),ISNUMBER(Table_B.2!EZ39)),SUM(Table_B.1!EZ39,Table_B.2!EZ39),\":\")","v":0},null,{"$f":"IF(OR(ISNUMBER(Table_B.1!FB39),ISNUMBER(Table_B.2!FB39)),SUM(Table_B.1!FB39,Table_B.2!FB39),\":\")","v":0},null,{"$f":"IF(OR(ISNUMBER(Table_B.1!FD39),ISNUMBER(Table_B.2!FD39)),SUM(Table_B.1!FD39,Table_B.2!FD39),\":\")","v":0},null,{"$f":"IF(OR(ISNUMBER(Table_B.1!FF39),ISNUMBER(Table_B.2!FF39)),SUM(Table_B.1!FF39,Table_B.2!FF39),\":\")","v":0},null,{"$f":"SUM(Table_B.1!FH39,Table_B.2!FH39)","v":0},null,{"$f":"IF(OR(ISNUMBER(Table_B.1!FJ39),ISNUMBER(Table_B.2!FJ39)),SUM(Table_B.1!FJ39,Table_B.2!FJ39),\":\")","v":0},null,{"$f":"IF(OR(ISNUMBER(Table_B.1!FL39),ISNUMBER(Table_B.2!FL39)),SUM(Table_B.1!FL39,Table_B.2!FL39),\":\")","v":0},null,{"$f":"IF(OR(ISNUMBER(Table_B.1!FN39),ISNUMBER(Table_B.2!FN39)),SUM(Table_B.1!FN39,Table_B.2!FN39),\":\")","v":0},null,{"$f":"IF(OR(ISNUMBER(Table_B.1!FP39),ISNUMBER(Table_B.2!FP39)),SUM(Table_B.1!FP39,Table_B.2!FP39),\":\")","v":0},null,{"$f":"IF(OR(ISNUMBER(Table_B.1!FR39),ISNUMBER(Table_B.2!FR39)),SUM(Table_B.1!FR39,Table_B.2!FR39),\":\")","v":0},null,{"$f":"IF(OR(ISNUMBER(Table_B.1!FT39),ISNUMBER(Table_B.2!FT39)),SUM(Table_B.1!FT39,Table_B.2!FT39),\":\")","v":0},null,null,null,{"$f":"SUM(H39,FJ39,FR39,FT39,FV39)","v":0},null,""]
[null,32,2,{"$f":"'PEFA rows'!C34","v":"R29"},{"$f":"'PEFA rows'!D34","v":"Non-renewable waste"},null,null,{"$f":"SUM(J40,R40,T40,BH40,BJ40,BP40,BR40,BZ40,CL40,CN40,CX40,DF40,DJ40,DV40,EF40,EH40,EJ40,EP40,EV40,FD40,FF40,FH40)","v":0},null,{"$f":"IF(AND(ISNUMBER(Table_B.1!J40),ISNUMBER(Table_B.2!J40)),SUM(Table_B.1!J40,Table_B.2!J40),\":\")","v":0},null,{"$f":"IF(AND(ISNUMBER(Table_B.1!L40),ISNUMBER(Table_B.2!L40)),SUM(Table_B.1!L40,Table_B.2!L40),\":\")","v":0},null,{"$f":"IF(AND(ISNUMBER(Table_B.1!N40),ISNUMBER(Table_B.2!N40)),SUM(Table_B.1!N40,Table_B.2!N40),\":\")","v":0},null,{"$f":"IF(AND(ISNUMBER(Table_B.1!P40),ISNUMBER(Table_B.2!P40)),SUM(Table_B.1!P40,Table_B.2!P40),\":\")","v":0},null,{"$f":"IF(AND(ISNUMBER(Table_B.1!R40),ISNUMBER(Table_B.2!R40)),SUM(Table_B.1!R40,Table_B.2!R40),\":\")","v":0},null,{"$f":"IF(AND(ISNUMBER(Table_B.1!T40),ISNUMBER(Table_B.2!T40)),SUM(Table_B.1!T40,Table_B.2!T40),\":\")","v":0},null,{"$f":"IF(AND(ISNUMBER(Table_B.1!V40),ISNUMBER(Table_B.2!V40)),SUM(Table_B.1!V40,Table_B.2!V40),\":\")","v":0},null,{"$f":"IF(AND(ISNUMBER(Table_B.1!X40),ISNUMBER(Table_B.2!X40)),SUM(Table_B.1!X40,Table_B.2!X40),\":\")","v":0},null,{"$f":"IF(AND(ISNUMBER(Table_B.1!Z40),ISNUMBER(Table_B.2!Z40)),SUM(Table_B.1!Z40,Table_B.2!Z40),\":\")","v":0},null,{"$f":"IF(AND(ISNUMBER(Table_B.1!AB40),ISNUMBER(Table_B.2!AB40)),SUM(Table_B.1!AB40,Table_B.2!AB40),\":\")","v":0},null,{"$f":"IF(AND(ISNUMBER(Table_B.1!AD40),ISNUMBER(Table_B.2!AD40)),SUM(Table_B.1!AD40,Table_B.2!AD40),\":\")","v":0},null,{"$f":"IF(OR(ISNUMBER(Table_B.1!AF40),ISNUMBER(Table_B.2!AF40)),SUM(Table_B.1!AF40,Table_B.2!AF40),\":\")","v":0},null,{"$f":"IF(OR(ISNUMBER(Table_B.1!AH40),ISNUMBER(Table_B.2!AH40)),SUM(Table_B.1!AH40,Table_B.2!AH40),\":\")","v":0},null,{"$f":"IF(OR(ISNUMBER(Table_B.1!AJ40),ISNUMBER(Table_B.2!AJ40)),SUM(Table_B.1!AJ40,Table_B.2!AJ40),\":\")","v":0},null,{"$f":"IF(OR(ISNUMBER(Table_B.1!AL40),ISNUMBER(Table_B.2!AL40)),SUM(Table_B.1!AL40,Table_B.2!AL40),\":\")","v":0},null,{"$f":"IF(OR(ISNUMBER(Table_B.1!AN40),ISNUMBER(Table_B.2!AN40)),SUM(Table_B.1!AN40,Table_B.2!AN40),\":\")","v":0},null,{"$f":"IF(OR(ISNUMBER(Table_B.1!AP40),ISNUMBER(Table_B.2!AP40)),SUM(Table_B.1!AP40,Table_B.2!AP40),\":\")","v":0},null,{"$f":"IF(OR(ISNUMBER(Table_B.1!AR40),ISNUMBER(Table_B.2!AR40)),SUM(Table_B.1!AR40,Table_B.2!AR40),\":\")","v":0},null,{"$f":"IF(OR(ISNUMBER(Table_B.1!AT40),ISNUMBER(Table_B.2!AT40)),SUM(Table_B.1!AT40,Table_B.2!AT40),\":\")","v":0},null,{"$f":"IF(OR(ISNUMBER(Table_B.1!AV40),ISNUMBER(Table_B.2!AV40)),SUM(Table_B.1!AV40,Table_B.2!AV40),\":\")","v":0},null,{"$f":"IF(OR(ISNUMBER(Table_B.1!AX40),ISNUMBER(Table_B.2!AX40)),SUM(Table_B.1!AX40,Table_B.2!AX40),\":\")","v":0},null,{"$f":"IF(OR(ISNUMBER(Table_B.1!AZ40),ISNUMBER(Table_B.2!AZ40)),SUM(Table_B.1!AZ40,Table_B.2!AZ40),\":\")","v":0},null,{"$f":"IF(OR(ISNUMBER(Table_B.1!BB40),ISNUMBER(Table_B.2!BB40)),SUM(Table_B.1!BB40,Table_B.2!BB40),\":\")","v":0},null,{"$f":"IF(OR(ISNUMBER(Table_B.1!BD40),ISNUMBER(Table_B.2!BD40)),SUM(Table_B.1!BD40,Table_B.2!BD40),\":\")","v":0},null,{"$f":"IF(OR(ISNUMBER(Table_B.1!BF40),ISNUMBER(Table_B.2!BF40)),SUM(Table_B.1!BF40,Table_B.2!BF40),\":\")","v":0},null,{"$f":"IF(OR(ISNUMBER(Table_B.1!BH40),ISNUMBER(Table_B.2!BH40)),SUM(Table_B.1!BH40,Table_B.2!BH40),\":\")","v":0},null,{"$f":"IF(OR(ISNUMBER(Table_B.1!BJ40),ISNUMBER(Table_B.2!BJ40)),SUM(Table_B.1!BJ40,Table_B.2!BJ40),\":\")","v":0},null,{"$f":"IF(OR(ISNUMBER(Table_B.1!BL40),ISNUMBER(Table_B.2!BL40)),SUM(Table_B.1!BL40,Table_B.2!BL40),\":\")","v":0},null,{"$f":"IF(OR(ISNUMBER(Table_B.1!BN40),ISNUMBER(Table_B.2!BN40)),SUM(Table_B.1!BN40,Table_B.2!BN40),\":\")","v":0},null,{"$f":"IF(OR(ISNUMBER(Table_B.1!BP40),ISNUMBER(Table_B.2!BP40)),SUM(Table_B.1!BP40,Table_B.2!BP40),\":\")","v":0},null,{"$f":"IF(OR(ISNUMBER(Table_B.1!BR40),ISNUMBER(Table_B.2!BR40)),SUM(Table_B.1!BR40,Table_B.2!BR40),\":\")","v":0},null,{"$f":"IF(OR(ISNUMBER(Table_B.1!BT40),ISNUMBER(Table_B.2!BT40)),SUM(Table_B.1!BT40,Table_B.2!BT40),\":\")","v":0},null,{"$f":"IF(OR(ISNUMBER(Table_B.1!BV40),ISNUMBER(Table_B.2!BV40)),SUM(Table_B.1!BV40,Table_B.2!BV40),\":\")","v":0},null,{"$f":"IF(OR(ISNUMBER(Table_B.1!BX40),ISNUMBER(Table_B.2!BX40)),SUM(Table_B.1!BX40,Table_B.2!BX40),\":\")","v":0},null,{"$f":"IF(OR(ISNUMBER(Table_B.1!BZ40),ISNUMBER(Table_B.2!BZ40)),SUM(Table_B.1!BZ40,Table_B.2!BZ40),\":\")","v":0},null,{"$f":"IF(OR(ISNUMBER(Table_B.1!CB40),ISNUMBER(Table_B.2!CB40)),SUM(Table_B.1!CB40,Table_B.2!CB40),\":\")","v":0},null,{"$f":"IF(OR(ISNUMBER(Table_B.1!CD40),ISNUMBER(Table_B.2!CD40)),SUM(Table_B.1!CD40,Table_B.2!CD40),\":\")","v":0},null,{"$f":"IF(OR(ISNUMBER(Table_B.1!CF40),ISNUMBER(Table_B.2!CF40)),SUM(Table_B.1!CF40,Table_B.2!CF40),\":\")","v":0},null,{"$f":"IF(OR(ISNUMBER(Table_B.1!CH40),ISNUMBER(Table_B.2!CH40)),SUM(Table_B.1!CH40,Table_B.2!CH40),\":\")","v":0},null,{"$f":"IF(OR(ISNUMBER(Table_B.1!CJ40),ISNUMBER(Table_B.2!CJ40)),SUM(Table_B.1!CJ40,Table_B.2!CJ40),\":\")","v":0},null,{"$f":"IF(OR(ISNUMBER(Table_B.1!CL40),ISNUMBER(Table_B.2!CL40)),SUM(Table_B.1!CL40,Table_B.2!CL40),\":\")","v":0},null,{"$f":"IF(OR(ISNUMBER(Table_B.1!CN40),ISNUMBER(Table_B.2!CN40)),SUM(Table_B.1!CN40,Table_B.2!CN40),\":\")","v":0},null,{"$f":"IF(OR(ISNUMBER(Table_B.1!CP40),ISNUMBER(Table_B.2!CP40)),SUM(Table_B.1!CP40,Table_B.2!CP40),\":\")","v":0},null,{"$f":"IF(OR(ISNUMBER(Table_B.1!CR40),ISNUMBER(Table_B.2!CR40)),SUM(Table_B.1!CR40,Table_B.2!CR40),\":\")","v":0},null,{"$f":"IF(OR(ISNUMBER(Table_B.1!CT40),ISNUMBER(Table_B.2!CT40)),SUM(Table_B.1!CT40,Table_B.2!CT40),\":\")","v":0},null,{"$f":"IF(OR(ISNUMBER(Table_B.1!CV40),ISNUMBER(Table_B.2!CV40)),SUM(Table_B.1!CV40,Table_B.2!CV40),\":\")","v":0},null,{"$f":"IF(OR(ISNUMBER(Table_B.1!CX40),ISNUMBER(Table_B.2!CX40)),SUM(Table_B.1!CX40,Table_B.2!CX40),\":\")","v":0},null,{"$f":"IF(OR(ISNUMBER(Table_B.1!CZ40),ISNUMBER(Table_B.2!CZ40)),SUM(Table_B.1!CZ40,Table_B.2!CZ40),\":\")","v":0},null,{"$f":"IF(OR(ISNUMBER(Table_B.1!DB40),ISNUMBER(Table_B.2!DB40)),SUM(Table_B.1!DB40,Table_B.2!DB40),\":\")","v":0},null,{"$f":"IF(OR(ISNUMBER(Table_B.1!DD40),ISNUMBER(Table_B.2!DD40)),SUM(Table_B.1!DD40,Table_B.2!DD40),\":\")","v":0},null,{"$f":"IF(OR(ISNUMBER(Table_B.1!DF40),ISNUMBER(Table_B.2!DF40)),SUM(Table_B.1!DF40,Table_B.2!DF40),\":\")","v":0},null,{"$f":"IF(OR(ISNUMBER(Table_B.1!DH40),ISNUMBER(Table_B.2!DH40)),SUM(Table_B.1!DH40,Table_B.2!DH40),\":\")","v":0},null,{"$f":"IF(OR(ISNUMBER(Table_B.1!DJ40),ISNUMBER(Table_B.2!DJ40)),SUM(Table_B.1!DJ40,Table_B.2!DJ40),\":\")","v":0},null,{"$f":"IF(OR(ISNUMBER(Table_B.1!DL40),ISNUMBER(Table_B.2!DL40)),SUM(Table_B.1!DL40,Table_B.2!DL40),\":\")","v":0},null,{"$f":"IF(OR(ISNUMBER(Table_B.1!DN40),ISNUMBER(Table_B.2!DN40)),SUM(Table_B.1!DN40,Table_B.2!DN40),\":\")","v":0},null,{"$f":"IF(OR(ISNUMBER(Table_B.1!DP40),ISNUMBER(Table_B.2!DP40)),SUM(Table_B.1!DP40,Table_B.2!DP40),\":\")","v":0},null,{"$f":"IF(OR(ISNUMBER(Table_B.1!DR40),ISNUMBER(Table_B.2!DR40)),SUM(Table_B.1!DR40,Table_B.2!DR40),\":\")","v":0},null,{"$f":"IF(OR(ISNUMBER(Table_B.1!DT40),ISNUMBER(Table_B.2!DT40)),SUM(Table_B.1!DT40,Table_B.2!DT40),\":\")","v":0},null,{"$f":"IF(OR(ISNUMBER(Table_B.1!DV40),ISNUMBER(Table_B.2!DV40)),SUM(Table_B.1!DV40,Table_B.2!DV40),\":\")","v":0},null,{"$f":"IF(OR(ISNUMBER(Table_B.1!DX40),ISNUMBER(Table_B.2!DX40)),SUM(Table_B.1!DX40,Table_B.2!DX40),\":\")","v":0},null,{"$f":"IF(OR(ISNUMBER(Table_B.1!DZ40),ISNUMBER(Table_B.2!DZ40)),SUM(Table_B.1!DZ40,Table_B.2!DZ40),\":\")","v":0},null,{"$f":"IF(OR(ISNUMBER(Table_B.1!EB40),ISNUMBER(Table_B.2!EB40)),SUM(Table_B.1!EB40,Table_B.2!EB40),\":\")","v":0},null,{"$f":"IF(OR(ISNUMBER(Table_B.1!ED40),ISNUMBER(Table_B.2!ED40)),SUM(Table_B.1!ED40,Table_B.2!ED40),\":\")","v":0},null,{"$f":"IF(OR(ISNUMBER(Table_B.1!EF40),ISNUMBER(Table_B.2!EF40)),SUM(Table_B.1!EF40,Table_B.2!EF40),\":\")","v":0},null,{"$f":"IF(OR(ISNUMBER(Table_B.1!EH40),ISNUMBER(Table_B.2!EH40)),SUM(Table_B.1!EH40,Table_B.2!EH40),\":\")","v":0},null,{"$f":"IF(OR(ISNUMBER(Table_B.1!EJ40),ISNUMBER(Table_B.2!EJ40)),SUM(Table_B.1!EJ40,Table_B.2!EJ40),\":\")","v":0},null,{"$f":"IF(OR(ISNUMBER(Table_B.1!EL40),ISNUMBER(Table_B.2!EL40)),SUM(Table_B.1!EL40,Table_B.2!EL40),\":\")","v":0},null,{"$f":"IF(OR(ISNUMBER(Table_B.1!EN40),ISNUMBER(Table_B.2!EN40)),SUM(Table_B.1!EN40,Table_B.2!EN40),\":\")","v":0},null,{"$f":"IF(OR(ISNUMBER(Table_B.1!EP40),ISNUMBER(Table_B.2!EP40)),SUM(Table_B.1!EP40,Table_B.2!EP40),\":\")","v":0},null,{"$f":"IF(OR(ISNUMBER(Table_B.1!ER40),ISNUMBER(Table_B.2!ER40)),SUM(Table_B.1!ER40,Table_B.2!ER40),\":\")","v":0},null,{"$f":"IF(OR(ISNUMBER(Table_B.1!ET40),ISNUMBER(Table_B.2!ET40)),SUM(Table_B.1!ET40,Table_B.2!ET40),\":\")","v":0},null,{"$f":"IF(OR(ISNUMBER(Table_B.1!EV40),ISNUMBER(Table_B.2!EV40)),SUM(Table_B.1!EV40,Table_B.2!EV40),\":\")","v":0},null,{"$f":"IF(OR(ISNUMBER(Table_B.1!EX40),ISNUMBER(Table_B.2!EX40)),SUM(Table_B.1!EX40,Table_B.2!EX40),\":\")","v":0},null,{"$f":"IF(OR(ISNUMBER(Table_B.1!EZ40),ISNUMBER(Table_B.2!EZ40)),SUM(Table_B.1!EZ40,Table_B.2!EZ40),\":\")","v":0},null,{"$f":"IF(OR(ISNUMBER(Table_B.1!FB40),ISNUMBER(Table_B.2!FB40)),SUM(Table_B.1!FB40,Table_B.2!FB40),\":\")","v":0},null,{"$f":"IF(OR(ISNUMBER(Table_B.1!FD40),ISNUMBER(Table_B.2!FD40)),SUM(Table_B.1!FD40,Table_B.2!FD40),\":\")","v":0},null,{"$f":"IF(OR(ISNUMBER(Table_B.1!FF40),ISNUMBER(Table_B.2!FF40)),SUM(Table_B.1!FF40,Table_B.2!FF40),\":\")","v":0},null,{"$f":"SUM(Table_B.1!FH40,Table_B.2!FH40)","v":0},null,{"$f":"IF(OR(ISNUMBER(Table_B.1!FJ40),ISNUMBER(Table_B.2!FJ40)),SUM(Table_B.1!FJ40,Table_B.2!FJ40),\":\")","v":0},null,{"$f":"IF(OR(ISNUMBER(Table_B.1!FL40),ISNUMBER(Table_B.2!FL40)),SUM(Table_B.1!FL40,Table_B.2!FL40),\":\")","v":0},null,{"$f":"IF(OR(ISNUMBER(Table_B.1!FN40),ISNUMBER(Table_B.2!FN40)),SUM(Table_B.1!FN40,Table_B.2!FN40),\":\")","v":0},null,{"$f":"IF(OR(ISNUMBER(Table_B.1!FP40),ISNUMBER(Table_B.2!FP40)),SUM(Table_B.1!FP40,Table_B.2!FP40),\":\")","v":0},null,{"$f":"IF(OR(ISNUMBER(Table_B.1!FR40),ISNUMBER(Table_B.2!FR40)),SUM(Table_B.1!FR40,Table_B.2!FR40),\":\")","v":0},null,{"$f":"IF(OR(ISNUMBER(Table_B.1!FT40),ISNUMBER(Table_B.2!FT40)),SUM(Table_B.1!FT40,Table_B.2!FT40),\":\")","v":0},null,null,null,{"$f":"SUM(H40,FJ40,FR40,FT40,FV40)","v":0},null,""]
[null,33,2,{"$f":"'PEFA rows'!C35","v":"R30"},{"$f":"'PEFA rows'!D35","v":"Energy losses all kinds of (during extraction, distribution, storage and transformation, and dissipative heat from end use)"},null,null,null,null,null,null,null,null,null,null,null,null,null,null,null,null,null,null,null,null,null,null,null,null,null,null,null,null,null,null,null,null,null,null,null,null,null,null,null,null,null,null,null,null,null,null,null,null,null,null,null,null,null,null,null,null,null,null,null,null,null,null,null,null,null,null,null,null,null,null,null,null,null,null,null,null,null,null,null,null,null,null,null,null,null,null,null,null,null,null,null,null,null,null,null,null,null,null,null,null,null,null,null,null,null,null,null,null,null,null,null,null,null,null,null,null,null,null,null,null,null,null,null,null,null,null,null,null,null,null,null,null,null,null,null,null,null,null,null,null,null,null,null,null,null,null,null,null,null,null,null,null,null,null,null,null,null,null,null,null,null,null,null,null,null,null,null,null,null,null,null,null,{"$f":"IF(OR(ISNUMBER(Table_B.1!FV41),ISNUMBER(Table_B.2!FV41)),SUM(Table_B.1!FV41,Table_B.2!FV41),\":\")","v":0},null,{"$f":"SUM(H41,FJ41,FR41,FT41,FV41)","v":0},null,""]
[null,34,2,{"$f":"'PEFA rows'!C36","v":"R31"},{"$f":"'PEFA rows'!D36","v":"Energy incorporated in products for non-energy use"},null,null,{"$f":"SUM(J42,R42,T42,BH42,BJ42,BP42,BR42,BZ42,CL42,CN42,CX42,DF42,DJ42,DV42,EF42,EH42,EJ42,EP42,EV42,FD42,FF42,FH42)","v":0},null,null,null,null,null,null,null,null,null,null,null,{"$f":"IF(OR(ISNUMBER(Table_B.1!T42),ISNUMBER(Table_B.2!T42)),SUM(Table_B.1!T42,Table_B.2!T42),\":\")","v":0},null,null,null,null,null,null,null,null,null,null,null,null,null,{"$f":"SUM(Table_B.1!AH42,Table_B.2!AH42)","v":0},null,null,null,null,null,null,null,null,null,null,null,null,null,null,null,null,null,null,null,null,null,null,null,null,null,{"$f":"IF(OR(ISNUMBER(Table_B.1!BH42),ISNUMBER(Table_B.2!BH42)),SUM(Table_B.1!BH42,Table_B.2!BH42),\":\")","v":0},null,null,null,null,null,null,null,null,null,null,null,null,null,null,null,null,null,null,null,null,null,null,null,null,null,null,null,null,null,null,null,null,null,null,null,null,null,null,null,null,null,null,null,null,null,null,null,null,null,null,null,null,null,null,null,null,null,null,null,null,null,null,null,null,null,null,null,null,null,null,null,null,null,null,null,null,null,null,null,null,null,null,null,null,null,null,null,null,null,null,null,null,null,null,null,null,null,null,null,null,null,null,null,null,null,null,null,null,null,null,null,null,null,{"$f":"IF(OR(ISNUMBER(Table_B.1!FR42),ISNUMBER(Table_B.2!FR42)),SUM(Table_B.1!FR42,Table_B.2!FR42),\":\")","v":0},null,null,null,null,null,{"$f":"SUM(H42,FJ42,FR42,FT42,FV42)","v":0},null,""]
[null,36,{"$f":"'PEFA rows'!B37","v":0},{"$f":"'PEFA rows'!C37","v":"N00_P00_R00"},{"$f":"'PEFA rows'!D37","v":"TOTAL SUPPLY / TOTAL USE"},null,null,{"$f":"SUM(H9,H17,H38)","v":0},null,{"$f":"SUM(J9,J17,J38)","v":0},null,{"$f":"SUM(L9,L17,L38)","v":0},null,{"$f":"SUM(N9,N17,N38)","v":0},null,{"$f":"SUM(P9,P17,P38)","v":0},null,{"$f":"SUM(R9,R17,R38)","v":0},null,{"$f":"SUM(T9,T17,T38)","v":0},null,{"$f":"SUM(V9,V17,V38)","v":0},null,{"$f":"SUM(X9,X17,X38)","v":0},null,{"$f":"SUM(Z9,Z17,Z38)","v":0},null,{"$f":"SUM(AB9,AB17,AB38)","v":0},null,{"$f":"SUM(AD9,AD17,AD38)","v":0},null,{"$f":"SUM(AF9,AF17,AF38)","v":0},null,{"$f":"SUM(AH9,AH17,AH38)","v":0},null,{"$f":"SUM(AJ9,AJ17,AJ38)","v":0},null,{"$f":"SUM(AL9,AL17,AL38)","v":0},null,{"$f":"SUM(AN9,AN17,AN38)","v":0},null,{"$f":"SUM(AP9,AP17,AP38)","v":0},null,{"$f":"SUM(AR9,AR17,AR38)","v":0},null,{"$f":"SUM(AT9,AT17,AT38)","v":0},null,{"$f":"SUM(AV9,AV17,AV38)","v":0},null,{"$f":"SUM(AX9,AX17,AX38)","v":0},null,{"$f":"SUM(AZ9,AZ17,AZ38)","v":0},null,{"$f":"SUM(BB9,BB17,BB38)","v":0},null,{"$f":"SUM(BD9,BD17,BD38)","v":0},null,{"$f":"SUM(BF9,BF17,BF38)","v":0},null,{"$f":"SUM(BH9,BH17,BH38)","v":0},null,{"$f":"SUM(BJ9,BJ17,BJ38)","v":0},null,{"$f":"SUM(BL9,BL17,BL38)","v":0},null,{"$f":"SUM(BN9,BN17,BN38)","v":0},null,{"$f":"SUM(BP9,BP17,BP38)","v":0},null,{"$f":"SUM(BR9,BR17,BR38)","v":0},null,{"$f":"SUM(BT9,BT17,BT38)","v":0},null,{"$f":"SUM(BV9,BV17,BV38)","v":0},null,{"$f":"SUM(BX9,BX17,BX38)","v":0},null,{"$f":"SUM(BZ9,BZ17,BZ38)","v":0},null,{"$f":"SUM(CB9,CB17,CB38)","v":0},null,{"$f":"SUM(CD9,CD17,CD38)","v":0},null,{"$f":"SUM(CF9,CF17,CF38)","v":0},null,{"$f":"SUM(CH9,CH17,CH38)","v":0},null,{"$f":"SUM(CJ9,CJ17,CJ38)","v":0},null,{"$f":"SUM(CL9,CL17,CL38)","v":0},null,{"$f":"SUM(CN9,CN17,CN38)","v":0},null,{"$f":"SUM(CP9,CP17,CP38)","v":0},null,{"$f":"SUM(CR9,CR17,CR38)","v":0},null,{"$f":"SUM(CT9,CT17,CT38)","v":0},null,{"$f":"SUM(CV9,CV17,CV38)","v":0},null,{"$f":"SUM(CX9,CX17,CX38)","v":0},null,{"$f":"SUM(CZ9,CZ17,CZ38)","v":0},null,{"$f":"SUM(DB9,DB17,DB38)","v":0},null,{"$f":"SUM(DD9,DD17,DD38)","v":0},null,{"$f":"SUM(DF9,DF17,DF38)","v":0},null,{"$f":"SUM(DH9,DH17,DH38)","v":0},null,{"$f":"SUM(DJ9,DJ17,DJ38)","v":0},null,{"$f":"SUM(DL9,DL17,DL38)","v":0},null,{"$f":"SUM(DN9,DN17,DN38)","v":0},null,{"$f":"SUM(DP9,DP17,DP38)","v":0},null,{"$f":"SUM(DR9,DR17,DR38)","v":0},null,{"$f":"SUM(DT9,DT17,DT38)","v":0},null,{"$f":"SUM(DV9,DV17,DV38)","v":0},null,{"$f":"SUM(DX9,DX17,DX38)","v":0},null,{"$f":"SUM(DZ9,DZ17,DZ38)","v":0},null,{"$f":"SUM(EB9,EB17,EB38)","v":0},null,{"$f":"SUM(ED9,ED17,ED38)","v":0},null,{"$f":"SUM(EF9,EF17,EF38)","v":0},null,{"$f":"SUM(EH9,EH17,EH38)","v":0},null,{"$f":"SUM(EJ9,EJ17,EJ38)","v":0},null,{"$f":"SUM(EL9,EL17,EL38)","v":0},null,{"$f":"SUM(EN9,EN17,EN38)","v":0},null,{"$f":"SUM(EP9,EP17,EP38)","v":0},null,{"$f":"SUM(ER9,ER17,ER38)","v":0},null,{"$f":"SUM(ET9,ET17,ET38)","v":0},null,{"$f":"SUM(EV9,EV17,EV38)","v":0},null,{"$f":"SUM(EX9,EX17,EX38)","v":0},null,{"$f":"SUM(EZ9,EZ17,EZ38)","v":0},null,{"$f":"SUM(FB9,FB17,FB38)","v":0},null,{"$f":"SUM(FD9,FD17,FD38)","v":0},null,{"$f":"SUM(FF9,FF17,FF38)","v":0},null,{"$f":"SUM(FH9,FH17,FH38)","v":0},null,{"$f":"SUM(FJ9,FJ17,FJ38)","v":0},null,{"$f":"SUM(FL9,FL17,FL38)","v":0},null,{"$f":"SUM(FN9,FN17,FN38)","v":0},null,{"$f":"SUM(FP9,FP17,FP38)","v":0},null,{"$f":"SUM(FR9,FR17,FR38)","v":0},null,{"$f":"SUM(FT9,FT17,FT38)","v":0},null,{"$f":"SUM(FV9,FV17,FV38)","v":0},null,{"$f":"SUM(FX9,FX17,FX38)","v":0}]
[null,null,null,null,null,null,null,null,null,null,null,"",null,"",null,null,null,"",null,"",null,"",null,"",null,"",null,"",null,"",null,"",null,"",null,"",null,"",null,"",null,"",null,"",null,"",null,"",null,"",null,"",null,"",null,"",null,"",null,"",null,"",null,"",null,"",null,"",null,"",null,"",null,"",null,"",null,"",null,"",null,"",null,"",null,"",null,"",null,"",null,"",null,"",null,"",null,"",null,"",null,"",null,"",null,"",null,"",null,"",null,"",null,"",null,"",null,"",null,"",null,"",null,"",null,"",null,"",null,"",null,"",null,"",null,"",null,"",null,"",null,"",null,"",null,"",null,"",null,"",null,"",null,"",null,"",null,"",null,"",null,"",null,null,null,"",null,"",null,"",null,""]
[]
[]
[]
[null,null,null,null,"ACCOUNTING_ENTRY",null,null,"D",null,"D",null,"D",null,"D",null,"D",null,"D",null,"D",null,"D",null,"D",null,"D",null,"D",null,"D",null,"D",null,"D",null,"D",null,"D",null,"D",null,"D",null,"D",null,"D",null,"D",null,"D",null,"D",null,"D",null,"D",null,"D",null,"D",null,"D",null,"D",null,"D",null,"D",null,"D",null,"D",null,"D",null,"D",null,"D",null,"D",null,"D",null,"D",null,"D",null,"D",null,"D",null,"D",null,"D",null,"D",null,"D",null,"D",null,"D",null,"D",null,"D",null,"D",null,"D",null,"D",null,"D",null,"D",null,"D",null,"D",null,"D",null,"D",null,"D",null,"D",null,"D",null,"D",null,"D",null,"D",null,"D",null,"D",null,"D",null,"D",null,"D",null,"D",null,"D",null,"D",null,"D",null,"D",null,"D",null,"D",null,"D",null,"D",null,"D",null,"D",null,"D",null,"D",null,"D",null,"D",null,"EC",null,"D_EN"]
[null,null,null,null,"COUNTERPART_AREA",null,null,"W2",null,"W2",null,"W2",null,"W2",null,"W2",null,"W2",null,"W2",null,"W2",null,"W2",null,"W2",null,"W2",null,"W2",null,"W2",null,"W2",null,"W2",null,"W2",null,"W2",null,"W2",null,"W2",null,"W2",null,"W2",null,"W2",null,"W2",null,"W2",null,"W2",null,"W2",null,"W2",null,"W2",null,"W2",null,"W2",null,"W2",null,"W2",null,"W2",null,"W2",null,"W2",null,"W2",null,"W2",null,"W2",null,"W2",null,"W2",null,"W2",null,"W2",null,"W2",null,"W2",null,"W2",null,"W2",null,"W2",null,"W2",null,"W2",null,"W2",null,"W2",null,"W2",null,"W2",null,"W2",null,"W2",null,"W2",null,"W2",null,"W2",null,"W2",null,"W2",null,"W2",null,"W2",null,"W2",null,"W2",null,"W2",null,"W2",null,"W2",null,"W2",null,"W2",null,"W2",null,"W2",null,"W2",null,"W2",null,"W2",null,"W2",null,"W2",null,"W2",null,"W2",null,"W2",null,"W2",null,"W2",null,"W2",null,"W2",null,"W2",null,"W1",null,"W0",null,"W0"]
[null,null,null,null,"STO",null,null,"TU",null,"TU",null,"TU",null,"TU",null,"TU",null,"TU",null,"TU",null,"TU",null,"TU",null,"TU",null,"TU",null,"TU",null,"TU",null,"TU",null,"TU",null,"TU",null,"TU",null,"TU",null,"TU",null,"TU",null,"TU",null,"TU",null,"TU",null,"TU",null,"TU",null,"TU",null,"TU",null,"TU",null,"TU",null,"TU",null,"TU",null,"TU",null,"TU",null,"TU",null,"TU",null,"TU",null,"TU",null,"TU",null,"TU",null,"TU",null,"TU",null,"TU",null,"TU",null,"TU",null,"TU",null,"TU",null,"TU",null,"TU",null,"TU",null,"TU",null,"TU",null,"TU",null,"TU",null,"TU",null,"TU",null,"TU",null,"TU",null,"TU",null,"TU",null,"TU",null,"TU",null,"TU",null,"TU",null,"TU",null,"TU",null,"TU",null,"TU",null,"TU",null,"TU",null,"TU",null,"TU",null,"TU",null,"TU",null,"TU",null,"TU",null,"TU",null,"TU",null,"TU",null,"TU",null,"TU",null,"TU",null,"TU",null,"TU",null,"P52",null,"P6",null,"TU",null,"TU"]

{"sheet":"Table_B.1","index":10,"n_rows":50,"n_cols":193,"rows_kept":50,"cut":false,"hidden":false,"merged":[[3,187,3,192],[1,15,1,16],[1,17,1,18],[1,19,1,20],[1,21,1,22],[1,23,1,24],[1,25,1,26],[1,1,1,3],[1,5,1,6],[1,7,1,8],[1,9,1,10],[1,11,1,12],[1,13,1,14],[1,39,1,40],[1,41,1,42],[1,43,1,44],[1,45,1,46],[1,47,1,48],[1,49,1,50],[1,27,1,28],[1,29,1,30],[1,31,1,32],[1,33,1,34],[1,35,1,36],[1,37,1,38],[1,63,1,64],[1,65,1,66],[1,67,1,68],[1,69,1,70],[1,71,1,72],[1,73,1,74],[1,51,1,52],[1,53,1,54],[1,55,1,56],[1,57,1,58],[1,59,1,60],[1,61,1,62],[1,87,1,88],[1,89,1,90],[1,91,1,92],[1,93,1,94],[1,95,1,96],[1,97,1,98],[1,75,1,76],[1,77,1,78],[1,79,1,80],[1,81,1,82],[1,83,1,84],[1,85,1,86],[1,111,1,112],[1,113,1,114],[1,115,1,116],[1,117,1,118],[1,119,1,120],[1,121,1,122],[1,99,1,100],[1,101,1,102],[1,103,1,104],[1,105,1,106],[1,107,1,108],[1,109,1,110],[1,141,1,142],[1,143,1,144],[1,145,1,146],[1,123,1,124],[1,125,1,126],[1,127,1,128],[1,129,1,130],[1,131,1,132],[1,133,1,134],[1,173,1,174],[1,175,1,176],[1,177,1,178],[1,179,1,180],[2,1,2,3],[2,5,2,6],[2,7,2,8],[2,9,2,10],[2,11,2,12],[1,159,1,160],[1,161,1,162],[1,165,1,166],[1,167,1,168],[1,169,1,170],[1,171,1,172],[1,147,1,148],[1,149,1,150],[1,151,1,152],[1,153,1,154],[1,155,1,156],[1,157,1,158],[1,135,1,136],[1,137,1,138],[1,139,1,140],[2,25,2,26],[2,27,2,28],[2,29,2,30],[2,31,2,32],[2,33,2,34],[2,35,2,36],[2,13,2,14],[2,15,2,16],[2,17,2,18],[2,19,2,20],[2,21,2,22],[2,23,2,24],[2,49,2,50],[2,51,2,52],[2,53,2,54],[2,55,2,56],[2,57,2,58],[2,59,2,60],[2,37,2,38],[2,39,2,40],[2,41,2,42],[2,43,2,44],[2,45,2,46],[2,47,2,48],[2,73,2,74],[2,75,2,76],[2,77,2,78],[2,79,2,80],[2,81,2,82],[2,83,2,84],[2,61,2,62],[2,63,2,64],[2,65,2,66],[2,67,2,68],[2,69,2,70],[2,71,2,72],[2,97,2,98],[2,99,2,100],[2,101,2,102],[2,103,2,104],[2,105,2,106],[2,107,2,108],[2,85,2,86],[2,87,2,88],[2,89,2,90],[2,91,2,92],[2,93,2,94],[2,95,2,96],[2,121,2,122],[2,123,2,124],[2,125,2,126],[2,127,2,128],[2,129,2,130],[2,131,2,132],[2,109,2,110],[2,111,2,112],[2,113,2,114],[2,115,2,116],[2,117,2,118],[2,119,2,120],[2,145,2,146],[2,147,2,148],[2,149,2,150],[2,151,2,152],[2,153,2,154],[2,155,2,156],[2,133,2,134],[2,135,2,136],[2,137,2,138],[2,139,2,140],[2,141,2,142],[2,143,2,144],[2,171,2,172],[2,173,2,174],[2,175,2,176],[2,177,2,178],[2,179,2,180],[2,157,2,158],[2,159,2,160],[2,161,2,162],[2,165,2,166],[2,167,2,168],[2,169,2,170],[3,1,3,3],[3,5,3,6],[3,175,3,176],[3,177,3,178],[4,1,4,3],[4,5,4,6],[4,7,4,8],[4,9,4,10],[4,11,4,12],[4,25,4,26],[4,27,4,28],[4,29,4,30],[4,31,4,32],[4,33,4,34],[4,35,4,36],[4,13,4,14],[4,15,4,16],[4,17,4,18],[4,19,4,20],[4,21,4,22],[4,23,4,24],[4,49,4,50],[4,51,4,52],[4,53,4,54],[4,55,4,56],[4,57,4,58],[4,59,4,60],[4,37,4,38],[4,39,4,40],[4,41,4,42],[4,43,4,44],[4,45,4,46],[4,47,4,48],[4,73,4,74],[4,75,4,76],[4,77,4,78],[4,79,4,80],[4,81,4,82],[4,83,4,84],[4,61,4,62],[4,63,4,64],[4,65,4,66],[4,67,4,68],[4,69,4,70],[4,71,4,72],[4,97,4,98],[4,99,4,100],[4,101,4,102],[4,103,4,104],[4,105,4,106],[4,107,4,108],[4,85,4,86],[4,87,4,88],[4,89,4,90],[4,91,4,92],[4,93,4,94],[4,95,4,96],[4,121,4,122],[4,123,4,124],[4,125,4,126],[4,127,4,128],[4,129,4,130],[4,131,4,132],[4,109,4,110],[4,111,4,112],[4,113,4,114],[4,115,4,116],[4,117,4,118],[4,119,4,120],[4,145,4,146],[4,147,4,148],[4,149,4,150],[4,151,4,152],[4,153,4,154],[4,155,4,156],[4,133,4,134],[4,135,4,136],[4,137,4,138],[4,139,4,140],[4,141,4,142],[4,143,4,144],[4,171,4,172],[4,173,4,174],[4,175,4,176],[4,177,4,178],[4,179,4,180],[4,157,4,158],[4,159,4,160],[4,161,4,162],[4,165,4,166],[4,167,4,168],[4,169,4,170],[5,15,6,16],[5,17,6,18],[5,19,6,20],[5,21,6,22],[5,23,6,24],[5,25,6,26],[5,1,5,3],[5,5,6,6],[5,7,6,8],[5,9,6,10],[5,11,6,12],[5,13,6,14],[5,39,6,40],[5,41,6,42],[5,43,6,44],[5,45,6,46],[5,47,6,48],[5,49,6,50],[5,27,6,28],[5,29,6,30],[5,31,6,32],[5,33,6,34],[5,35,6,36],[5,37,6,38],[5,63,6,64],[5,65,6,66],[5,67,6,68],[5,69,6,70],[5,71,6,72],[5,73,6,74],[5,51,6,52],[5,53,6,54],[5,55,6,56],[5,57,6,58],[5,59,6,60],[5,61,6,62],[5,89,6,90],[5,91,6,92],[5,93,6,94],[5,95,6,96],[5,97,6,98],[5,75,6,76],[5,77,6,78],[5,79,6,80],[5,81,6,82],[5,83,6,84],[5,85,6,86],[5,101,6,102],[5,103,6,104],[5,105,6,106],[5,107,6,108],[5,109,6,110],[5,177,6,178],[5,179,6,180],[6,1,6,4],[5,159,6,160],[5,161,6,162],[5,165,6,166],[5,167,6,168],[5,169,6,170],[5,171,6,172],[5,147,6,148],[5,149,6,150],[5,151,6,152],[5,153,6,154],[5,155,6,156],[5,157,6,158],[5,135,6,136],[5,137,6,138],[5,139,6,140],[5,87,6,88],[7,4,7,6],[8,4,8,5],[9,4,9,5],[10,4,10,5],[11,4,11,5],[12,4,12,5],[5,173,6,174],[5,175,6,176],[5,129,6,130],[5,131,6,132],[5,133,6,134],[5,111,6,112],[5,113,6,114],[5,115,6,116],[5,117,6,118],[5,119,6,120],[5,121,6,122],[5,141,6,142],[5,143,6,144],[5,145,6,146],[5,123,6,124],[5,125,6,126],[5,127,6,128],[5,99,6,100],[21,4,21,5],[22,4,22,5],[23,4,23,5],[24,4,24,5],[13,4,13,5],[14,4,14,5],[15,4,15,5],[16,4,16,5],[17,4,17,5],[18,4,18,5],[1,163,1,164],[2,163,2,164],[4,163,4,164],[5,163,6,164],[42,4,42,5],[37,4,37,5],[38,4,38,5],[39,4,39,5],[40,4,40,5],[41,4,41,5],[31,4,31,5],[32,4,32,5],[33,4,33,5],[34,4,34,5],[35,4,35,5],[36,4,36,5],[25,4,25,5],[26,4,26,5],[27,4,27,5],[28,4,28,5],[29,4,29,5],[30,4,30,5],[19,4,19,5],[20,4,20,5]]}
[]
[null,"Country :",null,null,{"$f":"IF(Introduction!D13=0,\"\",Introduction!D13)","v":""},"no",null,1,null,2,null,3,null,4,null,5,null,6,null,7,null,8,null,9,null,10,null,11,null,12,null,13,null,14,null,15,null,16,null,17,null,18,null,19,null,20,null,21,null,22,null,23,null,24,null,25,null,26,null,27,null,28,null,29,null,30,null,31,null,32,null,33,null,34,null,35,null,36,null,37,null,38,null,39,null,40,null,41,null,42,null,43,null,44,null,45,null,46,null,47,null,48,null,49,null,50,null,51,null,52,null,53,null,54,null,55,null,56,null,57,null,58,null,59,null,60,null,61,null,62,null,63,null,64,null,65,null,66,null,67,null,68,null,69,null,70,null,71,null,72,null,73,null,74,null,75,null,76,null,77,null,78,null,79,null,80,null,81,null,82,null,83,null,84,null,85,null,86,null,87]
[null,"Year :",null,null,{"$f":"IF(Introduction!D17=0,\"\",Introduction!D17)","v":""},"Level",null,{"$f":"'PEFA Columns'!D6","v":1},null,{"$f":"'PEFA Columns'!F6","v":2},null,{"$f":"'PEFA Columns'!H6","v":3},null,{"$f":"'PEFA Columns'!J6","v":3},null,{"$f":"'PEFA Columns'!L6","v":3},null,{"$f":"'PEFA Columns'!N6","v":2},null,{"$f":"'PEFA Columns'!P6","v":2},null,{"$f":"'PEFA Columns'!R6","v":3},null,{"$f":"'PEFA Columns'!T6","v":3},null,{"$f":"'PEFA Columns'!V6","v":3},null,{"$f":"'PEFA Columns'!X6","v":3},null,{"$f":"'PEFA Columns'!Z6","v":3},null,{"$f":"'PEFA Columns'!AB6","v":3},null,{"$f":"'PEFA Columns'!AD6","v":3},null,{"$f":"'PEFA Columns'!AF6","v":3},null,{"$f":"'PEFA Columns'!AH6","v":3},null,{"$f":"'PEFA Columns'!AJ6","v":3},null,{"$f":"'PEFA Columns'!AL6","v":3},null,{"$f":"'PEFA Columns'!AN6","v":3},null,{"$f":"'PEFA Columns'!AP6","v":3},null,{"$f":"'PEFA Columns'!AR6","v":3},null,{"$f":"'PEFA Columns'!AT6","v":3},null,{"$f":"'PEFA Columns'!AV6","v":3},null,{"$f":"'PEFA Columns'!AX6","v":3},null,{"$f":"'PEFA Columns'!AZ6","v":3},null,{"$f":"'PEFA Columns'!BB6","v":3},null,{"$f":"'PEFA Columns'!BD6","v":2},null,{"$f":"'PEFA Columns'!BF6","v":2},null,{"$f":"'PEFA Columns'!BH6","v":3},null,{"$f":"'PEFA Columns'!BJ6","v":3},null,{"$f":"'PEFA Columns'!BL6","v":2},null,{"$f":"'PEFA Columns'!BN6","v":2},null,{"$f":"'PEFA Columns'!BP6","v":3},null,{"$f":"'PEFA Columns'!BR6","v":3},null,{"$f":"'PEFA Columns'!BT6","v":3},null,{"$f":"'PEFA Columns'!BV6","v":2},null,{"$f":"'PEFA Columns'!BX6","v":3},null,{"$f":"'PEFA Columns'!BZ6","v":3},null,{"$f":"'PEFA Columns'!CB6","v":3},null,{"$f":"'PEFA Columns'!CD6","v":3},null,{"$f":"'PEFA Columns'!CF6","v":3},null,{"$f":"'PEFA Columns'!CH6","v":2},null,{"$f":"'PEFA Columns'!CJ6","v":2},null,{"$f":"'PEFA Columns'!CL6","v":3},null,{"$f":"'PEFA Columns'!CN6","v":3},null,{"$f":"'PEFA Columns'!CP6","v":3},null,{"$f":"'PEFA Columns'!CR6","v":3},null,{"$f":"'PEFA Columns'!CT6","v":2},null,{"$f":"'PEFA Columns'!CV6","v":3},null,{"$f":"'PEFA Columns'!CX6","v":3},null,{"$f":"'PEFA Columns'!CZ6","v":3},null,{"$f":"'PEFA Columns'!DB6","v":2},null,{"$f":"'PEFA Columns'!DD6","v":3},null,{"$f":"'PEFA Columns'!DF6","v":2},null,{"$f":"'PEFA Columns'!DH6","v":3},null,{"$f":"'PEFA Columns'!DJ6","v":3},null,{"$f":"'PEFA Columns'!DL6","v":3},null,{"$f":"'PEFA Columns'!DN6","v":3},null,{"$f":"'PEFA Columns'!DP6","v":3},null,{"$f":"'PEFA Columns'!DR6","v":2},null,{"$f":"'PEFA Columns'!DT6","v":3},null,{"$f":"'PEFA Columns'!DV6","v":3},null,{"$f":"'PEFA Columns'!DX6","v":3},null,{"$f":"'PEFA Columns'!DZ6","v":3},null,{"$f":"'PEFA Columns'!EB6","v":2},null,{"$f":"'PEFA Columns'!ED6","v":2},null,{"$f":"'PEFA Columns'!EF6","v":2},null,{"$f":"'PEFA Columns'!EH6","v":3},null,{"$f":"'PEFA Columns'!EJ6","v":3},null,{"$f":"'PEFA Columns'!EL6","v":2},null,{"$f":"'PEFA Columns'!EN6","v":3},null,{"$f":"'PEFA Columns'!EP6","v":3},null,{"$f":"'PEFA Columns'!ER6","v":2},null,{"$f":"'PEFA Columns'!ET6","v":3},null,{"$f":"'PEFA Columns'!EV6","v":3},null,{"$f":"'PEFA Columns'!EX6","v":3},null,{"$f":"'PEFA Columns'!EZ6","v":2},null,{"$f":"'PEFA Columns'!FB6","v":2},null,{"$f":"'PEFA Columns'!FD6","v":2},null,{"$f":"'PEFA Columns'!FF6","v":1},null,{"$f":"'PEFA Columns'!FH6","v":2},null,{"$f":"'PEFA Columns'!FJ6","v":2},null,{"$f":"'PEFA Columns'!FL6","v":2},null,{"$f":"'PEFA Columns'!FN6","v":1},null,{"$f":"'PEFA Columns'!FP6","v":1},null,{"$f":"'PEFA Columns'!FR6","v":1},null,{"$f":"'PEFA Columns'!FT6","v":0}]
[null,"Table:",null,null,"Table B.1 - Transformation use of energy flows",null,null," ",null,null,null,null,null,null,null,null,null,null,null,null,null,"INDUSTRIES (ISIC rev 4)",null,null,null,null,null,null,null,null,null,null,null,null,null,null,null,"INDUSTRIES (ISIC rev 4)",null,null,null,null,null,null,null,null,null,null,null,null,null,null,null,null,null,null,null,null,null,null,null,"INDUSTRIES (ISIC rev 4)",null,null,null,null,null,null,null,null,null,null,null,null,null,null,null,"INDUSTRIES (ISIC rev 4)",null,null,null,null,null,null,null,null,null,null,null,null,null,null,null,null,null,"INDUSTRIES (ISIC rev 4)",null,null,null,null,null,null,null,null,null,null,null,null,null,"INDUSTRIES (ISIC rev 4)",null,null,null,null,null,null,null,null,null,null,null,null,null,null,null,null,null,null,null,null,null,null,null,null,null,null,null,null,null,null,null,"INDUSTRIES (ISIC rev 4)",null,null,null,null,null,null,null,null,null,null,null,null,null,null,null,null,null,null,null,null,null,null,null,"HOUSEHOLDS",null,null,null,null,null,null,null,"ACCUMULATION",null,"REST OF THE WORLD",null,"ENVIRONMENT",null,null,null,null,null,null,null,null,null,"CONSTANTS"]
[null,"Content:",null,null,"Energy Flows","Code",null,{"$f":"'PEFA Columns'!D7","v":"ATU"},null,{"$f":"'PEFA Columns'!F7","v":"A"},null,{"$f":"'PEFA Columns'!H7","v":"A01"},null,{"$f":"'PEFA Columns'!J7","v":"A02"},null,{"$f":"'PEFA Columns'!L7","v":"A03"},null,{"$f":"'PEFA Columns'!N7","v":"B"},null,{"$f":"'PEFA Columns'!P7","v":"C"},null,{"$f":"'PEFA Columns'!R7","v":"C10T12"},null,{"$f":"'PEFA Columns'!T7","v":"C13T15"},null,{"$f":"'PEFA Columns'!V7","v":"C16"},null,{"$f":"'PEFA Columns'!X7","v":"C17"},null,{"$f":"'PEFA Columns'!Z7","v":"C18"},null,{"$f":"'PEFA Columns'!AB7","v":"C19"},null,{"$f":"'PEFA Columns'!AD7","v":"C20"},null,{"$f":"'PEFA Columns'!AF7","v":"C21"},null,{"$f":"'PEFA Columns'!AH7","v":"C22"},null,{"$f":"'PEFA Columns'!AJ7","v":"C23"},null,{"$f":"'PEFA Columns'!AL7","v":"C24"},null,{"$f":"'PEFA Columns'!AN7","v":"C25"},null,{"$f":"'PEFA Columns'!AP7","v":"C26"},null,{"$f":"'PEFA Columns'!AR7","v":"C27"},null,{"$f":"'PEFA Columns'!AT7","v":"C28"},null,{"$f":"'PEFA Columns'!AV7","v":"C29"},null,{"$f":"'PEFA Columns'!AX7","v":"C30"},null,{"$f":"'PEFA Columns'!AZ7","v":"C31_32"},null,{"$f":"'PEFA Columns'!BB7","v":"C33"},null,{"$f":"'PEFA Columns'!BD7","v":"D"},null,{"$f":"'PEFA Columns'!BF7","v":"E"},null,{"$f":"'PEFA Columns'!BH7","v":"E36"},null,{"$f":"'PEFA Columns'!BJ7","v":"E37T39"},null,{"$f":"'PEFA Columns'!BL7","v":"F"},null,{"$f":"'PEFA Columns'!BN7","v":"G"},null,{"$f":"'PEFA Columns'!BP7","v":"G45"},null,{"$f":"'PEFA Columns'!BR7","v":"G46"},null,{"$f":"'PEFA Columns'!BT7","v":"G47"},null,{"$f":"'PEFA Columns'!BV7","v":"H"},null,{"$f":"'PEFA Columns'!BX7","v":"H49"},null,{"$f":"'PEFA Columns'!BZ7","v":"H50"},null,{"$f":"'PEFA Columns'!CB7","v":"H51"},null,{"$f":"'PEFA Columns'!CD7","v":"H52"},null,{"$f":"'PEFA Columns'!CF7","v":"H53"},null,{"$f":"'PEFA Columns'!CH7","v":"I"},null,{"$f":"'PEFA Columns'!CJ7","v":"J"},null,{"$f":"'PEFA Columns'!CL7","v":"J58"},null,{"$f":"'PEFA Columns'!CN7","v":"J59_60"},null,{"$f":"'PEFA Columns'!CP7","v":"J61"},null,{"$f":"'PEFA Columns'!CR7","v":"J62_63"},null,{"$f":"'PEFA Columns'!CT7","v":"K"},null,{"$f":"'PEFA Columns'!CV7","v":"K64"},null,{"$f":"'PEFA Columns'!CX7","v":"K65"},null,{"$f":"'PEFA Columns'!CZ7","v":"K66"},null,{"$f":"'PEFA Columns'!DB7","v":"L"},null,{"$f":"'PEFA Columns'!DD7","v":"L68A"},null,{"$f":"'PEFA Columns'!DF7","v":"M"},null,{"$f":"'PEFA Columns'!DH7","v":"M69_70"},null,{"$f":"'PEFA Columns'!DJ7","v":"M71"},null,{"$f":"'PEFA Columns'!DL7","v":"M72"},null,{"$f":"'PEFA Columns'!DN7","v":"M73"},null,{"$f":"'PEFA Columns'!DP7","v":"M74_75"},null,{"$f":"'PEFA Columns'!DR7","v":"N"},null,{"$f":"'PEFA Columns'!DT7","v":"N77"},null,{"$f":"'PEFA Columns'!DV7","v":"N78"},null,{"$f":"'PEFA Columns'!DX7","v":"N79"},null,{"$f":"'PEFA Columns'!DZ7","v":"N80T82"},null,{"$f":"'PEFA Columns'!EB7","v":"O"},null,{"$f":"'PEFA Columns'!ED7","v":"P"},null,{"$f":"'PEFA Columns'!EF7","v":"Q"},null,{"$f":"'PEFA Columns'!EH7","v":"Q86"},null,{"$f":"'PEFA Columns'!EJ7","v":"Q87_88"},null,{"$f":"'PEFA Columns'!EL7","v":"R"},null,{"$f":"'PEFA Columns'!EN7","v":"R90T92"},null,{"$f":"'PEFA Columns'!EP7","v":"R93"},null,{"$f":"'PEFA Columns'!ER7","v":"S"},null,{"$f":"'PEFA Columns'!ET7","v":"S94"},null,{"$f":"'PEFA Columns'!EV7","v":"S95"},null,{"$f":"'PEFA Columns'!EX7","v":"S96"},null,{"$f":"'PEFA Columns'!EZ7","v":"T"},null,{"$f":"'PEFA Columns'!FB7","v":"U"},null,"_X",null,{"$f":"'PEFA Columns'!FF7","v":"HH"},null,{"$f":"'PEFA Columns'!FH7","v":"HH_HEAT"},null,{"$f":"'PEFA Columns'!FJ7","v":"HH_TR"},null,{"$f":"'PEFA Columns'!FL7","v":"HH_OTH"},null,{"$f":"'PEFA Columns'!FN7","v":"ATU_HH"},null,{"$f":"'PEFA Columns'!FP7","v":"ATU_HH"},null,{"$f":"'PEFA Columns'!FR7","v":"ATU_HH"},null,{"$f":"'PEFA Columns'!FT7","v":"ATU_HH"}]
[null,"Unit :",null,null,"TJ","Label",null,{"$f":"'PEFA Columns'!D8","v":"Total ISIC/NACE industries"},null,{"$f":"'PEFA Columns'!F8","v":"Agriculture, forestry and fishing"},null,{"$f":"'PEFA Columns'!H8","v":"Crop and animal production, hunting and related service activities"},null,{"$f":"'PEFA Columns'!J8","v":"Forestry and logging"},null,{"$f":"'PEFA Columns'!L8","v":"Fishing and aquaculture"},null,{"$f":"'PEFA Columns'!N8","v":"Mining and quarrying"},null,{"$f":"'PEFA Columns'!P8","v":"Manufacturing"},null,{"$f":"'PEFA Columns'!R8","v":"Manufacture of food products, beverages and tobacco\nproducts"},null,{"$f":"'PEFA Columns'!T8","v":"Manufacture of textiles, wearing apparel and leather products"},null,{"$f":"'PEFA Columns'!V8","v":"Manufacture of wood and of products of wood and cork, except furniture; manufacture of articles of straw and plaiting materials"},null,{"$f":"'PEFA Columns'!X8","v":"Manufacture of paper and paper products"},null,{"$f":"'PEFA Columns'!Z8","v":"Printing and reproduction of recorded media"},null,{"$f":"'PEFA Columns'!AB8","v":"Manufacture of coke and refined petroleum products"},null,{"$f":"'PEFA Columns'!AD8","v":"Manufacture of chemicals and chemical products"},null,{"$f":"'PEFA Columns'!AF8","v":"Manufacture of basic pharmaceutical products and pharmaceutical preparations"},null,{"$f":"'PEFA Columns'!AH8","v":"Manufacture of rubber and plastic products"},null,{"$f":"'PEFA Columns'!AJ8","v":"Manufacture of other non-metallic mineral products"},null,{"$f":"'PEFA Columns'!AL8","v":"Manufacture of basic metals"},null,{"$f":"'PEFA Columns'!AN8","v":"Manufacture of fabricated metal products, except machinery and equipment"},null,{"$f":"'PEFA Columns'!AP8","v":"Manufacture of computer, electronic and optical products"},null,{"$f":"'PEFA Columns'!AR8","v":"Manufacture of electrical equipment"},null,{"$f":"'PEFA Columns'!AT8","v":"Manufacture of machinery and equipment n.e.c."},null,{"$f":"'PEFA Columns'!AV8","v":"Manufacture of motor vehicles, trailers and semi-trailers"},null,{"$f":"'PEFA Columns'!AX8","v":"Manufacture of other transport equipment"},null,{"$f":"'PEFA Columns'!AZ8","v":"Manufacture of furniture; other manufacturing"},null,{"$f":"'PEFA Columns'!BB8","v":"Repair and installation of machinery and equipment"},null,{"$f":"'PEFA Columns'!BD8","v":"Electricity, gas, steam and air conditioning supply"},null,{"$f":"'PEFA Columns'!BF8","v":"Water supply; sewerage, waste management and remediation activities"},null,{"$f":"'PEFA Columns'!BH8","v":"Water collection, treatment and supply"},null,{"$f":"'PEFA Columns'!BJ8","v":"Sewerage, waste management, remediation activities"},null,{"$f":"'PEFA Columns'!BL8","v":"Construction"},null,{"$f":"'PEFA Columns'!BN8","v":"Wholesale and retail trade; repair of motor vehicles and motorcycles"},null,{"$f":"'PEFA Columns'!BP8","v":"Wholesale and retail trade and repair of motor vehicles and motorcycles"},null,{"$f":"'PEFA Columns'!BR8","v":"Wholesale trade, except of motor vehicles and motorcycles"},null,{"$f":"'PEFA Columns'!BT8","v":"Retail trade, except of motor vehicles and motorcycles"},null,{"$f":"'PEFA Columns'!BV8","v":"Transportation and storage"},null,{"$f":"'PEFA Columns'!BX8","v":"Land transport and transport via pipelines"},null,{"$f":"'PEFA Columns'!BZ8","v":"Water transport"},null,{"$f":"'PEFA Columns'!CB8","v":"Air transport"},null,{"$f":"'PEFA Columns'!CD8","v":"Warehousing and support activities for transportation"},null,{"$f":"'PEFA Columns'!CF8","v":"Postal and courier activities"},null,{"$f":"'PEFA Columns'!CH8","v":"Accommodation and food service activities"},null,{"$f":"'PEFA Columns'!CJ8","v":"Information and communication"},null,{"$f":"'PEFA Columns'!CL8","v":"Publishing activities"},null,{"$f":"'PEFA Columns'!CN8","v":"Motion picture, video, television programme production; programming and broadcasting activities"},null,{"$f":"'PEFA Columns'!CP8","v":"Telecommunications"},null,{"$f":"'PEFA Columns'!CR8","v":"Computer programming, consultancy, and information service activities"},null,{"$f":"'PEFA Columns'!CT8","v":"Financial and insurance activities"},null,{"$f":"'PEFA Columns'!CV8","v":"Financial service activities, except insurance and pension funding"},null,{"$f":"'PEFA Columns'!CX8","v":"Insurance, reinsurance and pension funding, except compulsory social security"},null,{"$f":"'PEFA Columns'!CZ8","v":"Activities auxiliary to financial services and insurance activities"},null,{"$f":"'PEFA Columns'!DB8","v":"Real estate activities"},null,{"$f":"'PEFA Columns'!DD8","v":"Of which: Imputed rents of owner-occupied dwellings"},null,{"$f":"'PEFA Columns'!DF8","v":"Professional, scientific and technical activities"},null,{"$f":"'PEFA Columns'!DH8","v":"Legal and accounting activities; activities of head offices; management consultancy activities"},null,{"$f":"'PEFA Columns'!DJ8","v":"Architectural and engineering activities; technical testing and analysis"},null,{"$f":"'PEFA Columns'!DL8","v":"Scientific research and development"},null,{"$f":"'PEFA Columns'!DN8","v":"Advertising and market research"},null,{"$f":"'PEFA Columns'!DP8","v":"Other professional, scientific and technical activities; veterinary activities"},null,{"$f":"'PEFA Columns'!DR8","v":"Administrative and support service activities"},null,{"$f":"'PEFA Columns'!DT8","v":"Rental and leasing activities"},null,{"$f":"'PEFA Columns'!DV8","v":"Employment activities"},null,{"$f":"'PEFA Columns'!DX8","v":"Travel agency, tour operator reservation service and related activities"},null,{"$f":"'PEFA Columns'!DZ8","v":"Security and investigation, service and landscape, office administrative and support activities"},null,{"$f":"'PEFA Columns'!EB8","v":"Public administration and defence; compulsory social security"},null,{"$f":"'PEFA Columns'!ED8","v":"Education"},null,{"$f":"'PEFA Columns'!EF8","v":"Human health and social work activities"},null,{"$f":"'PEFA Columns'!EH8","v":"Human health activities"},null,{"$f":"'PEFA Columns'!EJ8","v":"Residential care activities and social work activities without accommodation"},null,{"$f":"'PEFA Columns'!EL8","v":"Arts, entertainment and recreation"},null,{"$f":"'PEFA Columns'!EN8","v":"Creative, arts and entertainment activities; libraries, archives, museums and other cultural activities; gambling and betting activities"},null,{"$f":"'PEFA Columns'!EP8","v":"Sports activities and amusement and recreation activities"},null,{"$f":"'PEFA Columns'!ER8","v":"Other service activities"},null,{"$f":"'PEFA Columns'!ET8","v":"Activities of membership organisations"},null,{"$f":"'PEFA Columns'!EV8","v":"Repair of computers and personal and household goods"},null,{"$f":"'PEFA Columns'!EX8","v":"Other personal service activities"},null,{"$f":"'PEFA Columns'!EZ8","v":"Activities of households as employers; undifferentiated goods- and services-producing activities of households for own use"},null,{"$f":"'PEFA Columns'!FB8","v":"Activities of extraterritorial organisations and bodies"},null,{"$f":"'PEFA Columns'!FD8","v":"All other industries"},null,{"$f":"'PEFA Columns'!FF8","v":"Total activities by households"},null,{"$f":"'PEFA Columns'!FH8","v":"Heating/cooling activities by households"},null,{"$f":"'PEFA Columns'!FJ8","v":"Transport activities by households"},null,{"$f":"'PEFA Columns'!FL8","v":"Other activities by households"},null,{"$f":"'PEFA Columns'!FN8","v":"Changes in inventories and produced assets"},null,{"$f":"'PEFA Columns'!FP8","v":"Rest of the World - economic activities"},null,{"$f":"'PEFA Columns'!FR8","v":"Environment"},null,{"$f":"'PEFA Columns'!FT8","v":"TOTAL USE OF NATURAL INPUTS, PRODUCTS, AND RESIDUALS"}]
[null,null,null,null,null,null,null,null,null,null,null,null,null,null,null,null,null,null,null,null,null,null,null,null,null,null,null,null,null,null,null,null,null,null,null,null,null,null,null,null,null,null,null,null,null,null,null,null,null,null,null,null,null,null,null,null,null,null,null,null,null,null,null,null,null,null,null,null,null,null,null,null,null,null,null,null,null,null,null,null,null,null,null,null,null,null,null,null,null,null,null,null,null,null,null,null,null,null,null,null,null,null,null,null,null,null,null,null,null,null,null,null,null,null,null,null,null,null,null,null,null,null,null,null,null,null,null,null,null,null,null,null,null,null,null,null,null,null,null,null,null,null,null,null,null,null,null,null,null,null,null,null,null,null,null,null,null,null,null,null,null,null,null,null,null,null,null,null,null,null,null,null,null,null,null,null,null,null,null,null,null,null,null,null,null,null,null,"DEMAND_PROD","BRIDGE_ITEMS","UNIT_MEASURE","UNIT_MULT","PRODUCT","SECTOR"]
[null,"no","Level","Code","Label"]
[null,1,{"$f":"'PEFA rows'!B3","v":1},{"$f":"'PEFA rows'!C3","v":"N00"},{"$f":"'PEFA rows'!D3","v":"NATURAL ENERGY INPUTS"},null,null,{"$f":"SUM(H10:H16)","v":0},null,{"$f":"SUM(J10:J16)","v":0},null,{"$f":"SUM(L10:L16)","v":0},null,{"$f":"SUM(N10:N16)","v":0},null,{"$f":"SUM(P10:P16)","v":0},null,{"$f":"SUM(R10:R16)","v":0},null,{"$f":"SUM(T10:T16)","v":0},null,{"$f":"SUM(V10:V16)","v":0},null,{"$f":"SUM(X10:X16)","v":0},null,{"$f":"SUM(Z10:Z16)","v":0},null,{"$f":"SUM(AB10:AB16)","v":0},null,{"$f":"SUM(AD10:AD16)","v":0},null,{"$f":"SUM(AF10:AF16)","v":0},null,{"$f":"SUM(AH10:AH16)","v":0},null,{"$f":"SUM(AJ10:AJ16)","v":0},null,{"$f":"SUM(AL10:AL16)","v":0},null,{"$f":"SUM(AN10:AN16)","v":0},null,{"$f":"SUM(AP10:AP16)","v":0},null,{"$f":"SUM(AR10:AR16)","v":0},null,{"$f":"SUM(AT10:AT16)","v":0},null,{"$f":"SUM(AV10:AV16)","v":0},null,{"$f":"SUM(AX10:AX16)","v":0},null,{"$f":"SUM(AZ10:AZ16)","v":0},null,{"$f":"SUM(BB10:BB16)","v":0},null,{"$f":"SUM(BD10:BD16)","v":0},null,{"$f":"SUM(BF10:BF16)","v":0},null,{"$f":"SUM(BH10:BH16)","v":0},null,{"$f":"SUM(BJ10:BJ16)","v":0},null,{"$f":"SUM(BL10:BL16)","v":0},null,{"$f":"SUM(BN10:BN16)","v":0},null,{"$f":"SUM(BP10:BP16)","v":0},null,{"$f":"SUM(BR10:BR16)","v":0},null,{"$f":"SUM(BT10:BT16)","v":0},null,{"$f":"SUM(BV10:BV16)","v":0},null,{"$f":"SUM(BX10:BX16)","v":0},null,{"$f":"SUM(BZ10:BZ16)","v":0},null,{"$f":"SUM(CB10:CB16)","v":0},null,{"$f":"SUM(CD10:CD16)","v":0},null,{"$f":"SUM(CF10:CF16)","v":0},null,{"$f":"SUM(CH10:CH16)","v":0},null,{"$f":"SUM(CJ10:CJ16)","v":0},null,{"$f":"SUM(CL10:CL16)","v":0},null,{"$f":"SUM(CN10:CN16)","v":0},null,{"$f":"SUM(CP10:CP16)","v":0},null,{"$f":"SUM(CR10:CR16)","v":0},null,{"$f":"SUM(CT10:CT16)","v":0},null,{"$f":"SUM(CV10:CV16)","v":0},null,{"$f":"SUM(CX10:CX16)","v":0},null,{"$f":"SUM(CZ10:CZ16)","v":0},null,{"$f":"SUM(DB10:DB16)","v":0},null,{"$f":"SUM(DD10:DD16)","v":0},null,{"$f":"SUM(DF10:DF16)","v":0},null,{"$f":"SUM(DH10:DH16)","v":0},null,{"$f":"SUM(DJ10:DJ16)","v":0},null,{"$f":"SUM(DL10:DL16)","v":0},null,{"$f":"SUM(DN10:DN16)","v":0},null,{"$f":"SUM(DP10:DP16)","v":0},null,{"$f":"SUM(DR10:DR16)","v":0},null,{"$f":"SUM(DT10:DT16)","v":0},null,{"$f":"SUM(DV10:DV16)","v":0},null,{"$f":"SUM(DX10:DX16)","v":0},null,{"$f":"SUM(DZ10:DZ16)","v":0},null,{"$f":"SUM(EB10:EB16)","v":0},null,{"$f":"SUM(ED10:ED16)","v":0},null,{"$f":"SUM(EF10:EF16)","v":0},null,{"$f":"SUM(EH10:EH16)","v":0},null,{"$f":"SUM(EJ10:EJ16)","v":0},null,{"$f":"SUM(EL10:EL16)","v":0},null,{"$f":"SUM(EN10:EN16)","v":0},null,{"$f":"SUM(EP10:EP16)","v":0},null,{"$f":"SUM(ER10:ER16)","v":0},null,{"$f":"SUM(ET10:ET16)","v":0},null,{"$f":"SUM(EV10:EV16)","v":0},null,{"$f":"SUM(EX10:EX16)","v":0},null,{"$f":"SUM(EZ10:EZ16)","v":0},null,{"$f":"SUM(FB10:FB16)","v":0},null,{"$f":"SUM(FD10:FD16)","v":0},null,{"$f":"SUM(FF10:FF16)","v":0},null,{"$f":"SUM(FH10:FH16)","v":0},null,null,null,null,null,null,null,null,null,null,null,null,null,null,null,{"$f":"SUM(FX10:FX16)","v":0},null,null,null,null,null,null,null,"P","RES","TJ",0,"_T","S1"]
[null,2,2,{"$f":"'PEFA rows'!C4","v":"N01"},{"$f":"'PEFA rows'!D4","v":"Fossil non-renewable natural energy inputs"},null,null,{"$f":"SUM(J10,R10,T10,BH10,BJ10,BP10,BR10,BZ10,CL10,CN10,CX10,DF10,DJ10,DV10,EF10,EH10,EJ10,EP10,EV10,FD10,FF10, FH10)","v":0},null,{"$f":"SUM(L10,N10,P10)","v":0},null,0,null,0,null,0,null,0,null,{"$f":"SUM(V10,X10,Z10,AB10,AD10,AF10,AH10,AJ10,AL10,AN10,AP10,AR10,AT10,AV10,AX10,AZ10,BB10,BD10,BF10)","v":0},null,0,null,0,null,0,null,0,null,0,null,0,null,0,null,0,null,0,null,0,null,0,null,0,null,0,null,0,null,0,null,0,null,0,null,0,null,0,null,0,null,{"$f":"SUM(BL10,BN10)","v":0},null,0,null,0,null,0,null,{"$f":"SUM(BT10,BV10,BX10)","v":0},null,0,null,0,null,0,null,{"$f":"SUM(CB10,CD10,CF10,CH10,CJ10)","v":0},null,0,null,0,null,0,null,0,null,0,null,0,null,{"$f":"SUM(CP10,CR10,CT10,CV10)","v":0},null,0,null,0,null,0,null,0,null,{"$f":"SUM(CZ10,DB10,DD10)","v":0},null,0,null,0,null,0,null,0,null,0,null,{"$f":"SUM(DL10,DN10,DP10,DR10,DT10)","v":0},null,0,null,0,null,0,null,0,null,0,null,{"$f":"SUM(DX10,DZ10,EB10,ED10)","v":0},null,0,null,0,null,0,null,0,null,0,null,0,null,{"$f":"SUM(EL10,EN10)","v":0},null,0,null,0,null,{"$f":"SUM(ER10,ET10)","v":0},null,0,null,0,null,{"$f":"SUM(EX10,EZ10,FB10)","v":0},null,0,null,0,null,0,null,0,null,0,null,0,null,null,null,null,null,null,null,null,null,null,null,null,null,null,null,{"$f":"SUM(H10,FJ10,FR10,FT10,FV10)","v":0}]
[null,3,2,{"$f":"'PEFA rows'!C5","v":"N02"},{"$f":"'PEFA rows'!D5","v":"Nuclear non-renewable natural energy inputs"},null,null,0,null,0,null,0,null,0,null,0,null,0,null,0,null,0,null,0,null,0,null,0,null,0,null,0,null,0,null,0,null,0,null,0,null,0,null,0,null,0,null,0,null,0,null,0,null,0,null,0,null,0,null,0,null,0,null,0,null,0,null,0,null,0,null,0,null,0,null,0,null,0,null,0,null,0,null,0,null,0,null,0,null,0,null,0,null,0,null,0,null,0,null,0,null,0,null,0,null,0,null,0,null,0,null,0,null,0,null,0,null,0,null,0,null,0,null,0,null,0,null,0,null,0,null,0,null,0,null,0,null,0,null,0,null,0,null,0,null,0,null,0,null,0,null,0,null,0,null,0,null,0,null,0,null,0,null,0,null,null,null,null,null,null,null,null,null,null,null,null,null,null,null,0]
[null,4,2,{"$f":"'PEFA rows'!C6","v":"N03"},{"$f":"'PEFA rows'!D6","v":"Hydro based renewable natural energy inputs"},null,null,0,null,0,null,0,null,0,null,0,null,0,null,0,null,0,null,0,null,0,null,0,null,0,null,0,null,0,null,0,null,0,null,0,null,0,null,0,null,0,null,0,null,0,null,0,null,0,null,0,null,0,null,0,null,0,null,0,null,0,null,0,null,0,null,0,null,0,null,0,null,0,null,0,null,0,null,0,null,0,null,0,null,0,null,0,null,0,null,0,null,0,null,0,null,0,null,0,null,0,null,0,null,0,null,0,null,0,null,0,null,0,null,0,null,0,null,0,null,0,null,0,null,0,null,0,null,0,null,0,null,0,null,0,null,0,null,0,null,0,null,0,null,0,null,0,null,0,null,0,null,0,null,0,null,0,null,0,null,null,null,null,null,null,null,null,null,null,null,null,null,null,null,0]
[null,5,2,{"$f":"'PEFA rows'!C7","v":"N04"},{"$f":"'PEFA rows'!D7","v":"Wind based renewable natural energy inputs"},null,null,0,null,0,null,0,null,0,null,0,null,0,null,0,null,0,null,0,null,0,null,0,null,0,null,0,null,0,null,0,null,0,null,0,null,0,null,0,null,0,null,0,null,0,null,0,null,0,null,0,null,0,null,0,null,0,null,0,null,0,null,0,null,0,null,0,null,0,null,0,null,0,null,0,null,0,null,0,null,0,null,0,null,0,null,0,null,0,null,0,null,0,null,0,null,0,null,0,null,0,null,0,null,0,null,0,null,0,null,0,null,0,null,0,null,0,null,0,null,0,null,0,null,0,null,0,null,0,null,0,null,0,null,0,null,0,null,0,null,0,null,0,null,0,null,0,null,0,null,0,null,0,null,0,null,0,null,0,null,null,null,null,null,null,null,null,null,null,null,null,null,null,null,0]
[null,6,2,{"$f":"'PEFA rows'!C8","v":"N05"},{"$f":"'PEFA rows'!D8","v":"Solar based renewable natural energy inputs"},null,null,0,null,0,null,0,null,0,null,0,null,0,null,0,null,0,null,0,null,0,null,0,null,0,null,0,null,0,null,0,null,0,null,0,null,0,null,0,null,0,null,0,null,0,null,0,null,0,null,0,null,0,null,0,null,0,null,0,null,0,null,0,null,0,null,0,null,0,null,0,null,0,null,0,null,0,null,0,null,0,null,0,null,0,null,0,null,0,null,0,null,0,null,0,null,0,null,0,null,0,null,0,null,0,null,0,null,0,null,0,null,0,null,0,null,0,null,0,null,0,null,0,null,0,null,0,null,0,null,0,null,0,null,0,null,0,null,0,null,0,null,0,null,0,null,0,null,0,null,0,null,0,null,0,null,0,null,0,null,null,null,null,null,null,null,null,null,null,null,null,null,null,null,0]
[null,7,2,{"$f":"'PEFA rows'!C9","v":"N06"},{"$f":"'PEFA rows'!D9","v":"Biomass based renewable natural energy inputs"},null,null,0,null,0,null,0,null,0,null,0,null,0,null,0,null,0,null,0,null,0,null,0,null,0,null,0,null,0,null,0,null,0,null,0,null,0,null,0,null,0,null,0,null,0,null,0,null,0,null,0,null,0,null,0,null,0,null,0,null,0,null,0,null,0,null,0,null,0,null,0,null,0,null,0,null,0,null,0,null,0,null,0,null,0,null,0,null,0,null,0,null,0,null,0,null,0,null,0,null,0,null,0,null,0,null,0,null,0,null,0,null,0,null,0,null,0,null,0,null,0,null,0,null,0,null,0,null,0,null,0,null,0,null,0,null,0,null,0,null,0,null,0,null,0,null,0,null,0,null,0,null,0,null,0,null,0,null,0,null,null,null,null,null,null,null,null,null,null,null,null,null,null,null,0]
[null,8,2,{"$f":"'PEFA rows'!C10","v":"N07"},{"$f":"'PEFA rows'!D10","v":"Other renewable natural energy inputs"},null,null,0,null,0,null,0,null,0,null,0,null,0,null,0,null,0,null,0,null,0,null,0,null,0,null,0,null,0,null,0,null,0,null,0,null,0,null,0,null,0,null,0,null,0,null,0,null,0,null,0,null,0,null,0,null,0,null,0,null,0,null,0,null,0,null,0,null,0,null,0,null,0,null,0,null,0,null,0,null,0,null,0,null,0,null,0,null,0,null,0,null,0,null,0,null,0,null,0,null,0,null,0,null,0,null,0,null,0,null,0,null,0,null,0,null,0,null,0,null,0,null,0,null,0,null,0,null,0,null,0,null,0,null,0,null,0,null,0,null,0,null,0,null,0,null,0,null,0,null,0,null,0,null,0,null,0,null,0,null,null,null,null,null,null,null,null,null,null,null,null,null,null,null,0]
[null,9,{"$f":"'PEFA rows'!B11","v":1},{"$f":"'PEFA rows'!C11","v":"P00"},{"$f":"'PEFA rows'!D11","v":"ENERGY PRODUCTS"},null,null,{"$f":"SUM(H18:H37)","v":0},null,{"$f":"SUM(J18:J37)","v":0},null,{"$f":"SUM(L18:L37)","v":0},null,{"$f":"SUM(N18:N37)","v":0},null,{"$f":"SUM(P18:P37)","v":0},null,{"$f":"SUM(R18:R37)","v":0},null,{"$f":"SUM(T18:T37)","v":0},null,{"$f":"SUM(V18:V37)","v":0},null,{"$f":"SUM(X18:X37)","v":0},null,{"$f":"SUM(Z18:Z37)","v":0},null,{"$f":"SUM(AB18:AB37)","v":0},null,{"$f":"SUM(AD18:AD37)","v":0},null,{"$f":"SUM(AF18:AF37)","v":0},null,{"$f":"SUM(AH18:AH37)","v":0},null,{"$f":"SUM(AJ18:AJ37)","v":0},null,{"$f":"SUM(AL18:AL37)","v":0},null,{"$f":"SUM(AN18:AN37)","v":0},null,{"$f":"SUM(AP18:AP37)","v":0},null,{"$f":"SUM(AR18:AR37)","v":0},null,{"$f":"SUM(AT18:AT37)","v":0},null,{"$f":"SUM(AV18:AV37)","v":0},null,{"$f":"SUM(AX18:AX37)","v":0},null,{"$f":"SUM(AZ18:AZ37)","v":0},null,{"$f":"SUM(BB18:BB37)","v":0},null,{"$f":"SUM(BD18:BD37)","v":0},null,{"$f":"SUM(BF18:BF37)","v":0},null,{"$f":"SUM(BH18:BH37)","v":0},null,{"$f":"SUM(BJ18:BJ37)","v":0},null,{"$f":"SUM(BL18:BL37)","v":0},null,{"$f":"SUM(BN18:BN37)","v":0},null,{"$f":"SUM(BP18:BP37)","v":0},null,{"$f":"SUM(BR18:BR37)","v":0},null,{"$f":"SUM(BT18:BT37)","v":0},null,{"$f":"SUM(BV18:BV37)","v":0},null,{"$f":"SUM(BX18:BX37)","v":0},null,{"$f":"SUM(BZ18:BZ37)","v":0},null,{"$f":"SUM(CB18:CB37)","v":0},null,{"$f":"SUM(CD18:CD37)","v":0},null,{"$f":"SUM(CF18:CF37)","v":0},null,{"$f":"SUM(CH18:CH37)","v":0},null,{"$f":"SUM(CJ18:CJ37)","v":0},null,{"$f":"SUM(CL18:CL37)","v":0},null,{"$f":"SUM(CN18:CN37)","v":0},null,{"$f":"SUM(CP18:CP37)","v":0},null,{"$f":"SUM(CR18:CR37)","v":0},null,{"$f":"SUM(CT18:CT37)","v":0},null,{"$f":"SUM(CV18:CV37)","v":0},null,{"$f":"SUM(CX18:CX37)","v":0},null,{"$f":"SUM(CZ18:CZ37)","v":0},null,{"$f":"SUM(DB18:DB37)","v":0},null,{"$f":"SUM(DD18:DD37)","v":0},null,{"$f":"SUM(DF18:DF37)","v":0},null,{"$f":"SUM(DH18:DH37)","v":0},null,{"$f":"SUM(DJ18:DJ37)","v":0},null,{"$f":"SUM(DL18:DL37)","v":0},null,{"$f":"SUM(DN18:DN37)","v":0},null,{"$f":"SUM(DP18:DP37)","v":0},null,{"$f":"SUM(DR18:DR37)","v":0},null,{"$f":"SUM(DT18:DT37)","v":0},null,{"$f":"SUM(DV18:DV37)","v":0},null,{"$f":"SUM(DX18:DX37)","v":0},null,{"$f":"SUM(DZ18:DZ37)","v":0},null,{"$f":"SUM(EB18:EB37)","v":0},null,{"$f":"SUM(ED18:ED37)","v":0},null,{"$f":"SUM(EF18:EF37)","v":0},null,{"$f":"SUM(EH18:EH37)","v":0},null,{"$f":"SUM(EJ18:EJ37)","v":0},null,{"$f":"SUM(EL18:EL37)","v":0},null,{"$f":"SUM(EN18:EN37)","v":0},null,{"$f":"SUM(EP18:EP37)","v":0},null,{"$f":"SUM(ER18:ER37)","v":0},null,{"$f":"SUM(ET18:ET37)","v":0},null,{"$f":"SUM(EV18:EV37)","v":0},null,{"$f":"SUM(EX18:EX37)","v":0},null,{"$f":"SUM(EZ18:EZ37)","v":0},null,{"$f":"SUM(FB18:FB37)","v":0},null,{"$f":"SUM(FD18:FD37)","v":0},null,{"$f":"SUM(FF18:FF37)","v":0},null,{"$f":"SUM(FH18:FH37)","v":0},null,null,null,null,null,null,null,null,null,null,null,null,null,null,null,{"$f":"SUM(FX18:FX37)","v":0}]
[null,10,2,{"$f":"'PEFA rows'!C12","v":"P08"},{"$f":"'PEFA rows'!D12","v":"Hard coal"},null,null,{"$f":"SUM(J18,R18,T18,BH18,BJ18,BP18,BR18,BZ18,CL18,CN18,CX18,DF18,DJ18,DV18,EF18,EH18,EJ18,EP18,EV18,FD18,FF18,FH18)","v":0},null,{"$f":"SUM(L18,N18,P18)","v":0},null,0,null,0,null,0,null,0,null,{"$f":"SUM(V18,X18,Z18,AB18,AD18,AF18,AH18,AJ18,AL18,AN18,AP18,AR18,AT18,AV18,AX18,AZ18,BB18,BD18,BF18)","v":0},null,0,null,0,null,0,null,0,null,0,null,0,null,0,null,0,null,0,null,0,null,0,null,0,null,0,null,0,null,0,null,0,null,0,null,0,null,0,null,0,null,{"$f":"SUM(BL18,BN18)","v":0},null,0,null,0,null,0,null,{"$f":"SUM(BT18,BV18,BX18)","v":0},null,0,null,0,null,0,null,{"$f":"SUM(CB18,CD18,CF18,CH18,CJ18)","v":0},null,0,null,0,null,0,null,0,null,0,null,0,null,{"$f":"SUM(CP18,CR18,CT18,CV18)","v":0},null,0,null,0,null,0,null,0,null,{"$f":"SUM(CZ18,DB18,DD18)","v":0},null,0,null,0,null,0,null,0,null,0,null,{"$f":"SUM(DL18,DN18,DP18,DR18,DT18)","v":0},null,0,null,0,null,0,null,0,null,0,null,{"$f":"SUM(DX18,DZ18,EB18,ED18)","v":0},null,0,null,0,null,0,null,0,null,0,null,0,null,{"$f":"SUM(EL18,EN18)","v":0},null,0,null,0,null,{"$f":"SUM(ER18,ET18)","v":0},null,0,null,0,null,{"$f":"SUM(EX18,EZ18,FB18)","v":0},null,0,null,0,null,0,null,0,null,0,null,0,null,null,null,null,null,null,null,null,null,null,null,null,null,null,null,{"$f":"SUM(H18,FJ18,FR18,FT18,FV18)","v":0}]
[null,11,2,{"$f":"'PEFA rows'!C13","v":"P09"},{"$f":"'PEFA rows'!D13","v":"Brown coal and peat"},null,null,0,null,0,null,0,null,0,null,0,null,0,null,0,null,0,null,0,null,0,null,0,null,0,null,0,null,0,null,0,null,0,null,0,null,0,null,0,null,0,null,0,null,0,null,0,null,0,null,0,null,0,null,0,null,0,null,0,null,0,null,0,null,0,null,0,null,0,null,0,null,0,null,0,null,0,null,0,null,0,null,0,null,0,null,0,null,0,null,0,null,0,null,0,null,0,null,0,null,0,null,0,null,0,null,0,null,0,null,0,null,0,null,0,null,0,null,0,null,0,null,0,null,0,null,0,null,0,null,0,null,0,null,0,null,0,null,0,null,0,null,0,null,0,null,0,null,0,null,0,null,0,null,0,null,0,null,0,null,null,null,null,null,null,null,null,null,null,null,null,null,null,null,0]
[null,12,2,{"$f":"'PEFA rows'!C14","v":"P10"},{"$f":"'PEFA rows'!D14","v":"Derived gases (= manufactured gases excl. biogas) "},null,null,0,null,0,null,0,null,0,null,0,null,0,null,0,null,0,null,0,null,0,null,0,null,0,null,0,null,0,null,0,null,0,null,0,null,0,null,0,null,0,null,0,null,0,null,0,null,0,null,0,null,0,null,0,null,0,null,0,null,0,null,0,null,0,null,0,null,0,null,0,null,0,null,0,null,0,null,0,null,0,null,0,null,0,null,0,null,0,null,0,null,0,null,0,null,0,null,0,null,0,null,0,null,0,null,0,null,0,null,0,null,0,null,0,null,0,null,0,null,0,null,0,null,0,null,0,null,0,null,0,null,0,null,0,null,0,null,0,null,0,null,0,null,0,null,0,null,0,null,0,null,0,null,0,null,0,null,0,null,null,null,null,null,null,null,null,null,null,null,null,null,null,null,0]
[null,13,2,{"$f":"'PEFA rows'!C15","v":"P11"},{"$f":"'PEFA rows'!D15","v":"Secondary coal products (coke, coal tar, patent fuel, BKB and peat products)"},null,null,0,null,0,null,0,null,0,null,0,null,0,null,0,null,0,null,0,null,0,null,0,null,0,null,0,null,0,null,0,null,0,null,0,null,0,null,0,null,0,null,0,null,0,null,0,null,0,null,0,null,0,null,0,null,0,null,0,null,0,null,0,null,0,null,0,null,0,null,0,null,0,null,0,null,0,null,0,null,0,null,0,null,0,null,0,null,0,null,0,null,0,null,0,null,0,null,0,null,0,null,0,null,0,null,0,null,0,null,0,null,0,null,0,null,0,null,0,null,0,null,0,null,0,null,0,null,0,null,0,null,0,null,0,null,0,null,0,null,0,null,0,null,0,null,0,null,0,null,0,null,0,null,0,null,0,null,0,null,null,null,null,null,null,null,null,null,null,null,null,null,null,null,0]
[null,14,2,{"$f":"'PEFA rows'!C16","v":"P12"},{"$f":"'PEFA rows'!D16","v":"Crude oil, NGL, and other hydrocarbons (excl. bio)"},null,null,0,null,0,null,0,null,0,null,0,null,0,null,0,null,0,null,0,null,0,null,0,null,0,null,0,null,0,null,0,null,0,null,0,null,0,null,0,null,0,null,0,null,0,null,0,null,0,null,0,null,0,null,0,null,0,null,0,null,0,null,0,null,0,null,0,null,0,null,0,null,0,null,0,null,0,null,0,null,0,null,0,null,0,null,0,null,0,null,0,null,0,null,0,null,0,null,0,null,0,null,0,null,0,null,0,null,0,null,0,null,0,null,0,null,0,null,0,null,0,null,0,null,0,null,0,null,0,null,0,null,0,null,0,null,0,null,0,null,0,null,0,null,0,null,0,null,0,null,0,null,0,null,0,null,0,null,0,null,null,null,null,null,null,null,null,null,null,null,null,null,null,null,0]
[null,15,2,{"$f":"'PEFA rows'!C17","v":"P13"},{"$f":"'PEFA rows'!D17","v":"Natural gas (without bio)"},null,null,0,null,0,null,0,null,0,null,0,null,0,null,0,null,0,null,0,null,0,null,0,null,0,null,0,null,0,null,0,null,0,null,0,null,0,null,0,null,0,null,0,null,0,null,0,null,0,null,0,null,0,null,0,null,0,null,0,null,0,null,0,null,0,null,0,null,0,null,0,null,0,null,0,null,0,null,0,null,0,null,0,null,0,null,0,null,0,null,0,null,0,null,0,null,0,null,0,null,0,null,0,null,0,null,0,null,0,null,0,null,0,null,0,null,0,null,0,null,0,null,0,null,0,null,0,null,0,null,0,null,0,null,0,null,0,null,0,null,0,null,0,null,0,null,0,null,0,null,0,null,0,null,0,null,0,null,0,null,null,null,null,null,null,null,null,null,null,null,null,null,null,null,0]
[null,16,2,{"$f":"'PEFA rows'!C18","v":"P14"},{"$f":"'PEFA rows'!D18","v":"Motor spirit (without bio)"},null,null,0,null,0,null,0,null,0,null,0,null,0,null,0,null,0,null,0,null,0,null,0,null,0,null,0,null,0,null,0,null,0,null,0,null,0,null,0,null,0,null,0,null,0,null,0,null,0,null,0,null,0,null,0,null,0,null,0,null,0,null,0,null,0,null,0,null,0,null,0,null,0,null,0,null,0,null,0,null,0,null,0,null,0,null,0,null,0,null,0,null,0,null,0,null,0,null,0,null,0,null,0,null,0,null,0,null,0,null,0,null,0,null,0,null,0,null,0,null,0,null,0,null,0,null,0,null,0,null,0,null,0,null,0,null,0,null,0,null,0,null,0,null,0,null,0,null,0,null,0,null,0,null,0,null,0,null,0,null,null,null,null,null,null,null,null,null,null,null,null,null,null,null,0]
[null,17,2,{"$f":"'PEFA rows'!C19","v":"P15"},{"$f":"'PEFA rows'!D19","v":"Kerosenes and jet fuels (without bio)"},null,null,0,null,0,null,0,null,0,null,0,null,0,null,0,null,0,null,0,null,0,null,0,null,0,null,0,null,0,null,0,null,0,null,0,null,0,null,0,null,0,null,0,null,0,null,0,null,0,null,0,null,0,null,0,null,0,null,0,null,0,null,0,null,0,null,0,null,0,null,0,null,0,null,0,null,0,null,0,null,0,null,0,null,0,null,0,null,0,null,0,null,0,null,0,null,0,null,0,null,0,null,0,null,0,null,0,null,0,null,0,null,0,null,0,null,0,null,0,null,0,null,0,null,0,null,0,null,0,null,0,null,0,null,0,null,0,null,0,null,0,null,0,null,0,null,0,null,0,null,0,null,0,null,0,null,0,null,0,null,null,null,null,null,null,null,null,null,null,null,null,null,null,null,0]
[null,18,2,{"$f":"'PEFA rows'!C20","v":"P16"},{"$f":"'PEFA rows'!D20","v":"Naphtha"},null,null,0,null,0,null,0,null,0,null,0,null,0,null,0,null,0,null,0,null,0,null,0,null,0,null,0,null,0,null,0,null,0,null,0,null,0,null,0,null,0,null,0,null,0,null,0,null,0,null,0,null,0,null,0,null,0,null,0,null,0,null,0,null,0,null,0,null,0,null,0,null,0,null,0,null,0,null,0,null,0,null,0,null,0,null,0,null,0,null,0,null,0,null,0,null,0,null,0,null,0,null,0,null,0,null,0,null,0,null,0,null,0,null,0,null,0,null,0,null,0,null,0,null,0,null,0,null,0,null,0,null,0,null,0,null,0,null,0,null,0,null,0,null,0,null,0,null,0,null,0,null,0,null,0,null,0,null,0,null,null,null,null,null,null,null,null,null,null,null,null,null,null,null,0]
[null,19,2,{"$f":"'PEFA rows'!C21","v":"P17"},{"$f":"'PEFA rows'!D21","v":"Transport diesel (without bio)"},null,null,0,null,0,null,0,null,0,null,0,null,0,null,0,null,0,null,0,null,0,null,0,null,0,null,0,null,0,null,0,null,0,null,0,null,0,null,0,null,0,null,0,null,0,null,0,null,0,null,0,null,0,null,0,null,0,null,0,null,0,null,0,null,0,null,0,null,0,null,0,null,0,null,0,null,0,null,0,null,0,null,0,null,0,null,0,null,0,null,0,null,0,null,0,null,0,null,0,null,0,null,0,null,0,null,0,null,0,null,0,null,0,null,0,null,0,null,0,null,0,null,0,null,0,null,0,null,0,null,0,null,0,null,0,null,0,null,0,null,0,null,0,null,0,null,0,null,0,null,0,null,0,null,0,null,0,null,0,null,null,null,null,null,null,null,null,null,null,null,null,null,null,null,0]
[null,20,2,{"$f":"'PEFA rows'!C22","v":"P18"},{"$f":"'PEFA rows'!D22","v":"Heating and other gasoil (without bio)"},null,null,0,null,0,null,0,null,0,null,0,null,0,null,0,null,0,null,0,null,0,null,0,null,0,null,0,null,0,null,0,null,0,null,0,null,0,null,0,null,0,null,0,null,0,null,0,null,0,null,0,null,0,null,0,null,0,null,0,null,0,null,0,null,0,null,0,null,0,null,0,null,0,null,0,null,0,null,0,null,0,null,0,null,0,null,0,null,0,null,0,null,0,null,0,null,0,null,0,null,0,null,0,null,0,null,0,null,0,null,0,null,0,null,0,null,0,null,0,null,0,null,0,null,0,null,0,null,0,null,0,null,0,null,0,null,0,null,0,null,0,null,0,null,0,null,0,null,0,null,0,null,0,null,0,null,0,null,0,null,null,null,null,null,null,null,null,null,null,null,null,null,null,null,0]
[null,21,2,{"$f":"'PEFA rows'!C23","v":"P19"},{"$f":"'PEFA rows'!D23","v":"Residual fuel oil"},null,null,0,null,0,null,0,null,0,null,0,null,0,null,0,null,0,null,0,null,0,null,0,null,0,null,0,null,0,null,0,null,0,null,0,null,0,null,0,null,0,null,0,null,0,null,0,null,0,null,0,null,0,null,0,null,0,null,0,null,0,null,0,null,0,null,0,null,0,null,0,null,0,null,0,null,0,null,0,null,0,null,0,null,0,null,0,null,0,null,0,null,0,null,0,null,0,null,0,null,0,null,0,null,0,null,0,null,0,null,0,null,0,null,0,null,0,null,0,null,0,null,0,null,0,null,0,null,0,null,0,null,0,null,0,null,0,null,0,null,0,null,0,null,0,null,0,null,0,null,0,null,0,null,0,null,0,null,0,null,null,null,null,null,null,null,null,null,null,null,null,null,null,null,0]
[null,22,2,{"$f":"'PEFA rows'!C24","v":"P20"},{"$f":"'PEFA rows'!D24","v":"Refinery gas, ethane and LPG"},null,null,0,null,0,null,0,null,0,null,0,null,0,null,0,null,0,null,0,null,0,null,0,null,0,null,0,null,0,null,0,null,0,null,0,null,0,null,0,null,0,null,0,null,0,null,0,null,0,null,0,null,0,null,0,null,0,null,0,null,0,null,0,null,0,null,0,null,0,null,0,null,0,null,0,null,0,null,0,null,0,null,0,null,0,null,0,null,0,null,0,null,0,null,0,null,0,null,0,null,0,null,0,null,0,null,0,null,0,null,0,null,0,null,0,null,0,null,0,null,0,null,0,null,0,null,0,null,0,null,0,null,0,null,0,null,0,null,0,null,0,null,0,null,0,null,0,null,0,null,0,null,0,null,0,null,0,null,0,null,null,null,null,null,null,null,null,null,null,null,null,null,null,null,0]
[null,23,2,{"$f":"'PEFA rows'!C25","v":"P21"},{"$f":"'PEFA rows'!D25","v":"Other petroleum products incl. additives/oxygenates and refinery feedstocks"},null,null,0,null,0,null,0,null,0,null,0,null,0,null,0,null,0,null,0,null,0,null,0,null,0,null,0,null,0,null,0,null,0,null,0,null,0,null,0,null,0,null,0,null,0,null,0,null,0,null,0,null,0,null,0,null,0,null,0,null,0,null,0,null,0,null,0,null,0,null,0,null,0,null,0,null,0,null,0,null,0,null,0,null,0,null,0,null,0,null,0,null,0,null,0,null,0,null,0,null,0,null,0,null,0,null,0,null,0,null,0,null,0,null,0,null,0,null,0,null,0,null,0,null,0,null,0,null,0,null,0,null,0,null,0,null,0,null,0,null,0,null,0,null,0,null,0,null,0,null,0,null,0,null,0,null,0,null,0,null,null,null,null,null,null,null,null,null,null,null,null,null,null,null,0]
[null,24,2,{"$f":"'PEFA rows'!C26","v":"P22"},{"$f":"'PEFA rows'!D26","v":"Nuclear fuel"},null,null,0,null,0,null,0,null,0,null,0,null,0,null,0,null,0,null,0,null,0,null,0,null,0,null,0,null,0,null,0,null,0,null,0,null,0,null,0,null,0,null,0,null,0,null,0,null,0,null,0,null,0,null,0,null,0,null,0,null,0,null,0,null,0,null,0,null,0,null,0,null,0,null,0,null,0,null,0,null,0,null,0,null,0,null,0,null,0,null,0,null,0,null,0,null,0,null,0,null,0,null,0,null,0,null,0,null,0,null,0,null,0,null,0,null,0,null,0,null,0,null,0,null,0,null,0,null,0,null,0,null,0,null,0,null,0,null,0,null,0,null,0,null,0,null,0,null,0,null,0,null,0,null,0,null,0,null,0,null,null,null,null,null,null,null,null,null,null,null,null,null,null,null,0]
[null,25,2,{"$f":"'PEFA rows'!C27","v":"P23"},{"$f":"'PEFA rows'!D27","v":"Wood, wood waste and other solid biomass, charcoal"},null,null,0,null,0,null,0,null,0,null,0,null,0,null,0,null,0,null,0,null,0,null,0,null,0,null,0,null,0,null,0,null,0,null,0,null,0,null,0,null,0,null,0,null,0,null,0,null,0,null,0,null,0,null,0,null,0,null,0,null,0,null,0,null,0,null,0,null,0,null,0,null,0,null,0,null,0,null,0,null,0,null,0,null,0,null,0,null,0,null,0,null,0,null,0,null,0,null,0,null,0,null,0,null,0,null,0,null,0,null,0,null,0,null,0,null,0,null,0,null,0,null,0,null,0,null,0,null,0,null,0,null,0,null,0,null,0,null,0,null,0,null,0,null,0,null,0,null,0,null,0,null,0,null,0,null,0,null,0,null,null,null,null,null,null,null,null,null,null,null,null,null,null,null,0]
[null,26,2,{"$f":"'PEFA rows'!C28","v":"P24"},{"$f":"'PEFA rows'!D28","v":"Liquid biofuels"},null,null,0,null,0,null,0,null,0,null,0,null,0,null,0,null,0,null,0,null,0,null,0,null,0,null,0,null,0,null,0,null,0,null,0,null,0,null,0,null,0,null,0,null,0,null,0,null,0,null,0,null,0,null,0,null,0,null,0,null,0,null,0,null,0,null,0,null,0,null,0,null,0,null,0,null,0,null,0,null,0,null,0,null,0,null,0,null,0,null,0,null,0,null,0,null,0,null,0,null,0,null,0,null,0,null,0,null,0,null,0,null,0,null,0,null,0,null,0,null,0,null,0,null,0,null,0,null,0,null,0,null,0,null,0,null,0,null,0,null,0,null,0,null,0,null,0,null,0,null,0,null,0,null,0,null,0,null,0,null,null,null,null,null,null,null,null,null,null,null,null,null,null,null,0]
[null,27,2,{"$f":"'PEFA rows'!C29","v":"P25"},{"$f":"'PEFA rows'!D29","v":"Biogas"},null,null,0,null,0,null,0,null,0,null,0,null,0,null,0,null,0,null,0,null,0,null,0,null,0,null,0,null,0,null,0,null,0,null,0,null,0,null,0,null,0,null,0,null,0,null,0,null,0,null,0,null,0,null,0,null,0,null,0,null,0,null,0,null,0,null,0,null,0,null,0,null,0,null,0,null,0,null,0,null,0,null,0,null,0,null,0,null,0,null,0,null,0,null,0,null,0,null,0,null,0,null,0,null,0,null,0,null,0,null,0,null,0,null,0,null,0,null,0,null,0,null,0,null,0,null,0,null,0,null,0,null,0,null,0,null,0,null,0,null,0,null,0,null,0,null,0,null,0,null,0,null,0,null,0,null,0,null,0,null,null,null,null,null,null,null,null,null,null,null,null,null,null,null,0]
[null,28,2,{"$f":"'PEFA rows'!C30","v":"P26"},{"$f":"'PEFA rows'!D30","v":"Electrical energy"},null,null,0,null,0,null,0,null,0,null,0,null,0,null,0,null,0,null,0,null,0,null,0,null,0,null,0,null,0,null,0,null,0,null,0,null,0,null,0,null,0,null,0,null,0,null,0,null,0,null,0,null,0,null,0,null,0,null,0,null,0,null,0,null,0,null,0,null,0,null,0,null,0,null,0,null,0,null,0,null,0,null,0,null,0,null,0,null,0,null,0,null,0,null,0,null,0,null,0,null,0,null,0,null,0,null,0,null,0,null,0,null,0,null,0,null,0,null,0,null,0,null,0,null,0,null,0,null,0,null,0,null,0,null,0,null,0,null,0,null,0,null,0,null,0,null,0,null,0,null,0,null,0,null,0,null,0,null,0,null,null,null,null,null,null,null,null,null,null,null,null,null,null,null,0]
[null,29,2,{"$f":"'PEFA rows'!C31","v":"P27"},{"$f":"'PEFA rows'!D31","v":"Heat"},null,null,0,null,0,null,0,null,0,null,0,null,0,null,0,null,0,null,0,null,0,null,0,null,0,null,0,null,0,null,0,null,0,null,0,null,0,null,0,null,0,null,0,null,0,null,0,null,0,null,0,null,0,null,0,null,0,null,0,null,0,null,0,null,0,null,0,null,0,null,0,null,0,null,0,null,0,null,0,null,0,null,0,null,0,null,0,null,0,null,0,null,0,null,0,null,0,null,0,null,0,null,0,null,0,null,0,null,0,null,0,null,0,null,0,null,0,null,0,null,0,null,0,null,0,null,0,null,0,null,0,null,0,null,0,null,0,null,0,null,0,null,0,null,0,null,0,null,0,null,0,null,0,null,0,null,0,null,0,null,null,null,null,null,null,null,null,null,null,null,null,null,null,null,0]
[null,30,{"$f":"'PEFA rows'!B32","v":1},{"$f":"'PEFA rows'!C32","v":"R00"},{"$f":"'PEFA rows'!D32","v":"ENERGY AND OTHER RESIDUALS"},null,null,{"$f":"SUM(H39:H42)","v":0},null,{"$f":"SUM(J39:J42)","v":0},null,{"$f":"SUM(L39:L42)","v":0},null,{"$f":"SUM(N39:N42)","v":0},null,{"$f":"SUM(P39:P42)","v":0},null,{"$f":"SUM(R39:R42)","v":0},null,{"$f":"SUM(T39:T42)","v":0},null,{"$f":"SUM(V39:V42)","v":0},null,{"$f":"SUM(X39:X42)","v":0},null,{"$f":"SUM(Z39:Z42)","v":0},null,{"$f":"SUM(AB39:AB42)","v":0},null,{"$f":"SUM(AD39:AD42)","v":0},null,{"$f":"SUM(AF39:AF42)","v":0},null,{"$f":"SUM(AH39:AH42)","v":0},null,{"$f":"SUM(AJ39:AJ42)","v":0},null,{"$f":"SUM(AL39:AL42)","v":0},null,{"$f":"SUM(AN39:AN42)","v":0},null,{"$f":"SUM(AP39:AP42)","v":0},null,{"$f":"SUM(AR39:AR42)","v":0},null,{"$f":"SUM(AT39:AT42)","v":0},null,{"$f":"SUM(AV39:AV42)","v":0},null,{"$f":"SUM(AX39:AX42)","v":0},null,{"$f":"SUM(AZ39:AZ42)","v":0},null,{"$f":"SUM(BB39:BB42)","v":0},null,{"$f":"SUM(BD39:BD42)","v":0},null,{"$f":"SUM(BF39:BF42)","v":0},null,{"$f":"SUM(BH39:BH42)","v":0},null,{"$f":"SUM(BJ39:BJ42)","v":0},null,{"$f":"SUM(BL39:BL42)","v":0},null,{"$f":"SUM(BN39:BN42)","v":0},null,{"$f":"SUM(BP39:BP42)","v":0},null,{"$f":"SUM(BR39:BR42)","v":0},null,{"$f":"SUM(BT39:BT42)","v":0},null,{"$f":"SUM(BV39:BV42)","v":0},null,{"$f":"SUM(BX39:BX42)","v":0},null,{"$f":"SUM(BZ39:BZ42)","v":0},null,{"$f":"SUM(CB39:CB42)","v":0},null,{"$f":"SUM(CD39:CD42)","v":0},null,{"$f":"SUM(CF39:CF42)","v":0},null,{"$f":"SUM(CH39:CH42)","v":0},null,{"$f":"SUM(CJ39:CJ42)","v":0},null,{"$f":"SUM(CL39:CL42)","v":0},null,{"$f":"SUM(CN39:CN42)","v":0},null,{"$f":"SUM(CP39:CP42)","v":0},null,{"$f":"SUM(CR39:CR42)","v":0},null,{"$f":"SUM(CT39:CT42)","v":0},null,{"$f":"SUM(CV39:CV42)","v":0},null,{"$f":"SUM(CX39:CX42)","v":0},null,{"$f":"SUM(CZ39:CZ42)","v":0},null,{"$f":"SUM(DB39:DB42)","v":0},null,{"$f":"SUM(DD39:DD42)","v":0},null,{"$f":"SUM(DF39:DF42)","v":0},null,{"$f":"SUM(DH39:DH42)","v":0},null,{"$f":"SUM(DJ39:DJ42)","v":0},null,{"$f":"SUM(DL39:DL42)","v":0},null,{"$f":"SUM(DN39:DN42)","v":0},null,{"$f":"SUM(DP39:DP42)","v":0},null,{"$f":"SUM(DR39:DR42)","v":0},null,{"$f":"SUM(DT39:DT42)","v":0},null,{"$f":"SUM(DV39:DV42)","v":0},null,{"$f":"SUM(DX39:DX42)","v":0},null,{"$f":"SUM(DZ39:DZ42)","v":0},null,{"$f":"SUM(EB39:EB42)","v":0},null,{"$f":"SUM(ED39:ED42)","v":0},null,{"$f":"SUM(EF39:EF42)","v":0},null,{"$f":"SUM(EH39:EH42)","v":0},null,{"$f":"SUM(EJ39:EJ42)","v":0},null,{"$f":"SUM(EL39:EL42)","v":0},null,{"$f":"SUM(EN39:EN42)","v":0},null,{"$f":"SUM(EP39:EP42)","v":0},null,{"$f":"SUM(ER39:ER42)","v":0},null,{"$f":"SUM(ET39:ET42)","v":0},null,{"$f":"SUM(EV39:EV42)","v":0},null,{"$f":"SUM(EX39:EX42)","v":0},null,{"$f":"SUM(EZ39:EZ42)","v":0},null,{"$f":"SUM(FB39:FB42)","v":0},null,{"$f":"SUM(FD39:FD42)","v":0},null,{"$f":"SUM(FF39:FF42)","v":0},null,{"$f":"SUM(FH39:FH42)","v":0},null,null,null,null,null,null,null,null,null,null,null,null,null,{"$f":"SUM(FV39:FV42)","v":0},null,{"$f":"SUM(FX39:FX42)","v":0}]
[null,31,2,{"$f":"'PEFA rows'!C33","v":"R28"},{"$f":"'PEFA rows'!D33","v":"Renewable waste"},null,null,{"$f":"SUM(J39,R39,T39,BH39,BJ39,BP39,BR39,BZ39,CL39,CN39,CX39,DF39,DJ39,DV39,EF39,EH39,EJ39,EP39,EV39,FD39,FF39,FH39)","v":0},null,{"$f":"SUM(L39,N39,P39)","v":0},null,0,null,0,null,0,null,0,null,{"$f":"SUM(V39,X39,Z39,AB39,AD39,AF39,AH39,AJ39,AL39,AN39,AP39,AR39,AT39,AV39,AX39,AZ39,BB39,BD39,BF39)","v":0},null,0,null,0,null,0,null,0,null,0,null,0,null,0,null,0,null,0,null,0,null,0,null,0,null,0,null,0,null,0,null,0,null,0,null,0,null,0,null,0,null,{"$f":"SUM(BL39,BN39)","v":0},null,0,null,0,null,0,null,{"$f":"SUM(BT39,BV39,BX39)","v":0},null,0,null,0,null,0,null,{"$f":"SUM(CB39,CD39,CF39,CH39,CJ39)","v":0},null,0,null,0,null,0,null,0,null,0,null,0,null,{"$f":"SUM(CP39,CR39,CT39,CV39)","v":0},null,0,null,0,null,0,null,0,null,{"$f":"SUM(CZ39,DB39,DD39)","v":0},null,0,null,0,null,0,null,0,null,0,null,{"$f":"SUM(DL39,DN39,DP39,DR39,DT39)","v":0},null,0,null,0,null,0,null,0,null,0,null,{"$f":"SUM(DX39,DZ39,EB39,ED39)","v":0},null,0,null,0,null,0,null,0,null,0,null,0,null,{"$f":"SUM(EL39,EN39)","v":0},null,0,null,0,null,{"$f":"SUM(ER39,ET39)","v":0},null,0,null,0,null,{"$f":"SUM(EX39,EZ39,FB39)","v":0},null,0,null,0,null,0,null,0,null,0,null,0,null,null,null,null,null,null,null,null,null,null,null,null,null,null,null,{"$f":"SUM(H39,FJ39,FR39,FT39,FV39)","v":0}]
[null,32,2,{"$f":"'PEFA rows'!C34","v":"R29"},{"$f":"'PEFA rows'!D34","v":"Non-renewable waste"},null,null,{"$f":"SUM(J40,R40,T40,BH40,BJ40,BP40,BR40,BZ40,CL40,CN40,CX40,DF40,DJ40,DV40,EF40,EH40,EJ40,EP40,EV40,FD40,FF40,FH40)","v":0},null,{"$f":"SUM(L40,N40,P40)","v":0},null,0,null,0,null,0,null,0,null,{"$f":"SUM(V40,X40,Z40,AB40,AD40,AF40,AH40,AJ40,AL40,AN40,AP40,AR40,AT40,AV40,AX40,AZ40,BB40,BD40,BF40)","v":0},null,0,null,0,null,0,null,0,null,0,null,0,null,0,null,0,null,0,null,0,null,0,null,0,null,0,null,0,null,0,null,0,null,0,null,0,null,0,null,0,null,{"$f":"SUM(BL40,BN40)","v":0},null,0,null,0,null,0,null,{"$f":"SUM(BT40,BV40,BX40)","v":0},null,0,null,0,null,0,null,{"$f":"SUM(CB40,CD40,CF40,CH40,CJ40)","v":0},null,0,null,0,null,0,null,0,null,0,null,0,null,{"$f":"SUM(CP40,CR40,CT40,CV40)","v":0},null,0,null,0,null,0,null,0,null,{"$f":"SUM(CZ40,DB40,DD40)","v":0},null,0,null,0,null,0,null,0,null,0,null,{"$f":"SUM(DL40,DN40,DP40,DR40,DT40)","v":0},null,0,null,0,null,0,null,0,null,0,null,{"$f":"SUM(DX40,DZ40,EB40,ED40)","v":0},null,0,null,0,null,0,null,0,null,0,null,0,null,{"$f":"SUM(EL40,EN40)","v":0},null,0,null,0,null,{"$f":"SUM(ER40,ET40)","v":0},null,0,null,0,null,{"$f":"SUM(EX40,EZ40,FB40)","v":0},null,0,null,0,null,0,null,0,null,0,null,0,null,null,null,null,null,null,null,null,null,null,null,null,null,null,null,{"$f":"SUM(H40,FJ40,FR40,FT40,FV40)","v":0}]
[null,33,2,{"$f":"'PEFA rows'!C35","v":"R30"},{"$f":"'PEFA rows'!D35","v":"Energy losses all kinds of (during extraction, distribution, storage and transformation, and dissipative heat from end use)"},null,null,null,null,null,null,null,null,null,null,null,null,null,null,null,null,null,null,null,null,null,null,null,null,null,null,null,null,null,null,null,null,null,null,null,null,null,null,null,null,null,null,null,null,null,null,null,null,null,null,null,null,null,null,null,null,null,null,null,null,null,null,null,null,null,null,null,null,null,null,null,null,null,null,null,null,null,null,null,null,null,null,null,null,null,null,null,null,null,null,null,null,null,null,null,null,null,null,null,null,null,null,null,null,null,null,null,null,null,null,null,null,null,null,null,null,null,null,null,null,null,null,null,null,null,null,null,null,null,null,null,null,null,null,null,null,null,null,null,null,null,null,null,null,null,null,null,null,null,null,null,null,null,null,null,null,null,null,null,null,null,null,null,null,null,null,null,null,null,null,null,null,0,null,{"$f":"SUM(H41,FJ41,FR41,FT41,FV41)","v":0}]
[null,34,2,{"$f":"'PEFA rows'!C36","v":"R31"},{"$f":"'PEFA rows'!D36","v":"Energy incorporated in products for non-energy use"},null,null,{"$f":"SUM(J42,R42,T42,BH42,BJ42,BP42,BR42,BZ42,CL42,CN42,CX42,DF42,DJ42,DV42,EF42,EH42,EJ42,EP42,EV42,FD42,FF42,FH42)","v":0},null,null,null,null,null,null,null,null,null,null,null,{"$f":"SUM(V42,X42,Z42,AB42,AD42,AF42,AH42,AJ42,AL42,AN42,AP42,AR42,AT42,AV42,AX42,AZ42,BB42,BD42,BF42)","v":0},null,null,null,null,null,null,null,null,null,null,null,null,null,0,null,null,null,null,null,null,null,null,null,null,null,null,null,null,null,null,null,null,null,null,null,null,null,null,null,0,null,null,null,null,null,null,null,null,null,null,null,null,null,null,null,null,null,null,null,null,null,null,null,null,null,null,null,null,null,null,null,null,null,null,null,null,null,null,null,null,null,null,null,null,null,null,null,null,null,null,null,null,null,null,null,null,null,null,null,null,null,null,null,null,null,null,null,null,null,null,null,null,null,null,null,null,null,null,null,null,null,null,null,null,null,null,null,null,null,null,null,null,null,null,null,null,null,null,null,null,null,null,null,null,null,null,null,null,null,null,null,null,null,null,null,null,null,null,null,{"$f":"SUM(H42,FJ42,FR42,FT42,FV42)","v":0}]
[null,36,{"$f":"'PEFA rows'!B37","v":0},{"$f":"'PEFA rows'!C37","v":"N00_P00_R00"},{"$f":"'PEFA rows'!D37","v":"TOTAL SUPPLY / TOTAL USE"},null,null,{"$f":"SUM(H9,H17,H38)","v":0},null,{"$f":"SUM(J9,J17,J38)","v":0},null,{"$f":"SUM(L9,L17,L38)","v":0},null,{"$f":"SUM(N9,N17,N38)","v":0},null,{"$f":"SUM(P9,P17,P38)","v":0},null,{"$f":"SUM(R9,R17,R38)","v":0},null,{"$f":"SUM(T9,T17,T38)","v":0},null,{"$f":"SUM(V9,V17,V38)","v":0},null,{"$f":"SUM(X9,X17,X38)","v":0},null,{"$f":"SUM(Z9,Z17,Z38)","v":0},null,{"$f":"SUM(AB9,AB17,AB38)","v":0},null,{"$f":"SUM(AD9,AD17,AD38)","v":0},null,{"$f":"SUM(AF9,AF17,AF38)","v":0},null,{"$f":"SUM(AH9,AH17,AH38)","v":0},null,{"$f":"SUM(AJ9,AJ17,AJ38)","v":0},null,{"$f":"SUM(AL9,AL17,AL38)","v":0},null,{"$f":"SUM(AN9,AN17,AN38)","v":0},null,{"$f":"SUM(AP9,AP17,AP38)","v":0},null,{"$f":"SUM(AR9,AR17,AR38)","v":0},null,{"$f":"SUM(AT9,AT17,AT38)","v":0},null,{"$f":"SUM(AV9,AV17,AV38)","v":0},null,{"$f":"SUM(AX9,AX17,AX38)","v":0},null,{"$f":"SUM(AZ9,AZ17,AZ38)","v":0},null,{"$f":"SUM(BB9,BB17,BB38)","v":0},null,{"$f":"SUM(BD9,BD17,BD38)","v":0},null,{"$f":"SUM(BF9,BF17,BF38)","v":0},null,{"$f":"SUM(BH9,BH17,BH38)","v":0},null,{"$f":"SUM(BJ9,BJ17,BJ38)","v":0},null,{"$f":"SUM(BL9,BL17,BL38)","v":0},null,{"$f":"SUM(BN9,BN17,BN38)","v":0},null,{"$f":"SUM(BP9,BP17,BP38)","v":0},null,{"$f":"SUM(BR9,BR17,BR38)","v":0},null,{"$f":"SUM(BT9,BT17,BT38)","v":0},null,{"$f":"SUM(BV9,BV17,BV38)","v":0},null,{"$f":"SUM(BX9,BX17,BX38)","v":0},null,{"$f":"SUM(BZ9,BZ17,BZ38)","v":0},null,{"$f":"SUM(CB9,CB17,CB38)","v":0},null,{"$f":"SUM(CD9,CD17,CD38)","v":0},null,{"$f":"SUM(CF9,CF17,CF38)","v":0},null,{"$f":"SUM(CH9,CH17,CH38)","v":0},null,{"$f":"SUM(CJ9,CJ17,CJ38)","v":0},null,{"$f":"SUM(CL9,CL17,CL38)","v":0},null,{"$f":"SUM(CN9,CN17,CN38)","v":0},null,{"$f":"SUM(CP9,CP17,CP38)","v":0},null,{"$f":"SUM(CR9,CR17,CR38)","v":0},null,{"$f":"SUM(CT9,CT17,CT38)","v":0},null,{"$f":"SUM(CV9,CV17,CV38)","v":0},null,{"$f":"SUM(CX9,CX17,CX38)","v":0},null,{"$f":"SUM(CZ9,CZ17,CZ38)","v":0},null,{"$f":"SUM(DB9,DB17,DB38)","v":0},null,{"$f":"SUM(DD9,DD17,DD38)","v":0},null,{"$f":"SUM(DF9,DF17,DF38)","v":0},null,{"$f":"SUM(DH9,DH17,DH38)","v":0},null,{"$f":"SUM(DJ9,DJ17,DJ38)","v":0},null,{"$f":"SUM(DL9,DL17,DL38)","v":0},null,{"$f":"SUM(DN9,DN17,DN38)","v":0},null,{"$f":"SUM(DP9,DP17,DP38)","v":0},null,{"$f":"SUM(DR9,DR17,DR38)","v":0},null,{"$f":"SUM(DT9,DT17,DT38)","v":0},null,{"$f":"SUM(DV9,DV17,DV38)","v":0},null,{"$f":"SUM(DX9,DX17,DX38)","v":0},null,{"$f":"SUM(DZ9,DZ17,DZ38)","v":0},null,{"$f":"SUM(EB9,EB17,EB38)","v":0},null,{"$f":"SUM(ED9,ED17,ED38)","v":0},null,{"$f":"SUM(EF9,EF17,EF38)","v":0},null,{"$f":"SUM(EH9,EH17,EH38)","v":0},null,{"$f":"SUM(EJ9,EJ17,EJ38)","v":0},null,{"$f":"SUM(EL9,EL17,EL38)","v":0},null,{"$f":"SUM(EN9,EN17,EN38)","v":0},null,{"$f":"SUM(EP9,EP17,EP38)","v":0},null,{"$f":"SUM(ER9,ER17,ER38)","v":0},null,{"$f":"SUM(ET9,ET17,ET38)","v":0},null,{"$f":"SUM(EV9,EV17,EV38)","v":0},null,{"$f":"SUM(EX9,EX17,EX38)","v":0},null,{"$f":"SUM(EZ9,EZ17,EZ38)","v":0},null,{"$f":"SUM(FB9,FB17,FB38)","v":0},null,{"$f":"SUM(FD9,FD17,FD38)","v":0},null,{"$f":"SUM(FF9,FF17,FF38)","v":0},null,{"$f":"SUM(FH9,FH17,FH38)","v":0},null,null,null,null,null,null,null,null,null,null,null,null,null,{"$f":"SUM(FV9,FV17,FV38)","v":0},null,{"$f":"SUM(FX9,FX17,FX38)","v":0}]
[]
[]
[]
[]
[null,null,null,null,"ACCOUNTING_ENTRY",null,null,"DT",null,"DT",null,"DT",null,"DT",null,"DT",null,"DT",null,"DT",null,"DT",null,"DT",null,"DT",null,"DT",null,"DT",null,"DT",null,"DT",null,"DT",null,"DT",null,"DT",null,"DT",null,"DT",null,"DT",null,"DT",null,"DT",null,"DT",null,"DT",null,"DT",null,"DT",null,"DT",null,"DT",null,"DT",null,"DT",null,"DT",null,"DT",null,"DT",null,"DT",null,"DT",null,"DT",null,"DT",null,"DT",null,"DT",null,"DT",null,"DT",null,"DT",null,"DT",null,"DT",null,"DT",null,"DT",null,"DT",null,"DT",null,"DT",null,"DT",null,"DT",null,"DT",null,"DT",null,"DT",null,"DT",null,"DT",null,"DT",null,"DT",null,"DT",null,"DT",null,"DT",null,"DT",null,"DT",null,"DT",null,"DT",null,"DT",null,"DT",null,"DT",null,"DT",null,"DT",null,"DT",null,"DT",null,"DT",null,"DT",null,"DT",null,"DT",null,"DT",null,"DT",null,"DT",null,"_Z",null,"_Z",null,"_Z",null,"_Z",null,"_Z",null,"_Z",null,"EC",null,"DT_EN"]
[null,null,null,null,"COUNTERPART_AREA",null,null,"W2",null,"W2",null,"W2",null,"W2",null,"W2",null,"W2",null,"W2",null,"W2",null,"W2",null,"W2",null,"W2",null,"W2",null,"W2",null,"W2",null,"W2",null,"W2",null,"W2",null,"W2",null,"W2",null,"W2",null,"W2",null,"W2",null,"W2",null,"W2",null,"W2",null,"W2",null,"W2",null,"W2",null,"W2",null,"W2",null,"W2",null,"W2",null,"W2",null,"W2",null,"W2",null,"W2",null,"W2",null,"W2",null,"W2",null,"W2",null,"W2",null,"W2",null,"W2",null,"W2",null,"W2",null,"W2",null,"W2",null,"W2",null,"W2",null,"W2",null,"W2",null,"W2",null,"W2",null,"W2",null,"W2",null,"W2",null,"W2",null,"W2",null,"W2",null,"W2",null,"W2",null,"W2",null,"W2",null,"W2",null,"W2",null,"W2",null,"W2",null,"W2",null,"W2",null,"W2",null,"W2",null,"W2",null,"W2",null,"W2",null,"W2",null,"W2",null,"W2",null,"W2",null,"W2",null,"_Z",null,"_Z",null,"_Z",null,"_Z",null,"_Z",null,"_Z",null,"W0",null,"W0"]
[null,null,null,null,"STO",null,null,"TUTU",null,"TUTU",null,"TUTU",null,"TUTU",null,"TUTU",null,"TUTU",null,"TUTU",null,"TUTU",null,"TUTU",null,"TUTU",null,"TUTU",null,"TUTU",null,"TUTU",null,"TUTU",null,"TUTU",null,"TUTU",null,"TUTU",null,"TUTU",null,"TUTU",null,"TUTU",null,"TUTU",null,"TUTU",null,"TUTU",null,"TUTU",null,"TUTU",null,"TUTU",null,"TUTU",null,"TUTU",null,"TUTU",null,"TUTU",null,"TUTU",null,"TUTU",null,"TUTU",null,"TUTU",null,"TUTU",null,"TUTU",null,"TUTU",null,"TUTU",null,"TUTU",null,"TUTU",null,"TUTU",null,"TUTU",null,"TUTU",null,"TUTU",null,"TUTU",null,"TUTU",null,"TUTU",null,"TUTU",null,"TUTU",null,"TUTU",null,"TUTU",null,"TUTU",null,"TUTU",null,"TUTU",null,"TUTU",null,"TUTU",null,"TUTU",null,"TUTU",null,"TUTU",null,"TUTU",null,"TUTU",null,"TUTU",null,"TUTU",null,"TUTU",null,"TUTU",null,"TUTU",null,"TUTU",null,"TUTU",null,"TUTU",null,"TUTU",null,"TUTU",null,"TUTU",null,"TUTU",null,"TUTU",null,"TUTU",null,"TUTU",null,"TUTU",null,"TUTU",null,"TUTU",null,"_Z",null,"_Z",null,"_Z",null,"_Z",null,"_Z",null,"_Z",null,"TUTU",null,"TU"]

{"sheet":"Table_B.2","index":11,"n_rows":50,"n_cols":193,"rows_kept":50,"cut":false,"hidden":false,"merged":[[3,187,3,192],[1,15,1,16],[1,17,1,18],[1,19,1,20],[1,21,1,22],[1,23,1,24],[1,25,1,26],[1,45,1,46],[1,47,1,48],[1,49,1,50],[1,63,1,64],[1,65,1,66],[1,67,1,68],[1,69,1,70],[1,71,1,72],[1,73,1,74],[1,51,1,52],[1,53,1,54],[1,55,1,56],[1,57,1,58],[1,59,1,60],[1,61,1,62],[1,87,1,88],[1,89,1,90],[1,1,1,3],[1,5,1,6],[1,7,1,8],[1,9,1,10],[1,11,1,12],[1,13,1,14],[1,39,1,40],[1,41,1,42],[1,43,1,44],[1,27,1,28],[1,29,1,30],[1,31,1,32],[1,33,1,34],[1,35,1,36],[1,37,1,38],[1,91,1,92],[1,93,1,94],[1,95,1,96],[1,97,1,98],[1,75,1,76],[1,77,1,78],[1,79,1,80],[1,81,1,82],[1,83,1,84],[1,85,1,86],[1,111,1,112],[1,113,1,114],[1,115,1,116],[1,117,1,118],[1,119,1,120],[1,121,1,122],[1,99,1,100],[1,101,1,102],[1,103,1,104],[1,105,1,106],[1,107,1,108],[1,109,1,110],[1,141,1,142],[1,143,1,144],[1,145,1,146],[1,123,1,124],[1,125,1,126],[1,127,1,128],[1,129,1,130],[1,131,1,132],[1,133,1,134],[1,173,1,174],[1,175,1,176],[1,177,1,178],[1,179,1,180],[2,1,2,3],[2,5,2,6],[2,7,2,8],[2,9,2,10],[2,11,2,12],[1,159,1,160],[1,161,1,162],[1,165,1,166],[1,167,1,168],[1,169,1,170],[1,171,1,172],[1,147,1,148],[1,149,1,150],[1,151,1,152],[1,153,1,154],[1,155,1,156],[1,157,1,158],[1,135,1,136],[1,137,1,138],[1,139,1,140],[2,25,2,26],[2,27,2,28],[2,29,2,30],[2,31,2,32],[2,33,2,34],[2,35,2,36],[2,13,2,14],[2,15,2,16],[2,17,2,18],[2,19,2,20],[2,21,2,22],[2,23,2,24],[2,49,2,50],[2,51,2,52],[2,53,2,54],[2,55,2,56],[2,57,2,58],[2,59,2,60],[2,37,2,38],[2,39,2,40],[2,41,2,42],[2,43,2,44],[2,45,2,46],[2,47,2,48],[2,73,2,74],[2,75,2,76],[2,77,2,78],[2,79,2,80],[2,81,2,82],[2,83,2,84],[2,61,2,62],[2,63,2,64],[2,65,2,66],[2,67,2,68],[2,69,2,70],[2,71,2,72],[2,97,2,98],[2,99,2,100],[2,101,2,102],[2,103,2,104],[2,105,2,106],[2,107,2,108],[2,85,2,86],[2,87,2,88],[2,89,2,90],[2,91,2,92],[2,93,2,94],[2,95,2,96],[2,121,2,122],[2,123,2,124],[2,125,2,126],[2,127,2,128],[2,129,2,130],[2,131,2,132],[2,109,2,110],[2,111,2,112],[2,113,2,114],[2,115,2,116],[2,117,2,118],[2,119,2,120],[2,145,2,146],[2,147,2,148],[2,149,2,150],[2,151,2,152],[2,153,2,154],[2,155,2,156],[2,133,2,134],[2,135,2,136],[2,137,2,138],[2,139,2,140],[2,141,2,142],[2,143,2,144],[2,171,2,172],[2,173,2,174],[2,175,2,176],[2,177,2,178],[2,179,2,180],[2,157,2,158],[2,159,2,160],[2,161,2,162],[2,165,2,166],[2,167,2,168],[2,169,2,170],[3,1,3,3],[3,5,3,6],[3,175,3,176],[3,177,3,178],[4,1,4,3],[4,5,4,6],[4,7,4,8],[4,9,4,10],[4,11,4,12],[4,25,4,26],[4,27,4,28],[4,29,4,30],[4,31,4,32],[4,33,4,34],[4,35,4,36],[4,13,4,14],[4,15,4,16],[4,17,4,18],[4,19,4,20],[4,21,4,22],[4,23,4,24],[4,49,4,50],[4,51,4,52],[4,53,4,54],[4,55,4,56],[4,57,4,58],[4,59,4,60],[4,37,4,38],[4,39,4,40],[4,41,4,42],[4,43,4,44],[4,45,4,46],[4,47,4,48],[4,73,4,74],[4,75,4,76],[4,77,4,78],[4,79,4,80],[4,81,4,82],[4,83,4,84],[4,61,4,62],[4,63,4,64],[4,65,4,66],[4,67,4,68],[4,69,4,70],[4,71,4,72],[4,97,4,98],[4,99,4,100],[4,101,4,102],[4,103,4,104],[4,105,4,106],[4,107,4,108],[4,85,4,86],[4,87,4,88],[4,89,4,90],[4,91,4,92],[4,93,4,94],[4,95,4,96],[4,121,4,122],[4,123,4,124],[4,125,4,126],[4,127,4,128],[4,129,4,130],[4,131,4,132],[4,109,4,110],[4,111,4,112],[4,113,4,114],[4,115,4,116],[4,117,4,118],[4,119,4,120],[4,145,4,146],[4,147,4,148],[4,149,4,150],[4,151,4,152],[4,153,4,154],[4,155,4,156],[4,133,4,134],[4,135,4,136],[4,137,4,138],[4,139,4,140],[4,141,4,142],[4,143,4,144],[4,171,4,172],[4,173,4,174],[4,175,4,176],[4,177,4,178],[4,179,4,180],[4,157,4,158],[4,159,4,160],[4,161,4,162],[4,165,4,166],[4,167,4,168],[4,169,4,170],[5,15,6,16],[5,17,6,18],[5,19,6,20],[5,21,6,22],[5,23,6,24],[5,25,6,26],[5,1,5,3],[5,5,6,6],[5,7,6,8],[5,9,6,10],[5,11,6,12],[5,13,6,14],[5,39,6,40],[5,41,6,42],[5,43,6,44],[5,45,6,46],[5,47,6,48],[5,49,6,50],[5,27,6,28],[5,29,6,30],[5,31,6,32],[5,33,6,34],[5,35,6,36],[5,37,6,38],[5,63,6,64],[5,65,6,66],[5,67,6,68],[5,69,6,70],[5,71,6,72],[5,73,6,74],[5,51,6,52],[5,53,6,54],[5,55,6,56],[5,57,6,58],[5,59,6,60],[5,61,6,62],[5,89,6,90],[5,91,6,92],[5,93,6,94],[5,95,6,96],[5,97,6,98],[5,75,6,76],[5,77,6,78],[5,79,6,80],[5,81,6,82],[5,83,6,84],[5,85,6,86],[5,101,6,102],[5,103,6,104],[5,105,6,106],[5,107,6,108],[5,109,6,110],[5,177,6,178],[5,179,6,180],[6,1,6,4],[5,159,6,160],[5,161,6,162],[5,165,6,166],[5,167,6,168],[5,169,6,170],[5,171,6,172],[5,147,6,148],[5,149,6,150],[5,151,6,152],[5,153,6,154],[5,155,6,156],[5,157,6,158],[5,135,6,136],[5,137,6,138],[5,139,6,140],[5,87,6,88],[7,4,7,6],[8,4,8,5],[9,4,9,5],[10,4,10,5],[11,4,11,5],[12,4,12,5],[5,173,6,174],[5,175,6,176],[5,129,6,130],[5,131,6,132],[5,133,6,134],[5,111,6,112],[5,113,6,114],[5,115,6,116],[5,117,6,118],[5,119,6,120],[5,121,6,122],[5,141,6,142],[5,143,6,144],[5,145,6,146],[5,123,6,124],[5,125,6,126],[5,127,6,128],[5,99,6,100],[21,4,21,5],[22,4,22,5],[23,4,23,5],[24,4,24,5],[13,4,13,5],[14,4,14,5],[15,4,15,5],[16,4,16,5],[17,4,17,5],[18,4,18,5],[1,163,1,164],[2,163,2,164],[4,163,4,164],[5,163,6,164],[42,4,42,5],[37,4,37,5],[38,4,38,5],[39,4,39,5],[40,4,40,5],[41,4,41,5],[31,4,31,5],[32,4,32,5],[33,4,33,5],[34,4,34,5],[35,4,35,5],[36,4,36,5],[25,4,25,5],[26,4,26,5],[27,4,27,5],[28,4,28,5],[29,4,29,5],[30,4,30,5],[19,4,19,5],[20,4,20,5]]}
[]
[null,"Country :",null,null,{"$f":"IF(Introduction!D13=0,\"\",Introduction!D13)","v":""},"no",null,1,null,2,null,3,null,4,null,5,null,6,null,7,null,8,null,9,null,10,null,11,null,12,null,13,null,14,null,15,null,16,null,17,null,18,null,19,null,20,null,21,null,22,null,23,null,24,null,25,null,26,null,27,null,28,null,29,null,30,null,31,null,32,null,33,null,34,null,35,null,36,null,37,null,38,null,39,null,40,null,41,null,42,null,43,null,44,null,45,null,46,null,47,null,48,null,49,null,50,null,51,null,52,null,53,null,54,null,55,null,56,null,57,null,58,null,59,null,60,null,61,null,62,null,63,null,64,null,65,null,66,null,67,null,68,null,69,null,70,null,71,null,72,null,73,null,74,null,75,null,76,null,77,null,78,null,79,null,80,null,81,null,82,null,83,null,84,null,85,null,86,null,87]
[null,"Year :",null,null,{"$f":"IF(Introduction!D17=0,\"\",Introduction!D17)","v":""},"Level",null,{"$f":"'PEFA Columns'!D6","v":1},null,{"$f":"'PEFA Columns'!F6","v":2},null,{"$f":"'PEFA Columns'!H6","v":3},null,{"$f":"'PEFA Columns'!J6","v":3},null,{"$f":"'PEFA Columns'!L6","v":3},null,{"$f":"'PEFA Columns'!N6","v":2},null,{"$f":"'PEFA Columns'!P6","v":2},null,{"$f":"'PEFA Columns'!R6","v":3},null,{"$f":"'PEFA Columns'!T6","v":3},null,{"$f":"'PEFA Columns'!V6","v":3},null,{"$f":"'PEFA Columns'!X6","v":3},null,{"$f":"'PEFA Columns'!Z6","v":3},null,{"$f":"'PEFA Columns'!AB6","v":3},null,{"$f":"'PEFA Columns'!AD6","v":3},null,{"$f":"'PEFA Columns'!AF6","v":3},null,{"$f":"'PEFA Columns'!AH6","v":3},null,{"$f":"'PEFA Columns'!AJ6","v":3},null,{"$f":"'PEFA Columns'!AL6","v":3},null,{"$f":"'PEFA Columns'!AN6","v":3},null,{"$f":"'PEFA Columns'!AP6","v":3},null,{"$f":"'PEFA Columns'!AR6","v":3},null,{"$f":"'PEFA Columns'!AT6","v":3},null,{"$f":"'PEFA Columns'!AV6","v":3},null,{"$f":"'PEFA Columns'!AX6","v":3},null,{"$f":"'PEFA Columns'!AZ6","v":3},null,{"$f":"'PEFA Columns'!BB6","v":3},null,{"$f":"'PEFA Columns'!BD6","v":2},null,{"$f":"'PEFA Columns'!BF6","v":2},null,{"$f":"'PEFA Columns'!BH6","v":3},null,{"$f":"'PEFA Columns'!BJ6","v":3},null,{"$f":"'PEFA Columns'!BL6","v":2},null,{"$f":"'PEFA Columns'!BN6","v":2},null,{"$f":"'PEFA Columns'!BP6","v":3},null,{"$f":"'PEFA Columns'!BR6","v":3},null,{"$f":"'PEFA Columns'!BT6","v":3},null,{"$f":"'PEFA Columns'!BV6","v":2},null,{"$f":"'PEFA Columns'!BX6","v":3},null,{"$f":"'PEFA Columns'!BZ6","v":3},null,{"$f":"'PEFA Columns'!CB6","v":3},null,{"$f":"'PEFA Columns'!CD6","v":3},null,{"$f":"'PEFA Columns'!CF6","v":3},null,{"$f":"'PEFA Columns'!CH6","v":2},null,{"$f":"'PEFA Columns'!CJ6","v":2},null,{"$f":"'PEFA Columns'!CL6","v":3},null,{"$f":"'PEFA Columns'!CN6","v":3},null,{"$f":"'PEFA Columns'!CP6","v":3},null,{"$f":"'PEFA Columns'!CR6","v":3},null,{"$f":"'PEFA Columns'!CT6","v":2},null,{"$f":"'PEFA Columns'!CV6","v":3},null,{"$f":"'PEFA Columns'!CX6","v":3},null,{"$f":"'PEFA Columns'!CZ6","v":3},null,{"$f":"'PEFA Columns'!DB6","v":2},null,{"$f":"'PEFA Columns'!DD6","v":3},null,{"$f":"'PEFA Columns'!DF6","v":2},null,{"$f":"'PEFA Columns'!DH6","v":3},null,{"$f":"'PEFA Columns'!DJ6","v":3},null,{"$f":"'PEFA Columns'!DL6","v":3},null,{"$f":"'PEFA Columns'!DN6","v":3},null,{"$f":"'PEFA Columns'!DP6","v":3},null,{"$f":"'PEFA Columns'!DR6","v":2},null,{"$f":"'PEFA Columns'!DT6","v":3},null,{"$f":"'PEFA Columns'!DV6","v":3},null,{"$f":"'PEFA Columns'!DX6","v":3},null,{"$f":"'PEFA Columns'!DZ6","v":3},null,{"$f":"'PEFA Columns'!EB6","v":2},null,{"$f":"'PEFA Columns'!ED6","v":2},null,{"$f":"'PEFA Columns'!EF6","v":2},null,{"$f":"'PEFA Columns'!EH6","v":3},null,{"$f":"'PEFA Columns'!EJ6","v":3},null,{"$f":"'PEFA Columns'!EL6","v":2},null,{"$f":"'PEFA Columns'!EN6","v":3},null,{"$f":"'PEFA Columns'!EP6","v":3},null,{"$f":"'PEFA Columns'!ER6","v":2},null,{"$f":"'PEFA Columns'!ET6","v":3},null,{"$f":"'PEFA Columns'!EV6","v":3},null,{"$f":"'PEFA Columns'!EX6","v":3},null,{"$f":"'PEFA Columns'!EZ6","v":2},null,{"$f":"'PEFA Columns'!FB6","v":2},null,{"$f":"'PEFA Columns'!FD6","v":2},null,{"$f":"'PEFA Columns'!FF6","v":1},null,{"$f":"'PEFA Columns'!FH6","v":2},null,{"$f":"'PEFA Columns'!FJ6","v":2},null,{"$f":"'PEFA Columns'!FL6","v":2},null,{"$f":"'PEFA Columns'!FN6","v":1},null,{"$f":"'PEFA Columns'!FP6","v":1},null,{"$f":"'PEFA Columns'!FR6","v":1},null,{"$f":"'PEFA Columns'!FT6","v":0}]
[null,"Table:",null,null,"Table B.2 - End use of energy flows (including non-energy use)",null,null," ",null,null,null,null,null,null,null,null,null,null,null,null,null,"INDUSTRIES (ISIC rev 4)",null,null,null,null,null,null,null,null,null,null,null,null,null,null,null,"INDUSTRIES (ISIC rev 4)",null,null,null,null,null,null,null,null,null,null,null,null,null,null,null,null,null,null,null,null,null,null,null,"INDUSTRIES (ISIC rev 4)",null,null,null,null,null,null,null,null,null,null,null,null,null,null,null,"INDUSTRIES (ISIC rev 4)",null,null,null,null,null,null,null,null,null,null,null,null,null,null,null,null,null,"INDUSTRIES (ISIC rev 4)",null,null,null,null,null,null,null,null,null,null,null,null,null,"INDUSTRIES (ISIC rev 4)",null,null,null,null,null,null,null,null,null,null,null,null,null,null,null,null,null,null,null,null,null,null,null,null,null,null,null,null,null,null,null,"INDUSTRIES (ISIC rev 4)",null,null,null,null,null,null,null,null,null,null,null,null,null,null,null,null,null,null,null,null,null,null,null,"HOUSEHOLDS",null,null,null,null,null,null,null,"ACCUMULATION",null,"REST OF THE WORLD",null,"ENVIRONMENT",null,null,null,null,null,null,null,null,null,"CONSTANTS"]
[null,"Content:",null,null,"Energy Flows","Code",null,{"$f":"'PEFA Columns'!D7","v":"ATU"},null,{"$f":"'PEFA Columns'!F7","v":"A"},null,{"$f":"'PEFA Columns'!H7","v":"A01"},null,{"$f":"'PEFA Columns'!J7","v":"A02"},null,{"$f":"'PEFA Columns'!L7","v":"A03"},null,{"$f":"'PEFA Columns'!N7","v":"B"},null,{"$f":"'PEFA Columns'!P7","v":"C"},null,{"$f":"'PEFA Columns'!R7","v":"C10T12"},null,{"$f":"'PEFA Columns'!T7","v":"C13T15"},null,{"$f":"'PEFA Columns'!V7","v":"C16"},null,{"$f":"'PEFA Columns'!X7","v":"C17"},null,{"$f":"'PEFA Columns'!Z7","v":"C18"},null,{"$f":"'PEFA Columns'!AB7","v":"C19"},null,{"$f":"'PEFA Columns'!AD7","v":"C20"},null,{"$f":"'PEFA Columns'!AF7","v":"C21"},null,{"$f":"'PEFA Columns'!AH7","v":"C22"},null,{"$f":"'PEFA Columns'!AJ7","v":"C23"},null,{"$f":"'PEFA Columns'!AL7","v":"C24"},null,{"$f":"'PEFA Columns'!AN7","v":"C25"},null,{"$f":"'PEFA Columns'!AP7","v":"C26"},null,{"$f":"'PEFA Columns'!AR7","v":"C27"},null,{"$f":"'PEFA Columns'!AT7","v":"C28"},null,{"$f":"'PEFA Columns'!AV7","v":"C29"},null,{"$f":"'PEFA Columns'!AX7","v":"C30"},null,{"$f":"'PEFA Columns'!AZ7","v":"C31_32"},null,{"$f":"'PEFA Columns'!BB7","v":"C33"},null,{"$f":"'PEFA Columns'!BD7","v":"D"},null,{"$f":"'PEFA Columns'!BF7","v":"E"},null,{"$f":"'PEFA Columns'!BH7","v":"E36"},null,{"$f":"'PEFA Columns'!BJ7","v":"E37T39"},null,{"$f":"'PEFA Columns'!BL7","v":"F"},null,{"$f":"'PEFA Columns'!BN7","v":"G"},null,{"$f":"'PEFA Columns'!BP7","v":"G45"},null,{"$f":"'PEFA Columns'!BR7","v":"G46"},null,{"$f":"'PEFA Columns'!BT7","v":"G47"},null,{"$f":"'PEFA Columns'!BV7","v":"H"},null,{"$f":"'PEFA Columns'!BX7","v":"H49"},null,{"$f":"'PEFA Columns'!BZ7","v":"H50"},null,{"$f":"'PEFA Columns'!CB7","v":"H51"},null,{"$f":"'PEFA Columns'!CD7","v":"H52"},null,{"$f":"'PEFA Columns'!CF7","v":"H53"},null,{"$f":"'PEFA Columns'!CH7","v":"I"},null,{"$f":"'PEFA Columns'!CJ7","v":"J"},null,{"$f":"'PEFA Columns'!CL7","v":"J58"},null,{"$f":"'PEFA Columns'!CN7","v":"J59_60"},null,{"$f":"'PEFA Columns'!CP7","v":"J61"},null,{"$f":"'PEFA Columns'!CR7","v":"J62_63"},null,{"$f":"'PEFA Columns'!CT7","v":"K"},null,{"$f":"'PEFA Columns'!CV7","v":"K64"},null,{"$f":"'PEFA Columns'!CX7","v":"K65"},null,{"$f":"'PEFA Columns'!CZ7","v":"K66"},null,{"$f":"'PEFA Columns'!DB7","v":"L"},null,{"$f":"'PEFA Columns'!DD7","v":"L68A"},null,{"$f":"'PEFA Columns'!DF7","v":"M"},null,{"$f":"'PEFA Columns'!DH7","v":"M69_70"},null,{"$f":"'PEFA Columns'!DJ7","v":"M71"},null,{"$f":"'PEFA Columns'!DL7","v":"M72"},null,{"$f":"'PEFA Columns'!DN7","v":"M73"},null,{"$f":"'PEFA Columns'!DP7","v":"M74_75"},null,{"$f":"'PEFA Columns'!DR7","v":"N"},null,{"$f":"'PEFA Columns'!DT7","v":"N77"},null,{"$f":"'PEFA Columns'!DV7","v":"N78"},null,{"$f":"'PEFA Columns'!DX7","v":"N79"},null,{"$f":"'PEFA Columns'!DZ7","v":"N80T82"},null,{"$f":"'PEFA Columns'!EB7","v":"O"},null,{"$f":"'PEFA Columns'!ED7","v":"P"},null,{"$f":"'PEFA Columns'!EF7","v":"Q"},null,{"$f":"'PEFA Columns'!EH7","v":"Q86"},null,{"$f":"'PEFA Columns'!EJ7","v":"Q87_88"},null,{"$f":"'PEFA Columns'!EL7","v":"R"},null,{"$f":"'PEFA Columns'!EN7","v":"R90T92"},null,{"$f":"'PEFA Columns'!EP7","v":"R93"},null,{"$f":"'PEFA Columns'!ER7","v":"S"},null,{"$f":"'PEFA Columns'!ET7","v":"S94"},null,{"$f":"'PEFA Columns'!EV7","v":"S95"},null,{"$f":"'PEFA Columns'!EX7","v":"S96"},null,{"$f":"'PEFA Columns'!EZ7","v":"T"},null,{"$f":"'PEFA Columns'!FB7","v":"U"},null,"_X",null,{"$f":"'PEFA Columns'!FF7","v":"HH"},null,{"$f":"'PEFA Columns'!FH7","v":"HH_HEAT"},null,{"$f":"'PEFA Columns'!FJ7","v":"HH_TR"},null,{"$f":"'PEFA Columns'!FL7","v":"HH_OTH"},null,{"$f":"'PEFA Columns'!FN7","v":"ATU_HH"},null,{"$f":"'PEFA Columns'!FP7","v":"ATU_HH"},null,{"$f":"'PEFA Columns'!FR7","v":"ATU_HH"},null,{"$f":"'PEFA Columns'!FT7","v":"ATU_HH"}]
[null,"Unit :",null,null,"TJ","Label",null,{"$f":"'PEFA Columns'!D8","v":"Total ISIC/NACE industries"},null,{"$f":"'PEFA Columns'!F8","v":"Agriculture, forestry and fishing"},null,{"$f":"'PEFA Columns'!H8","v":"Crop and animal production, hunting and related service activities"},null,{"$f":"'PEFA Columns'!J8","v":"Forestry and logging"},null,{"$f":"'PEFA Columns'!L8","v":"Fishing and aquaculture"},null,{"$f":"'PEFA Columns'!N8","v":"Mining and quarrying"},null,{"$f":"'PEFA Columns'!P8","v":"Manufacturing"},null,{"$f":"'PEFA Columns'!R8","v":"Manufacture of food products, beverages and tobacco\nproducts"},null,{"$f":"'PEFA Columns'!T8","v":"Manufacture of textiles, wearing apparel and leather products"},null,{"$f":"'PEFA Columns'!V8","v":"Manufacture of wood and of products of wood and cork, except furniture; manufacture of articles of straw and plaiting materials"},null,{"$f":"'PEFA Columns'!X8","v":"Manufacture of paper and paper products"},null,{"$f":"'PEFA Columns'!Z8","v":"Printing and reproduction of recorded media"},null,{"$f":"'PEFA Columns'!AB8","v":"Manufacture of coke and refined petroleum products"},null,{"$f":"'PEFA Columns'!AD8","v":"Manufacture of chemicals and chemical products"},null,{"$f":"'PEFA Columns'!AF8","v":"Manufacture of basic pharmaceutical products and pharmaceutical preparations"},null,{"$f":"'PEFA Columns'!AH8","v":"Manufacture of rubber and plastic products"},null,{"$f":"'PEFA Columns'!AJ8","v":"Manufacture of other non-metallic mineral products"},null,{"$f":"'PEFA Columns'!AL8","v":"Manufacture of basic metals"},null,{"$f":"'PEFA Columns'!AN8","v":"Manufacture of fabricated metal products, except machinery and equipment"},null,{"$f":"'PEFA Columns'!AP8","v":"Manufacture of computer, electronic and optical products"},null,{"$f":"'PEFA Columns'!AR8","v":"Manufacture of electrical equipment"},null,{"$f":"'PEFA Columns'!AT8","v":"Manufacture of machinery and equipment n.e.c."},null,{"$f":"'PEFA Columns'!AV8","v":"Manufacture of motor vehicles, trailers and semi-trailers"},null,{"$f":"'PEFA Columns'!AX8","v":"Manufacture of other transport equipment"},null,{"$f":"'PEFA Columns'!AZ8","v":"Manufacture of furniture; other manufacturing"},null,{"$f":"'PEFA Columns'!BB8","v":"Repair and installation of machinery and equipment"},null,{"$f":"'PEFA Columns'!BD8","v":"Electricity, gas, steam and air conditioning supply"},null,{"$f":"'PEFA Columns'!BF8","v":"Water supply; sewerage, waste management and remediation activities"},null,{"$f":"'PEFA Columns'!BH8","v":"Water collection, treatment and supply"},null,{"$f":"'PEFA Columns'!BJ8","v":"Sewerage, waste management, remediation activities"},null,{"$f":"'PEFA Columns'!BL8","v":"Construction"},null,{"$f":"'PEFA Columns'!BN8","v":"Wholesale and retail trade; repair of motor vehicles and motorcycles"},null,{"$f":"'PEFA Columns'!BP8","v":"Wholesale and retail trade and repair of motor vehicles and motorcycles"},null,{"$f":"'PEFA Columns'!BR8","v":"Wholesale trade, except of motor vehicles and motorcycles"},null,{"$f":"'PEFA Columns'!BT8","v":"Retail trade, except of motor vehicles and motorcycles"},null,{"$f":"'PEFA Columns'!BV8","v":"Transportation and storage"},null,{"$f":"'PEFA Columns'!BX8","v":"Land transport and transport via pipelines"},null,{"$f":"'PEFA Columns'!BZ8","v":"Water transport"},null,{"$f":"'PEFA Columns'!CB8","v":"Air transport"},null,{"$f":"'PEFA Columns'!CD8","v":"Warehousing and support activities for transportation"},null,{"$f":"'PEFA Columns'!CF8","v":"Postal and courier activities"},null,{"$f":"'PEFA Columns'!CH8","v":"Accommodation and food service activities"},null,{"$f":"'PEFA Columns'!CJ8","v":"Information and communication"},null,{"$f":"'PEFA Columns'!CL8","v":"Publishing activities"},null,{"$f":"'PEFA Columns'!CN8","v":"Motion picture, video, television programme production; programming and broadcasting activities"},null,{"$f":"'PEFA Columns'!CP8","v":"Telecommunications"},null,{"$f":"'PEFA Columns'!CR8","v":"Computer programming, consultancy, and information service activities"},null,{"$f":"'PEFA Columns'!CT8","v":"Financial and insurance activities"},null,{"$f":"'PEFA Columns'!CV8","v":"Financial service activities, except insurance and pension funding"},null,{"$f":"'PEFA Columns'!CX8","v":"Insurance, reinsurance and pension funding, except compulsory social security"},null,{"$f":"'PEFA Columns'!CZ8","v":"Activities auxiliary to financial services and insurance activities"},null,{"$f":"'PEFA Columns'!DB8","v":"Real estate activities"},null,{"$f":"'PEFA Columns'!DD8","v":"Of which: Imputed rents of owner-occupied dwellings"},null,{"$f":"'PEFA Columns'!DF8","v":"Professional, scientific and technical activities"},null,{"$f":"'PEFA Columns'!DH8","v":"Legal and accounting activities; activities of head offices; management consultancy activities"},null,{"$f":"'PEFA Columns'!DJ8","v":"Architectural and engineering activities; technical testing and analysis"},null,{"$f":"'PEFA Columns'!DL8","v":"Scientific research and development"},null,{"$f":"'PEFA Columns'!DN8","v":"Advertising and market research"},null,{"$f":"'PEFA Columns'!DP8","v":"Other professional, scientific and technical activities; veterinary activities"},null,{"$f":"'PEFA Columns'!DR8","v":"Administrative and support service activities"},null,{"$f":"'PEFA Columns'!DT8","v":"Rental and leasing activities"},null,{"$f":"'PEFA Columns'!DV8","v":"Employment activities"},null,{"$f":"'PEFA Columns'!DX8","v":"Travel agency, tour operator reservation service and related activities"},null,{"$f":"'PEFA Columns'!DZ8","v":"Security and investigation, service and landscape, office administrative and support activities"},null,{"$f":"'PEFA Columns'!EB8","v":"Public administration and defence; compulsory social security"},null,{"$f":"'PEFA Columns'!ED8","v":"Education"},null,{"$f":"'PEFA Columns'!EF8","v":"Human health and social work activities"},null,{"$f":"'PEFA Columns'!EH8","v":"Human health activities"},null,{"$f":"'PEFA Columns'!EJ8","v":"Residential care activities and social work activities without accommodation"},null,{"$f":"'PEFA Columns'!EL8","v":"Arts, entertainment and recreation"},null,{"$f":"'PEFA Columns'!EN8","v":"Creative, arts and entertainment activities; libraries, archives, museums and other cultural activities; gambling and betting activities"},null,{"$f":"'PEFA Columns'!EP8","v":"Sports activities and amusement and recreation activities"},null,{"$f":"'PEFA Columns'!ER8","v":"Other service activities"},null,{"$f":"'PEFA Columns'!ET8","v":"Activities of membership organisations"},null,{"$f":"'PEFA Columns'!EV8","v":"Repair of computers and personal and household goods"},null,{"$f":"'PEFA Columns'!EX8","v":"Other personal service activities"},null,{"$f":"'PEFA Columns'!EZ8","v":"Activities of households as employers; undifferentiated goods- and services-producing activities of households for own use"},null,{"$f":"'PEFA Columns'!FB8","v":"Activities of extraterritorial organisations and bodies"},null,{"$f":"'PEFA Columns'!FD8","v":"All other industries"},null,{"$f":"'PEFA Columns'!FF8","v":"Total activities by households"},null,{"$f":"'PEFA Columns'!FH8","v":"Heating/cooling activities by households"},null,{"$f":"'PEFA Columns'!FJ8","v":"Transport activities by households"},null,{"$f":"'PEFA Columns'!FL8","v":"Other activities by households"},null,{"$f":"'PEFA Columns'!FN8","v":"Changes in inventories and produced assets"},null,{"$f":"'PEFA Columns'!FP8","v":"Rest of the World - economic activities"},null,{"$f":"'PEFA Columns'!FR8","v":"Environment"},null,{"$f":"'PEFA Columns'!FT8","v":"TOTAL USE OF NATURAL INPUTS, PRODUCTS, AND RESIDUALS"}]
[null,null,null,null,null,null,null,null,null,null,null,null,null,null,null,null,null,null,null,null,null,null,null,null,null,null,null,null,null,null,null,null,null,null,null,null,null,null,null,null,null,null,null,null,null,null,null,null,null,null,null,null,null,null,null,null,null,null,null,null,null,null,null,null,null,null,null,null,null,null,null,null,null,null,null,null,null,null,null,null,null,null,null,null,null,null,null,null,null,null,null,null,null,null,null,null,null,null,null,null,null,null,null,null,null,null,null,null,null,null,null,null,null,null,null,null,null,null,null,null,null,null,null,null,null,null,null,null,null,null,null,null,null,null,null,null,null,null,null,null,null,null,null,null,null,null,null,null,null,null,null,null,null,null,null,null,null,null,null,null,null,null,null,null,null,null,null,null,null,null,null,null,null,null,null,null,null,null,null,null,null,null,null,null,null,null,null,"DEMAND_PROD","BRIDGE_ITEMS","UNIT_MEASURE","UNIT_MULT","PRODUCT","SECTOR"]
[null,"no","Level","Code","Label"]
[null,1,{"$f":"'PEFA rows'!B3","v":1},{"$f":"'PEFA rows'!C3","v":"N00"},{"$f":"'PEFA rows'!D3","v":"NATURAL ENERGY INPUTS"},null,null,null,null,null,null,null,null,null,null,null,null,null,null,null,null,null,null,null,null,null,null,null,null,null,null,null,null,null,null,null,null,null,null,null,null,null,null,null,null,null,null,null,null,null,null,null,null,null,null,null,null,null,null,null,null,null,null,null,null,null,null,null,null,null,null,null,null,null,null,null,null,null,null,null,null,null,null,null,null,null,null,null,null,null,null,null,null,null,null,null,null,null,null,null,null,null,null,null,null,null,null,null,null,null,null,null,null,null,null,null,null,null,null,null,null,null,null,null,null,null,null,null,null,null,null,null,null,null,null,null,null,null,null,null,null,null,null,null,null,null,null,null,null,null,null,null,null,null,null,null,null,null,null,null,null,null,null,null,null,null,null,null,null,null,null,null,null,null,null,null,null,null,null,{"$f":"SUM(FX10:FX16)","v":0},null,null,null,null,null,null,null,"P","RES","TJ",0,"_T","S1"]
[null,2,2,{"$f":"'PEFA rows'!C4","v":"N01"},{"$f":"'PEFA rows'!D4","v":"Fossil non-renewable natural energy inputs"},null,null,null,null,null,null,null,null,null,null,null,null,null,null,null,null,null,null,null,null,null,null,null,null,null,null,null,null,null,null,null,null,null,null,null,null,null,null,null,null,null,null,null,null,null,null,null,null,null,null,null,null,null,null,null,null,null,null,null,null,null,null,null,null,null,null,null,null,null,null,null,null,null,null,null,null,null,null,null,null,null,null,null,null,null,null,null,null,null,null,null,null,null,null,null,null,null,null,null,null,null,null,null,null,null,null,null,null,null,null,null,null,null,null,null,null,null,null,null,null,null,null,null,null,null,null,null,null,null,null,null,null,null,null,null,null,null,null,null,null,null,null,null,null,null,null,null,null,null,null,null,null,null,null,null,null,null,null,null,null,null,null,null,null,null,null,null,null,null,null,null,null,null,null,{"$f":"SUM(H10,FJ10,FR10,FT10,FV10)","v":0}]
[null,3,2,{"$f":"'PEFA rows'!C5","v":"N02"},{"$f":"'PEFA rows'!D5","v":"Nuclear non-renewable natural energy inputs"},null,null,null,null,null,null,null,null,null,null,null,null,null,null,null,null,null,null,null,null,null,null,null,null,null,null,null,null,null,null,null,null,null,null,null,null,null,null,null,null,null,null,null,null,null,null,null,null,null,null,null,null,null,null,null,null,null,null,null,null,null,null,null,null,null,null,null,null,null,null,null,null,null,null,null,null,null,null,null,null,null,null,null,null,null,null,null,null,null,null,null,null,null,null,null,null,null,null,null,null,null,null,null,null,null,null,null,null,null,null,null,null,null,null,null,null,null,null,null,null,null,null,null,null,null,null,null,null,null,null,null,null,null,null,null,null,null,null,null,null,null,null,null,null,null,null,null,null,null,null,null,null,null,null,null,null,null,null,null,null,null,null,null,null,null,null,null,null,null,null,null,null,null,null,0]
[null,4,2,{"$f":"'PEFA rows'!C6","v":"N03"},{"$f":"'PEFA rows'!D6","v":"Hydro based renewable natural energy inputs"},null,null,null,null,null,null,null,null,null,null,null,null,null,null,null,null,null,null,null,null,null,null,null,null,null,null,null,null,null,null,null,null,null,null,null,null,null,null,null,null,null,null,null,null,null,null,null,null,null,null,null,null,null,null,null,null,null,null,null,null,null,null,null,null,null,null,null,null,null,null,null,null,null,null,null,null,null,null,null,null,null,null,null,null,null,null,null,null,null,null,null,null,null,null,null,null,null,null,null,null,null,null,null,null,null,null,null,null,null,null,null,null,null,null,null,null,null,null,null,null,null,null,null,null,null,null,null,null,null,null,null,null,null,null,null,null,null,null,null,null,null,null,null,null,null,null,null,null,null,null,null,null,null,null,null,null,null,null,null,null,null,null,null,null,null,null,null,null,null,null,null,null,null,null,0]
[null,5,2,{"$f":"'PEFA rows'!C7","v":"N04"},{"$f":"'PEFA rows'!D7","v":"Wind based renewable natural energy inputs"},null,null,null,null,null,null,null,null,null,null,null,null,null,null,null,null,null,null,null,null,null,null,null,null,null,null,null,null,null,null,null,null,null,null,null,null,null,null,null,null,null,null,null,null,null,null,null,null,null,null,null,null,null,null,null,null,null,null,null,null,null,null,null,null,null,null,null,null,null,null,null,null,null,null,null,null,null,null,null,null,null,null,null,null,null,null,null,null,null,null,null,null,null,null,null,null,null,null,null,null,null,null,null,null,null,null,null,null,null,null,null,null,null,null,null,null,null,null,null,null,null,null,null,null,null,null,null,null,null,null,null,null,null,null,null,null,null,null,null,null,null,null,null,null,null,null,null,null,null,null,null,null,null,null,null,null,null,null,null,null,null,null,null,null,null,null,null,null,null,null,null,null,null,null,0]
[null,6,2,{"$f":"'PEFA rows'!C8","v":"N05"},{"$f":"'PEFA rows'!D8","v":"Solar based renewable natural energy inputs"},null,null,null,null,null,null,null,null,null,null,null,null,null,null,null,null,null,null,null,null,null,null,null,null,null,null,null,null,null,null,null,null,null,null,null,null,null,null,null,null,null,null,null,null,null,null,null,null,null,null,null,null,null,null,null,null,null,null,null,null,null,null,null,null,null,null,null,null,null,null,null,null,null,null,null,null,null,null,null,null,null,null,null,null,null,null,null,null,null,null,null,null,null,null,null,null,null,null,null,null,null,null,null,null,null,null,null,null,null,null,null,null,null,null,null,null,null,null,null,null,null,null,null,null,null,null,null,null,null,null,null,null,null,null,null,null,null,null,null,null,null,null,null,null,null,null,null,null,null,null,null,null,null,null,null,null,null,null,null,null,null,null,null,null,null,null,null,null,null,null,null,null,null,null,0]
[null,7,2,{"$f":"'PEFA rows'!C9","v":"N06"},{"$f":"'PEFA rows'!D9","v":"Biomass based renewable natural energy inputs"},null,null,null,null,null,null,null,null,null,null,null,null,null,null,null,null,null,null,null,null,null,null,null,null,null,null,null,null,null,null,null,null,null,null,null,null,null,null,null,null,null,null,null,null,null,null,null,null,null,null,null,null,null,null,null,null,null,null,null,null,null,null,null,null,null,null,null,null,null,null,null,null,null,null,null,null,null,null,null,null,null,null,null,null,null,null,null,null,null,null,null,null,null,null,null,null,null,null,null,null,null,null,null,null,null,null,null,null,null,null,null,null,null,null,null,null,null,null,null,null,null,null,null,null,null,null,null,null,null,null,null,null,null,null,null,null,null,null,null,null,null,null,null,null,null,null,null,null,null,null,null,null,null,null,null,null,null,null,null,null,null,null,null,null,null,null,null,null,null,null,null,null,null,null,0]
[null,8,2,{"$f":"'PEFA rows'!C10","v":"N07"},{"$f":"'PEFA rows'!D10","v":"Other renewable natural energy inputs"},null,null,null,null,null,null,null,null,null,null,null,null,null,null,null,null,null,null,null,null,null,null,null,null,null,null,null,null,null,null,null,null,null,null,null,null,null,null,null,null,null,null,null,null,null,null,null,null,null,null,null,null,null,null,null,null,null,null,null,null,null,null,null,null,null,null,null,null,null,null,null,null,null,null,null,null,null,null,null,null,null,null,null,null,null,null,null,null,null,null,null,null,null,null,null,null,null,null,null,null,null,null,null,null,null,null,null,null,null,null,null,null,null,null,null,null,null,null,null,null,null,null,null,null,null,null,null,null,null,null,null,null,null,null,null,null,null,null,null,null,null,null,null,null,null,null,null,null,null,null,null,null,null,null,null,null,null,null,null,null,null,null,null,null,null,null,null,null,null,null,null,null,null,null,0]
[null,9,{"$f":"'PEFA rows'!B11","v":1},{"$f":"'PEFA rows'!C11","v":"P00"},{"$f":"'PEFA rows'!D11","v":"ENERGY PRODUCTS"},null,null,{"$f":"SUM(H18:H37)","v":0},null,{"$f":"SUM(J18:J37)","v":0},null,{"$f":"SUM(L18:L37)","v":0},null,{"$f":"SUM(N18:N37)","v":0},null,{"$f":"SUM(P18:P37)","v":0},null,{"$f":"SUM(R18:R37)","v":0},null,{"$f":"SUM(T18:T37)","v":0},null,{"$f":"SUM(V18:V37)","v":0},null,{"$f":"SUM(X18:X37)","v":0},null,{"$f":"SUM(Z18:Z37)","v":0},null,{"$f":"SUM(AB18:AB37)","v":0},null,{"$f":"SUM(AD18:AD37)","v":0},null,{"$f":"SUM(AF18:AF37)","v":0},null,{"$f":"SUM(AH18:AH37)","v":0},null,{"$f":"SUM(AJ18:AJ37)","v":0},null,{"$f":"SUM(AL18:AL37)","v":0},null,{"$f":"SUM(AN18:AN37)","v":0},null,{"$f":"SUM(AP18:AP37)","v":0},null,{"$f":"SUM(AR18:AR37)","v":0},null,{"$f":"SUM(AT18:AT37)","v":0},null,{"$f":"SUM(AV18:AV37)","v":0},null,{"$f":"SUM(AX18:AX37)","v":0},null,{"$f":"SUM(AZ18:AZ37)","v":0},null,{"$f":"SUM(BB18:BB37)","v":0},null,{"$f":"SUM(BD18:BD37)","v":0},null,{"$f":"SUM(BF18:BF37)","v":0},null,{"$f":"SUM(BH18:BH37)","v":0},null,{"$f":"SUM(BJ18:BJ37)","v":0},null,{"$f":"SUM(BL18:BL37)","v":0},null,{"$f":"SUM(BN18:BN37)","v":0},null,{"$f":"SUM(BP18:BP37)","v":0},null,{"$f":"SUM(BR18:BR37)","v":0},null,{"$f":"SUM(BT18:BT37)","v":0},null,{"$f":"SUM(BV18:BV37)","v":0},null,{"$f":"SUM(BX18:BX37)","v":0},null,{"$f":"SUM(BZ18:BZ37)","v":0},null,{"$f":"SUM(CB18:CB37)","v":0},null,{"$f":"SUM(CD18:CD37)","v":0},null,{"$f":"SUM(CF18:CF37)","v":0},null,{"$f":"SUM(CH18:CH37)","v":0},null,{"$f":"SUM(CJ18:CJ37)","v":0},null,{"$f":"SUM(CL18:CL37)","v":0},null,{"$f":"SUM(CN18:CN37)","v":0},null,{"$f":"SUM(CP18:CP37)","v":0},null,{"$f":"SUM(CR18:CR37)","v":0},null,{"$f":"SUM(CT18:CT37)","v":0},null,{"$f":"SUM(CV18:CV37)","v":0},null,{"$f":"SUM(CX18:CX37)","v":0},null,{"$f":"SUM(CZ18:CZ37)","v":0},null,{"$f":"SUM(DB18:DB37)","v":0},null,{"$f":"SUM(DD18:DD37)","v":0},null,{"$f":"SUM(DF18:DF37)","v":0},null,{"$f":"SUM(DH18:DH37)","v":0},null,{"$f":"SUM(DJ18:DJ37)","v":0},null,{"$f":"SUM(DL18:DL37)","v":0},null,{"$f":"SUM(DN18:DN37)","v":0},null,{"$f":"SUM(DP18:DP37)","v":0},null,{"$f":"SUM(DR18:DR37)","v":0},null,{"$f":"SUM(DT18:DT37)","v":0},null,{"$f":"SUM(DV18:DV37)","v":0},null,{"$f":"SUM(DX18:DX37)","v":0},null,{"$f":"SUM(DZ18:DZ37)","v":0},null,{"$f":"SUM(EB18:EB37)","v":0},null,{"$f":"SUM(ED18:ED37)","v":0},null,{"$f":"SUM(EF18:EF37)","v":0},null,{"$f":"SUM(EH18:EH37)","v":0},null,{"$f":"SUM(EJ18:EJ37)","v":0},null,{"$f":"SUM(EL18:EL37)","v":0},null,{"$f":"SUM(EN18:EN37)","v":0},null,{"$f":"SUM(EP18:EP37)","v":0},null,{"$f":"SUM(ER18:ER37)","v":0},null,{"$f":"SUM(ET18:ET37)","v":0},null,{"$f":"SUM(EV18:EV37)","v":0},null,{"$f":"SUM(EX18:EX37)","v":0},null,{"$f":"SUM(EZ18:EZ37)","v":0},null,{"$f":"SUM(FB18:FB37)","v":0},null,{"$f":"SUM(FD18:FD37)","v":0},null,{"$f":"SUM(FF18:FF37)","v":0},null,{"$f":"SUM(FH18:FH37)","v":0},null,{"$f":"SUM(FJ18:FJ37)","v":0},null,{"$f":"SUM(FL18:FL37)","v":0},null,{"$f":"SUM(FN18:FN37)","v":0},null,{"$f":"SUM(FP18:FP37)","v":0},null,{"$f":"SUM(FR18:FR37)","v":0},null,{"$f":"SUM(FT18:FT37)","v":0},null,null,null,{"$f":"SUM(FX18:FX37)","v":0}]
[null,10,2,{"$f":"'PEFA rows'!C12","v":"P08"},{"$f":"'PEFA rows'!D12","v":"Hard coal"},null,null,{"$f":"SUM(J18,R18,T18,BH18,BJ18,BP18,BR18,BZ18,CL18,CN18,CX18,DF18,DJ18,DV18,EF18,EH18,EJ18,EP18,EV18,FD18,FF18,FH18)","v":0},null,{"$f":"SUM(L18,N18,P18)","v":0},null,0,null,0,null,0,null,0,null,{"$f":"SUM(V18,X18,Z18,AB18,AD18,AF18,AH18,AJ18,AL18,AN18,AP18,AR18,AT18,AV18,AX18,AZ18,BB18,BD18,BF18)","v":0},null,0,null,0,null,0,null,0,null,0,null,0,null,0,null,0,null,0,null,0,null,0,null,0,null,0,null,0,null,0,null,0,null,0,null,0,null,0,null,0,null,{"$f":"SUM(BL18,BN18)","v":0},null,0,null,0,null,0,null,{"$f":"SUM(BT18,BV18,BX18)","v":0},null,0,null,0,null,0,null,{"$f":"SUM(CB18,CD18,CF18,CH18,CJ18)","v":0},null,0,null,0,null,0,null,0,null,0,null,0,null,{"$f":"SUM(CP18,CR18,CT18,CV18)","v":0},null,0,null,0,null,0,null,0,null,{"$f":"SUM(CZ18,DB18,DD18)","v":0},null,0,null,0,null,0,null,0,null,0,null,{"$f":"SUM(DL18,DN18,DP18,DR18,DT18)","v":0},null,0,null,0,null,0,null,0,null,0,null,{"$f":"SUM(DX18,DZ18,EB18,ED18)","v":0},null,0,null,0,null,0,null,0,null,0,null,0,null,{"$f":"SUM(EL18,EN18)","v":0},null,0,null,0,null,{"$f":"SUM(ER18,ET18)","v":0},null,0,null,0,null,{"$f":"SUM(EX18,EZ18,FB18)","v":0},null,0,null,0,null,0,null,0,null,0,null,0,null,{"$f":"SUM(FL18,FN18,FP18)","v":0},null,0,null,0,null,0,null,0,null,0,null,null,null,{"$f":"SUM(H18,FJ18,FR18,FT18,FV18)","v":0}]
[null,11,2,{"$f":"'PEFA rows'!C13","v":"P09"},{"$f":"'PEFA rows'!D13","v":"Brown coal and peat"},null,null,{"$f":"SUM(J19,R19,T19,BH19,BJ19,BP19,BR19,BZ19,CL19,CN19,CX19,DF19,DJ19,DV19,EF19,EH19,EJ19,EP19,EV19,FD19,FF19,FH19)","v":0},null,{"$f":"SUM(L19,N19,P19)","v":0},null,0,null,0,null,0,null,0,null,{"$f":"SUM(V19,X19,Z19,AB19,AD19,AF19,AH19,AJ19,AL19,AN19,AP19,AR19,AT19,AV19,AX19,AZ19,BB19,BD19,BF19)","v":0},null,0,null,0,null,0,null,0,null,0,null,0,null,0,null,0,null,0,null,0,null,0,null,0,null,0,null,0,null,0,null,0,null,0,null,0,null,0,null,0,null,{"$f":"SUM(BL19,BN19)","v":0},null,0,null,0,null,0,null,{"$f":"SUM(BT19,BV19,BX19)","v":0},null,0,null,0,null,0,null,{"$f":"SUM(CB19,CD19,CF19,CH19,CJ19)","v":0},null,0,null,0,null,0,null,0,null,0,null,0,null,{"$f":"SUM(CP19,CR19,CT19,CV19)","v":0},null,0,null,0,null,0,null,0,null,{"$f":"SUM(CZ19,DB19,DD19)","v":0},null,0,null,0,null,0,null,0,null,0,null,{"$f":"SUM(DL19,DN19,DP19,DR19,DT19)","v":0},null,0,null,0,null,0,null,0,null,0,null,{"$f":"SUM(DX19,DZ19,EB19,ED19)","v":0},null,0,null,0,null,0,null,0,null,0,null,0,null,{"$f":"SUM(EL19,EN19)","v":0},null,0,null,0,null,{"$f":"SUM(ER19,ET19)","v":0},null,0,null,0,null,{"$f":"SUM(EX19,EZ19,FB19)","v":0},null,0,null,0,null,0,null,0,null,0,null,0,null,{"$f":"SUM(FL19,FN19,FP19)","v":0},null,0,null,0,null,0,null,0,null,0,null,null,null,{"$f":"SUM(H19,FJ19,FR19,FT19,FV19)","v":0}]
[null,12,2,{"$f":"'PEFA rows'!C14","v":"P10"},{"$f":"'PEFA rows'!D14","v":"Derived gases (= manufactured gases excl. biogas) "},null,null,0,null,0,null,0,null,0,null,0,null,0,null,0,null,0,null,0,null,0,null,0,null,0,null,0,null,0,null,0,null,0,null,0,null,0,null,0,null,0,null,0,null,0,null,0,null,0,null,0,null,0,null,0,null,0,null,0,null,0,null,0,null,0,null,0,null,0,null,0,null,0,null,0,null,0,null,0,null,0,null,0,null,0,null,0,null,0,null,0,null,0,null,0,null,0,null,0,null,0,null,0,null,0,null,0,null,0,null,0,null,0,null,0,null,0,null,0,null,0,null,0,null,0,null,0,null,0,null,0,null,0,null,0,null,0,null,0,null,0,null,0,null,0,null,0,null,0,null,0,null,0,null,0,null,0,null,0,null,0,null,0,null,0,null,0,null,0,null,0,null,null,null,0]
[null,13,2,{"$f":"'PEFA rows'!C15","v":"P11"},{"$f":"'PEFA rows'!D15","v":"Secondary coal products (coke, coal tar, patent fuel, BKB and peat products)"},null,null,0,null,0,null,0,null,0,null,0,null,0,null,0,null,0,null,0,null,0,null,0,null,0,null,0,null,0,null,0,null,0,null,0,null,0,null,0,null,0,null,0,null,0,null,0,null,0,null,0,null,0,null,0,null,0,null,0,null,0,null,0,null,0,null,0,null,0,null,0,null,0,null,0,null,0,null,0,null,0,null,0,null,0,null,0,null,0,null,0,null,0,null,0,null,0,null,0,null,0,null,0,null,0,null,0,null,0,null,0,null,0,null,0,null,0,null,0,null,0,null,0,null,0,null,0,null,0,null,0,null,0,null,0,null,0,null,0,null,0,null,0,null,0,null,0,null,0,null,0,null,0,null,0,null,0,null,0,null,0,null,0,null,0,null,0,null,0,null,0,null,null,null,0]
[null,14,2,{"$f":"'PEFA rows'!C16","v":"P12"},{"$f":"'PEFA rows'!D16","v":"Crude oil, NGL, and other hydrocarbons (excl. bio)"},null,null,0,null,0,null,0,null,0,null,0,null,0,null,0,null,0,null,0,null,0,null,0,null,0,null,0,null,0,null,0,null,0,null,0,null,0,null,0,null,0,null,0,null,0,null,0,null,0,null,0,null,0,null,0,null,0,null,0,null,0,null,0,null,0,null,0,null,0,null,0,null,0,null,0,null,0,null,0,null,0,null,0,null,0,null,0,null,0,null,0,null,0,null,0,null,0,null,0,null,0,null,0,null,0,null,0,null,0,null,0,null,0,null,0,null,0,null,0,null,0,null,0,null,0,null,0,null,0,null,0,null,0,null,0,null,0,null,0,null,0,null,0,null,0,null,0,null,0,null,0,null,0,null,0,null,0,null,0,null,0,null,0,null,0,null,0,null,0,null,0,null,null,null,0]
[null,15,2,{"$f":"'PEFA rows'!C17","v":"P13"},{"$f":"'PEFA rows'!D17","v":"Natural gas (without bio)"},null,null,0,null,0,null,0,null,0,null,0,null,0,null,0,null,0,null,0,null,0,null,0,null,0,null,0,null,0,null,0,null,0,null,0,null,0,null,0,null,0,null,0,null,0,null,0,null,0,null,0,null,0,null,0,null,0,null,0,null,0,null,0,null,0,null,0,null,0,null,0,null,0,null,0,null,0,null,0,null,0,null,0,null,0,null,0,null,0,null,0,null,0,null,0,null,0,null,0,null,0,null,0,null,0,null,0,null,0,null,0,null,0,null,0,null,0,null,0,null,0,null,0,null,0,null,0,null,0,null,0,null,0,null,0,null,0,null,0,null,0,null,0,null,0,null,0,null,0,null,0,null,0,null,0,null,0,null,0,null,0,null,0,null,0,null,0,null,0,null,0,null,null,null,0]
[null,16,2,{"$f":"'PEFA rows'!C18","v":"P14"},{"$f":"'PEFA rows'!D18","v":"Motor spirit (without bio)"},null,null,0,null,0,null,0,null,0,null,0,null,0,null,0,null,0,null,0,null,0,null,0,null,0,null,0,null,0,null,0,null,0,null,0,null,0,null,0,null,0,null,0,null,0,null,0,null,0,null,0,null,0,null,0,null,0,null,0,null,0,null,0,null,0,null,0,null,0,null,0,null,0,null,0,null,0,null,0,null,0,null,0,null,0,null,0,null,0,null,0,null,0,null,0,null,0,null,0,null,0,null,0,null,0,null,0,null,0,null,0,null,0,null,0,null,0,null,0,null,0,null,0,null,0,null,0,null,0,null,0,null,0,null,0,null,0,null,0,null,0,null,0,null,0,null,0,null,0,null,0,null,0,null,0,null,0,null,0,null,0,null,0,null,0,null,0,null,0,null,0,null,null,null,0]
[null,17,2,{"$f":"'PEFA rows'!C19","v":"P15"},{"$f":"'PEFA rows'!D19","v":"Kerosenes and jet fuels (without bio)"},null,null,0,null,0,null,0,null,0,null,0,null,0,null,0,null,0,null,0,null,0,null,0,null,0,null,0,null,0,null,0,null,0,null,0,null,0,null,0,null,0,null,0,null,0,null,0,null,0,null,0,null,0,null,0,null,0,null,0,null,0,null,0,null,0,null,0,null,0,null,0,null,0,null,0,null,0,null,0,null,0,null,0,null,0,null,0,null,0,null,0,null,0,null,0,null,0,null,0,null,0,null,0,null,0,null,0,null,0,null,0,null,0,null,0,null,0,null,0,null,0,null,0,null,0,null,0,null,0,null,0,null,0,null,0,null,0,null,0,null,0,null,0,null,0,null,0,null,0,null,0,null,0,null,0,null,0,null,0,null,0,null,0,null,0,null,0,null,0,null,0,null,null,null,0]
[null,18,2,{"$f":"'PEFA rows'!C20","v":"P16"},{"$f":"'PEFA rows'!D20","v":"Naphtha"},null,null,0,null,0,null,0,null,0,null,0,null,0,null,0,null,0,null,0,null,0,null,0,null,0,null,0,null,0,null,0,null,0,null,0,null,0,null,0,null,0,null,0,null,0,null,0,null,0,null,0,null,0,null,0,null,0,null,0,null,0,null,0,null,0,null,0,null,0,null,0,null,0,null,0,null,0,null,0,null,0,null,0,null,0,null,0,null,0,null,0,null,0,null,0,null,0,null,0,null,0,null,0,null,0,null,0,null,0,null,0,null,0,null,0,null,0,null,0,null,0,null,0,null,0,null,0,null,0,null,0,null,0,null,0,null,0,null,0,null,0,null,0,null,0,null,0,null,0,null,0,null,0,null,0,null,0,null,0,null,0,null,0,null,0,null,0,null,0,null,0,null,null,null,0]
[null,19,2,{"$f":"'PEFA rows'!C21","v":"P17"},{"$f":"'PEFA rows'!D21","v":"Transport diesel (without bio)"},null,null,0,null,0,null,0,null,0,null,0,null,0,null,0,null,0,null,0,null,0,null,0,null,0,null,0,null,0,null,0,null,0,null,0,null,0,null,0,null,0,null,0,null,0,null,0,null,0,null,0,null,0,null,0,null,0,null,0,null,0,null,0,null,0,null,0,null,0,null,0,null,0,null,0,null,0,null,0,null,0,null,0,null,0,null,0,null,0,null,0,null,0,null,0,null,0,null,0,null,0,null,0,null,0,null,0,null,0,null,0,null,0,null,0,null,0,null,0,null,0,null,0,null,0,null,0,null,0,null,0,null,0,null,0,null,0,null,0,null,0,null,0,null,0,null,0,null,0,null,0,null,0,null,0,null,0,null,0,null,0,null,0,null,0,null,0,null,0,null,0,null,null,null,0]
[null,20,2,{"$f":"'PEFA rows'!C22","v":"P18"},{"$f":"'PEFA rows'!D22","v":"Heating and other gasoil (without bio)"},null,null,0,null,0,null,0,null,0,null,0,null,0,null,0,null,0,null,0,null,0,null,0,null,0,null,0,null,0,null,0,null,0,null,0,null,0,null,0,null,0,null,0,null,0,null,0,null,0,null,0,null,0,null,0,null,0,null,0,null,0,null,0,null,0,null,0,null,0,null,0,null,0,null,0,null,0,null,0,null,0,null,0,null,0,null,0,null,0,null,0,null,0,null,0,null,0,null,0,null,0,null,0,null,0,null,0,null,0,null,0,null,0,null,0,null,0,null,0,null,0,null,0,null,0,null,0,null,0,null,0,null,0,null,0,null,0,null,0,null,0,null,0,null,0,null,0,null,0,null,0,null,0,null,0,null,0,null,0,null,0,null,0,null,0,null,0,null,0,null,0,null,null,null,0]
[null,21,2,{"$f":"'PEFA rows'!C23","v":"P19"},{"$f":"'PEFA rows'!D23","v":"Residual fuel oil"},null,null,0,null,0,null,0,null,0,null,0,null,0,null,0,null,0,null,0,null,0,null,0,null,0,null,0,null,0,null,0,null,0,null,0,null,0,null,0,null,0,null,0,null,0,null,0,null,0,null,0,null,0,null,0,null,0,null,0,null,0,null,0,null,0,null,0,null,0,null,0,null,0,null,0,null,0,null,0,null,0,null,0,null,0,null,0,null,0,null,0,null,0,null,0,null,0,null,0,null,0,null,0,null,0,null,0,null,0,null,0,null,0,null,0,null,0,null,0,null,0,null,0,null,0,null,0,null,0,null,0,null,0,null,0,null,0,null,0,null,0,null,0,null,0,null,0,null,0,null,0,null,0,null,0,null,0,null,0,null,0,null,0,null,0,null,0,null,0,null,0,null,null,null,0]
[null,22,2,{"$f":"'PEFA rows'!C24","v":"P20"},{"$f":"'PEFA rows'!D24","v":"Refinery gas, ethane and LPG"},null,null,0,null,0,null,0,null,0,null,0,null,0,null,0,null,0,null,0,null,0,null,0,null,0,null,0,null,0,null,0,null,0,null,0,null,0,null,0,null,0,null,0,null,0,null,0,null,0,null,0,null,0,null,0,null,0,null,0,null,0,null,0,null,0,null,0,null,0,null,0,null,0,null,0,null,0,null,0,null,0,null,0,null,0,null,0,null,0,null,0,null,0,null,0,null,0,null,0,null,0,null,0,null,0,null,0,null,0,null,0,null,0,null,0,null,0,null,0,null,0,null,0,null,0,null,0,null,0,null,0,null,0,null,0,null,0,null,0,null,0,null,0,null,0,null,0,null,0,null,0,null,0,null,0,null,0,null,0,null,0,null,0,null,0,null,0,null,0,null,0,null,null,null,0]
[null,23,2,{"$f":"'PEFA rows'!C25","v":"P21"},{"$f":"'PEFA rows'!D25","v":"Other petroleum products incl. additives/oxygenates and refinery feedstocks"},null,null,0,null,0,null,0,null,0,null,0,null,0,null,0,null,0,null,0,null,0,null,0,null,0,null,0,null,0,null,0,null,0,null,0,null,0,null,0,null,0,null,0,null,0,null,0,null,0,null,0,null,0,null,0,null,0,null,0,null,0,null,0,null,0,null,0,null,0,null,0,null,0,null,0,null,0,null,0,null,0,null,0,null,0,null,0,null,0,null,0,null,0,null,0,null,0,null,0,null,0,null,0,null,0,null,0,null,0,null,0,null,0,null,0,null,0,null,0,null,0,null,0,null,0,null,0,null,0,null,0,null,0,null,0,null,0,null,0,null,0,null,0,null,0,null,0,null,0,null,0,null,0,null,0,null,0,null,0,null,0,null,0,null,0,null,0,null,0,null,0,null,null,null,0]
[null,24,2,{"$f":"'PEFA rows'!C26","v":"P22"},{"$f":"'PEFA rows'!D26","v":"Nuclear fuel"},null,null,0,null,0,null,0,null,0,null,0,null,0,null,0,null,0,null,0,null,0,null,0,null,0,null,0,null,0,null,0,null,0,null,0,null,0,null,0,null,0,null,0,null,0,null,0,null,0,null,0,null,0,null,0,null,0,null,0,null,0,null,0,null,0,null,0,null,0,null,0,null,0,null,0,null,0,null,0,null,0,null,0,null,0,null,0,null,0,null,0,null,0,null,0,null,0,null,0,null,0,null,0,null,0,null,0,null,0,null,0,null,0,null,0,null,0,null,0,null,0,null,0,null,0,null,0,null,0,null,0,null,0,null,0,null,0,null,0,null,0,null,0,null,0,null,0,null,0,null,0,null,0,null,0,null,0,null,0,null,0,null,0,null,0,null,0,null,0,null,0,null,null,null,0]
[null,25,2,{"$f":"'PEFA rows'!C27","v":"P23"},{"$f":"'PEFA rows'!D27","v":"Wood, wood waste and other solid biomass, charcoal"},null,null,0,null,0,null,0,null,0,null,0,null,0,null,0,null,0,null,0,null,0,null,0,null,0,null,0,null,0,null,0,null,0,null,0,null,0,null,0,null,0,null,0,null,0,null,0,null,0,null,0,null,0,null,0,null,0,null,0,null,0,null,0,null,0,null,0,null,0,null,0,null,0,null,0,null,0,null,0,null,0,null,0,null,0,null,0,null,0,null,0,null,0,null,0,null,0,null,0,null,0,null,0,null,0,null,0,null,0,null,0,null,0,null,0,null,0,null,0,null,0,null,0,null,0,null,0,null,0,null,0,null,0,null,0,null,0,null,0,null,0,null,0,null,0,null,0,null,0,null,0,null,0,null,0,null,0,null,0,null,0,null,0,null,0,null,0,null,0,null,0,null,null,null,0]
[null,26,2,{"$f":"'PEFA rows'!C28","v":"P24"},{"$f":"'PEFA rows'!D28","v":"Liquid biofuels"},null,null,0,null,0,null,0,null,0,null,0,null,0,null,0,null,0,null,0,null,0,null,0,null,0,null,0,null,0,null,0,null,0,null,0,null,0,null,0,null,0,null,0,null,0,null,0,null,0,null,0,null,0,null,0,null,0,null,0,null,0,null,0,null,0,null,0,null,0,null,0,null,0,null,0,null,0,null,0,null,0,null,0,null,0,null,0,null,0,null,0,null,0,null,0,null,0,null,0,null,0,null,0,null,0,null,0,null,0,null,0,null,0,null,0,null,0,null,0,null,0,null,0,null,0,null,0,null,0,null,0,null,0,null,0,null,0,null,0,null,0,null,0,null,0,null,0,null,0,null,0,null,0,null,0,null,0,null,0,null,0,null,0,null,0,null,0,null,0,null,0,null,null,null,0]
[null,27,2,{"$f":"'PEFA rows'!C29","v":"P25"},{"$f":"'PEFA rows'!D29","v":"Biogas"},null,null,0,null,0,null,0,null,0,null,0,null,0,null,0,null,0,null,0,null,0,null,0,null,0,null,0,null,0,null,0,null,0,null,0,null,0,null,0,null,0,null,0,null,0,null,0,null,0,null,0,null,0,null,0,null,0,null,0,null,0,null,0,null,0,null,0,null,0,null,0,null,0,null,0,null,0,null,0,null,0,null,0,null,0,null,0,null,0,null,0,null,0,null,0,null,0,null,0,null,0,null,0,null,0,null,0,null,0,null,0,null,0,null,0,null,0,null,0,null,0,null,0,null,0,null,0,null,0,null,0,null,0,null,0,null,0,null,0,null,0,null,0,null,0,null,0,null,0,null,0,null,0,null,0,null,0,null,0,null,0,null,0,null,0,null,0,null,0,null,0,null,null,null,0]
[null,28,2,{"$f":"'PEFA rows'!C30","v":"P26"},{"$f":"'PEFA rows'!D30","v":"Electrical energy"},null,null,0,null,0,null,0,null,0,null,0,null,0,null,0,null,0,null,0,null,0,null,0,null,0,null,0,null,0,null,0,null,0,null,0,null,0,null,0,null,0,null,0,null,0,null,0,null,0,null,0,null,0,null,0,null,0,null,0,null,0,null,0,null,0,null,0,null,0,null,0,null,0,null,0,null,0,null,0,null,0,null,0,null,0,null,{"$f":"SUM(CP36,CR36,CT36,CV36)","v":0},null,0,null,0,null,0,null,0,null,0,null,0,null,0,null,0,null,0,null,0,null,0,null,0,null,0,null,0,null,0,null,0,null,0,null,0,null,0,null,0,null,0,null,0,null,0,null,0,null,0,null,0,null,0,null,0,null,0,null,0,null,0,null,0,null,0,null,0,null,0,null,0,null,0,null,0,null,0,null,0,null,0,null,0,null,null,null,0]
[null,29,2,{"$f":"'PEFA rows'!C31","v":"P27"},{"$f":"'PEFA rows'!D31","v":"Heat"},null,null,0,null,0,null,0,null,0,null,0,null,0,null,0,null,0,null,0,null,0,null,0,null,0,null,0,null,0,null,0,null,0,null,0,null,0,null,0,null,0,null,0,null,0,null,0,null,0,null,0,null,0,null,0,null,0,null,0,null,0,null,0,null,0,null,0,null,0,null,0,null,0,null,0,null,0,null,0,null,0,null,0,null,0,null,0,null,0,null,0,null,0,null,0,null,0,null,0,null,0,null,0,null,0,null,0,null,0,null,0,null,0,null,0,null,0,null,0,null,0,null,0,null,0,null,0,null,0,null,0,null,0,null,0,null,0,null,0,null,0,null,0,null,0,null,0,null,0,null,0,null,0,null,0,null,0,null,0,null,0,null,0,null,0,null,0,null,0,null,0,null,null,null,{"$f":"SUM(H37,FJ37,FR37,FT37,FV37)","v":0}]
[null,30,{"$f":"'PEFA rows'!B32","v":1},{"$f":"'PEFA rows'!C32","v":"R00"},{"$f":"'PEFA rows'!D32","v":"ENERGY AND OTHER RESIDUALS"},null,null,{"$f":"SUM(H39:H42)","v":0},null,{"$f":"SUM(J39:J42)","v":0},null,{"$f":"SUM(L39:L42)","v":0},null,{"$f":"SUM(N39:N42)","v":0},null,{"$f":"SUM(P39:P42)","v":0},null,{"$f":"SUM(R39:R42)","v":0},null,{"$f":"SUM(T39:T42)","v":0},null,{"$f":"SUM(V39:V42)","v":0},null,{"$f":"SUM(X39:X42)","v":0},null,{"$f":"SUM(Z39:Z42)","v":0},null,{"$f":"SUM(AB39:AB42)","v":0},null,{"$f":"SUM(AD39:AD42)","v":0},null,{"$f":"SUM(AF39:AF42)","v":0},null,{"$f":"SUM(AH39:AH42)","v":0},null,{"$f":"SUM(AJ39:AJ42)","v":0},null,{"$f":"SUM(AL39:AL42)","v":0},null,{"$f":"SUM(AN39:AN42)","v":0},null,{"$f":"SUM(AP39:AP42)","v":0},null,{"$f":"SUM(AR39:AR42)","v":0},null,{"$f":"SUM(AT39:AT42)","v":0},null,{"$f":"SUM(AV39:AV42)","v":0},null,{"$f":"SUM(AX39:AX42)","v":0},null,{"$f":"SUM(AZ39:AZ42)","v":0},null,{"$f":"SUM(BB39:BB42)","v":0},null,{"$f":"SUM(BD39:BD42)","v":0},null,{"$f":"SUM(BF39:BF42)","v":0},null,{"$f":"SUM(BH39:BH42)","v":0},null,{"$f":"SUM(BJ39:BJ42)","v":0},null,{"$f":"SUM(BL39:BL42)","v":0},null,{"$f":"SUM(BN39:BN42)","v":0},null,{"$f":"SUM(BP39:BP42)","v":0},null,{"$f":"SUM(BR39:BR42)","v":0},null,{"$f":"SUM(BT39:BT42)","v":0},null,{"$f":"SUM(BV39:BV42)","v":0},null,{"$f":"SUM(BX39:BX42)","v":0},null,{"$f":"SUM(BZ39:BZ42)","v":0},null,{"$f":"SUM(CB39:CB42)","v":0},null,{"$f":"SUM(CD39:CD42)","v":0},null,{"$f":"SUM(CF39:CF42)","v":0},null,{"$f":"SUM(CH39:CH42)","v":0},null,{"$f":"SUM(CJ39:CJ42)","v":0},null,{"$f":"SUM(CL39:CL42)","v":0},null,{"$f":"SUM(CN39:CN42)","v":0},null,{"$f":"SUM(CP39:CP42)","v":0},null,{"$f":"SUM(CR39:CR42)","v":0},null,{"$f":"SUM(CT39:CT42)","v":0},null,{"$f":"SUM(CV39:CV42)","v":0},null,{"$f":"SUM(CX39:CX42)","v":0},null,{"$f":"SUM(CZ39:CZ42)","v":0},null,{"$f":"SUM(DB39:DB42)","v":0},null,{"$f":"SUM(DD39:DD42)","v":0},null,{"$f":"SUM(DF39:DF42)","v":0},null,{"$f":"SUM(DH39:DH42)","v":0},null,{"$f":"SUM(DJ39:DJ42)","v":0},null,{"$f":"SUM(DL39:DL42)","v":0},null,{"$f":"SUM(DN39:DN42)","v":0},null,{"$f":"SUM(DP39:DP42)","v":0},null,{"$f":"SUM(DR39:DR42)","v":0},null,{"$f":"SUM(DT39:DT42)","v":0},null,{"$f":"SUM(DV39:DV42)","v":0},null,{"$f":"SUM(DX39:DX42)","v":0},null,{"$f":"SUM(DZ39:DZ42)","v":0},null,{"$f":"SUM(EB39:EB42)","v":0},null,{"$f":"SUM(ED39:ED42)","v":0},null,{"$f":"SUM(EF39:EF42)","v":0},null,{"$f":"SUM(EH39:EH42)","v":0},null,{"$f":"SUM(EJ39:EJ42)","v":0},null,{"$f":"SUM(EL39:EL42)","v":0},null,{"$f":"SUM(EN39:EN42)","v":0},null,{"$f":"SUM(EP39:EP42)","v":0},null,{"$f":"SUM(ER39:ER42)","v":0},null,{"$f":"SUM(ET39:ET42)","v":0},null,{"$f":"SUM(EV39:EV42)","v":0},null,{"$f":"SUM(EX39:EX42)","v":0},null,{"$f":"SUM(EZ39:EZ42)","v":0},null,{"$f":"SUM(FB39:FB42)","v":0},null,{"$f":"SUM(FD39:FD42)","v":0},null,{"$f":"SUM(FF39:FF42)","v":0},null,{"$f":"SUM(FH39:FH42)","v":0},null,{"$f":"SUM(FJ39:FJ42)","v":0},null,{"$f":"SUM(FL39:FL42)","v":0},null,{"$f":"SUM(FN39:FN42)","v":0},null,{"$f":"SUM(FP39:FP42)","v":0},null,{"$f":"SUM(FR39:FR42)","v":0},null,{"$f":"SUM(FT39:FT42)","v":0},null,{"$f":"SUM(FV39:FV42)","v":0},null,{"$f":"SUM(FX39:FX42)","v":0}]
[null,31,2,{"$f":"'PEFA rows'!C33","v":"R28"},{"$f":"'PEFA rows'!D33","v":"Renewable waste"},null,null,{"$f":"SUM(J39,R39,T39,BH39,BJ39,BP39,BR39,BZ39,CL39,CN39,CX39,DF39,DJ39,DV39,EF39,EH39,EJ39,EP39,EV39,FD39,FF39,FH39)","v":0},null,{"$f":"SUM(L39,N39,P39)","v":0},null,0,null,0,null,0,null,0,null,{"$f":"SUM(V39,X39,Z39,AB39,AD39,AF39,AH39,AJ39,AL39,AN39,AP39,AR39,AT39,AV39,AX39,AZ39,BB39,BD39,BF39)","v":0},null,0,null,0,null,0,null,0,null,0,null,0,null,0,null,0,null,0,null,0,null,0,null,0,null,0,null,0,null,0,null,0,null,0,null,0,null,0,null,0,null,{"$f":"SUM(BL39,BN39)","v":0},null,0,null,0,null,0,null,{"$f":"SUM(BT39,BV39,BX39)","v":0},null,0,null,0,null,0,null,{"$f":"SUM(CB39,CD39,CF39,CH39,CJ39)","v":0},null,0,null,0,null,0,null,0,null,0,null,0,null,{"$f":"SUM(CP39,CR39,CT39,CV39)","v":0},null,0,null,0,null,0,null,0,null,{"$f":"SUM(CZ39,DB39,DD39)","v":0},null,0,null,0,null,0,null,0,null,0,null,{"$f":"SUM(DL39,DN39,DP39,DR39,DT39)","v":0},null,0,null,0,null,0,null,0,null,0,null,{"$f":"SUM(DX39,DZ39,EB39,ED39)","v":0},null,0,null,0,null,0,null,0,null,0,null,0,null,{"$f":"SUM(EL39,EN39)","v":0},null,0,null,0,null,{"$f":"SUM(ER39,ET39)","v":0},null,0,null,0,null,{"$f":"SUM(EX39,EZ39,FB39)","v":0},null,0,null,0,null,0,null,0,null,0,null,0,null,{"$f":"SUM(FL39,FN39,FP39)","v":0},null,0,null,0,null,0,null,0,null,0,null,null,null,{"$f":"SUM(H39,FJ39,FR39,FT39,FV39)","v":0}]
[null,32,2,{"$f":"'PEFA rows'!C34","v":"R29"},{"$f":"'PEFA rows'!D34","v":"Non-renewable waste"},null,null,{"$f":"SUM(J40,R40,T40,BH40,BJ40,BP40,BR40,BZ40,CL40,CN40,CX40,DF40,DJ40,DV40,EF40,EH40,EJ40,EP40,EV40,FD40,FF40,FH40)","v":0},null,{"$f":"SUM(L40,N40,P40)","v":0},null,0,null,0,null,0,null,0,null,{"$f":"SUM(V40,X40,Z40,AB40,AD40,AF40,AH40,AJ40,AL40,AN40,AP40,AR40,AT40,AV40,AX40,AZ40,BB40,BD40,BF40)","v":0},null,0,null,0,null,0,null,0,null,0,null,0,null,0,null,0,null,0,null,0,null,0,null,0,null,0,null,0,null,0,null,0,null,0,null,0,null,0,null,0,null,{"$f":"SUM(BL40,BN40)","v":0},null,0,null,0,null,0,null,{"$f":"SUM(BT40,BV40,BX40)","v":0},null,0,null,0,null,0,null,{"$f":"SUM(CB40,CD40,CF40,CH40,CJ40)","v":0},null,0,null,0,null,0,null,0,null,0,null,0,null,{"$f":"SUM(CP40,CR40,CT40,CV40)","v":0},null,0,null,0,null,0,null,0,null,{"$f":"SUM(CZ40,DB40,DD40)","v":0},null,0,null,0,null,0,null,0,null,0,null,{"$f":"SUM(DL40,DN40,DP40,DR40,DT40)","v":0},null,0,null,0,null,0,null,0,null,0,null,{"$f":"SUM(DX40,DZ40,EB40,ED40)","v":0},null,0,null,0,null,0,null,0,null,0,null,0,null,{"$f":"SUM(EL40,EN40)","v":0},null,0,null,0,null,{"$f":"SUM(ER40,ET40)","v":0},null,0,null,0,null,{"$f":"SUM(EX40,EZ40,FB40)","v":0},null,0,null,0,null,0,null,0,null,0,null,0,null,0,null,0,null,0,null,0,null,0,null,0,null,null,null,{"$f":"SUM(H40,FJ40,FR40,FT40,FV40)","v":0}]
[null,33,2,{"$f":"'PEFA rows'!C35","v":"R30"},{"$f":"'PEFA rows'!D35","v":"Energy losses all kinds of (during extraction, distribution, storage and transformation, and dissipative heat from end use)"},null,null,null,null,null,null,null,null,null,null,null,null,null,null,null,null,null,null,null,null,null,null,null,null,null,null,null,null,null,null,null,null,null,null,null,null,null,null,null,null,null,null,null,null,null,null,null,null,null,null,null,null,null,null,null,null,null,null,null,null,null,null,null,null,null,null,null,null,null,null,null,null,null,null,null,null,null,null,null,null,null,null,null,null,null,null,null,null,null,null,null,null,null,null,null,null,null,null,null,null,null,null,null,null,null,null,null,null,null,null,null,null,null,null,null,null,null,null,null,null,null,null,null,null,null,null,null,null,null,null,null,null,null,null,null,null,null,null,null,null,null,null,null,null,null,null,null,null,null,null,null,null,null,null,null,null,null,null,null,null,null,null,null,null,null,null,null,null,null,null,null,null,0,null,{"$f":"SUM(H41,FJ41,FR41,FT41,FV41)","v":0}]
[null,34,2,{"$f":"'PEFA rows'!C36","v":"R31"},{"$f":"'PEFA rows'!D36","v":"Energy incorporated in products for non-energy use"},null,null,{"$f":"SUM(J42,R42,T42,BH42,BJ42,BP42,BR42,BZ42,CL42,CN42,CX42,DF42,DJ42,DV42,EF42,EH42,EJ42,EP42,EV42,FD42,FF42,FH42)","v":0},null,null,null,null,null,null,null,null,null,null,null,null,null,null,null,null,null,null,null,null,null,null,null,null,null,null,null,null,null,null,null,null,null,null,null,null,null,null,null,null,null,null,null,null,null,null,null,null,null,null,null,0,null,null,null,null,null,null,null,null,null,null,null,null,null,null,null,null,null,null,null,null,null,null,null,null,null,null,null,null,null,null,null,null,null,null,null,null,null,null,null,null,null,null,null,null,null,null,null,null,null,null,null,null,null,null,null,null,null,null,null,null,null,null,null,null,null,null,null,null,null,null,null,null,null,null,null,null,null,null,null,null,null,null,null,null,null,null,null,null,null,null,null,null,null,null,null,null,null,null,null,null,null,null,null,null,null,null,null,null,null,null,null,null,null,0,null,null,null,null,null,{"$f":"SUM(H42,FJ42,FR42,FT42,FV42)","v":0}]
[null,36,{"$f":"'PEFA rows'!B37","v":0},{"$f":"'PEFA rows'!C37","v":"N00_P00_R00"},{"$f":"'PEFA rows'!D37","v":"TOTAL SUPPLY / TOTAL USE"},null,null,{"$f":"SUM(H9,H17,H38)","v":0},null,{"$f":"SUM(J9,J17,J38)","v":0},null,{"$f":"SUM(L9,L17,L38)","v":0},null,{"$f":"SUM(N9,N17,N38)","v":0},null,{"$f":"SUM(P9,P17,P38)","v":0},null,{"$f":"SUM(R9,R17,R38)","v":0},null,{"$f":"SUM(T9,T17,T38)","v":0},null,{"$f":"SUM(V9,V17,V38)","v":0},null,{"$f":"SUM(X9,X17,X38)","v":0},null,{"$f":"SUM(Z9,Z17,Z38)","v":0},null,{"$f":"SUM(AB9,AB17,AB38)","v":0},null,{"$f":"SUM(AD9,AD17,AD38)","v":0},null,{"$f":"SUM(AF9,AF17,AF38)","v":0},null,{"$f":"SUM(AH9,AH17,AH38)","v":0},null,{"$f":"SUM(AJ9,AJ17,AJ38)","v":0},null,{"$f":"SUM(AL9,AL17,AL38)","v":0},null,{"$f":"SUM(AN9,AN17,AN38)","v":0},null,{"$f":"SUM(AP9,AP17,AP38)","v":0},null,{"$f":"SUM(AR9,AR17,AR38)","v":0},null,{"$f":"SUM(AT9,AT17,AT38)","v":0},null,{"$f":"SUM(AV9,AV17,AV38)","v":0},null,{"$f":"SUM(AX9,AX17,AX38)","v":0},null,{"$f":"SUM(AZ9,AZ17,AZ38)","v":0},null,{"$f":"SUM(BB9,BB17,BB38)","v":0},null,{"$f":"SUM(BD9,BD17,BD38)","v":0},null,{"$f":"SUM(BF9,BF17,BF38)","v":0},null,{"$f":"SUM(BH9,BH17,BH38)","v":0},null,{"$f":"SUM(BJ9,BJ17,BJ38)","v":0},null,{"$f":"SUM(BL9,BL17,BL38)","v":0},null,{"$f":"SUM(BN9,BN17,BN38)","v":0},null,{"$f":"SUM(BP9,BP17,BP38)","v":0},null,{"$f":"SUM(BR9,BR17,BR38)","v":0},null,{"$f":"SUM(BT9,BT17,BT38)","v":0},null,{"$f":"SUM(BV9,BV17,BV38)","v":0},null,{"$f":"SUM(BX9,BX17,BX38)","v":0},null,{"$f":"SUM(BZ9,BZ17,BZ38)","v":0},null,{"$f":"SUM(CB9,CB17,CB38)","v":0},null,{"$f":"SUM(CD9,CD17,CD38)","v":0},null,{"$f":"SUM(CF9,CF17,CF38)","v":0},null,{"$f":"SUM(CH9,CH17,CH38)","v":0},null,{"$f":"SUM(CJ9,CJ17,CJ38)","v":0},null,{"$f":"SUM(CL9,CL17,CL38)","v":0},null,{"$f":"SUM(CN9,CN17,CN38)","v":0},null,{"$f":"SUM(CP9,CP17,CP38)","v":0},null,{"$f":"SUM(CR9,CR17,CR38)","v":0},null,{"$f":"SUM(CT9,CT17,CT38)","v":0},null,{"$f":"SUM(CV9,CV17,CV38)","v":0},null,{"$f":"SUM(CX9,CX17,CX38)","v":0},null,{"$f":"SUM(CZ9,CZ17,CZ38)","v":0},null,{"$f":"SUM(DB9,DB17,DB38)","v":0},null,{"$f":"SUM(DD9,DD17,DD38)","v":0},null,{"$f":"SUM(DF9,DF17,DF38)","v":0},null,{"$f":"SUM(DH9,DH17,DH38)","v":0},null,{"$f":"SUM(DJ9,DJ17,DJ38)","v":0},null,{"$f":"SUM(DL9,DL17,DL38)","v":0},null,{"$f":"SUM(DN9,DN17,DN38)","v":0},null,{"$f":"SUM(DP9,DP17,DP38)","v":0},null,{"$f":"SUM(DR9,DR17,DR38)","v":0},null,{"$f":"SUM(DT9,DT17,DT38)","v":0},null,{"$f":"SUM(DV9,DV17,DV38)","v":0},null,{"$f":"SUM(DX9,DX17,DX38)","v":0},null,{"$f":"SUM(DZ9,DZ17,DZ38)","v":0},null,{"$f":"SUM(EB9,EB17,EB38)","v":0},null,{"$f":"SUM(ED9,ED17,ED38)","v":0},null,{"$f":"SUM(EF9,EF17,EF38)","v":0},null,{"$f":"SUM(EH9,EH17,EH38)","v":0},null,{"$f":"SUM(EJ9,EJ17,EJ38)","v":0},null,{"$f":"SUM(EL9,EL17,EL38)","v":0},null,{"$f":"SUM(EN9,EN17,EN38)","v":0},null,{"$f":"SUM(EP9,EP17,EP38)","v":0},null,{"$f":"SUM(ER9,ER17,ER38)","v":0},null,{"$f":"SUM(ET9,ET17,ET38)","v":0},null,{"$f":"SUM(EV9,EV17,EV38)","v":0},null,{"$f":"SUM(EX9,EX17,EX38)","v":0},null,{"$f":"SUM(EZ9,EZ17,EZ38)","v":0},null,{"$f":"SUM(FB9,FB17,FB38)","v":0},null,{"$f":"SUM(FD9,FD17,FD38)","v":0},null,{"$f":"SUM(FF9,FF17,FF38)","v":0},null,{"$f":"SUM(FH9,FH17,FH38)","v":0},null,{"$f":"SUM(FJ9,FJ17,FJ38)","v":0},null,{"$f":"SUM(FL9,FL17,FL38)","v":0},null,{"$f":"SUM(FN9,FN17,FN38)","v":0},null,{"$f":"SUM(FP9,FP17,FP38)","v":0},null,{"$f":"SUM(FR9,FR17,FR38)","v":0},null,{"$f":"SUM(FT9,FT17,FT38)","v":0},null,{"$f":"SUM(FV9,FV17,FV38)","v":0},null,{"$f":"SUM(FX9,FX17,FX38)","v":0}]
[]
[]
[]
[]
[null,null,null,null,"ACCOUNTING_ENTRY",null,null,"DE",null,"DE",null,"DE",null,"DE",null,"DE",null,"DE",null,"DE",null,"DE",null,"DE",null,"DE",null,"DE",null,"DE",null,"DE",null,"DE",null,"DE",null,"DE",null,"DE",null,"DE",null,"DE",null,"DE",null,"DE",null,"DE",null,"DE",null,"DE",null,"DE",null,"DE",null,"DE",null,"DE",null,"DE",null,"DE",null,"DE",null,"DE",null,"DE",null,"DE",null,"DE",null,"DE",null,"DE",null,"DE",null,"DE",null,"DE",null,"DE",null,"DE",null,"DE",null,"DE",null,"DE",null,"DE",null,"DE",null,"DE",null,"DE",null,"DE",null,"DE",null,"DE",null,"DE",null,"DE",null,"DE",null,"DE",null,"DE",null,"DE",null,"DE",null,"DE",null,"DE",null,"DE",null,"DE",null,"DE",null,"DE",null,"DE",null,"DE",null,"DE",null,"DE",null,"DE",null,"DE",null,"DE",null,"DE",null,"DE",null,"DE",null,"DE",null,"DE",null,"DE",null,"DE",null,"DE",null,"DE",null,"DE",null,"DE",null,"DE",null,"DE",null,"EC",null,"DE_EN"]
[null,null,null,null,"COUNTERPART_AREA",null,null,"W2",null,"W2",null,"W2",null,"W2",null,"W2",null,"W2",null,"W2",null,"W2",null,"W2",null,"W2",null,"W2",null,"W2",null,"W2",null,"W2",null,"W2",null,"W2",null,"W2",null,"W2",null,"W2",null,"W2",null,"W2",null,"W2",null,"W2",null,"W2",null,"W2",null,"W2",null,"W2",null,"W2",null,"W2",null,"W2",null,"W2",null,"W2",null,"W2",null,"W2",null,"W2",null,"W2",null,"W2",null,"W2",null,"W2",null,"W2",null,"W2",null,"W2",null,"W2",null,"W2",null,"W2",null,"W2",null,"W2",null,"W2",null,"W2",null,"W2",null,"W2",null,"W2",null,"W2",null,"W2",null,"W2",null,"W2",null,"W2",null,"W2",null,"W2",null,"W2",null,"W2",null,"W2",null,"W2",null,"W2",null,"W2",null,"W2",null,"W2",null,"W2",null,"W2",null,"W2",null,"W2",null,"W2",null,"W2",null,"W2",null,"W2",null,"W2",null,"W2",null,"W2",null,"W2",null,"W2",null,"W2",null,"W2",null,"W2",null,"W2",null,"W1",null,"W0",null,"W0"]
[null,null,null,null,"STO",null,null,"TUEU",null,"TUEU",null,"TUEU",null,"TUEU",null,"TUEU",null,"TUEU",null,"TUEU",null,"TUEU",null,"TUEU",null,"TUEU",null,"TUEU",null,"TUEU",null,"TUEU",null,"TUEU",null,"TUEU",null,"TUEU",null,"TUEU",null,"TUEU",null,"TUEU",null,"TUEU",null,"TUEU",null,"TUEU",null,"TUEU",null,"TUEU",null,"TUEU",null,"TUEU",null,"TUEU",null,"TUEU",null,"TUEU",null,"TUEU",null,"TUEU",null,"TUEU",null,"TUEU",null,"TUEU",null,"TUEU",null,"TUEU",null,"TUEU",null,"TUEU",null,"TUEU",null,"TUEU",null,"TUEU",null,"TUEU",null,"TUEU",null,"TUEU",null,"TUEU",null,"TUEU",null,"TUEU",null,"TUEU",null,"TUEU",null,"TUEU",null,"TUEU",null,"TUEU",null,"TUEU",null,"TUEU",null,"TUEU",null,"TUEU",null,"TUEU",null,"TUEU",null,"TUEU",null,"TUEU",null,"TUEU",null,"TUEU",null,"TUEU",null,"TUEU",null,"TUEU",null,"TUEU",null,"TUEU",null,"TUEU",null,"TUEU",null,"TUEU",null,"TUEU",null,"TUEU",null,"TUEU",null,"TUEU",null,"TUEU",null,"TUEU",null,"TUEU",null,"TUEU",null,"TUEU",null,"TUEU",null,"TUEU",null,"TUEU",null,"TUEU",null,"P52",null,"P6",null,"TUEU",null,"TU"]

{"sheet":"PEFA bridging items","index":12,"n_rows":15,"n_cols":4,"rows_kept":15,"cut":false,"hidden":true,"merged":[]}
[null,"PEFA bridging items"]
[null,"code","label"]
[1,"DEU_RES","Total energy use by resident units (domestic energy use) - residence principle"]
[2,"TOT_NRA","(−) Energy use by resident units abroad"]
[2.1,"NRA_FISH","      National fishing vessels operating abroad"]
[2.2000000000000002,"NRA_I60","      Land transport operated by resident units abroad"]
[2.2999999999999998,"NRA_I61","      International water transport undertaken by resident units","label changed by Stephan on 16 May 2017 after respective WG conclusion"]
[2.4,"NRA_I62","      International air transport operated by resident units"]
[3,"TOT_NRES","(+) Energy use by non-residents on the territory"]
[3.1,"NRES_I60","      Land transport operated by non-residents on the territory"]
[3.2,"NRES_I61","      Water transport operated by non-residents on the territory"]
[3.3,"NRES_I62","      Air transport operated by non-residents on the territory"]
[4,"ADJ_OTH","(+) Other adjustments and statistical discrepancies","Sign changed from (+/-) to (+) by Stephan, 23 April 2021"]
["4m","MEMO_BEYO5AQ","         of which (memo): energy flows not reported in energy statistics but included in PEFA (bridging item 1)","item 4m added by Stephan on 16 May 2017 after respective WG conclusion  /  Sign (-) deleted by Stephan 23 April 2021"]
[5,"GIC_TER","(=) Total energy supply - territory principle"]

{"sheet":"Table_D","index":13,"n_rows":30,"n_cols":180,"rows_kept":30,"cut":false,"hidden":false,"merged":[[1,15,1,16],[1,17,1,18],[1,19,1,20],[1,21,1,22],[1,23,1,24],[1,25,1,26],[1,1,1,3],[1,5,1,6],[1,7,1,8],[1,9,1,10],[1,11,1,12],[1,13,1,14],[1,39,1,40],[1,41,1,42],[1,43,1,44],[1,45,1,46],[1,47,1,48],[1,49,1,50],[1,27,1,28],[1,29,1,30],[1,31,1,32],[1,33,1,34],[1,35,1,36],[1,37,1,38],[1,63,1,64],[1,65,1,66],[1,67,1,68],[1,69,1,70],[1,71,1,72],[1,73,1,74],[1,51,1,52],[1,53,1,54],[1,55,1,56],[1,57,1,58],[1,59,1,60],[1,61,1,62],[1,87,1,88],[1,89,1,90],[1,91,1,92],[1,93,1,94],[1,95,1,96],[1,97,1,98],[1,75,1,76],[1,77,1,78],[1,79,1,80],[1,81,1,82],[1,83,1,84],[1,85,1,86],[1,111,1,112],[1,113,1,114],[1,115,1,116],[1,117,1,118],[1,119,1,120],[1,121,1,122],[1,99,1,100],[1,101,1,102],[1,103,1,104],[1,105,1,106],[1,107,1,108],[1,109,1,110],[1,141,1,142],[1,143,1,144],[1,145,1,146],[1,123,1,124],[1,125,1,126],[1,127,1,128],[1,129,1,130],[1,131,1,132],[1,133,1,134],[1,173,1,174],[1,175,1,176],[1,177,1,178],[1,179,1,180],[2,1,2,3],[2,5,2,6],[2,7,2,8],[2,9,2,10],[2,11,2,12],[1,159,1,160],[1,161,1,162],[1,165,1,166],[1,167,1,168],[1,169,1,170],[1,171,1,172],[1,147,1,148],[1,149,1,150],[1,151,1,152],[1,153,1,154],[1,155,1,156],[1,157,1,158],[1,135,1,136],[1,137,1,138],[1,139,1,140],[2,25,2,26],[2,27,2,28],[2,29,2,30],[2,31,2,32],[2,33,2,34],[2,35,2,36],[2,13,2,14],[2,15,2,16],[2,17,2,18],[2,19,2,20],[2,21,2,22],[2,23,2,24],[2,49,2,50],[2,51,2,52],[2,53,2,54],[2,55,2,56],[2,57,2,58],[2,59,2,60],[2,37,2,38],[2,39,2,40],[2,41,2,42],[2,43,2,44],[2,45,2,46],[2,47,2,48],[2,73,2,74],[2,75,2,76],[2,77,2,78],[2,79,2,80],[2,81,2,82],[2,83,2,84],[2,61,2,62],[2,63,2,64],[2,65,2,66],[2,67,2,68],[2,69,2,70],[2,71,2,72],[2,97,2,98],[2,99,2,100],[2,101,2,102],[2,103,2,104],[2,105,2,106],[2,107,2,108],[2,85,2,86],[2,87,2,88],[2,89,2,90],[2,91,2,92],[2,93,2,94],[2,95,2,96],[2,121,2,122],[2,123,2,124],[2,125,2,126],[2,127,2,128],[2,129,2,130],[2,131,2,132],[2,109,2,110],[2,111,2,112],[2,113,2,114],[2,115,2,116],[2,117,2,118],[2,119,2,120],[2,145,2,146],[2,147,2,148],[2,149,2,150],[2,151,2,152],[2,153,2,154],[2,155,2,156],[2,133,2,134],[2,135,2,136],[2,137,2,138],[2,139,2,140],[2,141,2,142],[2,143,2,144],[2,171,2,172],[2,173,2,174],[2,175,2,176],[2,177,2,178],[2,179,2,180],[2,157,2,158],[2,159,2,160],[2,161,2,162],[2,165,2,166],[2,167,2,168],[2,169,2,170],[3,177,3,178],[4,1,4,3],[4,5,4,6],[4,7,4,8],[4,9,4,10],[4,11,4,12],[4,25,4,26],[4,27,4,28],[4,29,4,30],[4,31,4,32],[4,33,4,34],[4,35,4,36],[4,13,4,14],[4,15,4,16],[4,17,4,18],[4,19,4,20],[4,21,4,22],[4,23,4,24],[4,49,4,50],[4,51,4,52],[4,53,4,54],[4,37,4,38],[4,39,4,40],[4,41,4,42],[4,43,4,44],[4,45,4,46],[4,47,4,48],[3,1,3,3],[3,5,3,6],[3,175,3,176],[4,61,4,62],[4,63,4,64],[4,65,4,66],[4,67,4,68],[4,69,4,70],[4,71,4,72],[4,55,4,56],[4,57,4,58],[4,59,4,60],[4,85,4,86],[4,87,4,88],[4,89,4,90],[4,91,4,92],[4,93,4,94],[4,95,4,96],[4,73,4,74],[4,75,4,76],[4,77,4,78],[4,177,4,178],[4,179,4,180],[4,157,4,158],[4,159,4,160],[4,161,4,162],[4,165,4,166],[4,167,4,168],[4,169,4,170],[4,145,4,146],[4,147,4,148],[4,149,4,150],[4,151,4,152],[4,153,4,154],[4,155,4,156],[4,171,4,172],[4,173,4,174],[4,175,4,176],[4,97,4,98],[4,99,4,100],[4,101,4,102],[4,103,4,104],[4,105,4,106],[4,107,4,108],[4,121,4,122],[4,123,4,124],[5,53,6,54],[5,55,6,56],[4,79,4,80],[4,81,4,82],[4,83,4,84],[4,115,4,116],[4,117,4,118],[4,125,4,126],[4,127,4,128],[4,129,4,130],[4,131,4,132],[4,109,4,110],[4,111,4,112],[4,113,4,114],[4,133,4,134],[4,135,4,136],[4,119,4,120],[4,137,4,138],[4,139,4,140],[4,141,4,142],[4,143,4,144],[5,15,6,16],[5,17,6,18],[5,19,6,20],[5,21,6,22],[5,23,6,24],[5,25,6,26],[5,45,6,46],[5,47,6,48],[5,49,6,50],[5,83,6,84],[5,85,6,86],[5,63,6,64],[5,65,6,66],[5,67,6,68],[5,69,6,70],[5,71,6,72],[5,73,6,74],[5,51,6,52],[5,57,6,58],[5,59,6,60],[5,179,6,180],[6,1,6,4],[5,159,6,160],[5,161,6,162],[5,165,6,166],[5,167,6,168],[5,169,6,170],[5,171,6,172],[5,147,6,148],[5,149,6,150],[5,151,6,152],[5,153,6,154],[5,155,6,156],[5,157,6,158],[5,135,6,136],[5,137,6,138],[5,139,6,140],[5,141,6,142],[5,143,6,144],[5,1,5,3],[5,5,6,6],[5,7,6,8],[5,9,6,10],[5,11,6,12],[9,4,9,5],[10,4,10,5],[11,4,11,5],[12,4,12,5],[5,125,6,126],[5,127,6,128],[5,129,6,130],[5,101,6,102],[5,103,6,104],[5,105,6,106],[5,107,6,108],[5,109,6,110],[5,87,6,88],[5,89,6,90],[5,91,6,92],[5,93,6,94],[5,95,6,96],[5,97,6,98],[5,75,6,76],[5,123,6,124],[5,119,6,120],[5,121,6,122],[5,99,6,100],[5,111,6,112],[5,173,6,174],[5,175,6,176],[5,177,6,178],[7,4,7,6],[8,4,8,5],[5,145,6,146],[5,131,6,132],[5,133,6,134],[5,113,6,114],[5,115,6,116],[5,117,6,118],[5,61,6,62],[5,13,6,14],[5,39,6,40],[5,41,6,42],[5,43,6,44],[5,27,6,28],[5,29,6,30],[5,31,6,32],[5,33,6,34],[5,35,6,36],[5,37,6,38],[1,163,1,164],[2,163,2,164],[4,163,4,164],[5,163,6,164],[5,77,6,78],[5,79,6,80],[5,81,6,82],[29,4,29,5],[18,4,18,5],[19,4,19,5],[20,4,20,5],[21,4,21,5],[22,4,22,5],[23,4,23,5],[13,4,13,5],[14,4,14,5],[15,4,15,5],[16,4,16,5],[17,4,17,5],[24,4,24,5],[25,4,25,5],[26,4,26,5],[27,4,27,5],[28,4,28,5]]}
[]
[null,"Country :",null,null,{"$f":"IF(Introduction!D13=0,\"\",Introduction!D13)","v":""},"no",null,1,null,2,null,3,null,4,null,5,null,6,null,7,null,8,null,9,null,10,null,11,null,12,null,13,null,14,null,15,null,16,null,17,null,18,null,19,null,20,null,21,null,22,null,23,null,24,null,25,null,26,null,27,null,28,null,29,null,30,null,31,null,32,null,33,null,34,null,35,null,36,null,37,null,38,null,39,null,40,null,41,null,42,null,43,null,44,null,45,null,46,null,47,null,48,null,49,null,50,null,51,null,52,null,53,null,54,null,55,null,56,null,57,null,58,null,59,null,60,null,61,null,62,null,63,null,64,null,65,null,66,null,67,null,68,null,69,null,70,null,71,null,72,null,73,null,74,null,75,null,76,null,77,null,78,null,79,null,80,null,81,null,82,null,83,null,84,null,85,null,86,null,87]
[null,"Year :",null,null,{"$f":"IF(Introduction!D17=0,\"\",Introduction!D17)","v":""},"Level",null,{"$f":"'PEFA Columns'!D2","v":1},null,{"$f":"'PEFA Columns'!F2","v":2},null,{"$f":"'PEFA Columns'!H2","v":3},null,{"$f":"'PEFA Columns'!J2","v":3},null,{"$f":"'PEFA Columns'!L2","v":3},null,{"$f":"'PEFA Columns'!N2","v":2},null,{"$f":"'PEFA Columns'!P2","v":2},null,{"$f":"'PEFA Columns'!R2","v":3},null,{"$f":"'PEFA Columns'!T2","v":3},null,{"$f":"'PEFA Columns'!V2","v":3},null,{"$f":"'PEFA Columns'!X2","v":3},null,{"$f":"'PEFA Columns'!Z2","v":3},null,{"$f":"'PEFA Columns'!AB2","v":3},null,{"$f":"'PEFA Columns'!AD2","v":3},null,{"$f":"'PEFA Columns'!AF2","v":3},null,{"$f":"'PEFA Columns'!AH2","v":3},null,{"$f":"'PEFA Columns'!AJ2","v":3},null,{"$f":"'PEFA Columns'!AL2","v":3},null,{"$f":"'PEFA Columns'!AN2","v":3},null,{"$f":"'PEFA Columns'!AP2","v":3},null,{"$f":"'PEFA Columns'!AR2","v":3},null,{"$f":"'PEFA Columns'!AT2","v":3},null,{"$f":"'PEFA Columns'!AV2","v":3},null,{"$f":"'PEFA Columns'!AX2","v":3},null,{"$f":"'PEFA Columns'!AZ2","v":3},null,{"$f":"'PEFA Columns'!BB2","v":3},null,{"$f":"'PEFA Columns'!BD2","v":2},null,{"$f":"'PEFA Columns'!BF2","v":2},null,{"$f":"'PEFA Columns'!BH2","v":3},null,{"$f":"'PEFA Columns'!BJ2","v":3},null,{"$f":"'PEFA Columns'!BL2","v":2},null,{"$f":"'PEFA Columns'!BN2","v":2},null,{"$f":"'PEFA Columns'!BP2","v":3},null,{"$f":"'PEFA Columns'!BR2","v":3},null,{"$f":"'PEFA Columns'!BT2","v":3},null,{"$f":"'PEFA Columns'!BV2","v":2},null,{"$f":"'PEFA Columns'!BX2","v":3},null,{"$f":"'PEFA Columns'!BZ2","v":3},null,{"$f":"'PEFA Columns'!CB2","v":3},null,{"$f":"'PEFA Columns'!CD2","v":3},null,{"$f":"'PEFA Columns'!CF2","v":3},null,{"$f":"'PEFA Columns'!CH2","v":2},null,{"$f":"'PEFA Columns'!CJ2","v":2},null,{"$f":"'PEFA Columns'!CL2","v":3},null,{"$f":"'PEFA Columns'!CN2","v":3},null,{"$f":"'PEFA Columns'!CP2","v":3},null,{"$f":"'PEFA Columns'!CR2","v":3},null,{"$f":"'PEFA Columns'!CT2","v":2},null,{"$f":"'PEFA Columns'!CV2","v":3},null,{"$f":"'PEFA Columns'!CX2","v":3},null,{"$f":"'PEFA Columns'!CZ2","v":3},null,{"$f":"'PEFA Columns'!DB2","v":2},null,{"$f":"'PEFA Columns'!DD2","v":3},null,{"$f":"'PEFA Columns'!DF2","v":2},null,{"$f":"'PEFA Columns'!DH2","v":3},null,{"$f":"'PEFA Columns'!DJ2","v":3},null,{"$f":"'PEFA Columns'!DL2","v":3},null,{"$f":"'PEFA Columns'!DN2","v":3},null,{"$f":"'PEFA Columns'!DP2","v":3},null,{"$f":"'PEFA Columns'!DR2","v":2},null,{"$f":"'PEFA Columns'!DT2","v":3},null,{"$f":"'PEFA Columns'!DV2","v":3},null,{"$f":"'PEFA Columns'!DX2","v":3},null,{"$f":"'PEFA Columns'!DZ2","v":3},null,{"$f":"'PEFA Columns'!EB2","v":2},null,{"$f":"'PEFA Columns'!ED2","v":2},null,{"$f":"'PEFA Columns'!EF2","v":2},null,{"$f":"'PEFA Columns'!EH2","v":3},null,{"$f":"'PEFA Columns'!EJ2","v":3},null,{"$f":"'PEFA Columns'!EL2","v":2},null,{"$f":"'PEFA Columns'!EN2","v":3},null,{"$f":"'PEFA Columns'!EP2","v":3},null,{"$f":"'PEFA Columns'!ER2","v":2},null,{"$f":"'PEFA Columns'!ET2","v":3},null,{"$f":"'PEFA Columns'!EV2","v":3},null,{"$f":"'PEFA Columns'!EX2","v":3},null,{"$f":"'PEFA Columns'!EZ2","v":2},null,{"$f":"'PEFA Columns'!FB2","v":2},null,2,null,{"$f":"'PEFA Columns'!FF2","v":1},null,{"$f":"'PEFA Columns'!FH2","v":2},null,{"$f":"'PEFA Columns'!FJ2","v":2},null,{"$f":"'PEFA Columns'!FL2","v":2},null,{"$f":"'PEFA Columns'!FN2","v":1},null,{"$f":"'PEFA Columns'!FP2","v":1},null,{"$f":"'PEFA Columns'!FR2","v":1},null,{"$f":"'PEFA Columns'!FT2","v":0}]
[null,"Table:",null,null,"Table D - Vectors of key energy indicators",null,null," ",null,null,null,null,null,null,null,null,null,null,null,null,null,"INDUSTRIES (ISIC rev 4)",null,null,null,null,null,null,null,null,null,null,null,null,null,null,null,"INDUSTRIES (ISIC rev 4)",null,null,null,null,null,null,null,null,null,null,null,null,null,null,null,null,null,null,null,null,null,null,null,"INDUSTRIES (ISIC rev 4)",null,null,null,null,null,null,null,null,null,null,null,null,null,null,null,"INDUSTRIES (ISIC rev 4)",null,null,null,null,null,null,null,null,null,null,null,null,null,null,null,null,null,"INDUSTRIES (ISIC rev 4)",null,null,null,null,null,null,null,null,null,null,null,null,null,"INDUSTRIES (ISIC rev 4)",null,null,null,null,null,null,null,null,null,null,null,null,null,null,null,null,null,null,null,null,null,null,null,null,null,null,null,null,null,null,null,"INDUSTRIES (ISIC rev 4)",null,null,null,null,null,null,null,null,null,null,null,null,null,null,null,null,null,null,null,null,null,null,null,"HOUSEHOLDS",null,null,null,null,null,null,null,"ACCUMULATION",null,"REST OF THE WORLD",null,"ENVIRONMENT",null,"TOTAL"]
[null,"Content:",null,null,"Energy Flows","Code",null,{"$f":"'PEFA Columns'!D7","v":"ATU"},null,{"$f":"'PEFA Columns'!F7","v":"A"},null,{"$f":"'PEFA Columns'!H7","v":"A01"},null,{"$f":"'PEFA Columns'!J7","v":"A02"},null,{"$f":"'PEFA Columns'!L7","v":"A03"},null,{"$f":"'PEFA Columns'!N7","v":"B"},null,{"$f":"'PEFA Columns'!P7","v":"C"},null,{"$f":"'PEFA Columns'!R7","v":"C10T12"},null,{"$f":"'PEFA Columns'!T7","v":"C13T15"},null,{"$f":"'PEFA Columns'!V7","v":"C16"},null,{"$f":"'PEFA Columns'!X7","v":"C17"},null,{"$f":"'PEFA Columns'!Z7","v":"C18"},null,{"$f":"'PEFA Columns'!AB7","v":"C19"},null,{"$f":"'PEFA Columns'!AD7","v":"C20"},null,{"$f":"'PEFA Columns'!AF7","v":"C21"},null,{"$f":"'PEFA Columns'!AH7","v":"C22"},null,{"$f":"'PEFA Columns'!AJ7","v":"C23"},null,{"$f":"'PEFA Columns'!AL7","v":"C24"},null,{"$f":"'PEFA Columns'!AN7","v":"C25"},null,{"$f":"'PEFA Columns'!AP7","v":"C26"},null,{"$f":"'PEFA Columns'!AR7","v":"C27"},null,{"$f":"'PEFA Columns'!AT7","v":"C28"},null,{"$f":"'PEFA Columns'!AV7","v":"C29"},null,{"$f":"'PEFA Columns'!AX7","v":"C30"},null,{"$f":"'PEFA Columns'!AZ7","v":"C31_32"},null,{"$f":"'PEFA Columns'!BB7","v":"C33"},null,{"$f":"'PEFA Columns'!BD7","v":"D"},null,{"$f":"'PEFA Columns'!BF7","v":"E"},null,{"$f":"'PEFA Columns'!BH7","v":"E36"},null,{"$f":"'PEFA Columns'!BJ7","v":"E37T39"},null,{"$f":"'PEFA Columns'!BL7","v":"F"},null,{"$f":"'PEFA Columns'!BN7","v":"G"},null,{"$f":"'PEFA Columns'!BP7","v":"G45"},null,{"$f":"'PEFA Columns'!BR7","v":"G46"},null,{"$f":"'PEFA Columns'!BT7","v":"G47"},null,{"$f":"'PEFA Columns'!BV7","v":"H"},null,{"$f":"'PEFA Columns'!BX7","v":"H49"},null,{"$f":"'PEFA Columns'!BZ7","v":"H50"},null,{"$f":"'PEFA Columns'!CB7","v":"H51"},null,{"$f":"'PEFA Columns'!CD7","v":"H52"},null,{"$f":"'PEFA Columns'!CF7","v":"H53"},null,{"$f":"'PEFA Columns'!CH7","v":"I"},null,{"$f":"'PEFA Columns'!CJ7","v":"J"},null,{"$f":"'PEFA Columns'!CL7","v":"J58"},null,{"$f":"'PEFA Columns'!CN7","v":"J59_60"},null,{"$f":"'PEFA Columns'!CP7","v":"J61"},null,{"$f":"'PEFA Columns'!CR7","v":"J62_63"},null,{"$f":"'PEFA Columns'!CT7","v":"K"},null,{"$f":"'PEFA Columns'!CV7","v":"K64"},null,{"$f":"'PEFA Columns'!CX7","v":"K65"},null,{"$f":"'PEFA Columns'!CZ7","v":"K66"},null,{"$f":"'PEFA Columns'!DB7","v":"L"},null,{"$f":"'PEFA Columns'!DD7","v":"L68A"},null,{"$f":"'PEFA Columns'!DF7","v":"M"},null,{"$f":"'PEFA Columns'!DH7","v":"M69_70"},null,{"$f":"'PEFA Columns'!DJ7","v":"M71"},null,{"$f":"'PEFA Columns'!DL7","v":"M72"},null,{"$f":"'PEFA Columns'!DN7","v":"M73"},null,{"$f":"'PEFA Columns'!DP7","v":"M74_75"},null,{"$f":"'PEFA Columns'!DR7","v":"N"},null,{"$f":"'PEFA Columns'!DT7","v":"N77"},null,{"$f":"'PEFA Columns'!DV7","v":"N78"},null,{"$f":"'PEFA Columns'!DX7","v":"N79"},null,{"$f":"'PEFA Columns'!DZ7","v":"N80T82"},null,{"$f":"'PEFA Columns'!EB7","v":"O"},null,{"$f":"'PEFA Columns'!ED7","v":"P"},null,{"$f":"'PEFA Columns'!EF7","v":"Q"},null,{"$f":"'PEFA Columns'!EH7","v":"Q86"},null,{"$f":"'PEFA Columns'!EJ7","v":"Q87_88"},null,{"$f":"'PEFA Columns'!EL7","v":"R"},null,{"$f":"'PEFA Columns'!EN7","v":"R90T92"},null,{"$f":"'PEFA Columns'!EP7","v":"R93"},null,{"$f":"'PEFA Columns'!ER7","v":"S"},null,{"$f":"'PEFA Columns'!ET7","v":"S94"},null,{"$f":"'PEFA Columns'!EV7","v":"S95"},null,{"$f":"'PEFA Columns'!EX7","v":"S96"},null,{"$f":"'PEFA Columns'!EZ7","v":"T"},null,{"$f":"'PEFA Columns'!FB7","v":"U"},null,"_X",null,{"$f":"'PEFA Columns'!FF7","v":"HH"},null,{"$f":"'PEFA Columns'!FH7","v":"HH_HEAT"},null,{"$f":"'PEFA Columns'!FJ7","v":"HH_TR"},null,{"$f":"'PEFA Columns'!FL7","v":"HH_OTH"},null,{"$f":"'PEFA Columns'!FN7","v":"ATU_HH"},null,{"$f":"'PEFA Columns'!FP7","v":"ATU_HH"},null,{"$f":"'PEFA Columns'!FR7","v":"ATU_HH"},null,{"$f":"'PEFA Columns'!FT7","v":"ATU_HH"}]
[null,"Unit :",null,null,"TJ","Label",null,{"$f":"'PEFA Columns'!D8","v":"Total ISIC/NACE industries"},null,{"$f":"'PEFA Columns'!F8","v":"Agriculture, forestry and fishing"},null,{"$f":"'PEFA Columns'!H8","v":"Crop and animal production, hunting and related service activities"},null,{"$f":"'PEFA Columns'!J8","v":"Forestry and logging"},null,{"$f":"'PEFA Columns'!L8","v":"Fishing and aquaculture"},null,{"$f":"'PEFA Columns'!N8","v":"Mining and quarrying"},null,{"$f":"'PEFA Columns'!P8","v":"Manufacturing"},null,{"$f":"'PEFA Columns'!R8","v":"Manufacture of food products, beverages and tobacco\nproducts"},null,{"$f":"'PEFA Columns'!T8","v":"Manufacture of textiles, wearing apparel and leather products"},null,{"$f":"'PEFA Columns'!V8","v":"Manufacture of wood and of products of wood and cork, except furniture; manufacture of articles of straw and plaiting materials"},null,{"$f":"'PEFA Columns'!X8","v":"Manufacture of paper and paper products"},null,{"$f":"'PEFA Columns'!Z8","v":"Printing and reproduction of recorded media"},null,{"$f":"'PEFA Columns'!AB8","v":"Manufacture of coke and refined petroleum products"},null,{"$f":"'PEFA Columns'!AD8","v":"Manufacture of chemicals and chemical products"},null,{"$f":"'PEFA Columns'!AF8","v":"Manufacture of basic pharmaceutical products and pharmaceutical preparations"},null,{"$f":"'PEFA Columns'!AH8","v":"Manufacture of rubber and plastic products"},null,{"$f":"'PEFA Columns'!AJ8","v":"Manufacture of other non-metallic mineral products"},null,{"$f":"'PEFA Columns'!AL8","v":"Manufacture of basic metals"},null,{"$f":"'PEFA Columns'!AN8","v":"Manufacture of fabricated metal products, except machinery and equipment"},null,{"$f":"'PEFA Columns'!AP8","v":"Manufacture of computer, electronic and optical products"},null,{"$f":"'PEFA Columns'!AR8","v":"Manufacture of electrical equipment"},null,{"$f":"'PEFA Columns'!AT8","v":"Manufacture of machinery and equipment n.e.c."},null,{"$f":"'PEFA Columns'!AV8","v":"Manufacture of motor vehicles, trailers and semi-trailers"},null,{"$f":"'PEFA Columns'!AX8","v":"Manufacture of other transport equipment"},null,{"$f":"'PEFA Columns'!AZ8","v":"Manufacture of furniture; other manufacturing"},null,{"$f":"'PEFA Columns'!BB8","v":"Repair and installation of machinery and equipment"},null,{"$f":"'PEFA Columns'!BD8","v":"Electricity, gas, steam and air conditioning supply"},null,{"$f":"'PEFA Columns'!BF8","v":"Water supply; sewerage, waste management and remediation activities"},null,{"$f":"'PEFA Columns'!BH8","v":"Water collection, treatment and supply"},null,{"$f":"'PEFA Columns'!BJ8","v":"Sewerage, waste management, remediation activities"},null,{"$f":"'PEFA Columns'!BL8","v":"Construction"},null,{"$f":"'PEFA Columns'!BN8","v":"Wholesale and retail trade; repair of motor vehicles and motorcycles"},null,{"$f":"'PEFA Columns'!BP8","v":"Wholesale and retail trade and repair of motor vehicles and motorcycles"},null,{"$f":"'PEFA Columns'!BR8","v":"Wholesale trade, except of motor vehicles and motorcycles"},null,{"$f":"'PEFA Columns'!BT8","v":"Retail trade, except of motor vehicles and motorcycles"},null,{"$f":"'PEFA Columns'!BV8","v":"Transportation and storage"},null,{"$f":"'PEFA Columns'!BX8","v":"Land transport and transport via pipelines"},null,{"$f":"'PEFA Columns'!BZ8","v":"Water transport"},null,{"$f":"'PEFA Columns'!CB8","v":"Air transport"},null,{"$f":"'PEFA Columns'!CD8","v":"Warehousing and support activities for transportation"},null,{"$f":"'PEFA Columns'!CF8","v":"Postal and courier activities"},null,{"$f":"'PEFA Columns'!CH8","v":"Accommodation and food service activities"},null,{"$f":"'PEFA Columns'!CJ8","v":"Information and communication"},null,{"$f":"'PEFA Columns'!CL8","v":"Publishing activities"},null,{"$f":"'PEFA Columns'!CN8","v":"Motion picture, video, television programme production; programming and broadcasting activities"},null,{"$f":"'PEFA Columns'!CP8","v":"Telecommunications"},null,{"$f":"'PEFA Columns'!CR8","v":"Computer programming, consultancy, and information service activities"},null,{"$f":"'PEFA Columns'!CT8","v":"Financial and insurance activities"},null,{"$f":"'PEFA Columns'!CV8","v":"Financial service activities, except insurance and pension funding"},null,{"$f":"'PEFA Columns'!CX8","v":"Insurance, reinsurance and pension funding, except compulsory social security"},null,{"$f":"'PEFA Columns'!CZ8","v":"Activities auxiliary to financial services and insurance activities"},null,{"$f":"'PEFA Columns'!DB8","v":"Real estate activities"},null,{"$f":"'PEFA Columns'!DD8","v":"Of which: Imputed rents of owner-occupied dwellings"},null,{"$f":"'PEFA Columns'!DF8","v":"Professional, scientific and technical activities"},null,{"$f":"'PEFA Columns'!DH8","v":"Legal and accounting activities; activities of head offices; management consultancy activities"},null,{"$f":"'PEFA Columns'!DJ8","v":"Architectural and engineering activities; technical testing and analysis"},null,{"$f":"'PEFA Columns'!DL8","v":"Scientific research and development"},null,{"$f":"'PEFA Columns'!DN8","v":"Advertising and market research"},null,{"$f":"'PEFA Columns'!DP8","v":"Other professional, scientific and technical activities; veterinary activities"},null,{"$f":"'PEFA Columns'!DR8","v":"Administrative and support service activities"},null,{"$f":"'PEFA Columns'!DT8","v":"Rental and leasing activities"},null,{"$f":"'PEFA Columns'!DV8","v":"Employment activities"},null,{"$f":"'PEFA Columns'!DX8","v":"Travel agency, tour operator reservation service and related activities"},null,{"$f":"'PEFA Columns'!DZ8","v":"Security and investigation, service and landscape, office administrative and support activities"},null,{"$f":"'PEFA Columns'!EB8","v":"Public administration and defence; compulsory social security"},null,{"$f":"'PEFA Columns'!ED8","v":"Education"},null,{"$f":"'PEFA Columns'!EF8","v":"Human health and social work activities"},null,{"$f":"'PEFA Columns'!EH8","v":"Human health activities"},null,{"$f":"'PEFA Columns'!EJ8","v":"Residential care activities and social work activities without accommodation"},null,{"$f":"'PEFA Columns'!EL8","v":"Arts, entertainment and recreation"},null,{"$f":"'PEFA Columns'!EN8","v":"Creative, arts and entertainment activities; libraries, archives, museums and other cultural activities; gambling and betting activities"},null,{"$f":"'PEFA Columns'!EP8","v":"Sports activities and amusement and recreation activities"},null,{"$f":"'PEFA Columns'!ER8","v":"Other service activities"},null,{"$f":"'PEFA Columns'!ET8","v":"Activities of membership organisations"},null,{"$f":"'PEFA Columns'!EV8","v":"Repair of computers and personal and household goods"},null,{"$f":"'PEFA Columns'!EX8","v":"Other personal service activities"},null,{"$f":"'PEFA Columns'!EZ8","v":"Activities of households as employers; undifferentiated goods- and services-producing activities of households for own use"},null,{"$f":"'PEFA Columns'!FB8","v":"Activities of extraterritorial organisations and bodies"},null,"All other industries",null,{"$f":"'PEFA Columns'!FF8","v":"Total activities by households"},null,{"$f":"'PEFA Columns'!FH8","v":"Heating/cooling activities by households"},null,{"$f":"'PEFA Columns'!FJ8","v":"Transport activities by households"},null,{"$f":"'PEFA Columns'!FL8","v":"Other activities by households"},null,{"$f":"'PEFA Columns'!FN8","v":"Changes in inventories and produced assets"},null,{"$f":"'PEFA Columns'!FP8","v":"Rest of the World - economic activities"},null,{"$f":"'PEFA Columns'!FR8","v":"Environment"},null,{"$f":"'PEFA Columns'!FT8","v":"TOTAL USE OF NATURAL INPUTS, PRODUCTS, AND RESIDUALS"}]
[]
[null,"no",null,"Code","Label"]
[null,1,null,"PEFA_IND01","Extraction of natural energy inputs by economic activities",null,null,{"$f":"Table_B!H9","v":0},null,{"$f":"Table_B!J9","v":0},null,{"$f":"Table_B!L9","v":0},null,{"$f":"Table_B!N9","v":0},null,{"$f":"Table_B!P9","v":0},null,{"$f":"Table_B!R9","v":0},null,{"$f":"Table_B!T9","v":0},null,{"$f":"Table_B!V9","v":0},null,{"$f":"Table_B!X9","v":0},null,{"$f":"Table_B!Z9","v":0},null,{"$f":"Table_B!AB9","v":0},null,{"$f":"Table_B!AD9","v":0},null,{"$f":"Table_B!AF9","v":0},null,{"$f":"Table_B!AH9","v":0},null,{"$f":"Table_B!AJ9","v":0},null,{"$f":"Table_B!AL9","v":0},null,{"$f":"Table_B!AN9","v":0},null,{"$f":"Table_B!AP9","v":0},null,{"$f":"Table_B!AR9","v":0},null,{"$f":"Table_B!AT9","v":0},null,{"$f":"Table_B!AV9","v":0},null,{"$f":"Table_B!AX9","v":0},null,{"$f":"Table_B!AZ9","v":0},null,{"$f":"Table_B!BB9","v":0},null,{"$f":"Table_B!BD9","v":0},null,{"$f":"Table_B!BF9","v":0},null,{"$f":"Table_B!BH9","v":0},null,{"$f":"Table_B!BJ9","v":0},null,{"$f":"Table_B!BL9","v":0},null,{"$f":"Table_B!BN9","v":0},null,{"$f":"Table_B!BP9","v":0},null,{"$f":"Table_B!BR9","v":0},null,{"$f":"Table_B!BT9","v":0},null,{"$f":"Table_B!BV9","v":0},null,{"$f":"Table_B!BX9","v":0},null,{"$f":"Table_B!BZ9","v":0},null,{"$f":"Table_B!CB9","v":0},null,{"$f":"Table_B!CD9","v":0},null,{"$f":"Table_B!CF9","v":0},null,{"$f":"Table_B!CH9","v":0},null,{"$f":"Table_B!CJ9","v":0},null,{"$f":"Table_B!CL9","v":0},null,{"$f":"Table_B!CN9","v":0},null,{"$f":"Table_B!CP9","v":0},null,{"$f":"Table_B!CR9","v":0},null,{"$f":"Table_B!CT9","v":0},null,{"$f":"Table_B!CV9","v":0},null,{"$f":"Table_B!CX9","v":0},null,{"$f":"Table_B!CZ9","v":0},null,{"$f":"Table_B!DB9","v":0},null,{"$f":"Table_B!DD9","v":0},null,{"$f":"Table_B!DF9","v":0},null,{"$f":"Table_B!DH9","v":0},null,{"$f":"Table_B!DJ9","v":0},null,{"$f":"Table_B!DL9","v":0},null,{"$f":"Table_B!DN9","v":0},null,{"$f":"Table_B!DP9","v":0},null,{"$f":"Table_B!DR9","v":0},null,{"$f":"Table_B!DT9","v":0},null,{"$f":"Table_B!DV9","v":0},null,{"$f":"Table_B!DX9","v":0},null,{"$f":"Table_B!DZ9","v":0},null,{"$f":"Table_B!EB9","v":0},null,{"$f":"Table_B!ED9","v":0},null,{"$f":"Table_B!EF9","v":0},null,{"$f":"Table_B!EH9","v":0},null,{"$f":"Table_B!EJ9","v":0},null,{"$f":"Table_B!EL9","v":0},null,{"$f":"Table_B!EN9","v":0},null,{"$f":"Table_B!EP9","v":0},null,{"$f":"Table_B!ER9","v":0},null,{"$f":"Table_B!ET9","v":0},null,{"$f":"Table_B!EV9","v":0},null,{"$f":"Table_B!EX9","v":0},null,{"$f":"Table_B!EZ9","v":0},null,{"$f":"Table_B!FB9","v":0},null,{"$f":"Table_B!FD9","v":0},null,{"$f":"Table_B!FF9","v":0},null,{"$f":"Table_B!FH9","v":0},null,null,null,null,null,null,null,null,null,null,null,null,null,null,null,{"$f":"SUM(FR9,FJ9,H9,FT9,FV9)","v":0}]
[null,2,null,"PEFA_IND02","Domestic production of energy products",null,null,{"$f":"Table_A!H17","v":0},null,{"$f":"Table_A!J17","v":0},null,{"$f":"Table_A!L17","v":0},null,{"$f":"Table_A!N17","v":0},null,{"$f":"Table_A!P17","v":0},null,{"$f":"Table_A!R17","v":0},null,{"$f":"Table_A!T17","v":0},null,{"$f":"Table_A!V17","v":0},null,{"$f":"Table_A!X17","v":0},null,{"$f":"Table_A!Z17","v":0},null,{"$f":"Table_A!AB17","v":0},null,{"$f":"Table_A!AD17","v":0},null,{"$f":"Table_A!AF17","v":0},null,{"$f":"Table_A!AH17","v":0},null,{"$f":"Table_A!AJ17","v":0},null,{"$f":"Table_A!AL17","v":0},null,{"$f":"Table_A!AN17","v":0},null,{"$f":"Table_A!AP17","v":0},null,{"$f":"Table_A!AR17","v":0},null,{"$f":"Table_A!AT17","v":0},null,{"$f":"Table_A!AV17","v":0},null,{"$f":"Table_A!AX17","v":0},null,{"$f":"Table_A!AZ17","v":0},null,{"$f":"Table_A!BB17","v":0},null,{"$f":"Table_A!BD17","v":0},null,{"$f":"Table_A!BF17","v":0},null,{"$f":"Table_A!BH17","v":0},null,{"$f":"Table_A!BJ17","v":0},null,{"$f":"Table_A!BL17","v":0},null,{"$f":"Table_A!BN17","v":0},null,{"$f":"Table_A!BP17","v":0},null,{"$f":"Table_A!BR17","v":0},null,{"$f":"Table_A!BT17","v":0},null,{"$f":"Table_A!BV17","v":0},null,{"$f":"Table_A!BX17","v":0},null,{"$f":"Table_A!BZ17","v":0},null,{"$f":"Table_A!CB17","v":0},null,{"$f":"Table_A!CD17","v":0},null,{"$f":"Table_A!CF17","v":0},null,{"$f":"Table_A!CH17","v":0},null,{"$f":"Table_A!CJ17","v":0},null,{"$f":"Table_A!CL17","v":0},null,{"$f":"Table_A!CN17","v":0},null,{"$f":"Table_A!CP17","v":0},null,{"$f":"Table_A!CR17","v":0},null,{"$f":"Table_A!CT17","v":0},null,{"$f":"Table_A!CV17","v":0},null,{"$f":"Table_A!CX17","v":0},null,{"$f":"Table_A!CZ17","v":0},null,{"$f":"Table_A!DB17","v":0},null,{"$f":"Table_A!DD17","v":0},null,{"$f":"Table_A!DF17","v":0},null,{"$f":"Table_A!DH17","v":0},null,{"$f":"Table_A!DJ17","v":0},null,{"$f":"Table_A!DL17","v":0},null,{"$f":"Table_A!DN17","v":0},null,{"$f":"Table_A!DP17","v":0},null,{"$f":"Table_A!DR17","v":0},null,{"$f":"Table_A!DT17","v":0},null,{"$f":"Table_A!DV17","v":0},null,{"$f":"Table_A!DX17","v":0},null,{"$f":"Table_A!DZ17","v":0},null,{"$f":"Table_A!EB17","v":0},null,{"$f":"Table_A!ED17","v":0},null,{"$f":"Table_A!EF17","v":0},null,{"$f":"Table_A!EH17","v":0},null,{"$f":"Table_A!EJ17","v":0},null,{"$f":"Table_A!EL17","v":0},null,{"$f":"Table_A!EN17","v":0},null,{"$f":"Table_A!EP17","v":0},null,{"$f":"Table_A!ER17","v":0},null,{"$f":"Table_A!ET17","v":0},null,{"$f":"Table_A!EV17","v":0},null,{"$f":"Table_A!EX17","v":0},null,{"$f":"Table_A!EZ17","v":0},null,{"$f":"Table_A!FB17","v":0},null,{"$f":"Table_A!FD17","v":0},null,{"$f":"Table_A!FF17","v":0},null,{"$f":"Table_A!FH17","v":0},null,null,null,null,null,null,null,null,null,null,null,null,null,null,null,0]
[null,3,null,"PEFA_IND03","Intermediate consumption of energy products",null,null,{"$f":"Table_B!H17","v":0},null,{"$f":"Table_B!J17","v":0},null,{"$f":"Table_B!L17","v":0},null,{"$f":"Table_B!N17","v":0},null,{"$f":"Table_B!P17","v":0},null,{"$f":"Table_B!R17","v":0},null,{"$f":"Table_B!T17","v":0},null,{"$f":"Table_B!V17","v":0},null,{"$f":"Table_B!X17","v":0},null,{"$f":"Table_B!Z17","v":0},null,{"$f":"Table_B!AB17","v":0},null,{"$f":"Table_B!AD17","v":0},null,{"$f":"Table_B!AF17","v":0},null,{"$f":"Table_B!AH17","v":0},null,{"$f":"Table_B!AJ17","v":0},null,{"$f":"Table_B!AL17","v":0},null,{"$f":"Table_B!AN17","v":0},null,{"$f":"Table_B!AP17","v":0},null,{"$f":"Table_B!AR17","v":0},null,{"$f":"Table_B!AT17","v":0},null,{"$f":"Table_B!AV17","v":0},null,{"$f":"Table_B!AX17","v":0},null,{"$f":"Table_B!AZ17","v":0},null,{"$f":"Table_B!BB17","v":0},null,{"$f":"Table_B!BD17","v":0},null,{"$f":"Table_B!BF17","v":0},null,{"$f":"Table_B!BH17","v":0},null,{"$f":"Table_B!BJ17","v":0},null,{"$f":"Table_B!BL17","v":0},null,{"$f":"Table_B!BN17","v":0},null,{"$f":"Table_B!BP17","v":0},null,{"$f":"Table_B!BR17","v":0},null,{"$f":"Table_B!BT17","v":0},null,{"$f":"Table_B!BV17","v":0},null,{"$f":"Table_B!BX17","v":0},null,{"$f":"Table_B!BZ17","v":0},null,{"$f":"Table_B!CB17","v":0},null,{"$f":"Table_B!CD17","v":0},null,{"$f":"Table_B!CF17","v":0},null,{"$f":"Table_B!CH17","v":0},null,{"$f":"Table_B!CJ17","v":0},null,{"$f":"Table_B!CL17","v":0},null,{"$f":"Table_B!CN17","v":0},null,{"$f":"Table_B!CP17","v":0},null,{"$f":"Table_B!CR17","v":0},null,{"$f":"Table_B!CT17","v":0},null,{"$f":"Table_B!CV17","v":0},null,{"$f":"Table_B!CX17","v":0},null,{"$f":"Table_B!CZ17","v":0},null,{"$f":"Table_B!DB17","v":0},null,{"$f":"Table_B!DD17","v":0},null,{"$f":"Table_B!DF17","v":0},null,{"$f":"Table_B!DH17","v":0},null,{"$f":"Table_B!DJ17","v":0},null,{"$f":"Table_B!DL17","v":0},null,{"$f":"Table_B!DN17","v":0},null,{"$f":"Table_B!DP17","v":0},null,{"$f":"Table_B!DR17","v":0},null,{"$f":"Table_B!DT17","v":0},null,{"$f":"Table_B!DV17","v":0},null,{"$f":"Table_B!DX17","v":0},null,{"$f":"Table_B!DZ17","v":0},null,{"$f":"Table_B!EB17","v":0},null,{"$f":"Table_B!ED17","v":0},null,{"$f":"Table_B!EF17","v":0},null,{"$f":"Table_B!EH17","v":0},null,{"$f":"Table_B!EJ17","v":0},null,{"$f":"Table_B!EL17","v":0},null,{"$f":"Table_B!EN17","v":0},null,{"$f":"Table_B!EP17","v":0},null,{"$f":"Table_B!ER17","v":0},null,{"$f":"Table_B!ET17","v":0},null,{"$f":"Table_B!EV17","v":0},null,{"$f":"Table_B!EX17","v":0},null,{"$f":"Table_B!EZ17","v":0},null,{"$f":"Table_B!FB17","v":0},null,{"$f":"Table_B!FD17","v":0},null,{"$f":"Table_B!FF17","v":0},null,{"$f":"Table_B!FH17","v":0},null,null,null,null,null,null,null,null,null,null,null,null,null,null,null,0]
[null,4,null,"PEFA_IND04","Household consumption of energy products",null,null,null,null,null,null,null,null,null,null,null,null,null,null,null,null,null,null,null,null,null,null,null,null,null,null,null,null,null,null,null,null,null,null,null,null,null,null,null,null,null,null,null,null,null,null,null,null,null,null,null,null,null,null,null,null,null,null,null,null,null,null,null,null,null,null,null,null,null,null,null,null,null,null,null,null,null,null,null,null,null,null,null,null,null,null,null,null,null,null,null,null,null,null,null,null,null,null,null,null,null,null,null,null,null,null,null,null,null,null,null,null,null,null,null,null,null,null,null,null,null,null,null,null,null,null,null,null,null,null,null,null,null,null,null,null,null,null,null,null,null,null,null,null,null,null,null,null,null,null,null,null,null,null,null,null,null,null,null,null,{"$f":"Table_B!FJ17","v":0},null,{"$f":"Table_B!FL17","v":0},null,{"$f":"Table_B!FN17","v":0},null,{"$f":"Table_B!FP17","v":0},null,null,null,null,null,null,null,0]
[null,5,null,"PEFA_IND05","Use of waste for energetic purposes",null,null,{"$f":"IF(OR(Table_B!H39=\":\",Table_B!H40=\":\"),\":\",SUM(Table_B!H39,Table_B!H40))","v":0},null,{"$f":"IF(OR(Table_B!J39=\":\",Table_B!J40=\":\"),\":\",SUM(Table_B!J39,Table_B!J40))","v":0},null,{"$f":"IF(OR(Table_B!L39=\":\",Table_B!L40=\":\"),\":\",SUM(Table_B!L39,Table_B!L40))","v":0},null,{"$f":"IF(OR(Table_B!N39=\":\",Table_B!N40=\":\"),\":\",SUM(Table_B!N39,Table_B!N40))","v":0},null,{"$f":"IF(OR(Table_B!P39=\":\",Table_B!P40=\":\"),\":\",SUM(Table_B!P39,Table_B!P40))","v":0},null,{"$f":"IF(OR(Table_B!R39=\":\",Table_B!R40=\":\"),\":\",SUM(Table_B!R39,Table_B!R40))","v":0},null,{"$f":"IF(OR(Table_B!T39=\":\",Table_B!T40=\":\"),\":\",SUM(Table_B!T39,Table_B!T40))","v":0},null,{"$f":"IF(OR(Table_B!V39=\":\",Table_B!V40=\":\"),\":\",SUM(Table_B!V39,Table_B!V40))","v":0},null,{"$f":"IF(OR(Table_B!X39=\":\",Table_B!X40=\":\"),\":\",SUM(Table_B!X39,Table_B!X40))","v":0},null,{"$f":"IF(OR(Table_B!Z39=\":\",Table_B!Z40=\":\"),\":\",SUM(Table_B!Z39,Table_B!Z40))","v":0},null,{"$f":"IF(OR(Table_B!AB39=\":\",Table_B!AB40=\":\"),\":\",SUM(Table_B!AB39,Table_B!AB40))","v":0},null,{"$f":"IF(OR(Table_B!AD39=\":\",Table_B!AD40=\":\"),\":\",SUM(Table_B!AD39,Table_B!AD40))","v":0},null,{"$f":"IF(OR(Table_B!AF39=\":\",Table_B!AF40=\":\"),\":\",SUM(Table_B!AF39,Table_B!AF40))","v":0},null,{"$f":"IF(OR(Table_B!AH39=\":\",Table_B!AH40=\":\"),\":\",SUM(Table_B!AH39,Table_B!AH40))","v":0},null,{"$f":"IF(OR(Table_B!AJ39=\":\",Table_B!AJ40=\":\"),\":\",SUM(Table_B!AJ39,Table_B!AJ40))","v":0},null,{"$f":"IF(OR(Table_B!AL39=\":\",Table_B!AL40=\":\"),\":\",SUM(Table_B!AL39,Table_B!AL40))","v":0},null,{"$f":"IF(OR(Table_B!AN39=\":\",Table_B!AN40=\":\"),\":\",SUM(Table_B!AN39,Table_B!AN40))","v":0},null,{"$f":"IF(OR(Table_B!AP39=\":\",Table_B!AP40=\":\"),\":\",SUM(Table_B!AP39,Table_B!AP40))","v":0},null,{"$f":"IF(OR(Table_B!AR39=\":\",Table_B!AR40=\":\"),\":\",SUM(Table_B!AR39,Table_B!AR40))","v":0},null,{"$f":"IF(OR(Table_B!AT39=\":\",Table_B!AT40=\":\"),\":\",SUM(Table_B!AT39,Table_B!AT40))","v":0},null,{"$f":"IF(OR(Table_B!AV39=\":\",Table_B!AV40=\":\"),\":\",SUM(Table_B!AV39,Table_B!AV40))","v":0},null,{"$f":"IF(OR(Table_B!AX39=\":\",Table_B!AX40=\":\"),\":\",SUM(Table_B!AX39,Table_B!AX40))","v":0},null,{"$f":"IF(OR(Table_B!AZ39=\":\",Table_B!AZ40=\":\"),\":\",SUM(Table_B!AZ39,Table_B!AZ40))","v":0},null,{"$f":"IF(OR(Table_B!BB39=\":\",Table_B!BB40=\":\"),\":\",SUM(Table_B!BB39,Table_B!BB40))","v":0},null,{"$f":"IF(OR(Table_B!BD39=\":\",Table_B!BD40=\":\"),\":\",SUM(Table_B!BD39,Table_B!BD40))","v":0},null,{"$f":"IF(OR(Table_B!BF39=\":\",Table_B!BF40=\":\"),\":\",SUM(Table_B!BF39,Table_B!BF40))","v":0},null,{"$f":"IF(OR(Table_B!BH39=\":\",Table_B!BH40=\":\"),\":\",SUM(Table_B!BH39,Table_B!BH40))","v":0},null,{"$f":"IF(OR(Table_B!BJ39=\":\",Table_B!BJ40=\":\"),\":\",SUM(Table_B!BJ39,Table_B!BJ40))","v":0},null,{"$f":"IF(OR(Table_B!BL39=\":\",Table_B!BL40=\":\"),\":\",SUM(Table_B!BL39,Table_B!BL40))","v":0},null,{"$f":"IF(OR(Table_B!BN39=\":\",Table_B!BN40=\":\"),\":\",SUM(Table_B!BN39,Table_B!BN40))","v":0},null,{"$f":"IF(OR(Table_B!BP39=\":\",Table_B!BP40=\":\"),\":\",SUM(Table_B!BP39,Table_B!BP40))","v":0},null,{"$f":"IF(OR(Table_B!BR39=\":\",Table_B!BR40=\":\"),\":\",SUM(Table_B!BR39,Table_B!BR40))","v":0},null,{"$f":"IF(OR(Table_B!BT39=\":\",Table_B!BT40=\":\"),\":\",SUM(Table_B!BT39,Table_B!BT40))","v":0},null,{"$f":"IF(OR(Table_B!BV39=\":\",Table_B!BV40=\":\"),\":\",SUM(Table_B!BV39,Table_B!BV40))","v":0},null,{"$f":"IF(OR(Table_B!BX39=\":\",Table_B!BX40=\":\"),\":\",SUM(Table_B!BX39,Table_B!BX40))","v":0},null,{"$f":"IF(OR(Table_B!BZ39=\":\",Table_B!BZ40=\":\"),\":\",SUM(Table_B!BZ39,Table_B!BZ40))","v":0},null,{"$f":"IF(OR(Table_B!CB39=\":\",Table_B!CB40=\":\"),\":\",SUM(Table_B!CB39,Table_B!CB40))","v":0},null,{"$f":"IF(OR(Table_B!CD39=\":\",Table_B!CD40=\":\"),\":\",SUM(Table_B!CD39,Table_B!CD40))","v":0},null,{"$f":"IF(OR(Table_B!CF39=\":\",Table_B!CF40=\":\"),\":\",SUM(Table_B!CF39,Table_B!CF40))","v":0},null,{"$f":"IF(OR(Table_B!CH39=\":\",Table_B!CH40=\":\"),\":\",SUM(Table_B!CH39,Table_B!CH40))","v":0},null,{"$f":"IF(OR(Table_B!CJ39=\":\",Table_B!CJ40=\":\"),\":\",SUM(Table_B!CJ39,Table_B!CJ40))","v":0},null,{"$f":"IF(OR(Table_B!CL39=\":\",Table_B!CL40=\":\"),\":\",SUM(Table_B!CL39,Table_B!CL40))","v":0},null,{"$f":"IF(OR(Table_B!CN39=\":\",Table_B!CN40=\":\"),\":\",SUM(Table_B!CN39,Table_B!CN40))","v":0},null,{"$f":"IF(OR(Table_B!CP39=\":\",Table_B!CP40=\":\"),\":\",SUM(Table_B!CP39,Table_B!CP40))","v":0},null,{"$f":"IF(OR(Table_B!CR39=\":\",Table_B!CR40=\":\"),\":\",SUM(Table_B!CR39,Table_B!CR40))","v":0},null,{"$f":"IF(OR(Table_B!CT39=\":\",Table_B!CT40=\":\"),\":\",SUM(Table_B!CT39,Table_B!CT40))","v":0},null,{"$f":"IF(OR(Table_B!CV39=\":\",Table_B!CV40=\":\"),\":\",SUM(Table_B!CV39,Table_B!CV40))","v":0},null,{"$f":"IF(OR(Table_B!CX39=\":\",Table_B!CX40=\":\"),\":\",SUM(Table_B!CX39,Table_B!CX40))","v":0},null,{"$f":"IF(OR(Table_B!CZ39=\":\",Table_B!CZ40=\":\"),\":\",SUM(Table_B!CZ39,Table_B!CZ40))","v":0},null,{"$f":"IF(OR(Table_B!DB39=\":\",Table_B!DB40=\":\"),\":\",SUM(Table_B!DB39,Table_B!DB40))","v":0},null,{"$f":"IF(OR(Table_B!DD39=\":\",Table_B!DD40=\":\"),\":\",SUM(Table_B!DD39,Table_B!DD40))","v":0},null,{"$f":"IF(OR(Table_B!DF39=\":\",Table_B!DF40=\":\"),\":\",SUM(Table_B!DF39,Table_B!DF40))","v":0},null,{"$f":"IF(OR(Table_B!DH39=\":\",Table_B!DH40=\":\"),\":\",SUM(Table_B!DH39,Table_B!DH40))","v":0},null,{"$f":"IF(OR(Table_B!DJ39=\":\",Table_B!DJ40=\":\"),\":\",SUM(Table_B!DJ39,Table_B!DJ40))","v":0},null,{"$f":"IF(OR(Table_B!DL39=\":\",Table_B!DL40=\":\"),\":\",SUM(Table_B!DL39,Table_B!DL40))","v":0},null,{"$f":"IF(OR(Table_B!DN39=\":\",Table_B!DN40=\":\"),\":\",SUM(Table_B!DN39,Table_B!DN40))","v":0},null,{"$f":"IF(OR(Table_B!DP39=\":\",Table_B!DP40=\":\"),\":\",SUM(Table_B!DP39,Table_B!DP40))","v":0},null,{"$f":"IF(OR(Table_B!DR39=\":\",Table_B!DR40=\":\"),\":\",SUM(Table_B!DR39,Table_B!DR40))","v":0},null,{"$f":"IF(OR(Table_B!DT39=\":\",Table_B!DT40=\":\"),\":\",SUM(Table_B!DT39,Table_B!DT40))","v":0},null,{"$f":"IF(OR(Table_B!DV39=\":\",Table_B!DV40=\":\"),\":\",SUM(Table_B!DV39,Table_B!DV40))","v":0},null,{"$f":"IF(OR(Table_B!DX39=\":\",Table_B!DX40=\":\"),\":\",SUM(Table_B!DX39,Table_B!DX40))","v":0},null,{"$f":"IF(OR(Table_B!DZ39=\":\",Table_B!DZ40=\":\"),\":\",SUM(Table_B!DZ39,Table_B!DZ40))","v":0},null,{"$f":"IF(OR(Table_B!EB39=\":\",Table_B!EB40=\":\"),\":\",SUM(Table_B!EB39,Table_B!EB40))","v":0},null,{"$f":"IF(OR(Table_B!ED39=\":\",Table_B!ED40=\":\"),\":\",SUM(Table_B!ED39,Table_B!ED40))","v":0},null,{"$f":"IF(OR(Table_B!EF39=\":\",Table_B!EF40=\":\"),\":\",SUM(Table_B!EF39,Table_B!EF40))","v":0},null,{"$f":"IF(OR(Table_B!EH39=\":\",Table_B!EH40=\":\"),\":\",SUM(Table_B!EH39,Table_B!EH40))","v":0},null,{"$f":"IF(OR(Table_B!EJ39=\":\",Table_B!EJ40=\":\"),\":\",SUM(Table_B!EJ39,Table_B!EJ40))","v":0},null,{"$f":"IF(OR(Table_B!EL39=\":\",Table_B!EL40=\":\"),\":\",SUM(Table_B!EL39,Table_B!EL40))","v":0},null,{"$f":"IF(OR(Table_B!EN39=\":\",Table_B!EN40=\":\"),\":\",SUM(Table_B!EN39,Table_B!EN40))","v":0},null,{"$f":"IF(OR(Table_B!EP39=\":\",Table_B!EP40=\":\"),\":\",SUM(Table_B!EP39,Table_B!EP40))","v":0},null,{"$f":"IF(OR(Table_B!ER39=\":\",Table_B!ER40=\":\"),\":\",SUM(Table_B!ER39,Table_B!ER40))","v":0},null,{"$f":"IF(OR(Table_B!ET39=\":\",Table_B!ET40=\":\"),\":\",SUM(Table_B!ET39,Table_B!ET40))","v":0},null,{"$f":"IF(OR(Table_B!EV39=\":\",Table_B!EV40=\":\"),\":\",SUM(Table_B!EV39,Table_B!EV40))","v":0},null,{"$f":"IF(OR(Table_B!EX39=\":\",Table_B!EX40=\":\"),\":\",SUM(Table_B!EX39,Table_B!EX40))","v":0},null,{"$f":"IF(OR(Table_B!EZ39=\":\",Table_B!EZ40=\":\"),\":\",SUM(Table_B!EZ39,Table_B!EZ40))","v":0},null,{"$f":"IF(OR(Table_B!FB39=\":\",Table_B!FB40=\":\"),\":\",SUM(Table_B!FB39,Table_B!FB40))","v":0},null,{"$f":"IF(OR(Table_B!FD39=\":\",Table_B!FD40=\":\"),\":\",SUM(Table_B!FD39,Table_B!FD40))","v":0},null,{"$f":"IF(OR(Table_B!FF39=\":\",Table_B!FF40=\":\"),\":\",SUM(Table_B!FF39,Table_B!FF40))","v":0},null,{"$f":"IF(OR(Table_B!FH39=\":\",Table_B!FH40=\":\"),\":\",SUM(Table_B!FH39,Table_B!FH40))","v":0},null,{"$f":"IF(OR(Table_B!FJ39=\":\",Table_B!FJ40=\":\"),\":\",SUM(Table_B!FJ39,Table_B!FJ40))","v":0},null,{"$f":"IF(OR(Table_B!FL39=\":\",Table_B!FL40=\":\"),\":\",SUM(Table_B!FL39,Table_B!FL40))","v":0},null,{"$f":"IF(OR(Table_B!FN39=\":\",Table_B!FN40=\":\"),\":\",SUM(Table_B!FN39,Table_B!FN40))","v":0},null,{"$f":"IF(OR(Table_B!FP39=\":\",Table_B!FP40=\":\"),\":\",SUM(Table_B!FP39,Table_B!FP40))","v":0},null,null,null,null,null,null,null,0]
[null,6,null,"PEFA_IND06","Net domestic energy use",null,null,{"$f":"IF(OR(Table_A!H41=\":\",Table_A!H42=\":\"),\":\",SUM(Table_A!H41:H42))","v":0},null,{"$f":"IF(OR(Table_A!J41=\":\",Table_A!J42=\":\"),\":\",SUM(Table_A!J41:J42))","v":0},null,{"$f":"IF(OR(Table_A!L41=\":\",Table_A!L42=\":\"),\":\",SUM(Table_A!L41:L42))","v":0},null,{"$f":"IF(OR(Table_A!N41=\":\",Table_A!N42=\":\"),\":\",SUM(Table_A!N41:N42))","v":0},null,{"$f":"IF(OR(Table_A!P41=\":\",Table_A!P42=\":\"),\":\",SUM(Table_A!P41:P42))","v":0},null,{"$f":"IF(OR(Table_A!R41=\":\",Table_A!R42=\":\"),\":\",SUM(Table_A!R41:R42))","v":0},null,{"$f":"IF(OR(Table_A!T41=\":\",Table_A!T42=\":\"),\":\",SUM(Table_A!T41:T42))","v":0},null,{"$f":"IF(OR(Table_A!V41=\":\",Table_A!V42=\":\"),\":\",SUM(Table_A!V41:V42))","v":0},null,{"$f":"IF(OR(Table_A!X41=\":\",Table_A!X42=\":\"),\":\",SUM(Table_A!X41:X42))","v":0},null,{"$f":"IF(OR(Table_A!Z41=\":\",Table_A!Z42=\":\"),\":\",SUM(Table_A!Z41:Z42))","v":0},null,{"$f":"IF(OR(Table_A!AB41=\":\",Table_A!AB42=\":\"),\":\",SUM(Table_A!AB41:AB42))","v":0},null,{"$f":"IF(OR(Table_A!AD41=\":\",Table_A!AD42=\":\"),\":\",SUM(Table_A!AD41:AD42))","v":0},null,{"$f":"IF(OR(Table_A!AF41=\":\",Table_A!AF42=\":\"),\":\",SUM(Table_A!AF41:AF42))","v":0},null,{"$f":"IF(OR(Table_A!AH41=\":\",Table_A!AH42=\":\"),\":\",SUM(Table_A!AH41:AH42))","v":0},null,{"$f":"IF(OR(Table_A!AJ41=\":\",Table_A!AJ42=\":\"),\":\",SUM(Table_A!AJ41:AJ42))","v":0},null,{"$f":"IF(OR(Table_A!AL41=\":\",Table_A!AL42=\":\"),\":\",SUM(Table_A!AL41:AL42))","v":0},null,{"$f":"IF(OR(Table_A!AN41=\":\",Table_A!AN42=\":\"),\":\",SUM(Table_A!AN41:AN42))","v":0},null,{"$f":"IF(OR(Table_A!AP41=\":\",Table_A!AP42=\":\"),\":\",SUM(Table_A!AP41:AP42))","v":0},null,{"$f":"IF(OR(Table_A!AR41=\":\",Table_A!AR42=\":\"),\":\",SUM(Table_A!AR41:AR42))","v":0},null,{"$f":"IF(OR(Table_A!AT41=\":\",Table_A!AT42=\":\"),\":\",SUM(Table_A!AT41:AT42))","v":0},null,{"$f":"IF(OR(Table_A!AV41=\":\",Table_A!AV42=\":\"),\":\",SUM(Table_A!AV41:AV42))","v":0},null,{"$f":"IF(OR(Table_A!AX41=\":\",Table_A!AX42=\":\"),\":\",SUM(Table_A!AX41:AX42))","v":0},null,{"$f":"IF(OR(Table_A!AZ41=\":\",Table_A!AZ42=\":\"),\":\",SUM(Table_A!AZ41:AZ42))","v":0},null,{"$f":"IF(OR(Table_A!BB41=\":\",Table_A!BB42=\":\"),\":\",SUM(Table_A!BB41:BB42))","v":0},null,{"$f":"IF(OR(Table_A!BD41=\":\",Table_A!BD42=\":\"),\":\",SUM(Table_A!BD41:BD42))","v":0},null,{"$f":"IF(OR(Table_A!BF41=\":\",Table_A!BF42=\":\"),\":\",SUM(Table_A!BF41:BF42))","v":0},null,{"$f":"IF(OR(Table_A!BH41=\":\",Table_A!BH42=\":\"),\":\",SUM(Table_A!BH41:BH42))","v":0},null,{"$f":"IF(OR(Table_A!BJ41=\":\",Table_A!BJ42=\":\"),\":\",SUM(Table_A!BJ41:BJ42))","v":0},null,{"$f":"IF(OR(Table_A!BL41=\":\",Table_A!BL42=\":\"),\":\",SUM(Table_A!BL41:BL42))","v":0},null,{"$f":"IF(OR(Table_A!BN41=\":\",Table_A!BN42=\":\"),\":\",SUM(Table_A!BN41:BN42))","v":0},null,{"$f":"IF(OR(Table_A!BP41=\":\",Table_A!BP42=\":\"),\":\",SUM(Table_A!BP41:BP42))","v":0},null,{"$f":"IF(OR(Table_A!BR41=\":\",Table_A!BR42=\":\"),\":\",SUM(Table_A!BR41:BR42))","v":0},null,{"$f":"IF(OR(Table_A!BT41=\":\",Table_A!BT42=\":\"),\":\",SUM(Table_A!BT41:BT42))","v":0},null,{"$f":"IF(OR(Table_A!BV41=\":\",Table_A!BV42=\":\"),\":\",SUM(Table_A!BV41:BV42))","v":0},null,{"$f":"IF(OR(Table_A!BX41=\":\",Table_A!BX42=\":\"),\":\",SUM(Table_A!BX41:BX42))","v":0},null,{"$f":"IF(OR(Table_A!BZ41=\":\",Table_A!BZ42=\":\"),\":\",SUM(Table_A!BZ41:BZ42))","v":0},null,{"$f":"IF(OR(Table_A!CB41=\":\",Table_A!CB42=\":\"),\":\",SUM(Table_A!CB41:CB42))","v":0},null,{"$f":"IF(OR(Table_A!CD41=\":\",Table_A!CD42=\":\"),\":\",SUM(Table_A!CD41:CD42))","v":0},null,{"$f":"IF(OR(Table_A!CF41=\":\",Table_A!CF42=\":\"),\":\",SUM(Table_A!CF41:CF42))","v":0},null,{"$f":"IF(OR(Table_A!CH41=\":\",Table_A!CH42=\":\"),\":\",SUM(Table_A!CH41:CH42))","v":0},null,{"$f":"IF(OR(Table_A!CJ41=\":\",Table_A!CJ42=\":\"),\":\",SUM(Table_A!CJ41:CJ42))","v":0},null,{"$f":"IF(OR(Table_A!CL41=\":\",Table_A!CL42=\":\"),\":\",SUM(Table_A!CL41:CL42))","v":0},null,{"$f":"IF(OR(Table_A!CN41=\":\",Table_A!CN42=\":\"),\":\",SUM(Table_A!CN41:CN42))","v":0},null,{"$f":"IF(OR(Table_A!CP41=\":\",Table_A!CP42=\":\"),\":\",SUM(Table_A!CP41:CP42))","v":0},null,{"$f":"IF(OR(Table_A!CR41=\":\",Table_A!CR42=\":\"),\":\",SUM(Table_A!CR41:CR42))","v":0},null,{"$f":"IF(OR(Table_A!CT41=\":\",Table_A!CT42=\":\"),\":\",SUM(Table_A!CT41:CT42))","v":0},null,{"$f":"IF(OR(Table_A!CV41=\":\",Table_A!CV42=\":\"),\":\",SUM(Table_A!CV41:CV42))","v":0},null,{"$f":"IF(OR(Table_A!CX41=\":\",Table_A!CX42=\":\"),\":\",SUM(Table_A!CX41:CX42))","v":0},null,{"$f":"IF(OR(Table_A!CZ41=\":\",Table_A!CZ42=\":\"),\":\",SUM(Table_A!CZ41:CZ42))","v":0},null,{"$f":"IF(OR(Table_A!DB41=\":\",Table_A!DB42=\":\"),\":\",SUM(Table_A!DB41:DB42))","v":0},null,{"$f":"IF(OR(Table_A!DD41=\":\",Table_A!DD42=\":\"),\":\",SUM(Table_A!DD41:DD42))","v":0},null,{"$f":"IF(OR(Table_A!DF41=\":\",Table_A!DF42=\":\"),\":\",SUM(Table_A!DF41:DF42))","v":0},null,{"$f":"IF(OR(Table_A!DH41=\":\",Table_A!DH42=\":\"),\":\",SUM(Table_A!DH41:DH42))","v":0},null,{"$f":"IF(OR(Table_A!DJ41=\":\",Table_A!DJ42=\":\"),\":\",SUM(Table_A!DJ41:DJ42))","v":0},null,{"$f":"IF(OR(Table_A!DL41=\":\",Table_A!DL42=\":\"),\":\",SUM(Table_A!DL41:DL42))","v":0},null,{"$f":"IF(OR(Table_A!DN41=\":\",Table_A!DN42=\":\"),\":\",SUM(Table_A!DN41:DN42))","v":0},null,{"$f":"IF(OR(Table_A!DP41=\":\",Table_A!DP42=\":\"),\":\",SUM(Table_A!DP41:DP42))","v":0},null,{"$f":"IF(OR(Table_A!DR41=\":\",Table_A!DR42=\":\"),\":\",SUM(Table_A!DR41:DR42))","v":0},null,{"$f":"IF(OR(Table_A!DT41=\":\",Table_A!DT42=\":\"),\":\",SUM(Table_A!DT41:DT42))","v":0},null,{"$f":"IF(OR(Table_A!DV41=\":\",Table_A!DV42=\":\"),\":\",SUM(Table_A!DV41:DV42))","v":0},null,{"$f":"IF(OR(Table_A!DX41=\":\",Table_A!DX42=\":\"),\":\",SUM(Table_A!DX41:DX42))","v":0},null,{"$f":"IF(OR(Table_A!DZ41=\":\",Table_A!DZ42=\":\"),\":\",SUM(Table_A!DZ41:DZ42))","v":0},null,{"$f":"IF(OR(Table_A!EB41=\":\",Table_A!EB42=\":\"),\":\",SUM(Table_A!EB41:EB42))","v":0},null,{"$f":"IF(OR(Table_A!ED41=\":\",Table_A!ED42=\":\"),\":\",SUM(Table_A!ED41:ED42))","v":0},null,{"$f":"IF(OR(Table_A!EF41=\":\",Table_A!EF42=\":\"),\":\",SUM(Table_A!EF41:EF42))","v":0},null,{"$f":"IF(OR(Table_A!EH41=\":\",Table_A!EH42=\":\"),\":\",SUM(Table_A!EH41:EH42))","v":0},null,{"$f":"IF(OR(Table_A!EJ41=\":\",Table_A!EJ42=\":\"),\":\",SUM(Table_A!EJ41:EJ42))","v":0},null,{"$f":"IF(OR(Table_A!EL41=\":\",Table_A!EL42=\":\"),\":\",SUM(Table_A!EL41:EL42))","v":0},null,{"$f":"IF(OR(Table_A!EN41=\":\",Table_A!EN42=\":\"),\":\",SUM(Table_A!EN41:EN42))","v":0},null,{"$f":"IF(OR(Table_A!EP41=\":\",Table_A!EP42=\":\"),\":\",SUM(Table_A!EP41:EP42))","v":0},null,{"$f":"IF(OR(Table_A!ER41=\":\",Table_A!ER42=\":\"),\":\",SUM(Table_A!ER41:ER42))","v":0},null,{"$f":"IF(OR(Table_A!ET41=\":\",Table_A!ET42=\":\"),\":\",SUM(Table_A!ET41:ET42))","v":0},null,{"$f":"IF(OR(Table_A!EV41=\":\",Table_A!EV42=\":\"),\":\",SUM(Table_A!EV41:EV42))","v":0},null,{"$f":"IF(OR(Table_A!EX41=\":\",Table_A!EX42=\":\"),\":\",SUM(Table_A!EX41:EX42))","v":0},null,{"$f":"IF(OR(Table_A!EZ41=\":\",Table_A!EZ42=\":\"),\":\",SUM(Table_A!EZ41:EZ42))","v":0},null,{"$f":"IF(OR(Table_A!FB41=\":\",Table_A!FB42=\":\"),\":\",SUM(Table_A!FB41:FB42))","v":0},null,{"$f":"IF(OR(Table_A!FD41=\":\",Table_A!FD42=\":\"),\":\",SUM(Table_A!FD41:FD42))","v":0},null,{"$f":"IF(OR(Table_A!FF41=\":\",Table_A!FF42=\":\"),\":\",SUM(Table_A!FF41:FF42))","v":0},null,{"$f":"IF(OR(Table_A!FH41=\":\",Table_A!FH42=\":\"),\":\",SUM(Table_A!FH41:FH42))","v":0},null,{"$f":"IF(OR(Table_A!FJ41=\":\",Table_A!FJ42=\":\"),\":\",SUM(Table_A!FJ41:FJ42))","v":0},null,{"$f":"IF(OR(Table_A!FL41=\":\",Table_A!FL42=\":\"),\":\",SUM(Table_A!FL41:FL42))","v":0},null,{"$f":"IF(OR(Table_A!FN41=\":\",Table_A!FN42=\":\"),\":\",SUM(Table_A!FN41:FN42))","v":0},null,{"$f":"IF(OR(Table_A!FP41=\":\",Table_A!FP42=\":\"),\":\",SUM(Table_A!FP41:FP42))","v":0},null,null,null,null,null,null,null,0]
[null,7,null,"PEFA_IND06a","    Net domestic energy use for energy purposes",null,null,{"$f":"IF(Table_A!H41=\":\",\":\",Table_A!H41)","v":0},null,{"$f":"IF(Table_A!J41=\":\",\":\",Table_A!J41)","v":0},null,{"$f":"IF(Table_A!L41=\":\",\":\",Table_A!L41)","v":0},null,{"$f":"IF(Table_A!N41=\":\",\":\",Table_A!N41)","v":0},null,{"$f":"IF(Table_A!P41=\":\",\":\",Table_A!P41)","v":0},null,{"$f":"IF(Table_A!R41=\":\",\":\",Table_A!R41)","v":0},null,{"$f":"IF(Table_A!T41=\":\",\":\",Table_A!T41)","v":0},null,{"$f":"IF(Table_A!V41=\":\",\":\",Table_A!V41)","v":0},null,{"$f":"IF(Table_A!X41=\":\",\":\",Table_A!X41)","v":0},null,{"$f":"IF(Table_A!Z41=\":\",\":\",Table_A!Z41)","v":0},null,{"$f":"IF(Table_A!AB41=\":\",\":\",Table_A!AB41)","v":0},null,{"$f":"IF(Table_A!AD41=\":\",\":\",Table_A!AD41)","v":0},null,{"$f":"IF(Table_A!AF41=\":\",\":\",Table_A!AF41)","v":0},null,{"$f":"IF(Table_A!AH41=\":\",\":\",Table_A!AH41)","v":0},null,{"$f":"IF(Table_A!AJ41=\":\",\":\",Table_A!AJ41)","v":0},null,{"$f":"IF(Table_A!AL41=\":\",\":\",Table_A!AL41)","v":0},null,{"$f":"IF(Table_A!AN41=\":\",\":\",Table_A!AN41)","v":0},null,{"$f":"IF(Table_A!AP41=\":\",\":\",Table_A!AP41)","v":0},null,{"$f":"IF(Table_A!AR41=\":\",\":\",Table_A!AR41)","v":0},null,{"$f":"IF(Table_A!AT41=\":\",\":\",Table_A!AT41)","v":0},null,{"$f":"IF(Table_A!AV41=\":\",\":\",Table_A!AV41)","v":0},null,{"$f":"IF(Table_A!AX41=\":\",\":\",Table_A!AX41)","v":0},null,{"$f":"IF(Table_A!AZ41=\":\",\":\",Table_A!AZ41)","v":0},null,{"$f":"IF(Table_A!BB41=\":\",\":\",Table_A!BB41)","v":0},null,{"$f":"IF(Table_A!BD41=\":\",\":\",Table_A!BD41)","v":0},null,{"$f":"IF(Table_A!BF41=\":\",\":\",Table_A!BF41)","v":0},null,{"$f":"IF(Table_A!BH41=\":\",\":\",Table_A!BH41)","v":0},null,{"$f":"IF(Table_A!BJ41=\":\",\":\",Table_A!BJ41)","v":0},null,{"$f":"IF(Table_A!BL41=\":\",\":\",Table_A!BL41)","v":0},null,{"$f":"IF(Table_A!BN41=\":\",\":\",Table_A!BN41)","v":0},null,{"$f":"IF(Table_A!BP41=\":\",\":\",Table_A!BP41)","v":0},null,{"$f":"IF(Table_A!BR41=\":\",\":\",Table_A!BR41)","v":0},null,{"$f":"IF(Table_A!BT41=\":\",\":\",Table_A!BT41)","v":0},null,{"$f":"IF(Table_A!BV41=\":\",\":\",Table_A!BV41)","v":0},null,{"$f":"IF(Table_A!BX41=\":\",\":\",Table_A!BX41)","v":0},null,{"$f":"IF(Table_A!BZ41=\":\",\":\",Table_A!BZ41)","v":0},null,{"$f":"IF(Table_A!CB41=\":\",\":\",Table_A!CB41)","v":0},null,{"$f":"IF(Table_A!CD41=\":\",\":\",Table_A!CD41)","v":0},null,{"$f":"IF(Table_A!CF41=\":\",\":\",Table_A!CF41)","v":0},null,{"$f":"IF(Table_A!CH41=\":\",\":\",Table_A!CH41)","v":0},null,{"$f":"IF(Table_A!CJ41=\":\",\":\",Table_A!CJ41)","v":0},null,{"$f":"IF(Table_A!CL41=\":\",\":\",Table_A!CL41)","v":0},null,{"$f":"IF(Table_A!CN41=\":\",\":\",Table_A!CN41)","v":0},null,{"$f":"IF(Table_A!CP41=\":\",\":\",Table_A!CP41)","v":0},null,{"$f":"IF(Table_A!CR41=\":\",\":\",Table_A!CR41)","v":0},null,{"$f":"IF(Table_A!CT41=\":\",\":\",Table_A!CT41)","v":0},null,{"$f":"IF(Table_A!CV41=\":\",\":\",Table_A!CV41)","v":0},null,{"$f":"IF(Table_A!CX41=\":\",\":\",Table_A!CX41)","v":0},null,{"$f":"IF(Table_A!CZ41=\":\",\":\",Table_A!CZ41)","v":0},null,{"$f":"IF(Table_A!DB41=\":\",\":\",Table_A!DB41)","v":0},null,{"$f":"IF(Table_A!DD41=\":\",\":\",Table_A!DD41)","v":0},null,{"$f":"IF(Table_A!DF41=\":\",\":\",Table_A!DF41)","v":0},null,{"$f":"IF(Table_A!DH41=\":\",\":\",Table_A!DH41)","v":0},null,{"$f":"IF(Table_A!DJ41=\":\",\":\",Table_A!DJ41)","v":0},null,{"$f":"IF(Table_A!DL41=\":\",\":\",Table_A!DL41)","v":0},null,{"$f":"IF(Table_A!DN41=\":\",\":\",Table_A!DN41)","v":0},null,{"$f":"IF(Table_A!DP41=\":\",\":\",Table_A!DP41)","v":0},null,{"$f":"IF(Table_A!DR41=\":\",\":\",Table_A!DR41)","v":0},null,{"$f":"IF(Table_A!DT41=\":\",\":\",Table_A!DT41)","v":0},null,{"$f":"IF(Table_A!DV41=\":\",\":\",Table_A!DV41)","v":0},null,{"$f":"IF(Table_A!DX41=\":\",\":\",Table_A!DX41)","v":0},null,{"$f":"IF(Table_A!DZ41=\":\",\":\",Table_A!DZ41)","v":0},null,{"$f":"IF(Table_A!EB41=\":\",\":\",Table_A!EB41)","v":0},null,{"$f":"IF(Table_A!ED41=\":\",\":\",Table_A!ED41)","v":0},null,{"$f":"IF(Table_A!EF41=\":\",\":\",Table_A!EF41)","v":0},null,{"$f":"IF(Table_A!EH41=\":\",\":\",Table_A!EH41)","v":0},null,{"$f":"IF(Table_A!EJ41=\":\",\":\",Table_A!EJ41)","v":0},null,{"$f":"IF(Table_A!EL41=\":\",\":\",Table_A!EL41)","v":0},null,{"$f":"IF(Table_A!EN41=\":\",\":\",Table_A!EN41)","v":0},null,{"$f":"IF(Table_A!EP41=\":\",\":\",Table_A!EP41)","v":0},null,{"$f":"IF(Table_A!ER41=\":\",\":\",Table_A!ER41)","v":0},null,{"$f":"IF(Table_A!ET41=\":\",\":\",Table_A!ET41)","v":0},null,{"$f":"IF(Table_A!EV41=\":\",\":\",Table_A!EV41)","v":0},null,{"$f":"IF(Table_A!EX41=\":\",\":\",Table_A!EX41)","v":0},null,{"$f":"IF(Table_A!EZ41=\":\",\":\",Table_A!EZ41)","v":0},null,{"$f":"IF(Table_A!FB41=\":\",\":\",Table_A!FB41)","v":0},null,{"$f":"IF(Table_A!FD41=\":\",\":\",Table_A!FD41)","v":0},null,{"$f":"IF(Table_A!FF41=\":\",\":\",Table_A!FF41)","v":0},null,{"$f":"IF(Table_A!FH41=\":\",\":\",Table_A!FH41)","v":0},null,{"$f":"IF(Table_A!FJ41=\":\",\":\",Table_A!FJ41)","v":0},null,{"$f":"IF(Table_A!FL41=\":\",\":\",Table_A!FL41)","v":0},null,{"$f":"IF(Table_A!FN41=\":\",\":\",Table_A!FN41)","v":0},null,{"$f":"IF(Table_A!FP41=\":\",\":\",Table_A!FP41)","v":0},null,null,null,null,null,null,null,0]
[null,8,null,"PEFA_IND06b","    Net domestic energy use for non-energy purposes",null,null,{"$f":"IF(Table_A!H42=\":\",\":\",Table_A!H42)","v":0},null,{"$f":"IF(Table_A!J42=\":\",\":\",Table_A!J42)","v":0},null,{"$f":"IF(Table_A!L42=\":\",\":\",Table_A!L42)","v":0},null,{"$f":"IF(Table_A!N42=\":\",\":\",Table_A!N42)","v":0},null,{"$f":"IF(Table_A!P42=\":\",\":\",Table_A!P42)","v":0},null,{"$f":"IF(Table_A!R42=\":\",\":\",Table_A!R42)","v":0},null,{"$f":"IF(Table_A!T42=\":\",\":\",Table_A!T42)","v":0},null,{"$f":"IF(Table_A!V42=\":\",\":\",Table_A!V42)","v":0},null,{"$f":"IF(Table_A!X42=\":\",\":\",Table_A!X42)","v":0},null,{"$f":"IF(Table_A!Z42=\":\",\":\",Table_A!Z42)","v":0},null,{"$f":"IF(Table_A!AB42=\":\",\":\",Table_A!AB42)","v":0},null,{"$f":"IF(Table_A!AD42=\":\",\":\",Table_A!AD42)","v":0},null,{"$f":"IF(Table_A!AF42=\":\",\":\",Table_A!AF42)","v":0},null,{"$f":"IF(Table_A!AH42=\":\",\":\",Table_A!AH42)","v":0},null,{"$f":"IF(Table_A!AJ42=\":\",\":\",Table_A!AJ42)","v":0},null,{"$f":"IF(Table_A!AL42=\":\",\":\",Table_A!AL42)","v":0},null,{"$f":"IF(Table_A!AN42=\":\",\":\",Table_A!AN42)","v":0},null,{"$f":"IF(Table_A!AP42=\":\",\":\",Table_A!AP42)","v":0},null,{"$f":"IF(Table_A!AR42=\":\",\":\",Table_A!AR42)","v":0},null,{"$f":"IF(Table_A!AT42=\":\",\":\",Table_A!AT42)","v":0},null,{"$f":"IF(Table_A!AV42=\":\",\":\",Table_A!AV42)","v":0},null,{"$f":"IF(Table_A!AX42=\":\",\":\",Table_A!AX42)","v":0},null,{"$f":"IF(Table_A!AZ42=\":\",\":\",Table_A!AZ42)","v":0},null,{"$f":"IF(Table_A!BB42=\":\",\":\",Table_A!BB42)","v":0},null,{"$f":"IF(Table_A!BD42=\":\",\":\",Table_A!BD42)","v":0},null,{"$f":"IF(Table_A!BF42=\":\",\":\",Table_A!BF42)","v":0},null,{"$f":"IF(Table_A!BH42=\":\",\":\",Table_A!BH42)","v":0},null,{"$f":"IF(Table_A!BJ42=\":\",\":\",Table_A!BJ42)","v":0},null,{"$f":"IF(Table_A!BL42=\":\",\":\",Table_A!BL42)","v":0},null,{"$f":"IF(Table_A!BN42=\":\",\":\",Table_A!BN42)","v":0},null,{"$f":"IF(Table_A!BP42=\":\",\":\",Table_A!BP42)","v":0},null,{"$f":"IF(Table_A!BR42=\":\",\":\",Table_A!BR42)","v":0},null,{"$f":"IF(Table_A!BT42=\":\",\":\",Table_A!BT42)","v":0},null,{"$f":"IF(Table_A!BV42=\":\",\":\",Table_A!BV42)","v":0},null,{"$f":"IF(Table_A!BX42=\":\",\":\",Table_A!BX42)","v":0},null,{"$f":"IF(Table_A!BZ42=\":\",\":\",Table_A!BZ42)","v":0},null,{"$f":"IF(Table_A!CB42=\":\",\":\",Table_A!CB42)","v":0},null,{"$f":"IF(Table_A!CD42=\":\",\":\",Table_A!CD42)","v":0},null,{"$f":"IF(Table_A!CF42=\":\",\":\",Table_A!CF42)","v":0},null,{"$f":"IF(Table_A!CH42=\":\",\":\",Table_A!CH42)","v":0},null,{"$f":"IF(Table_A!CJ42=\":\",\":\",Table_A!CJ42)","v":0},null,{"$f":"IF(Table_A!CL42=\":\",\":\",Table_A!CL42)","v":0},null,{"$f":"IF(Table_A!CN42=\":\",\":\",Table_A!CN42)","v":0},null,{"$f":"IF(Table_A!CP42=\":\",\":\",Table_A!CP42)","v":0},null,{"$f":"IF(Table_A!CR42=\":\",\":\",Table_A!CR42)","v":0},null,{"$f":"IF(Table_A!CT42=\":\",\":\",Table_A!CT42)","v":0},null,{"$f":"IF(Table_A!CV42=\":\",\":\",Table_A!CV42)","v":0},null,{"$f":"IF(Table_A!CX42=\":\",\":\",Table_A!CX42)","v":0},null,{"$f":"IF(Table_A!CZ42=\":\",\":\",Table_A!CZ42)","v":0},null,{"$f":"IF(Table_A!DB42=\":\",\":\",Table_A!DB42)","v":0},null,{"$f":"IF(Table_A!DD42=\":\",\":\",Table_A!DD42)","v":0},null,{"$f":"IF(Table_A!DF42=\":\",\":\",Table_A!DF42)","v":0},null,{"$f":"IF(Table_A!DH42=\":\",\":\",Table_A!DH42)","v":0},null,{"$f":"IF(Table_A!DJ42=\":\",\":\",Table_A!DJ42)","v":0},null,{"$f":"IF(Table_A!DL42=\":\",\":\",Table_A!DL42)","v":0},null,{"$f":"IF(Table_A!DN42=\":\",\":\",Table_A!DN42)","v":0},null,{"$f":"IF(Table_A!DP42=\":\",\":\",Table_A!DP42)","v":0},null,{"$f":"IF(Table_A!DR42=\":\",\":\",Table_A!DR42)","v":0},null,{"$f":"IF(Table_A!DT42=\":\",\":\",Table_A!DT42)","v":0},null,{"$f":"IF(Table_A!DV42=\":\",\":\",Table_A!DV42)","v":0},null,{"$f":"IF(Table_A!DX42=\":\",\":\",Table_A!DX42)","v":0},null,{"$f":"IF(Table_A!DZ42=\":\",\":\",Table_A!DZ42)","v":0},null,{"$f":"IF(Table_A!EB42=\":\",\":\",Table_A!EB42)","v":0},null,{"$f":"IF(Table_A!ED42=\":\",\":\",Table_A!ED42)","v":0},null,{"$f":"IF(Table_A!EF42=\":\",\":\",Table_A!EF42)","v":0},null,{"$f":"IF(Table_A!EH42=\":\",\":\",Table_A!EH42)","v":0},null,{"$f":"IF(Table_A!EJ42=\":\",\":\",Table_A!EJ42)","v":0},null,{"$f":"IF(Table_A!EL42=\":\",\":\",Table_A!EL42)","v":0},null,{"$f":"IF(Table_A!EN42=\":\",\":\",Table_A!EN42)","v":0},null,{"$f":"IF(Table_A!EP42=\":\",\":\",Table_A!EP42)","v":0},null,{"$f":"IF(Table_A!ER42=\":\",\":\",Table_A!ER42)","v":0},null,{"$f":"IF(Table_A!ET42=\":\",\":\",Table_A!ET42)","v":0},null,{"$f":"IF(Table_A!EV42=\":\",\":\",Table_A!EV42)","v":0},null,{"$f":"IF(Table_A!EX42=\":\",\":\",Table_A!EX42)","v":0},null,{"$f":"IF(Table_A!EZ42=\":\",\":\",Table_A!EZ42)","v":0},null,{"$f":"IF(Table_A!FB42=\":\",\":\",Table_A!FB42)","v":0},null,{"$f":"IF(Table_A!FD42=\":\",\":\",Table_A!FD42)","v":0},null,{"$f":"IF(Table_A!FF42=\":\",\":\",Table_A!FF42)","v":0},null,{"$f":"IF(Table_A!FH42=\":\",\":\",Table_A!FH42)","v":0},null,{"$f":"IF(Table_A!FJ42=\":\",\":\",Table_A!FJ42)","v":0},null,{"$f":"IF(Table_A!FL42=\":\",\":\",Table_A!FL42)","v":0},null,{"$f":"IF(Table_A!FN42=\":\",\":\",Table_A!FN42)","v":0},null,{"$f":"IF(Table_A!FP42=\":\",\":\",Table_A!FP42)","v":0},null,null,null,null,null,null,null,0]
[null,9,null,"PEFA_IND07","Total energy input/output",null,null,{"$f":"Table_A!H43","v":0},null,{"$f":"Table_A!J43","v":0},null,{"$f":"Table_A!L43","v":0},null,{"$f":"Table_A!N43","v":0},null,{"$f":"Table_A!P43","v":0},null,{"$f":"Table_A!R43","v":0},null,{"$f":"Table_A!T43","v":0},null,{"$f":"Table_A!V43","v":0},null,{"$f":"Table_A!X43","v":0},null,{"$f":"Table_A!Z43","v":0},null,{"$f":"Table_A!AB43","v":0},null,{"$f":"Table_A!AD43","v":0},null,{"$f":"Table_A!AF43","v":0},null,{"$f":"Table_A!AH43","v":0},null,{"$f":"Table_A!AJ43","v":0},null,{"$f":"Table_A!AL43","v":0},null,{"$f":"Table_A!AN43","v":0},null,{"$f":"Table_A!AP43","v":0},null,{"$f":"Table_A!AR43","v":0},null,{"$f":"Table_A!AT43","v":0},null,{"$f":"Table_A!AV43","v":0},null,{"$f":"Table_A!AX43","v":0},null,{"$f":"Table_A!AZ43","v":0},null,{"$f":"Table_A!BB43","v":0},null,{"$f":"Table_A!BD43","v":0},null,{"$f":"Table_A!BF43","v":0},null,{"$f":"Table_A!BH43","v":0},null,{"$f":"Table_A!BJ43","v":0},null,{"$f":"Table_A!BL43","v":0},null,{"$f":"Table_A!BN43","v":0},null,{"$f":"Table_A!BP43","v":0},null,{"$f":"Table_A!BR43","v":0},null,{"$f":"Table_A!BT43","v":0},null,{"$f":"Table_A!BV43","v":0},null,{"$f":"Table_A!BX43","v":0},null,{"$f":"Table_A!BZ43","v":0},null,{"$f":"Table_A!CB43","v":0},null,{"$f":"Table_A!CD43","v":0},null,{"$f":"Table_A!CF43","v":0},null,{"$f":"Table_A!CH43","v":0},null,{"$f":"Table_A!CJ43","v":0},null,{"$f":"Table_A!CL43","v":0},null,{"$f":"Table_A!CN43","v":0},null,{"$f":"Table_A!CP43","v":0},null,{"$f":"Table_A!CR43","v":0},null,{"$f":"Table_A!CT43","v":0},null,{"$f":"Table_A!CV43","v":0},null,{"$f":"Table_A!CX43","v":0},null,{"$f":"Table_A!CZ43","v":0},null,{"$f":"Table_A!DB43","v":0},null,{"$f":"Table_A!DD43","v":0},null,{"$f":"Table_A!DF43","v":0},null,{"$f":"Table_A!DH43","v":0},null,{"$f":"Table_A!DJ43","v":0},null,{"$f":"Table_A!DL43","v":0},null,{"$f":"Table_A!DN43","v":0},null,{"$f":"Table_A!DP43","v":0},null,{"$f":"Table_A!DR43","v":0},null,{"$f":"Table_A!DT43","v":0},null,{"$f":"Table_A!DV43","v":0},null,{"$f":"Table_A!DX43","v":0},null,{"$f":"Table_A!DZ43","v":0},null,{"$f":"Table_A!EB43","v":0},null,{"$f":"Table_A!ED43","v":0},null,{"$f":"Table_A!EF43","v":0},null,{"$f":"Table_A!EH43","v":0},null,{"$f":"Table_A!EJ43","v":0},null,{"$f":"Table_A!EL43","v":0},null,{"$f":"Table_A!EN43","v":0},null,{"$f":"Table_A!EP43","v":0},null,{"$f":"Table_A!ER43","v":0},null,{"$f":"Table_A!ET43","v":0},null,{"$f":"Table_A!EV43","v":0},null,{"$f":"Table_A!EX43","v":0},null,{"$f":"Table_A!EZ43","v":0},null,{"$f":"Table_A!FB43","v":0},null,{"$f":"Table_A!FD43","v":0},null,{"$f":"Table_A!FF43","v":0},null,{"$f":"Table_A!FH43","v":0},null,{"$f":"Table_A!FJ43","v":0},null,{"$f":"Table_A!FL43","v":0},null,{"$f":"Table_A!FN43","v":0},null,{"$f":"Table_A!FP43","v":0},null,{"$f":"Table_A!FR43","v":0},null,null,null,null,null,0]
[null,10,null,"PEFA_IND09","Direct energy input (DEI)",null,null,null,null,null,null,null,null,null,null,null,null,null,null,null,null,null,null,null,null,null,null,null,null,null,null,null,null,null,null,null,null,null,null,null,null,null,null,null,null,null,null,null,null,null,null,null,null,null,null,null,null,null,null,null,null,null,null,null,null,null,null,null,null,null,null,null,null,null,null,null,null,null,null,null,null,null,null,null,null,null,null,null,null,null,null,null,null,null,null,null,null,null,null,null,null,null,null,null,null,null,null,null,null,null,null,null,null,null,null,null,null,null,null,null,null,null,null,null,null,null,null,null,null,null,null,null,null,null,null,null,null,null,null,null,null,null,null,null,null,null,null,null,null,null,null,null,null,null,null,null,null,null,null,null,null,null,null,null,null,null,null,null,null,null,null,null,null,null,null,null,null,null,null,{"$f":"Table_B!FX9+Table_A!FT43","v":0}]
[null,11,null,"PEFA_IND10","Direct energy outputs",null,null,null,null,null,null,null,null,null,null,null,null,null,null,null,null,null,null,null,null,null,null,null,null,null,null,null,null,null,null,null,null,null,null,null,null,null,null,null,null,null,null,null,null,null,null,null,null,null,null,null,null,null,null,null,null,null,null,null,null,null,null,null,null,null,null,null,null,null,null,null,null,null,null,null,null,null,null,null,null,null,null,null,null,null,null,null,null,null,null,null,null,null,null,null,null,null,null,null,null,null,null,null,null,null,null,null,null,null,null,null,null,null,null,null,null,null,null,null,null,null,null,null,null,null,null,null,null,null,null,null,null,null,null,null,null,null,null,null,null,null,null,null,null,null,null,null,null,null,null,null,null,null,null,null,null,null,null,null,null,null,null,null,null,null,null,null,null,null,null,null,null,null,null,{"$f":"Table_B!FT43+Table_B!FV43","v":0}]
[null,12,null,"PEFA_IND11","Net additions to stock (calculated)",null,null,null,null,null,null,null,null,null,null,null,null,null,null,null,null,null,null,null,null,null,null,null,null,null,null,null,null,null,null,null,null,null,null,null,null,null,null,null,null,null,null,null,null,null,null,null,null,null,null,null,null,null,null,null,null,null,null,null,null,null,null,null,null,null,null,null,null,null,null,null,null,null,null,null,null,null,null,null,null,null,null,null,null,null,null,null,null,null,null,null,null,null,null,null,null,null,null,null,null,null,null,null,null,null,null,null,null,null,null,null,null,null,null,null,null,null,null,null,null,null,null,null,null,null,null,null,null,null,null,null,null,null,null,null,null,null,null,null,null,null,null,null,null,null,null,null,null,null,null,null,null,null,null,null,null,null,null,null,null,null,null,null,null,null,null,null,null,null,null,null,null,null,null,{"$f":"FX18-FX19","v":0}]
[null,13,null,"PEFA_IND12","Net additions to stock (reported)",null,null,null,null,null,null,null,null,null,null,null,null,null,null,null,null,null,null,null,null,null,null,null,null,null,null,null,null,null,null,null,null,null,null,null,null,null,null,null,null,null,null,null,null,null,null,null,null,null,null,null,null,null,null,null,null,null,null,null,null,null,null,null,null,null,null,null,null,null,null,null,null,null,null,null,null,null,null,null,null,null,null,null,null,null,null,null,null,null,null,null,null,null,null,null,null,null,null,null,null,null,null,null,null,null,null,null,null,null,null,null,null,null,null,null,null,null,null,null,null,null,null,null,null,null,null,null,null,null,null,null,null,null,null,null,null,null,null,null,null,null,null,null,null,null,null,null,null,null,null,null,null,null,null,null,null,null,null,null,null,null,null,null,null,null,null,null,null,null,null,null,null,null,null,{"$f":"Table_B!FR43-Table_A!FR43","v":0}]
[null,14,null,"PEFA_IND13","Domestic energy consumption",null,null,null,null,null,null,null,null,null,null,null,null,null,null,null,null,null,null,null,null,null,null,null,null,null,null,null,null,null,null,null,null,null,null,null,null,null,null,null,null,null,null,null,null,null,null,null,null,null,null,null,null,null,null,null,null,null,null,null,null,null,null,null,null,null,null,null,null,null,null,null,null,null,null,null,null,null,null,null,null,null,null,null,null,null,null,null,null,null,null,null,null,null,null,null,null,null,null,null,null,null,null,null,null,null,null,null,null,null,null,null,null,null,null,null,null,null,null,null,null,null,null,null,null,null,null,null,null,null,null,null,null,null,null,null,null,null,null,null,null,null,null,null,null,null,null,null,null,null,null,null,null,null,null,null,null,null,null,null,null,null,null,null,null,null,null,null,null,null,null,null,null,null,null,{"$f":"FX18-Table_B!FT43","v":0}]
[null,15,null,"PEFA_IND14","Imports of energy products and energy residuals (waste for energetic use)",null,null,null,null,null,null,null,null,null,null,null,null,null,null,null,null,null,null,null,null,null,null,null,null,null,null,null,null,null,null,null,null,null,null,null,null,null,null,null,null,null,null,null,null,null,null,null,null,null,null,null,null,null,null,null,null,null,null,null,null,null,null,null,null,null,null,null,null,null,null,null,null,null,null,null,null,null,null,null,null,null,null,null,null,null,null,null,null,null,null,null,null,null,null,null,null,null,null,null,null,null,null,null,null,null,null,null,null,null,null,null,null,null,null,null,null,null,null,null,null,null,null,null,null,null,null,null,null,null,null,null,null,null,null,null,null,null,null,null,null,null,null,null,null,null,null,null,null,null,null,null,null,null,null,null,null,null,null,null,null,null,null,null,null,null,null,null,null,null,null,null,null,null,null,{"$f":"Table_A!FT43","v":0}]
[null,16,null,"PEFA_IND14a","Imports of energy products",null,null,null,null,null,null,null,null,null,null,null,null,null,null,null,null,null,null,null,null,null,null,null,null,null,null,null,null,null,null,null,null,null,null,null,null,null,null,null,null,null,null,null,null,null,null,null,null,null,null,null,null,null,null,null,null,null,null,null,null,null,null,null,null,null,null,null,null,null,null,null,null,null,null,null,null,null,null,null,null,null,null,null,null,null,null,null,null,null,null,null,null,null,null,null,null,null,null,null,null,null,null,null,null,null,null,null,null,null,null,null,null,null,null,null,null,null,null,null,null,null,null,null,null,null,null,null,null,null,null,null,null,null,null,null,null,null,null,null,null,null,null,null,null,null,null,null,null,null,null,null,null,null,null,null,null,null,null,null,null,null,null,null,null,null,null,null,null,null,null,null,null,null,null,{"$f":"Table_A!FT17","v":0}]
[null,17,null,"PEFA_IND14b","Imports of energy residuals (waste for energetic use)",null,null,null,null,null,null,null,null,null,null,null,null,null,null,null,null,null,null,null,null,null,null,null,null,null,null,null,null,null,null,null,null,null,null,null,null,null,null,null,null,null,null,null,null,null,null,null,null,null,null,null,null,null,null,null,null,null,null,null,null,null,null,null,null,null,null,null,null,null,null,null,null,null,null,null,null,null,null,null,null,null,null,null,null,null,null,null,null,null,null,null,null,null,null,null,null,null,null,null,null,null,null,null,null,null,null,null,null,null,null,null,null,null,null,null,null,null,null,null,null,null,null,null,null,null,null,null,null,null,null,null,null,null,null,null,null,null,null,null,null,null,null,null,null,null,null,null,null,null,null,null,null,null,null,null,null,null,null,null,null,null,null,null,null,null,null,null,null,null,null,null,null,null,null,{"$f":"Table_A!FT38","v":0}]
[null,18,null,"PEFA_IND15","Domestic processed output",null,null,null,null,null,null,null,null,null,null,null,null,null,null,null,null,null,null,null,null,null,null,null,null,null,null,null,null,null,null,null,null,null,null,null,null,null,null,null,null,null,null,null,null,null,null,null,null,null,null,null,null,null,null,null,null,null,null,null,null,null,null,null,null,null,null,null,null,null,null,null,null,null,null,null,null,null,null,null,null,null,null,null,null,null,null,null,null,null,null,null,null,null,null,null,null,null,null,null,null,null,null,null,null,null,null,null,null,null,null,null,null,null,null,null,null,null,null,null,null,null,null,null,null,null,null,null,null,null,null,null,null,null,null,null,null,null,null,null,null,null,null,null,null,null,null,null,null,null,null,null,null,null,null,null,null,null,null,null,null,null,null,null,null,null,null,null,null,null,null,null,null,null,null,{"$f":"Table_B!FV43","v":0}]
[null,19,null,"PEFA_IND16","Exports of energy products and residuals",null,null,null,null,null,null,null,null,null,null,null,null,null,null,null,null,null,null,null,null,null,null,null,null,null,null,null,null,null,null,null,null,null,null,null,null,null,null,null,null,null,null,null,null,null,null,null,null,null,null,null,null,null,null,null,null,null,null,null,null,null,null,null,null,null,null,null,null,null,null,null,null,null,null,null,null,null,null,null,null,null,null,null,null,null,null,null,null,null,null,null,null,null,null,null,null,null,null,null,null,null,null,null,null,null,null,null,null,null,null,null,null,null,null,null,null,null,null,null,null,null,null,null,null,null,null,null,null,null,null,null,null,null,null,null,null,null,null,null,null,null,null,null,null,null,null,null,null,null,null,null,null,null,null,null,null,null,null,null,null,null,null,null,null,null,null,null,null,null,null,null,null,null,null,{"$f":"Table_B!FT43","v":0}]
[null,20,null,"PEFA_IND17","Net changes (use minus supply) of energy products and residuals in inventories and produced assets",null,null,null,null,null,null,null,null,null,null,null,null,null,null,null,null,null,null,null,null,null,null,null,null,null,null,null,null,null,null,null,null,null,null,null,null,null,null,null,null,null,null,null,null,null,null,null,null,null,null,null,null,null,null,null,null,null,null,null,null,null,null,null,null,null,null,null,null,null,null,null,null,null,null,null,null,null,null,null,null,null,null,null,null,null,null,null,null,null,null,null,null,null,null,null,null,null,null,null,null,null,null,null,null,null,null,null,null,null,null,null,null,null,null,null,null,null,null,null,null,null,null,null,null,null,null,null,null,null,null,null,null,null,null,null,null,null,null,null,null,null,null,null,null,null,null,null,null,null,null,null,null,null,null,null,null,null,null,null,null,null,null,null,null,null,null,null,null,null,null,null,null,null,null,{"$f":"FX30-FX29","v":0}]
[null,21,null,"PEFA_IND17a","Supply of energy residuals from stock",null,null,null,null,null,null,null,null,null,null,null,null,null,null,null,null,null,null,null,null,null,null,null,null,null,null,null,null,null,null,null,null,null,null,null,null,null,null,null,null,null,null,null,null,null,null,null,null,null,null,null,null,null,null,null,null,null,null,null,null,null,null,null,null,null,null,null,null,null,null,null,null,null,null,null,null,null,null,null,null,null,null,null,null,null,null,null,null,null,null,null,null,null,null,null,null,null,null,null,null,null,null,null,null,null,null,null,null,null,null,null,null,null,null,null,null,null,null,null,null,null,null,null,null,null,null,null,null,null,null,null,null,null,null,null,null,null,null,null,null,null,null,null,null,null,null,null,null,null,null,null,null,null,null,null,null,null,null,null,null,null,null,null,null,null,null,null,null,null,null,null,null,null,null,{"$f":"Table_A!FR43","v":0}]
[null,22,null,"PEFA_IND17b","Additions (use) of energy products and residuals to stocks",null,null,null,null,null,null,null,null,null,null,null,null,null,null,null,null,null,null,null,null,null,null,null,null,null,null,null,null,null,null,null,null,null,null,null,null,null,null,null,null,null,null,null,null,null,null,null,null,null,null,null,null,null,null,null,null,null,null,null,null,null,null,null,null,null,null,null,null,null,null,null,null,null,null,null,null,null,null,null,null,null,null,null,null,null,null,null,null,null,null,null,null,null,null,null,null,null,null,null,null,null,null,null,null,null,null,null,null,null,null,null,null,null,null,null,null,null,null,null,null,null,null,null,null,null,null,null,null,null,null,null,null,null,null,null,null,null,null,null,null,null,null,null,null,null,null,null,null,null,null,null,null,null,null,null,null,null,null,null,null,null,null,null,null,null,null,null,null,null,null,null,null,null,null,{"$f":"Table_B!FR43","v":0}]

{"sheet":"Table_E","index":14,"n_rows":34,"n_cols":25,"rows_kept":34,"cut":false,"hidden":false,"merged":[[2,24,5,24],[1,13,5,13],[1,14,5,14],[1,19,1,23],[2,16,5,16],[2,17,5,17],[2,18,5,18],[2,19,5,19],[2,20,5,20],[2,21,5,21],[2,22,5,22],[2,23,5,23],[32,2,32,4],[33,2,33,4],[1,2,1,4],[2,2,2,4],[3,2,3,4],[4,2,4,4],[5,2,5,4],[23,2,23,4],[24,2,24,4],[25,2,25,4],[26,2,26,4],[27,2,27,4],[28,2,28,4],[29,2,29,4],[30,2,30,4],[31,2,31,4]]}
[]
[null,"Country :",{"$f":"IF(Introduction!D13=0,\"\",Introduction!D13)","v":""},null,null,null,null,null,null,null,null,null,null,"BRIDGE_ITEMS","ENERGY_FLOWS",null,null,null,null,"CONSTANTS"]
[null,"Year :",{"$f":"IF(Introduction!D17=0,\"\",Introduction!D17)","v":""},null,null,null,null,null,null,null,null,null,null,null,null,null,"ACCOUNTING_ENTRY","COUNTERPART_AREA","STO","DEMAND_PROD","UNIT_MEASURE","UNIT_MULT","PRODUCT","SECTOR","INTERACTORS"]
[null,"Table:","Table E - Bridge table"]
[null,"Content:","Energy accounts indicator (residence principle)  to energy statistics indicator (territory principle)"]
[null,"Unit :","TJ"]
[]
[null,"RES",{"$f":"'PEFA bridging items'!C3","v":"Total energy use by resident units (domestic energy use) - residence principle"},{"$f":"Table_D!FX14","v":0},null,null,null,null,null,null,null,null,null,"RES","R30_31",null,"_Z","W2","_Z","P","TJ",0,"_T","S1","ATU_HH"]
[null,"RES_ABR",{"$f":"'PEFA bridging items'!C4","v":"(−) Energy use by resident units abroad"},{"$f":"SUM(D10:D13)","v":0},null,null,null,null,null,null,null,null,null,"RES_ABR","P00"]
[null,"RES_ABR_FWTR",{"$f":"'PEFA bridging items'!C5","v":"      National fishing vessels operating abroad"},0,null,null,null,null,null,null,null,null,null,"RES_ABR_FWTR","P00"]
[null,"RES_ABR_LTR",{"$f":"'PEFA bridging items'!C6","v":"      Land transport operated by resident units abroad"},0,null,null,null,null,null,null,null,null,null,"RES_ABR_LTR","P00"]
[null,"RES_ABR_WTR",{"$f":"'PEFA bridging items'!C7","v":"      International water transport undertaken by resident units"},0,null,null,null,null,null,null,null,null,null,"RES_ABR_WTR","P00"]
[null,"RES_ABR_ATR",{"$f":"'PEFA bridging items'!C8","v":"      International air transport operated by resident units"},0,null,null,null,null,null,null,null,null,null,"RES_ABR_ATR","P00"]
[null,"TER_NRES",{"$f":"'PEFA bridging items'!C9","v":"(+) Energy use by non-residents on the territory"},{"$f":"SUM(D15:D17)","v":0},null,null,null,null,null,null,null,null,null,"TER_NRES","P00"]
[null,"TER_NRES_LTR",{"$f":"'PEFA bridging items'!C10","v":"      Land transport operated by non-residents on the territory"},0,null,null,null,null,null,null,null,null,null,"TER_NRES_LTR","P00"]
[null,"TER_NRES_WTR",{"$f":"'PEFA bridging items'!C11","v":"      Water transport operated by non-residents on the territory"},0,null,null,null,null,null,null,null,null,null,"TER_NRES_WTR","P00"]
[null,"TER_NRES_ATR",{"$f":"'PEFA bridging items'!C12","v":"      Air transport operated by non-residents on the territory"},0,null,null,null,null,null,null,null,null,null,"TER_NRES_ATR","P00"]
[null,"ADJ_SD",{"$f":"'PEFA bridging items'!C13","v":"(+) Other adjustments and statistical discrepancies"},{"$f":"D20-D8+SUM(D10:D13)-SUM(D15:D17)","v":0},null,null,null,null,null,null,null,null,null,"ADJ_SD","P00"]
[null,"ADJ_SD_DUXGIC",{"$f":"'PEFA bridging items'!C14","v":"         of which (memo): energy flows not reported in energy statistics but included in PEFA (bridging item 1)"},0,null,null,null,null,null,null,null,null,null,"ADJ_SD_DUXGIC","P00"]
[null,"TER",{"$f":"'PEFA bridging items'!C15","v":"(=) Total energy supply - territory principle"},0,null,null,null,null,null,null,null,null,null,"TER","P00"]
[]
[]
[null,"Explanations:"]
[null,"RES","This value is automatically sourced from Table D, sum of row 6."]
[null,"RES_ABR_FWTR","Fuel bunkered abroad by fishing vessels operated by resident units."]
[null,"RES_ABR_LTR","Fuel purchased abroad by resident units for undertaking land transport (including rail)."]
[null,"RES_ABR_WTR","Fuels purchased (1) in the rest of the world by resident units operating water transport (excl. fishing vessels); and (2) fuel purchased from international marine bunkers located in domestic ports (as reported by national energy statistics) by resident units operating water transport (excl. fishing vessels)."]
[null,"RES_ABR_ATR","Fuel bunkered by resident units abroad for undertaking international aviation and for undertaking domestic aviation abroad."]
[null,"TER_NRES_LTR","Fuel purchased by non-resident units on the territory for undertaking land transport (including rail)."]
[null,"TER_NRES_WTR","Fuel bunkered on the territory (1) by non-resident units for undertaking domestic navigation, and (2) by fishing vessels operated by non-resident units."]
[null,"TER_NRES_ATR","Fuel bunkered by non-resident units on the territory for undertaking domestic and international aviation."]
[null,"ADJ_SD","Other adjustments and statistical discrepancies: including energy use recorded in PEFA but not recorded in energy statistics (IEA or UNSD annual questionnaires) and hence not included in total energy supply (see item 4.m)."]
[null,"ADJ_SD_DUXGIC","It is possible that bridging item 1 includes energy flows beyond those reported in energy statistics, and hence not included in item 5 which is derived from energy statistics.\nThese 'beyond energy statistics flows' are included in bridging item 4 and may be presented here as a separate memo item."]
[null,"TER","Total energy supply according to the territory principle in national energy balances (or in UNSD or IEA energy balances). Notably, this excludes fuel for international aviation bunkers.\n"]

{"sheet":"PEFA rows","index":15,"n_rows":37,"n_cols":6,"rows_kept":37,"cut":false,"hidden":true,"merged":[]}
[null,"PEFA rows",null,null,null,"Stephan's changes, 7 July 2015"]
[null,"level","code","label",null,"Stephan's changes, 16 July 2015"]
[null,1,"N00","NATURAL ENERGY INPUTS"]
[null,2,"N01","Fossil non-renewable natural energy inputs"]
[null,2,"N02","Nuclear non-renewable natural energy inputs"]
[null,2,"N03","Hydro based renewable natural energy inputs"]
[null,2,"N04","Wind based renewable natural energy inputs"]
[null,2,"N05","Solar based renewable natural energy inputs"]
[null,2,"N06","Biomass based renewable natural energy inputs"]
[null,2,"N07","Other renewable natural energy inputs"]
[null,1,"P00","ENERGY PRODUCTS"]
[null,2,"P08","Hard coal"]
[null,2,"P09","Brown coal and peat"]
[null,2,"P10","Derived gases (= manufactured gases excl. biogas) "]
[null,2,"P11","Secondary coal products (coke, coal tar, patent fuel, BKB and peat products)"]
[null,2,"P12","Crude oil, NGL, and other hydrocarbons (excl. bio)"]
[null,2,"P13","Natural gas (without bio)"]
[null,2,"P14","Motor spirit (without bio)"]
[null,2,"P15","Kerosenes and jet fuels (without bio)"]
[null,2,"P16","Naphtha"]
[null,2,"P17","Transport diesel (without bio)"]
[null,2,"P18","Heating and other gasoil (without bio)"]
[null,2,"P19","Residual fuel oil"]
[null,2,"P20","Refinery gas, ethane and LPG"]
[null,2,"P21","Other petroleum products incl. additives/oxygenates and refinery feedstocks"]
[null,2,"P22","Nuclear fuel"]
[null,2,"P23","Wood, wood waste and other solid biomass, charcoal"]
[null,2,"P24","Liquid biofuels"]
[null,2,"P25","Biogas"]
[null,2,"P26","Electrical energy"]
[null,2,"P27","Heat"]
[null,1,"R00","ENERGY AND OTHER RESIDUALS"]
[null,2,"R28","Renewable waste"]
[null,2,"R29","Non-renewable waste"]
[null,2,"R30","Energy losses all kinds of (during extraction, distribution, storage and transformation, and dissipative heat from end use)"]
[null,2,"R31","Energy incorporated in products for non-energy use"]
[null,0,"N00_P00_R00","TOTAL SUPPLY / TOTAL USE"]

{"sheet":"PEFA Columns","index":16,"n_rows":8,"n_cols":176,"rows_kept":8,"cut":false,"hidden":true,"merged":[]}
[]
[null,null,"level",1,null,2,null,3,null,3,null,3,null,2,null,2,null,3,null,3,null,3,null,3,null,3,null,3,null,3,null,3,null,3,null,3,null,3,null,3,null,3,null,3,null,3,null,3,null,3,null,3,null,3,null,2,null,2,null,3,null,3,null,2,null,2,null,3,null,3,null,3,null,2,null,3,null,3,null,3,null,3,null,3,null,2,null,2,null,3,null,3,null,3,null,3,null,2,null,3,null,3,null,3,null,2,null,3,null,2,null,3,null,3,null,3,null,3,null,3,null,2,null,3,null,3,null,3,null,3,null,2,null,2,null,2,null,3,null,3,null,2,null,3,null,3,null,2,null,3,null,3,null,3,null,2,null,2,null,2,null,1,null,2,null,2,null,2,null,1,null,1,null,1,null,0]
[null,null,"code","ATU",null,"A",null,"A01",null,"A02",null,"A03",null,"B",null,"C",null,"C10T12",null,"C13T15",null,"C16",null,"C17",null,"C18",null,"C19",null,"C20",null,"C21",null,"C22",null,"C23",null,"C24",null,"C25",null,"C26",null,"C27",null,"C28",null,"C29",null,"C30",null,"C31_32",null,"C33",null,"D",null,"E",null,"E36",null,"E37T39",null,"F",null,"G",null,"G45",null,"G46",null,"G47",null,"H",null,"H49",null,"H50",null,"H51",null,"H52",null,"H53",null,"I",null,"J",null,"J58",null,"J59_60",null,"J61",null,"J62_63",null,"K",null,"K64",null,"K65",null,"K66",null,"L",null,"L68A",null,"M",null,"M69_70",null,"M71",null,"M72",null,"M73",null,"M74_75",null,"N",null,"N77",null,"N78",null,"N79",null,"N80T82",null,"O",null,"P",null,"Q",null,"Q86",null,"Q87_88",null,"R",null,"R90T92",null,"R93",null,"S",null,"S94",null,"S95",null,"S96",null,"T",null,"U",null,"IND_OTHER",null,"HH",null,"HH_HEAT",null,"HH_TR",null,"HH_OTH",null,"ATU_HH",null,"ATU_HH",null,"ATU_HH",null,"ATU_HH"]
[null,"TABLE SUPPLY","label","Total ISIC/NACE industries",null,"Agriculture, forestry and fishing",null,"Crop and animal production, hunting and related service activities",null,"Forestry and logging",null,"Fishing and aquaculture",null,"Mining and quarrying",null,"Manufacturing",null,"Manufacture of food products, beverages and tobacco\nproducts",null,"Manufacture of textiles, wearing apparel and leather products",null,"Manufacture of wood and of products of wood and cork, except furniture; manufacture of articles of straw and plaiting materials",null,"Manufacture of paper and paper products",null,"Printing and reproduction of recorded media",null,"Manufacture of coke and refined petroleum products",null,"Manufacture of chemicals and chemical products",null,"Manufacture of basic pharmaceutical products and pharmaceutical preparations",null,"Manufacture of rubber and plastic products",null,"Manufacture of other non-metallic mineral products",null,"Manufacture of basic metals",null,"Manufacture of fabricated metal products, except machinery and equipment",null,"Manufacture of computer, electronic and optical products",null,"Manufacture of electrical equipment",null,"Manufacture of machinery and equipment n.e.c.",null,"Manufacture of motor vehicles, trailers and semi-trailers",null,"Manufacture of other transport equipment",null,"Manufacture of furniture; other manufacturing",null,"Repair and installation of machinery and equipment",null,"Electricity, gas, steam and air conditioning supply",null,"Water supply; sewerage, waste management and remediation activities",null,"Water collection, treatment and supply",null,"Sewerage, waste management, remediation activities",null,"Construction",null,"Wholesale and retail trade; repair of motor vehicles and motorcycles",null,"Wholesale and retail trade and repair of motor vehicles and motorcycles",null,"Wholesale trade, except of motor vehicles and motorcycles",null,"Retail trade, except of motor vehicles and motorcycles",null,"Transportation and storage",null,"Land transport and transport via pipelines",null,"Water transport",null,"Air transport",null,"Warehousing and support activities for transportation",null,"Postal and courier activities",null,"Accommodation and food service activities",null,"Information and communication",null,"Publishing activities",null,"Motion picture, video, television programme production; programming and broadcasting activities",null,"Telecommunications",null,"Computer programming, consultancy, and information service activities",null,"Financial and insurance activities",null,"Financial service activities, except insurance and pension funding",null,"Insurance, reinsurance and pension funding, except compulsory social security",null,"Activities auxiliary to financial services and insurance activities",null,"Real estate activities",null,"Of which: Imputed rents of owner-occupied dwellings",null,"Professional, scientific and technical activities",null,"Legal and accounting activities; activities of head offices; management consultancy activities",null,"Architectural and engineering activities; technical testing and analysis",null,"Scientific research and development",null,"Advertising and market research",null,"Other professional, scientific and technical activities; veterinary activities",null,"Administrative and support service activities",null,"Rental and leasing activities",null,"Employment activities",null,"Travel agency, tour operator reservation service and related activities",null,"Security and investigation, service and landscape, office administrative and support activities",null,"Public administration and defence; compulsory social security",null,"Education",null,"Human health and social work activities",null,"Human health activities",null,"Residential care activities and social work activities without accommodation",null,"Arts, entertainment and recreation",null,"Creative, arts and entertainment activities; libraries, archives, museums and other cultural activities; gambling and betting activities",null,"Sports activities and amusement and recreation activities",null,"Other service activities",null,"Activities of membership organisations",null,"Repair of computers and personal and household goods",null,"Other personal service activities",null,"Activities of households as employers; undifferentiated goods- and services-producing activities of households for own use",null,"Activities of extraterritorial organisations and bodies",null,"All other industries",null,"Total activities by households",null,"Heating/cooling activities by households",null,"Transport activities by households",null,"Other activities by households",null,"Changes in inventories and produced assets",null,"Rest of the World - economic activities",null,"Environment",null,"TOTAL SUPPLY OF NATURAL INPUTS, PRODUCTS, AND RESIDUALS"]
[]
[null,null,"level",1,null,2,null,3,null,3,null,3,null,2,null,2,null,3,null,3,null,3,null,3,null,3,null,3,null,3,null,3,null,3,null,3,null,3,null,3,null,3,null,3,null,3,null,3,null,3,null,3,null,3,null,2,null,2,null,3,null,3,null,2,null,2,null,3,null,3,null,3,null,2,null,3,null,3,null,3,null,3,null,3,null,2,null,2,null,3,null,3,null,3,null,3,null,2,null,3,null,3,null,3,null,2,null,3,null,2,null,3,null,3,null,3,null,3,null,3,null,2,null,3,null,3,null,3,null,3,null,2,null,2,null,2,null,3,null,3,null,2,null,3,null,3,null,2,null,3,null,3,null,3,null,2,null,2,null,2,null,1,null,2,null,2,null,2,null,1,null,1,null,1,null,0]
[null,null,"code","ATU",null,"A",null,"A01",null,"A02",null,"A03",null,"B",null,"C",null,"C10T12",null,"C13T15",null,"C16",null,"C17",null,"C18",null,"C19",null,"C20",null,"C21",null,"C22",null,"C23",null,"C24",null,"C25",null,"C26",null,"C27",null,"C28",null,"C29",null,"C30",null,"C31_32",null,"C33",null,"D",null,"E",null,"E36",null,"E37T39",null,"F",null,"G",null,"G45",null,"G46",null,"G47",null,"H",null,"H49",null,"H50",null,"H51",null,"H52",null,"H53",null,"I",null,"J",null,"J58",null,"J59_60",null,"J61",null,"J62_63",null,"K",null,"K64",null,"K65",null,"K66",null,"L",null,"L68A",null,"M",null,"M69_70",null,"M71",null,"M72",null,"M73",null,"M74_75",null,"N",null,"N77",null,"N78",null,"N79",null,"N80T82",null,"O",null,"P",null,"Q",null,"Q86",null,"Q87_88",null,"R",null,"R90T92",null,"R93",null,"S",null,"S94",null,"S95",null,"S96",null,"T",null,"U",null,"IND_OTHER",null,"HH",null,"HH_HEAT",null,"HH_TR",null,"HH_OTH",null,"ATU_HH",null,"ATU_HH",null,"ATU_HH",null,"ATU_HH"]
[null,"TABLE USE","label","Total ISIC/NACE industries",null,"Agriculture, forestry and fishing",null,"Crop and animal production, hunting and related service activities",null,"Forestry and logging",null,"Fishing and aquaculture",null,"Mining and quarrying",null,"Manufacturing",null,"Manufacture of food products, beverages and tobacco\nproducts",null,"Manufacture of textiles, wearing apparel and leather products",null,"Manufacture of wood and of products of wood and cork, except furniture; manufacture of articles of straw and plaiting materials",null,"Manufacture of paper and paper products",null,"Printing and reproduction of recorded media",null,"Manufacture of coke and refined petroleum products",null,"Manufacture of chemicals and chemical products",null,"Manufacture of basic pharmaceutical products and pharmaceutical preparations",null,"Manufacture of rubber and plastic products",null,"Manufacture of other non-metallic mineral products",null,"Manufacture of basic metals",null,"Manufacture of fabricated metal products, except machinery and equipment",null,"Manufacture of computer, electronic and optical products",null,"Manufacture of electrical equipment",null,"Manufacture of machinery and equipment n.e.c.",null,"Manufacture of motor vehicles, trailers and semi-trailers",null,"Manufacture of other transport equipment",null,"Manufacture of furniture; other manufacturing",null,"Repair and installation of machinery and equipment",null,"Electricity, gas, steam and air conditioning supply",null,"Water supply; sewerage, waste management and remediation activities",null,"Water collection, treatment and supply",null,"Sewerage, waste management, remediation activities",null,"Construction",null,"Wholesale and retail trade; repair of motor vehicles and motorcycles",null,"Wholesale and retail trade and repair of motor vehicles and motorcycles",null,"Wholesale trade, except of motor vehicles and motorcycles",null,"Retail trade, except of motor vehicles and motorcycles",null,"Transportation and storage",null,"Land transport and transport via pipelines",null,"Water transport",null,"Air transport",null,"Warehousing and support activities for transportation",null,"Postal and courier activities",null,"Accommodation and food service activities",null,"Information and communication",null,"Publishing activities",null,"Motion picture, video, television programme production; programming and broadcasting activities",null,"Telecommunications",null,"Computer programming, consultancy, and information service activities",null,"Financial and insurance activities",null,"Financial service activities, except insurance and pension funding",null,"Insurance, reinsurance and pension funding, except compulsory social security",null,"Activities auxiliary to financial services and insurance activities",null,"Real estate activities",null,"Of which: Imputed rents of owner-occupied dwellings",null,"Professional, scientific and technical activities",null,"Legal and accounting activities; activities of head offices; management consultancy activities",null,"Architectural and engineering activities; technical testing and analysis",null,"Scientific research and development",null,"Advertising and market research",null,"Other professional, scientific and technical activities; veterinary activities",null,"Administrative and support service activities",null,"Rental and leasing activities",null,"Employment activities",null,"Travel agency, tour operator reservation service and related activities",null,"Security and investigation, service and landscape, office administrative and support activities",null,"Public administration and defence; compulsory social security",null,"Education",null,"Human health and social work activities",null,"Human health activities",null,"Residential care activities and social work activities without accommodation",null,"Arts, entertainment and recreation",null,"Creative, arts and entertainment activities; libraries, archives, museums and other cultural activities; gambling and betting activities",null,"Sports activities and amusement and recreation activities",null,"Other service activities",null,"Activities of membership organisations",null,"Repair of computers and personal and household goods",null,"Other personal service activities",null,"Activities of households as employers; undifferentiated goods- and services-producing activities of households for own use",null,"Activities of extraterritorial organisations and bodies",null,"All other industries",null,"Total activities by households",null,"Heating/cooling activities by households",null,"Transport activities by households",null,"Other activities by households",null,"Changes in inventories and produced assets",null,"Rest of the World - economic activities",null,"Environment",null,"TOTAL USE OF NATURAL INPUTS, PRODUCTS, AND RESIDUALS"]

{"sheet":"Parameters_Tables_SU","index":17,"n_rows":21,"n_cols":7,"rows_kept":21,"cut":false,"hidden":true,"merged":[]}
["Element","Type","PosType","Position",null,"DataStart","H9"]
["DEMAND_PROD","DIM","CELL","GF9",null,"roundToFit",false]
["BRIDGE_ITEMS","DIM","CELL","GG9",null,"DataEnd","FX43"]
["UNIT_MEASURE","DIM","CELL","GH9",null,"formatValues","actualValue"]
["UNIT_MULT","DIM","CELL","GI9"]
["PRODUCT","DIM","CELL","GJ9"]
["SECTOR","DIM","CELL","GK9"]
["INTERACTORS","DIM","ROW",5]
["ACCOUNTING_ENTRY","DIM","ROW",48]
["COUNTERPART_AREA","DIM","ROW",49]
["STO","DIM","MIXED","ROW",50,"COLUMN","GA"]
["ENERGY_FLOWS","DIM","COLUMN","D"]
["FREQ","DIM","FIX","A"]
["REF_AREA","DIM","FIX",{"$f":"Introduction!$D$15","v":{"$error":"#N/A"}}]
["TIME_PERIOD","DIM","FIX",{"$f":"Introduction!$D$17","v":0}]
["OBS_STATUS_1","ATT","FIX","A"]
["OBS_STATUS_2","ATT","SKIP"]
["OBS_STATUS_3","ATT","SKIP"]
["OBS_STATUS_4","ATT","SKIP"]
["CONF_STATUS","ATT","FIX","F"]
["COMMENT_OBS","ATT","OBS_LEVEL","1"]

{"sheet":"Parameter_mapping","index":18,"n_rows":6,"n_cols":2,"rows_kept":6,"cut":false,"hidden":true,"merged":[]}
["Data sheet","Parameter sheet"]
["Table_A","Parameters_Tables_SU"]
["Table_B","Parameters_Tables_SU"]
["Table_B.1","Parameters_Tables_SU"]
["Table_B.2","Parameters_Tables_SU"]
["Table_E","Parameters_Tables_E"]

{"sheet":"Parameters_Tables_E","index":19,"n_rows":21,"n_cols":7,"rows_kept":21,"cut":false,"hidden":true,"merged":[]}
["Element","Type","PosType","Position",null,"DataStart","D8"]
["ACCOUNTING_ENTRY","DIM","CELL","Q8",null,"DataEnd","D20"]
["COUNTERPART_AREA","DIM","CELL","R8",null,"DefaultValue","NaN"]
["STO","DIM","CELL","S8",null,"formatValues","actualValue"]
["DEMAND_PROD","DIM","CELL","T8"]
["UNIT_MEASURE","DIM","CELL","U8"]
["UNIT_MULT","DIM","CELL","V8"]
["PRODUCT","DIM","CELL","W8"]
["SECTOR","DIM","CELL","X8"]
["INTERACTORS","DIM","CELL","Y8"]
["BRIDGE_ITEMS","DIM","COLUMN","N"]
["ENERGY_FLOWS","DIM","COLUMN","O"]
["FREQ","DIM","FIX","A"]
["REF_AREA","DIM","FIX",{"$f":"Introduction!$D$15","v":{"$error":"#N/A"}}]
["TIME_PERIOD","DIM","FIX",{"$f":"Introduction!$D$17","v":0}]
["OBS_STATUS_1","ATT","FIX","A"]
["OBS_STATUS_2","ATT","SKIP"]
["OBS_STATUS_3","ATT","SKIP"]
["OBS_STATUS_4","ATT","SKIP"]
["CONF_STATUS","ATT","FIX","F"]
["COMMENT_OBS","ATT","OBS_LEVEL","1"]

{"sheet":"info_hidden","index":20,"n_rows":88,"n_cols":8,"rows_kept":88,"cut":false,"hidden":true,"merged":[]}
[null,null,"Detailed","Medium","Aggregated"]
[1,"Total ISIC industries","x","x","x","H","I","Detailed"]
[2,"Agriculture, forestry and fishing","x","x","x","J","K","Medium"]
[3,"Crop and animal production, hunting and related service activities","x",null,null,"L","M","Aggregated"]
[4,"Forestry and logging","x",null,null,"N","O"]
[5,"Fishing and aquaculture","x",null,null,"P","Q"]
[6,"Mining and quarrying","x","x","x","R","S"]
[7,"Manufacturing","x","x","x","T","U"]
[8,"Manufacture of food products, beverages and tobacco\nproducts","x",null,null,"V","W"]
[9,"Manufacture of textiles, wearing apparel and leather products","x",null,null,"X","Y"]
[10,"Manufacture of wood and of products of wood and cork, except furniture; manufacture of articles of straw and plaiting materials","x",null,null,"Z","AA"]
[11,"Manufacture of paper and paper products","x",null,null,"AB","AC"]
[12,"Printing and reproduction of recorded media","x",null,null,"AD","AE"]
[13,"Manufacture of coke and refined petroleum products","x",null,null,"AF","AG"]
[14,"Manufacture of chemicals and chemical products","x",null,null,"AH","AI"]
[15,"Manufacture of basic pharmaceutical products and pharmaceutical preparations","x",null,null,"AJ","AK"]
[16,"Manufacture of rubber and plastic products","x",null,null,"AL","AM"]
[17,"Manufacture of other non-metallic mineral products","x",null,null,"AN","AO"]
[18,"Manufacture of basic metals","x",null,null,"AP","AQ"]
[19,"Manufacture of fabricated metal products, except machinery and equipment","x",null,null,"AR","AS"]
[20,"Manufacture of computer, electronic and optical products","x",null,null,"AT","AU"]
[21,"Manufacture of electrical equipment","x",null,null,"AV","AW"]
[22,"Manufacture of machinery and equipment n.e.c.","x",null,null,"AX","AY"]
[23,"Manufacture of motor vehicles, trailers and semi-trailers","x",null,null,"AZ","BA"]
[24,"Manufacture of other transport equipment","x",null,null,"BB","BC"]
[25,"Manufacture of furniture; other manufacturing","x",null,null,"BD","BE"]
[26,"Repair and installation of machinery and equipment","x",null,null,"BF","BG"]
[27,"Electricity, gas, steam and air conditioning supply","x","x","x","BH","BI"]
[28,"Water supply; sewerage, waste management and remediation activities","x","x",null,"BJ","BK"]
[29,"Water collection, treatment and supply","x",null,null,"BL","BM"]
[30,"Sewerage, waste management, remediation activities","x",null,null,"BN","BO"]
[31,"Construction","x","x",null,"BP","BQ"]
[32,"Wholesale and retail trade; repair of motor vehicles and motorcycles","x","x",null,"BR","BS"]
[33,"Wholesale and retail trade and repair of motor vehicles and motorcycles","x",null,null,"BT","BU"]
[34,"Wholesale trade, except of motor vehicles and motorcycles","x",null,null,"BV","BW"]
[35,"Retail trade, except of motor vehicles and motorcycles","x",null,null,"BX","BY"]
[36,"Transportation and storage","x","x","x","BZ","CA"]
[37,"Land transport and transport via pipelines","x",null,null,"CB","CC"]
[38,"Water transport","x",null,null,"CD","CE"]
[39,"Air transport","x",null,null,"CF","CG"]
[40,"Warehousing and support activities for transportation","x",null,null,"CH","CI"]
[41,"Postal and courier activities","x",null,null,"CJ","CK"]
[42,"Accommodation and food service activities","x","x",null,"CL","CM"]
[43,"Information and communication","x","x",null,"CN","CO"]
[44,"Publishing activities","x",null,null,"CP","CQ"]
[45,"Motion picture, video, television programme production; programming and broadcasting activities","x",null,null,"CR","CS"]
[46,"Telecommunications","x",null,null,"CT","CU"]
[47,"Computer programming, consultancy, and information service activities","x",null,null,"CV","CW"]
[48,"Financial and insurance activities","x","x",null,"CX","CY"]
[49,"Financial service activities, except insurance and pension funding","x",null,null,"CZ","DA"]
[50,"Insurance, reinsurance and pension funding, except compulsory social security","x",null,null,"DB","DC"]
[51,"Activities auxiliary to financial services and insurance activities","x",null,null,"DD","DE"]
[52,"Real estate activities","x","x",null,"DF","DG"]
[53,"Of which: Imputed rents of owner-occupied dwellings","x",null,null,"DH","DI"]
[54,"Professional, scientific and technical activities","x","x",null,"DJ","DK"]
[55,"Legal and accounting activities; activities of head offices; management consultancy activities","x",null,null,"DL","DM"]
[56,"Architectural and engineering activities; technical testing and analysis","x",null,null,"DN","DO"]
[57,"Scientific research and development","x",null,null,"DP","DQ"]
[58,"Advertising and market research","x",null,null,"DR","DS"]
[59,"Other professional, scientific and technical activities; veterinary activities","x",null,null,"DT","DU"]
[60,"Administrative and support service activities","x","x",null,"DV","DW"]
[61,"Rental and leasing activities","x",null,null,"DX","DY"]
[62,"Employment activities","x",null,null,"DZ","EA"]
[63,"Travel agency, tour operator reservation service and related activities","x",null,null,"EB","EC"]
[64,"Security and investigation, service and landscape, office administrative and support activities","x",null,null,"ED","EE"]
[65,"Public administration and defence; compulsory social security","x","x",null,"EF","EG"]
[66,"Education","x","x",null,"EH","EI"]
[67,"Human health and social work activities","x","x",null,"EJ","EK"]
[68,"Human health activities","x",null,null,"EL","EM"]
[69,"Residential care activities and social work activities without accommodation","x",null,null,"EN","EO"]
[70,"Arts, entertainment and recreation","x","x",null,"EP","EQ"]
[71,"Creative, arts and entertainment activities; libraries, archives, museums and other cultural activities; gambling and betting activities","x",null,null,"ER","ES"]
[72,"Sports activities and amusement and recreation activities","x",null,null,"ET","EU"]
[73,"Other service activities","x","x",null,"EV","EW"]
[74,"Activities of membership organisations","x",null,null,"EX","EY"]
[75,"Repair of computers and personal and household goods","x",null,null,"EZ","FA"]
[76,"Other personal service activities","x",null,null,"FB","FC"]
[77,"Activities of households as employers; undifferentiated goods- and services-producing activities of households for own use","x","x",null,"FD","FE"]
[78,"Activities of extraterritorial organisations and bodies","x","x",null,"FF","FG"]
[79,"All other industries",null,null,"x","FH","FI"]
[80,"Total activities by households","x","x","x","FJ","FK"]
[81,"Heating/cooling activities by households","x",null,null,"FL","FM"]
[82,"Transport activities by households","x",null,null,"FN","FO"]
[83,"Other activities by households","x",null,null,"FP","FQ"]
[84,"Changes in inventories and produced assets","x","x","x","FR","FS"]
[85,"Rest of the World - economic activities","x","x","x","FT","FU"]
[86,"Environment","x","x","x","FV","FW"]
[null,null,"x","x","x","FX","FY"]

{"sheet":"Sheet1","index":21,"n_rows":86,"n_cols":1,"rows_kept":86,"cut":false,"hidden":true,"merged":[[5,0,5,1],[0,0,0,1],[1,0,1,1],[2,0,2,1],[3,0,3,1],[4,0,4,1],[17,0,17,1],[6,0,6,1],[7,0,7,1],[8,0,8,1],[9,0,9,1],[10,0,10,1],[11,0,11,1],[12,0,12,1],[13,0,13,1],[14,0,14,1],[15,0,15,1],[16,0,16,1],[29,0,29,1],[18,0,18,1],[19,0,19,1],[20,0,20,1],[21,0,21,1],[22,0,22,1],[23,0,23,1],[24,0,24,1],[25,0,25,1],[26,0,26,1],[27,0,27,1],[28,0,28,1],[41,0,41,1],[30,0,30,1],[31,0,31,1],[32,0,32,1],[33,0,33,1],[34,0,34,1],[35,0,35,1],[36,0,36,1],[37,0,37,1],[38,0,38,1],[39,0,39,1],[40,0,40,1],[53,0,53,1],[42,0,42,1],[43,0,43,1],[44,0,44,1],[45,0,45,1],[46,0,46,1],[47,0,47,1],[48,0,48,1],[49,0,49,1],[50,0,50,1],[51,0,51,1],[52,0,52,1],[65,0,65,1],[54,0,54,1],[55,0,55,1],[56,0,56,1],[57,0,57,1],[58,0,58,1],[59,0,59,1],[60,0,60,1],[61,0,61,1],[62,0,62,1],[63,0,63,1],[64,0,64,1],[77,0,77,1],[66,0,66,1],[67,0,67,1],[68,0,68,1],[69,0,69,1],[70,0,70,1],[71,0,71,1],[72,0,72,1],[73,0,73,1],[74,0,74,1],[75,0,75,1],[76,0,76,1],[84,0,84,1],[85,0,85,1],[78,0,78,1],[79,0,79,1],[80,0,80,1],[81,0,81,1],[82,0,82,1],[83,0,83,1]]}
["Total ISIC industries"]
["Agriculture, forestry and fishing"]
["Crop and animal production, hunting and related service activities"]
["Forestry and logging"]
["Fishing and aquaculture"]
["Mining and quarrying"]
["Manufacturing"]
["Manufacture of food products, beverages and tobacco\nproducts"]
["Manufacture of textiles, wearing apparel and leather products"]
["Manufacture of wood and of products of wood and cork, except furniture; manufacture of articles of straw and plaiting materials"]
["Manufacture of paper and paper products"]
["Printing and reproduction of recorded media"]
["Manufacture of coke and refined petroleum products"]
["Manufacture of chemicals and chemical products"]
["Manufacture of basic pharmaceutical products and pharmaceutical preparations"]
["Manufacture of rubber and plastic products"]
["Manufacture of other non-metallic mineral products"]
["Manufacture of basic metals"]
["Manufacture of fabricated metal products, except machinery and equipment"]
["Manufacture of computer, electronic and optical products"]
["Manufacture of electrical equipment"]
["Manufacture of machinery and equipment n.e.c."]
["Manufacture of motor vehicles, trailers and semi-trailers"]
["Manufacture of other transport equipment"]
["Manufacture of furniture; other manufacturing"]
["Repair and installation of machinery and equipment"]
["Electricity, gas, steam and air conditioning supply"]
["Water supply; sewerage, waste management and remediation activities"]
["Water collection, treatment and supply"]
["Sewerage, waste management, remediation activities"]
["Construction"]
["Wholesale and retail trade; repair of motor vehicles and motorcycles"]
["Wholesale and retail trade and repair of motor vehicles and motorcycles"]
["Wholesale trade, except of motor vehicles and motorcycles"]
["Retail trade, except of motor vehicles and motorcycles"]
["Transportation and storage"]
["Land transport and transport via pipelines"]
["Water transport"]
["Air transport"]
["Warehousing and support activities for transportation"]
["Postal and courier activities"]
["Accommodation and food service activities"]
["Information and communication"]
["Publishing activities"]
["Motion picture, video, television programme production; programming and broadcasting activities"]
["Telecommunications"]
["Computer programming, consultancy, and information service activities"]
["Financial and insurance activities"]
["Financial service activities, except insurance and pension funding"]
["Insurance, reinsurance and pension funding, except compulsory social security"]
["Activities auxiliary to financial services and insurance activities"]
["Real estate activities"]
["Of which: Imputed rents of owner-occupied dwellings"]
["Professional, scientific and technical activities"]
["Legal and accounting activities; activities of head offices; management consultancy activities"]
["Architectural and engineering activities; technical testing and analysis"]
["Scientific research and development"]
["Advertising and market research"]
["Other professional, scientific and technical activities; veterinary activities"]
["Administrative and support service activities"]
["Rental and leasing activities"]
["Employment activities"]
["Travel agency, tour operator reservation service and related activities"]
["Security and investigation, service and landscape, office administrative and support activities"]
["Public administration and defence; compulsory social security"]
["Education"]
["Human health and social work activities"]
["Human health activities"]
["Residential care activities and social work activities without accommodation"]
["Arts, entertainment and recreation"]
["Creative, arts and entertainment activities; libraries, archives, museums and other cultural activities; gambling and betting activities"]
["Sports activities and amusement and recreation activities"]
["Other service activities"]
["Activities of membership organisations"]
["Repair of computers and personal and household goods"]
["Other personal service activities"]
["Activities of households as employers; undifferentiated goods- and services-producing activities of households for own use"]
["Activities of extraterritorial organisations and bodies"]
["All other industries"]
["Total activities by households"]
["Heating/cooling activities by households"]
["Transport activities by households"]
["Other activities by households"]
["Changes in inventories and produced assets"]
["Rest of the World - economic activities"]
["Environment"]